{"text_format":"1","workbook":"xlsx","n_sheets":16,"sheets":["Instrucciones","Instrucciones (4)","Inputs","Proyección","Gastos diarios","Resumen","Resumen Año  (4)","Resumen Sem  (3)","Resumen Año E","Resumen Sem E","Resumen Trim  (2)","Re RE Trim E (2)","Resumen Trim E","Ejecución","Ejemplo PFC _ Mensual","Ayuda gasto"],"not_rendered":{"charts":0,"images":36,"macros":0,"external_links":0,"defined_names":13,"comments":8,"pivot_tables":0},"unopened":[],"bounds":{"document_bytes":16777216,"sheet_cells":100000,"rows_first":2000,"rows_last":500,"rows_between":2000,"halvings":0,"cell_chars":16384,"cell_head_chars":4096},"cells_cut":0,"cells_raw":0,"read":"whole","date_system":"1900"}

{"sheet":"Instrucciones","index":0,"n_rows":0,"n_cols":0,"rows_kept":0,"cut":false,"hidden":false,"merged":[[5,2,5,9],[16,2,16,10],[18,2,18,9],[19,2,19,8]]}

{"sheet":"Instrucciones (4)","index":1,"n_rows":0,"n_cols":0,"rows_kept":0,"cut":false,"hidden":true,"merged":[[5,2,5,9],[16,2,16,10],[18,2,18,9],[19,2,19,8]]}

{"sheet":"Inputs","index":2,"n_rows":102,"n_cols":27,"rows_kept":102,"cut":false,"hidden":false,"merged":[[9,11,9,22],[10,3,10,9],[6,3,6,9],[46,3,47,9],[65,3,66,9],[84,3,85,9],[20,3,20,9],[28,3,29,9],[38,3,39,9]]}
[]
[]
[]
[]
[]
[]
[]
[]
[]
[null,null,null,"Conceptos mensuales","¿Cuál es el valor mensual?",null,null,null,"       Conceptos otras periodicidades","¿Cuál es el valor?",null,"Selección de meses"]
[null,null,null,"¿CUÁLES SON TUS FUENTES DE INGRESO?",null,null,null,null,null,null,null,"Ene","Feb","Mar","Abr","May","Jun","Jul","Ago","Sep","Oct","Nov","Dic"]
[null,null,1,"Salario Luisa (ejemplo)",0,null,null,7,"Prima Luisa  (ejemplo)",0,null,null,null,null,null,null,"X",null,null,null,null,null,"X",null,null,{"$f":"+COUNTIF(L12:W12,\"X\")","v":2},{"$f":"+J12*Z12","v":0}]
[null,null,2,"Salario Tomás  (ejemplo)",0,null,null,8,"Prima Tomás  (ejemplo)",0,null,null,null,null,null,null,"X",null,null,null,null,null,"X",null,null,{"$f":"+COUNTIF(L13:W13,\"X\")","v":2},0]
[null,null,3,null,0,null,null,9,"Intereses cesantías (ejemplo)",0,null,null,"X",null,null,null,null,null,null,null,null,null,null,null,null,1,0]
[null,null,4,null,0,null,null,10,null,0,null,null,null,null,null,null,null,null,null,null,null,null,null,null,null,0,0]
[null,null,5,null,0,null,null,11,null,0,null,null,null,null,null,null,null,null,null,null,null,null,null,null,null,0,0]
[null,null,6,null,0,null,null,12,null,0,null,null,null,null,null,null,null,null,null,null,null,null,null,null,null,0,0]
[null,null,null,"TOTAL INGRESO MENSUAL",{"$f":"+SUM(E12:E17)","v":0},null,null,null,"TOTAL OTROS INGRESO",{"$f":"+SUMPRODUCT(J12:J17,Z12:Z17)","v":0},null,null,null,null,null,null,null,null,null,null,null,null,null,null,null,0]
[null,null,null,null,null,null,null,null,null,null,null,null,null,null,null,null,null,null,null,null,null,null,null,null,null,0]
[null,null,null,null,null,null,null,null,null,null,null,null,null,null,null,null,null,null,null,null,null,null,null,null,null,0]
[null,null,null,"¿CUÁLES SON TUS METAS DE AHORRO?",null,null,null,null,null,null,null,"Ene","Feb","Mar","Abr","May","Jun","Jul","Ago","Sep","Oct","Nov","Dic",null,null,0]
[null,null,1,"Para comprar casa propia  (ejemplo)",0,null,null,6,"Abono extra a casa propia (ejemplo)",0,null,null,null,null,null,null,"X",null,null,null,null,null,null,null,null,1,{"$f":"+J22*Z22","v":0}]
[null,null,2,"Postgrado Luisa  (ejemplo)",0,null,null,7,null,0,null,null,null,null,null,null,null,null,null,null,null,null,null,null,null,0,{"$f":"+J23*Z23","v":0}]
[null,null,3,"Jubilación  (ejemplo)",0,null,null,8,null,0,null,null,null,null,null,null,null,null,null,null,null,null,null,null,null,0,{"$f":"+J24*Z24","v":0}]
[null,null,4,null,0,null,null,9,null,0,null,null,null,null,null,null,null,null,null,null,null,null,null,null,null,0,{"$f":"+J25*Z25","v":0}]
[null,null,5,null,0,null,null,10,null,0,null,null,null,null,null,null,null,null,null,null,null,null,null,null,null,0,{"$f":"+J26*Z26","v":0}]
[null,null,null,"TOTAL AHORRO MENSUAL",{"$f":"+SUM(E22:E26)","v":0},null,null,null,"TOTAL OTROS AHORRO",{"$f":"+SUMPRODUCT(J22:J26,Z22:Z26)","v":0},null,null,null,null,null,null,null,null,null,null,null,null,null,null,null,0]
[null,null,null,null,null,null,null,null,null,null,null,null,null,null,null,null,null,null,null,null,null,null,null,null,null,0]
[null,null,null,"¿CUÁNTO DEBES?",null,null,null,null,null,null,null,null,null,null,null,null,null,null,null,null,null,null,null,null,null,0]
[null,null,null,null,null,null,null,null,null,null,null,"Ene","Feb","Mar","Abr","May","Jun","Jul","Ago","Sep","Oct","Nov","Dic",null,null,0]
[null,null,1,"Crédito de vehículo (ejemplo)",0,null,null,7,"Abono trimestral préstamo (ejemplo)",0,null,null,null,"X",null,null,"X",null,null,"X",null,null,"X",null,null,4,{"$f":"+J31*Z31","v":0}]
[null,null,2,"Tarjeta de crédito 1 (ejemplo)",0,null,null,8,null,0,null,null,null,null,null,null,null,null,null,null,null,null,null,null,null,0,0]
[null,null,3,null,0,null,null,9,null,0,null,null,null,null,null,null,null,null,null,null,null,null,null,null,null,0,0]
[null,null,4,null,0,null,null,10,null,0,null,null,null,null,null,null,null,null,null,null,null,null,null,null,null,0,0]
[null,null,5,null,0,null,null,11,null,0,null,null,null,null,null,null,null,null,null,null,null,null,null,null,null,0,0]
[null,null,6,null,0,null,null,12,null,0,null,null,null,null,null,null,null,null,null,null,null,null,null,null,null,0,0]
[null,null,null,"TOTAL OBLIGACIONES FINANCIERAS",{"$f":"+SUM(E31:E36)","v":0},null,null,null,"TOTAL OBLIGACIONES FINANCIERAS",{"$f":"+SUMPRODUCT(J31:J36,Z31:Z36)","v":0},null,null,null,null,null,null,null,null,null,null,null,null,null,null,null,0]
[null,null,null,null,null,null,null,null,null,null,null,null,null,null,null,null,null,null,null,null,null,null,null,null,null,0]
[null,null,null,"¿QUÉ IMPUESTOS TE CORRESPONDE PAGAR?",null,null,null,null,null,null,null,null,null,null,null,null,null,null,null,null,null,null,null,null,null,0]
[null,null,null,null,null,null,null,null,null,null,null,"Ene","Feb","Mar","Abr","May","Jun","Jul","Ago","Sep","Oct","Nov","Dic",null,null,0]
[null,null,1,null,0,null,null,5,"Impuesto de renta (ejemplo)",0,null,null,null,null,null,null,null,null,"X",null,null,null,null,null,null,1,{"$f":"+J41*Z41","v":0}]
[null,null,2,null,0,null,null,6,"Impuesto vehicular (ejemplo)",0,null,"X",null,null,null,null,null,null,null,null,null,null,null,null,null,1,{"$f":"+J42*Z42","v":0}]
[null,null,3,null,0,null,null,7,"Impuesto predial (ejemplo)",0,null,null,"X",null,null,null,null,null,null,null,null,null,null,null,null,1,{"$f":"+J43*Z43","v":0}]
[null,null,4,null,0,null,null,8,null,0,null,null,null,null,null,null,null,null,null,null,null,null,null,null,null,0,{"$f":"+J44*Z44","v":0}]
[null,null,null,"TOTAL IMPUESTOS Y CONTRIBUCIONES",{"$f":"+SUM(E41:E44)","v":0},null,null,null,"TOTAL IMPUESTOS Y CONTRIBUCIONES",{"$f":"+SUMPRODUCT(J41:J44,Z41:Z44)","v":0},null,null,null,null,null,null,null,null,null,null,null,null,null,null,null,0]
[null,null,null,null,null,null,null,null,null,null,null,null,null,null,null,null,null,null,null,null,null,null,null,null,null,0]
[null,null,null,"¿CUÁLES SON TUS GASTOS OBLIGATORIOS?",null,null,null,null,null,null,null,null,null,null,null,null,null,null,null,null,null,null,null,null,null,0]
[null,null,null,null,null,null,null,null,null,null,null,"Ene","Feb","Mar","Abr","May","Jun","Jul","Ago","Sep","Oct","Nov","Dic",null,null,0]
[null,null,1,"Arriendo (ejemplo)",0,0,null,16,"Matrícula universidad (ejemplo)",0,null,null,null,null,null,null,null,null,null,null,null,null,null,null,null,0,{"$f":"+J49*Z49","v":0}]
[null,null,2,"Administración (ejemplo)",0,0,null,17,null,0,null,null,null,null,null,null,null,null,null,null,null,null,null,null,null,0,0]
[null,null,3,null,0,0,null,18,null,0,null,null,null,null,null,null,null,null,null,null,null,null,null,null,null,0,0]
[null,null,4,null,0,0,null,19,null,0,null,null,null,null,null,null,null,null,null,null,null,null,null,null,null,0,0]
[null,null,5,null,0,0,null,20,null,0,null,null,null,null,null,null,null,null,null,null,null,null,null,null,null,0,0]
[null,null,6,null,0,0,null,21,null,0,null,null,null,null,null,null,null,null,null,null,null,null,null,null,null,0,0]
[null,null,7,null,0,0,null,22,null,0,null,null,null,null,null,null,null,null,null,null,null,null,null,null,null,0,0]
[null,null,8,null,0,0,null,23,null,0,null,null,null,null,null,null,null,null,null,null,null,null,null,null,null,0,0]
[null,null,9,null,0,0,null,24,null,0,null,null,null,null,null,null,null,null,null,null,null,null,null,null,null,0,0]
[null,null,10,null,0,0,null,25,null,0,null,null,null,null,null,null,null,null,null,null,null,null,null,null,null,0,0]
[null,null,11,null,0,0,null,26,null,0,null,null,null,null,null,null,null,null,null,null,null,null,null,null,null,0,0]
[null,null,12,null,0,0,null,27,null,0,null,null,null,null,null,null,null,null,null,null,null,null,null,null,null,0,0]
[null,null,13,null,0,0,null,28,null,0,null,null,null,null,null,null,null,null,null,null,null,null,null,null,null,0,0]
[null,null,14,null,0,0,null,29,null,0,null,null,null,null,null,null,null,null,null,null,null,null,null,null,null,0,0]
[null,null,15,null,0,0,null,30,null,0,null,null,null,null,null,null,null,null,null,null,null,null,null,null,null,0,0]
[null,null,null,"TOTAL GASTOS OBLIGATORIOS",{"$f":"+SUM(E49:E63)","v":0},null,null,null,"TOTAL OTROS GASTOS OBLIGATORIOS",{"$f":"+SUMPRODUCT(J49:J63,Z49:Z63)","v":0},null,null,null,null,null,null,null,null,null,null,null,null,null,null,null,0]
[null,null,null,null,null,null,null,null,null,null,null,null,null,null,null,null,null,null,null,null,null,null,null,null,null,0]
[null,null,null,"¿CUÁLES SON TUS GASTOS NECESARIOS?",null,null,null,null,null,null,null,null,null,null,null,null,null,null,null,null,null,null,null,null,null,0]
[null,null,null,null,null,null,null,null,null,null,null,"Ene","Feb","Mar","Abr","May","Jun","Jul","Ago","Sep","Oct","Nov","Dic",null,null,0]
[null,null,1,"Fondo de Emergencia (ejemplo)",0,null,null,16,"Abono extra Fondo de Emerg. (ejemplo)",0,null,null,null,null,null,null,"X",null,null,null,null,null,"X",null,null,2,{"$f":"+J68*Z68","v":0}]
[null,null,2,"Alimentación (ejemplo)",0,null,null,17,"Seguro del vehículo (ejemplo)",0,null,null,null,null,"X",null,null,null,null,null,null,null,null,null,null,1,0]
[null,null,3,"Servicios públicos (ejemplo)",0,null,null,18,null,0,null,null,null,null,null,null,null,null,null,null,null,null,null,null,null,0,0]
[null,null,4,"Gasolina (ejemplo)",0,null,null,19,null,0,null,null,null,null,null,null,null,null,null,null,null,null,null,null,null,0,0]
[null,null,5,null,0,null,null,20,null,0,null,null,null,null,null,null,null,null,null,null,null,null,null,null,null,0,0]
[null,null,6,null,0,null,null,21,null,0,null,null,null,null,null,null,null,null,null,null,null,null,null,null,null,0,0]
[null,null,7,null,0,null,null,22,null,0,null,null,null,null,null,null,null,null,null,null,null,null,null,null,null,0,0]
[null,null,8,null,0,null,null,23,null,0,null,null,null,null,null,null,null,null,null,null,null,null,null,null,null,0,0]
[null,null,9,null,0,null,null,24,null,0,null,null,null,null,null,null,null,null,null,null,null,null,null,null,null,0,0]
[null,null,10,null,0,null,null,25,null,0,null,null,null,null,null,null,null,null,null,null,null,null,null,null,null,{"$f":"+COUNTIF(L77:W77,\"X\")","v":0},0]
[null,null,11,null,0,null,null,26,null,0,null,null,null,null,null,null,null,null,null,null,null,null,null,null,null,0,0]
[null,null,12,null,0,null,null,27,null,0,null,null,null,null,null,null,null,null,null,null,null,null,null,null,null,0,0]
[null,null,13,null,0,null,null,28,null,0,null,null,null,null,null,null,null,null,null,null,null,null,null,null,null,0,0]
[null,null,14,null,0,null,null,29,null,0,null,null,null,null,null,null,null,null,null,null,null,null,null,null,null,0,0]
[null,null,15,null,0,null,null,30,null,0,null,null,null,null,null,null,null,null,null,null,null,null,null,null,null,0,0]
[null,null,null,"TOTAL GASTOS NECESARIOS",{"$f":"+SUM(E67:E82)","v":0},null,null,null,"TOTAL OTROS GASTOS NECESARIOS",{"$f":"+SUMPRODUCT(J68:J82,Z68:Z82)","v":0},null,null,null,null,null,null,null,null,null,null,null,null,null,null,null,0]
[null,null,null,null,null,null,null,null,null,null,null,null,null,null,null,null,null,null,null,null,null,null,null,null,null,0]
[null,null,null,"¿CUÁLES SON TUS GASTOS PRESCINDIBLES?",null,null,null,null,null,null,null,null,null,null,null,null,null,null,null,null,null,null,null,null,null,0]
[null,null,null,null,null,null,null,null,null,null,null,"Ene","Feb","Mar","Abr","May","Jun","Jul","Ago","Sep","Oct","Nov","Dic",null,null,0]
[null,null,1,"Suscripción Netflix (ejemplo)",0,null,null,16,"Vacaciones  (ejemplo)",0,null,null,null,null,null,null,null,"X",null,null,null,null,null,null,null,1,{"$f":"+J87*Z87","v":0}]
[null,null,2,"Diversión  (ejemplo)",0,null,null,17,"Regalos de navidad  (ejemplo)",0,null,null,null,null,null,null,null,null,null,null,null,null,"X",null,null,1,0]
[null,null,3,"Domicilios  (ejemplo)",0,null,null,18,null,0,null,null,null,null,null,null,null,null,null,null,null,null,null,null,null,0,0]
[null,null,4,null,0,null,null,19,null,0,null,null,null,null,null,null,null,null,null,null,null,null,null,null,null,0,0]
[null,null,5,null,0,null,null,20,null,0,null,null,null,null,null,null,null,null,null,null,null,null,null,null,null,0,0]
[null,null,6,null,0,null,null,21,null,0,null,null,null,null,null,null,null,null,null,null,null,null,null,null,null,0,0]
[null,null,7,null,0,null,null,22,null,0,null,null,null,null,null,null,null,null,null,null,null,null,null,null,null,0,0]
[null,null,8,null,0,null,null,23,null,0,null,null,null,null,null,null,null,null,null,null,null,null,null,null,null,0,0]
[null,null,9,null,0,null,null,24,null,0,null,null,null,null,null,null,null,null,null,null,null,null,null,null,null,0,0]
[null,null,10,null,0,null,null,25,null,0,null,null,null,null,null,null,null,null,null,null,null,null,null,null,null,0,0]
[null,null,11,null,0,null,null,26,null,0,null,null,null,null,null,null,null,null,null,null,null,null,null,null,null,0,0]
[null,null,12,null,0,null,null,27,null,0,null,null,null,null,null,null,null,null,null,null,null,null,null,null,null,0,0]
[null,null,13,null,0,null,null,28,null,0,null,null,null,null,null,null,null,null,null,null,null,null,null,null,null,0,0]
[null,null,14,null,0,null,null,29,null,0,null,null,null,null,null,null,null,null,null,null,null,null,null,null,null,0,0]
[null,null,15,null,0,null,null,30,null,0,null,null,null,null,null,null,null,null,null,null,null,null,null,null,null,0,0]
[null,null,null,"TOTAL GASTOS PRESCINDIBLES",{"$f":"+SUM(E86:E101)","v":0},null,null,null,"TOTAL OTROS GASTOS PRESCINDIBLES",{"$f":"+SUMPRODUCT(J87:J101,Z87:Z101)","v":0}]

{"sheet":"Proyección","index":3,"n_rows":181,"n_cols":17,"rows_kept":181,"cut":false,"hidden":false,"merged":[[168,16,169,16],[168,4,169,4]]}
[null,null,null,1]
[null,null,null,1]
[null,null,null,1]
[null,null,null,1]
[null,null,null,1]
[null,null,"Resumen","Concepto","% del ingreso","Enero","Febrero","Marzo","Abril","Mayo","Junio","Julio","Agosto","Septiembre","Octubre","Noviembre","Diciembre"]
[null,null,null,1]
[null,null,"Resumen",1]
[null,null,"Resumen","SALDO INICIAL",null,0,{"$f":"+F166","v":0},0,0,0,0,0,0,0,0,0,0]
[null,null,"Resumen",1]
[null,null,null,1]
[null,null,1,{"$f":"+IFERROR(+IF(Inputs!D12=\"\",\"\",Inputs!D12),0)","v":"Salario Luisa (ejemplo)"},{"$f":"+IFERROR((+SUM(F12:Q12)/+SUM($F$24:$Q$24)),0)","v":0},{"$f":"+IFERROR((+VLOOKUP(D12,Inputs!$D$12:$E$17,2,0)),0)","v":0},{"$f":"+F12","v":0},0,0,0,0,0,0,0,0,0,0]
[null,null,2,{"$f":"+IFERROR(+IF(Inputs!D13=\"\",\"\",Inputs!D13),0)","v":"Salario Tomás  (ejemplo)"},0,{"$f":"+IFERROR((+VLOOKUP(D13,Inputs!$D$12:$E$17,2,0)),0)","v":0},{"$f":"+F13","v":0},0,0,0,{"$f":"+J13","v":0},{"$f":"+K13","v":0},{"$f":"+L13","v":0},0,0,0,0]
[null,null,3,{"$f":"+IFERROR(+IF(Inputs!D14=\"\",\"\",Inputs!D14),0)","v":""},0,{"$f":"+IFERROR((+VLOOKUP(D14,Inputs!$D$12:$E$17,2,0)),0)","v":0},0,0,0,0,0,0,0,0,0,0,0]
[null,null,4,{"$f":"+IFERROR(+IF(Inputs!D15=\"\",\"\",Inputs!D15),0)","v":""},0,{"$f":"+IFERROR((+VLOOKUP(D15,Inputs!$D$12:$E$17,2,0)),0)","v":0},0,0,0,0,0,0,0,0,0,0,0]
[null,null,5,{"$f":"+IFERROR(+IF(Inputs!D16=\"\",\"\",Inputs!D16),0)","v":""},0,{"$f":"+IFERROR((+VLOOKUP(D16,Inputs!$D$12:$E$17,2,0)),0)","v":0},0,0,0,0,0,0,0,0,0,0,0]
[null,null,6,{"$f":"+IFERROR(+IF(Inputs!D17=\"\",\"\",Inputs!D17),0)","v":""},0,{"$f":"+IFERROR((+VLOOKUP(D17,Inputs!$D$12:$E$17,2,0)),0)","v":0},0,0,0,0,0,0,0,0,0,0,0]
[null,null,7,{"$f":"+IFERROR(+IF(Inputs!I12=\"\",\"\",Inputs!I12),0)","v":"Prima Luisa  (ejemplo)"},{"$f":"+IFERROR((+SUM(F18:Q18)/+SUM($F$24:$Q$24)),0)","v":0},{"$f":"+IFERROR(+IF(Inputs!L12=FALSE,0,+(+VLOOKUP(D18,Inputs!$I$12:$J$17,2,0))),0)","v":0},{"$f":"+IFERROR(+IF(Inputs!M12=FALSE,0,+(+VLOOKUP(D18,Inputs!$I$12:$J$17,2,0))),0)","v":0},{"$f":"+IFERROR(+IF(Inputs!N12=FALSE,0,+(+VLOOKUP(D18,Inputs!$I$12:$J$17,2,0))),0)","v":0},{"$f":"+IFERROR(+IF(Inputs!O12=FALSE,0,+(+VLOOKUP(D18,Inputs!$I$12:$J$17,2,0))),0)","v":0},{"$f":"+IFERROR(+IF(Inputs!P12=FALSE,0,+(+VLOOKUP(D18,Inputs!$I$12:$J$17,2,0))),0)","v":0},{"$f":"+IFERROR(+IF(Inputs!Q12=FALSE,0,+(+VLOOKUP(D18,Inputs!$I$12:$J$17,2,0))),0)","v":0},{"$f":"+IFERROR(+IF(Inputs!R12=FALSE,0,+(+VLOOKUP(D18,Inputs!$I$12:$J$17,2,0))),0)","v":0},{"$f":"+IFERROR(+IF(Inputs!S12=FALSE,0,+(+VLOOKUP(D18,Inputs!$I$12:$J$17,2,0))),0)","v":0},{"$f":"+IFERROR(+IF(Inputs!T12=FALSE,0,+(+VLOOKUP(D18,Inputs!$I$12:$J$17,2,0))),0)","v":0},{"$f":"+IFERROR(+IF(Inputs!U12=FALSE,0,+(+VLOOKUP(D18,Inputs!$I$12:$J$17,2,0))),0)","v":0},{"$f":"+IFERROR(+IF(Inputs!V12=FALSE,0,+(+VLOOKUP(D18,Inputs!$I$12:$J$17,2,0))),0)","v":0},{"$f":"+IFERROR(+IF(Inputs!W12=FALSE,0,+(+VLOOKUP(D18,Inputs!$I$12:$J$17,2,0))),0)","v":0}]
[null,null,8,{"$f":"+IFERROR(+IF(Inputs!I13=\"\",\"\",Inputs!I13),0)","v":"Prima Tomás  (ejemplo)"},{"$f":"+IFERROR((+SUM(F19:Q19)/+SUM($F$24:$Q$24)),0)","v":0},{"$f":"+IFERROR(+IF(Inputs!L13=FALSE,0,+(+VLOOKUP(D19,Inputs!$I$12:$J$17,2,0))),0)","v":0},{"$f":"+IFERROR(+IF(Inputs!M13=FALSE,0,+(+VLOOKUP(D19,Inputs!$I$12:$J$17,2,0))),0)","v":0},{"$f":"+IFERROR(+IF(Inputs!N13=FALSE,0,+(+VLOOKUP(D19,Inputs!$I$12:$J$17,2,0))),0)","v":0},{"$f":"+IFERROR(+IF(Inputs!O13=FALSE,0,+(+VLOOKUP(D19,Inputs!$I$12:$J$17,2,0))),0)","v":0},{"$f":"+IFERROR(+IF(Inputs!P13=FALSE,0,+(+VLOOKUP(D19,Inputs!$I$12:$J$17,2,0))),0)","v":0},{"$f":"+IFERROR(+IF(Inputs!Q13=FALSE,0,+(+VLOOKUP(D19,Inputs!$I$12:$J$17,2,0))),0)","v":0},{"$f":"+IFERROR(+IF(Inputs!R13=FALSE,0,+(+VLOOKUP(D19,Inputs!$I$12:$J$17,2,0))),0)","v":0},{"$f":"+IFERROR(+IF(Inputs!S13=FALSE,0,+(+VLOOKUP(D19,Inputs!$I$12:$J$17,2,0))),0)","v":0},{"$f":"+IFERROR(+IF(Inputs!T13=FALSE,0,+(+VLOOKUP(D19,Inputs!$I$12:$J$17,2,0))),0)","v":0},{"$f":"+IFERROR(+IF(Inputs!U13=FALSE,0,+(+VLOOKUP(D19,Inputs!$I$12:$J$17,2,0))),0)","v":0},{"$f":"+IFERROR(+IF(Inputs!V13=FALSE,0,+(+VLOOKUP(D19,Inputs!$I$12:$J$17,2,0))),0)","v":0},{"$f":"+IFERROR(+IF(Inputs!W13=FALSE,0,+(+VLOOKUP(D19,Inputs!$I$12:$J$17,2,0))),0)","v":0}]
[null,null,9,{"$f":"+IFERROR(+IF(Inputs!I14=\"\",\"\",Inputs!I14),0)","v":"Intereses cesantías (ejemplo)"},0,{"$f":"+IFERROR(+IF(Inputs!L14=FALSE,0,+(+VLOOKUP(D20,Inputs!$I$12:$J$17,2,0))),0)","v":0},{"$f":"+IFERROR(+IF(Inputs!M14=FALSE,0,+(+VLOOKUP(D20,Inputs!$I$12:$J$17,2,0))),0)","v":0},{"$f":"+IFERROR(+IF(Inputs!N14=FALSE,0,+(+VLOOKUP(D20,Inputs!$I$12:$J$17,2,0))),0)","v":0},{"$f":"+IFERROR(+IF(Inputs!O14=FALSE,0,+(+VLOOKUP(D20,Inputs!$I$12:$J$17,2,0))),0)","v":0},{"$f":"+IFERROR(+IF(Inputs!P14=FALSE,0,+(+VLOOKUP(D20,Inputs!$I$12:$J$17,2,0))),0)","v":0},{"$f":"+IFERROR(+IF(Inputs!Q14=FALSE,0,+(+VLOOKUP(D20,Inputs!$I$12:$J$17,2,0))),0)","v":0},{"$f":"+IFERROR(+IF(Inputs!R14=FALSE,0,+(+VLOOKUP(D20,Inputs!$I$12:$J$17,2,0))),0)","v":0},{"$f":"+IFERROR(+IF(Inputs!S14=FALSE,0,+(+VLOOKUP(D20,Inputs!$I$12:$J$17,2,0))),0)","v":0},{"$f":"+IFERROR(+IF(Inputs!T14=FALSE,0,+(+VLOOKUP(D20,Inputs!$I$12:$J$17,2,0))),0)","v":0},{"$f":"+IFERROR(+IF(Inputs!U14=FALSE,0,+(+VLOOKUP(D20,Inputs!$I$12:$J$17,2,0))),0)","v":0},{"$f":"+IFERROR(+IF(Inputs!V14=FALSE,0,+(+VLOOKUP(D20,Inputs!$I$12:$J$17,2,0))),0)","v":0},{"$f":"+IFERROR(+IF(Inputs!W14=FALSE,0,+(+VLOOKUP(D20,Inputs!$I$12:$J$17,2,0))),0)","v":0}]
[null,null,10,{"$f":"+IFERROR(+IF(Inputs!I15=\"\",\"\",Inputs!I15),0)","v":""},0,{"$f":"+IFERROR(+IF(Inputs!L15=FALSE,0,+(+VLOOKUP(D21,Inputs!$I$12:$J$17,2,0))),0)","v":0},{"$f":"+IFERROR(+IF(Inputs!M15=FALSE,0,+(+VLOOKUP(D21,Inputs!$I$12:$J$17,2,0))),0)","v":0},{"$f":"+IFERROR(+IF(Inputs!N15=FALSE,0,+(+VLOOKUP(D21,Inputs!$I$12:$J$17,2,0))),0)","v":0},{"$f":"+IFERROR(+IF(Inputs!O15=FALSE,0,+(+VLOOKUP(D21,Inputs!$I$12:$J$17,2,0))),0)","v":0},{"$f":"+IFERROR(+IF(Inputs!P15=FALSE,0,+(+VLOOKUP(D21,Inputs!$I$12:$J$17,2,0))),0)","v":0},{"$f":"+IFERROR(+IF(Inputs!Q15=FALSE,0,+(+VLOOKUP(D21,Inputs!$I$12:$J$17,2,0))),0)","v":0},{"$f":"+IFERROR(+IF(Inputs!R15=FALSE,0,+(+VLOOKUP(D21,Inputs!$I$12:$J$17,2,0))),0)","v":0},{"$f":"+IFERROR(+IF(Inputs!S15=FALSE,0,+(+VLOOKUP(D21,Inputs!$I$12:$J$17,2,0))),0)","v":0},{"$f":"+IFERROR(+IF(Inputs!T15=FALSE,0,+(+VLOOKUP(D21,Inputs!$I$12:$J$17,2,0))),0)","v":0},{"$f":"+IFERROR(+IF(Inputs!U15=FALSE,0,+(+VLOOKUP(D21,Inputs!$I$12:$J$17,2,0))),0)","v":0},{"$f":"+IFERROR(+IF(Inputs!V15=FALSE,0,+(+VLOOKUP(D21,Inputs!$I$12:$J$17,2,0))),0)","v":0},{"$f":"+IFERROR(+IF(Inputs!W15=FALSE,0,+(+VLOOKUP(D21,Inputs!$I$12:$J$17,2,0))),0)","v":0}]
[null,null,11,{"$f":"+IFERROR(+IF(Inputs!I16=\"\",\"\",Inputs!I16),0)","v":""},0,{"$f":"+IFERROR(+IF(Inputs!L16=FALSE,0,+(+VLOOKUP(D22,Inputs!$I$12:$J$17,2,0))),0)","v":0},{"$f":"+IFERROR(+IF(Inputs!M16=FALSE,0,+(+VLOOKUP(D22,Inputs!$I$12:$J$17,2,0))),0)","v":0},{"$f":"+IFERROR(+IF(Inputs!N16=FALSE,0,+(+VLOOKUP(D22,Inputs!$I$12:$J$17,2,0))),0)","v":0},{"$f":"+IFERROR(+IF(Inputs!O16=FALSE,0,+(+VLOOKUP(D22,Inputs!$I$12:$J$17,2,0))),0)","v":0},{"$f":"+IFERROR(+IF(Inputs!P16=FALSE,0,+(+VLOOKUP(D22,Inputs!$I$12:$J$17,2,0))),0)","v":0},{"$f":"+IFERROR(+IF(Inputs!Q16=FALSE,0,+(+VLOOKUP(D22,Inputs!$I$12:$J$17,2,0))),0)","v":0},{"$f":"+IFERROR(+IF(Inputs!R16=FALSE,0,+(+VLOOKUP(D22,Inputs!$I$12:$J$17,2,0))),0)","v":0},{"$f":"+IFERROR(+IF(Inputs!S16=FALSE,0,+(+VLOOKUP(D22,Inputs!$I$12:$J$17,2,0))),0)","v":0},{"$f":"+IFERROR(+IF(Inputs!T16=FALSE,0,+(+VLOOKUP(D22,Inputs!$I$12:$J$17,2,0))),0)","v":0},{"$f":"+IFERROR(+IF(Inputs!U16=FALSE,0,+(+VLOOKUP(D22,Inputs!$I$12:$J$17,2,0))),0)","v":0},{"$f":"+IFERROR(+IF(Inputs!V16=FALSE,0,+(+VLOOKUP(D22,Inputs!$I$12:$J$17,2,0))),0)","v":0},{"$f":"+IFERROR(+IF(Inputs!W16=FALSE,0,+(+VLOOKUP(D22,Inputs!$I$12:$J$17,2,0))),0)","v":0}]
[null,null,12,{"$f":"+IFERROR(+IF(Inputs!I17=\"\",\"\",Inputs!I17),0)","v":""},0,{"$f":"+IFERROR(+IF(Inputs!L17=FALSE,0,+(+VLOOKUP(D23,Inputs!$I$12:$J$17,2,0))),0)","v":0},{"$f":"+IFERROR(+IF(Inputs!M17=FALSE,0,+(+VLOOKUP(D23,Inputs!$I$12:$J$17,2,0))),0)","v":0},{"$f":"+IFERROR(+IF(Inputs!N17=FALSE,0,+(+VLOOKUP(D23,Inputs!$I$12:$J$17,2,0))),0)","v":0},{"$f":"+IFERROR(+IF(Inputs!O17=FALSE,0,+(+VLOOKUP(D23,Inputs!$I$12:$J$17,2,0))),0)","v":0},{"$f":"+IFERROR(+IF(Inputs!P17=FALSE,0,+(+VLOOKUP(D23,Inputs!$I$12:$J$17,2,0))),0)","v":0},{"$f":"+IFERROR(+IF(Inputs!Q17=FALSE,0,+(+VLOOKUP(D23,Inputs!$I$12:$J$17,2,0))),0)","v":0},{"$f":"+IFERROR(+IF(Inputs!R17=FALSE,0,+(+VLOOKUP(D23,Inputs!$I$12:$J$17,2,0))),0)","v":0},{"$f":"+IFERROR(+IF(Inputs!S17=FALSE,0,+(+VLOOKUP(D23,Inputs!$I$12:$J$17,2,0))),0)","v":0},{"$f":"+IFERROR(+IF(Inputs!T17=FALSE,0,+(+VLOOKUP(D23,Inputs!$I$12:$J$17,2,0))),0)","v":0},{"$f":"+IFERROR(+IF(Inputs!U17=FALSE,0,+(+VLOOKUP(D23,Inputs!$I$12:$J$17,2,0))),0)","v":0},{"$f":"+IFERROR(+IF(Inputs!V17=FALSE,0,+(+VLOOKUP(D23,Inputs!$I$12:$J$17,2,0))),0)","v":0},{"$f":"+IFERROR(+IF(Inputs!W17=FALSE,0,+(+VLOOKUP(D23,Inputs!$I$12:$J$17,2,0))),0)","v":0}]
[null,null,"Resumen","TOTAL INGRESO",{"$f":"+SUM(F24:Q24)","v":0},{"$f":"+SUM(F12:F23)","v":0},0,0,0,0,{"$f":"+SUM(K12:K23)","v":0},0,0,0,0,0,0]
[null,null,"Resumen",1]
[null,null,null,1]
[null,null,1,{"$f":"+IFERROR(+IF(Inputs!D22=\"\",\"\",Inputs!D22),0)","v":"Para comprar casa propia  (ejemplo)"},{"$f":"+IFERROR((+SUM(F27:Q27)/+SUM($F$24:$Q$24)),0)","v":0},{"$f":"+IFERROR((+VLOOKUP(D27,Inputs!$D$22:$E$26,2,0)),0)","v":0},{"$f":"+F27","v":0},0,0,0,0,0,0,0,0,0,0]
[null,null,2,{"$f":"+IFERROR(+IF(Inputs!D23=\"\",\"\",Inputs!D23),0)","v":"Postgrado Luisa  (ejemplo)"},0,{"$f":"+IFERROR((+VLOOKUP(D28,Inputs!$D$22:$E$26,2,0)),0)","v":0},{"$f":"+F28","v":0},0,0,0,0,0,0,0,0,0,0]
[null,null,3,{"$f":"+IFERROR(+IF(Inputs!D24=\"\",\"\",Inputs!D24),0)","v":"Jubilación  (ejemplo)"},0,{"$f":"+IFERROR((+VLOOKUP(D29,Inputs!$D$22:$E$26,2,0)),0)","v":0},{"$f":"+F29","v":0},0,0,0,0,0,0,0,0,0,0]
[null,null,4,{"$f":"+IFERROR(+IF(Inputs!D25=\"\",\"\",Inputs!D25),0)","v":""},0,{"$f":"+IFERROR((+VLOOKUP(D30,Inputs!$D$22:$E$26,2,0)),0)","v":0},{"$f":"+F30","v":0},0,0,0,0,0,0,0,0,0,0]
[null,null,5,{"$f":"+IFERROR(+IF(Inputs!D26=\"\",\"\",Inputs!D26),0)","v":""},0,{"$f":"+IFERROR((+VLOOKUP(D31,Inputs!$D$22:$E$26,2,0)),0)","v":0},{"$f":"+F31","v":0},0,0,0,0,0,0,0,0,0,0]
[null,null,6,{"$f":"+IFERROR(+IF(Inputs!I22=\"\",\"\",Inputs!I22),0)","v":"Abono extra a casa propia (ejemplo)"},0,{"$f":"+IFERROR(+IF(Inputs!L22=FALSE,0,+(+VLOOKUP(D32,Inputs!$I$22:$J$26,2,0))),0)","v":0},{"$f":"+IFERROR(+IF(Inputs!M22=FALSE,0,+(+VLOOKUP(D32,Inputs!$I$22:$J$26,2,0))),0)","v":0},{"$f":"+IFERROR(+IF(Inputs!N22=FALSE,0,+(+VLOOKUP(D32,Inputs!$I$22:$J$26,2,0))),0)","v":0},{"$f":"+IFERROR(+IF(Inputs!O22=FALSE,0,+(+VLOOKUP(D32,Inputs!$I$22:$J$26,2,0))),0)","v":0},{"$f":"+IFERROR(+IF(Inputs!P22=FALSE,0,+(+VLOOKUP(D32,Inputs!$I$22:$J$26,2,0))),0)","v":0},{"$f":"+IFERROR(+IF(Inputs!Q22=FALSE,0,+(+VLOOKUP(D32,Inputs!$I$22:$J$26,2,0))),0)","v":0},{"$f":"+IFERROR(+IF(Inputs!R22=FALSE,0,+(+VLOOKUP(D32,Inputs!$I$22:$J$26,2,0))),0)","v":0},{"$f":"+IFERROR(+IF(Inputs!S22=FALSE,0,+(+VLOOKUP(D32,Inputs!$I$22:$J$26,2,0))),0)","v":0},{"$f":"+IFERROR(+IF(Inputs!T22=FALSE,0,+(+VLOOKUP(D32,Inputs!$I$22:$J$26,2,0))),0)","v":0},{"$f":"+IFERROR(+IF(Inputs!U22=FALSE,0,+(+VLOOKUP(D32,Inputs!$I$22:$J$26,2,0))),0)","v":0},{"$f":"+IFERROR(+IF(Inputs!V22=FALSE,0,+(+VLOOKUP(D32,Inputs!$I$22:$J$26,2,0))),0)","v":0},{"$f":"+IFERROR(+IF(Inputs!W22=FALSE,0,+(+VLOOKUP(D32,Inputs!$I$22:$J$26,2,0))),0)","v":0}]
[null,null,7,{"$f":"+IFERROR(+IF(Inputs!I23=\"\",\"\",Inputs!I23),0)","v":""},0,{"$f":"+IFERROR(+IF(Inputs!L23=FALSE,0,+(+VLOOKUP(D33,Inputs!$I$22:$J$26,2,0))),0)","v":0},{"$f":"+IFERROR(+IF(Inputs!M23=FALSE,0,+(+VLOOKUP(D33,Inputs!$I$22:$J$26,2,0))),0)","v":0},{"$f":"+IFERROR(+IF(Inputs!N23=FALSE,0,+(+VLOOKUP(D33,Inputs!$I$22:$J$26,2,0))),0)","v":0},{"$f":"+IFERROR(+IF(Inputs!O23=FALSE,0,+(+VLOOKUP(D33,Inputs!$I$22:$J$26,2,0))),0)","v":0},{"$f":"+IFERROR(+IF(Inputs!P23=FALSE,0,+(+VLOOKUP(D33,Inputs!$I$22:$J$26,2,0))),0)","v":0},{"$f":"+IFERROR(+IF(Inputs!Q23=FALSE,0,+(+VLOOKUP(D33,Inputs!$I$22:$J$26,2,0))),0)","v":0},{"$f":"+IFERROR(+IF(Inputs!R23=FALSE,0,+(+VLOOKUP(D33,Inputs!$I$22:$J$26,2,0))),0)","v":0},{"$f":"+IFERROR(+IF(Inputs!S23=FALSE,0,+(+VLOOKUP(D33,Inputs!$I$22:$J$26,2,0))),0)","v":0},{"$f":"+IFERROR(+IF(Inputs!T23=FALSE,0,+(+VLOOKUP(D33,Inputs!$I$22:$J$26,2,0))),0)","v":0},{"$f":"+IFERROR(+IF(Inputs!U23=FALSE,0,+(+VLOOKUP(D33,Inputs!$I$22:$J$26,2,0))),0)","v":0},{"$f":"+IFERROR(+IF(Inputs!V23=FALSE,0,+(+VLOOKUP(D33,Inputs!$I$22:$J$26,2,0))),0)","v":0},{"$f":"+IFERROR(+IF(Inputs!W23=FALSE,0,+(+VLOOKUP(D33,Inputs!$I$22:$J$26,2,0))),0)","v":0}]
[null,null,8,{"$f":"+IFERROR(+IF(Inputs!I24=\"\",\"\",Inputs!I24),0)","v":""},0,{"$f":"+IFERROR(+IF(Inputs!L24=FALSE,0,+(+VLOOKUP(D34,Inputs!$I$22:$J$26,2,0))),0)","v":0},{"$f":"+IFERROR(+IF(Inputs!M24=FALSE,0,+(+VLOOKUP(D34,Inputs!$I$22:$J$26,2,0))),0)","v":0},{"$f":"+IFERROR(+IF(Inputs!N24=FALSE,0,+(+VLOOKUP(D34,Inputs!$I$22:$J$26,2,0))),0)","v":0},{"$f":"+IFERROR(+IF(Inputs!O24=FALSE,0,+(+VLOOKUP(D34,Inputs!$I$22:$J$26,2,0))),0)","v":0},{"$f":"+IFERROR(+IF(Inputs!P24=FALSE,0,+(+VLOOKUP(D34,Inputs!$I$22:$J$26,2,0))),0)","v":0},{"$f":"+IFERROR(+IF(Inputs!Q24=FALSE,0,+(+VLOOKUP(D34,Inputs!$I$22:$J$26,2,0))),0)","v":0},{"$f":"+IFERROR(+IF(Inputs!R24=FALSE,0,+(+VLOOKUP(D34,Inputs!$I$22:$J$26,2,0))),0)","v":0},{"$f":"+IFERROR(+IF(Inputs!S24=FALSE,0,+(+VLOOKUP(D34,Inputs!$I$22:$J$26,2,0))),0)","v":0},{"$f":"+IFERROR(+IF(Inputs!T24=FALSE,0,+(+VLOOKUP(D34,Inputs!$I$22:$J$26,2,0))),0)","v":0},{"$f":"+IFERROR(+IF(Inputs!U24=FALSE,0,+(+VLOOKUP(D34,Inputs!$I$22:$J$26,2,0))),0)","v":0},{"$f":"+IFERROR(+IF(Inputs!V24=FALSE,0,+(+VLOOKUP(D34,Inputs!$I$22:$J$26,2,0))),0)","v":0},{"$f":"+IFERROR(+IF(Inputs!W24=FALSE,0,+(+VLOOKUP(D34,Inputs!$I$22:$J$26,2,0))),0)","v":0}]
[null,null,9,{"$f":"+IFERROR(+IF(Inputs!I25=\"\",\"\",Inputs!I25),0)","v":""},0,{"$f":"+IFERROR(+IF(Inputs!L25=FALSE,0,+(+VLOOKUP(D35,Inputs!$I$22:$J$26,2,0))),0)","v":0},{"$f":"+IFERROR(+IF(Inputs!M25=FALSE,0,+(+VLOOKUP(D35,Inputs!$I$22:$J$26,2,0))),0)","v":0},{"$f":"+IFERROR(+IF(Inputs!N25=FALSE,0,+(+VLOOKUP(D35,Inputs!$I$22:$J$26,2,0))),0)","v":0},{"$f":"+IFERROR(+IF(Inputs!O25=FALSE,0,+(+VLOOKUP(D35,Inputs!$I$22:$J$26,2,0))),0)","v":0},{"$f":"+IFERROR(+IF(Inputs!P25=FALSE,0,+(+VLOOKUP(D35,Inputs!$I$22:$J$26,2,0))),0)","v":0},{"$f":"+IFERROR(+IF(Inputs!Q25=FALSE,0,+(+VLOOKUP(D35,Inputs!$I$22:$J$26,2,0))),0)","v":0},{"$f":"+IFERROR(+IF(Inputs!R25=FALSE,0,+(+VLOOKUP(D35,Inputs!$I$22:$J$26,2,0))),0)","v":0},{"$f":"+IFERROR(+IF(Inputs!S25=FALSE,0,+(+VLOOKUP(D35,Inputs!$I$22:$J$26,2,0))),0)","v":0},{"$f":"+IFERROR(+IF(Inputs!T25=FALSE,0,+(+VLOOKUP(D35,Inputs!$I$22:$J$26,2,0))),0)","v":0},{"$f":"+IFERROR(+IF(Inputs!U25=FALSE,0,+(+VLOOKUP(D35,Inputs!$I$22:$J$26,2,0))),0)","v":0},{"$f":"+IFERROR(+IF(Inputs!V25=FALSE,0,+(+VLOOKUP(D35,Inputs!$I$22:$J$26,2,0))),0)","v":0},{"$f":"+IFERROR(+IF(Inputs!W25=FALSE,0,+(+VLOOKUP(D35,Inputs!$I$22:$J$26,2,0))),0)","v":0}]
[null,null,10,{"$f":"+IFERROR(+IF(Inputs!I26=\"\",\"\",Inputs!I26),0)","v":""},0,{"$f":"+IFERROR(+IF(Inputs!L26=FALSE,0,+(+VLOOKUP(D36,Inputs!$I$22:$J$26,2,0))),0)","v":0},{"$f":"+IFERROR(+IF(Inputs!M26=FALSE,0,+(+VLOOKUP(D36,Inputs!$I$22:$J$26,2,0))),0)","v":0},{"$f":"+IFERROR(+IF(Inputs!N26=FALSE,0,+(+VLOOKUP(D36,Inputs!$I$22:$J$26,2,0))),0)","v":0},{"$f":"+IFERROR(+IF(Inputs!O26=FALSE,0,+(+VLOOKUP(D36,Inputs!$I$22:$J$26,2,0))),0)","v":0},{"$f":"+IFERROR(+IF(Inputs!P26=FALSE,0,+(+VLOOKUP(D36,Inputs!$I$22:$J$26,2,0))),0)","v":0},{"$f":"+IFERROR(+IF(Inputs!Q26=FALSE,0,+(+VLOOKUP(D36,Inputs!$I$22:$J$26,2,0))),0)","v":0},{"$f":"+IFERROR(+IF(Inputs!R26=FALSE,0,+(+VLOOKUP(D36,Inputs!$I$22:$J$26,2,0))),0)","v":0},{"$f":"+IFERROR(+IF(Inputs!S26=FALSE,0,+(+VLOOKUP(D36,Inputs!$I$22:$J$26,2,0))),0)","v":0},{"$f":"+IFERROR(+IF(Inputs!T26=FALSE,0,+(+VLOOKUP(D36,Inputs!$I$22:$J$26,2,0))),0)","v":0},{"$f":"+IFERROR(+IF(Inputs!U26=FALSE,0,+(+VLOOKUP(D36,Inputs!$I$22:$J$26,2,0))),0)","v":0},{"$f":"+IFERROR(+IF(Inputs!V26=FALSE,0,+(+VLOOKUP(D36,Inputs!$I$22:$J$26,2,0))),0)","v":0},{"$f":"+IFERROR(+IF(Inputs!W26=FALSE,0,+(+VLOOKUP(D36,Inputs!$I$22:$J$26,2,0))),0)","v":0}]
[null,null,"Resumen","TOTAL AHORRO",{"$f":"+IFERROR((+SUM(F37:Q37)/+SUM($F$24:$Q$24)),0)","v":0},{"$f":"+SUM(F27:F36)","v":0},{"$f":"+SUM(G27:G36)","v":0},0,0,0,0,0,0,0,0,0,0]
[null,null,null,1]
[null,null,null,1]
[null,null,1,{"$f":"+IFERROR(+IF(Inputs!D31=\"\",\"\",Inputs!D31),0)","v":"Crédito de vehículo (ejemplo)"},{"$f":"+IFERROR((+SUM(F40:Q40)/+SUM($F$24:$Q$24)),0)","v":0},{"$f":"+IFERROR((+VLOOKUP(D40,Inputs!$D$31:$E$36,2,0)),0)","v":0},{"$f":"+F40","v":0},0,0,0,0,0,0,0,0,0,0]
[null,null,2,{"$f":"+IFERROR(+IF(Inputs!D32=\"\",\"\",Inputs!D32),0)","v":"Tarjeta de crédito 1 (ejemplo)"},0,{"$f":"+IFERROR((+VLOOKUP(D41,Inputs!$D$31:$E$36,2,0)),0)","v":0},{"$f":"+F41","v":0},0,0,0,0,0,0,0,0,0,0]
[null,null,3,{"$f":"+IFERROR(+IF(Inputs!D33=\"\",\"\",Inputs!D33),0)","v":""},0,{"$f":"+IFERROR((+VLOOKUP(D42,Inputs!$D$31:$E$36,2,0)),0)","v":0},{"$f":"+F42","v":0},0,0,0,0,0,0,0,0,0,0]
[null,null,4,{"$f":"+IFERROR(+IF(Inputs!D34=\"\",\"\",Inputs!D34),0)","v":""},0,{"$f":"+IFERROR((+VLOOKUP(D43,Inputs!$D$31:$E$36,2,0)),0)","v":0},{"$f":"+F43","v":0},0,0,0,0,0,0,0,0,0,0]
[null,null,5,{"$f":"+IFERROR(+IF(Inputs!D35=\"\",\"\",Inputs!D35),0)","v":""},0,{"$f":"+IFERROR((+VLOOKUP(D44,Inputs!$D$31:$E$36,2,0)),0)","v":0},{"$f":"+F44","v":0},0,0,0,0,0,0,0,0,0,0]
[null,null,6,{"$f":"+IFERROR(+IF(Inputs!D36=\"\",\"\",Inputs!D36),0)","v":""},0,{"$f":"+IFERROR((+VLOOKUP(D45,Inputs!$D$31:$E$36,2,0)),0)","v":0},{"$f":"+F45","v":0},0,0,0,0,0,0,0,0,0,0]
[null,null,7,{"$f":"+IFERROR(+IF(Inputs!I31=\"\",\"\",Inputs!I31),0)","v":"Abono trimestral préstamo (ejemplo)"},0,{"$f":"+IFERROR(+IF(Inputs!L31=FALSE,0,+(+VLOOKUP(D46,Inputs!$I$31:$J$36,2,0))),0)","v":0},{"$f":"+IFERROR(+IF(Inputs!M31=FALSE,0,+(+VLOOKUP(D46,Inputs!$I$31:$J$36,2,0))),0)","v":0},{"$f":"+IFERROR(+IF(Inputs!N31=FALSE,0,+(+VLOOKUP(D46,Inputs!$I$31:$J$36,2,0))),0)","v":0},{"$f":"+IFERROR(+IF(Inputs!O31=FALSE,0,+(+VLOOKUP(D46,Inputs!$I$31:$J$36,2,0))),0)","v":0},{"$f":"+IFERROR(+IF(Inputs!P31=FALSE,0,+(+VLOOKUP(D46,Inputs!$I$31:$J$36,2,0))),0)","v":0},{"$f":"+IFERROR(+IF(Inputs!Q31=FALSE,0,+(+VLOOKUP(D46,Inputs!$I$31:$J$36,2,0))),0)","v":0},{"$f":"+IFERROR(+IF(Inputs!R31=FALSE,0,+(+VLOOKUP(D46,Inputs!$I$31:$J$36,2,0))),0)","v":0},{"$f":"+IFERROR(+IF(Inputs!S31=FALSE,0,+(+VLOOKUP(D46,Inputs!$I$31:$J$36,2,0))),0)","v":0},{"$f":"+IFERROR(+IF(Inputs!T31=FALSE,0,+(+VLOOKUP(D46,Inputs!$I$31:$J$36,2,0))),0)","v":0},{"$f":"+IFERROR(+IF(Inputs!U31=FALSE,0,+(+VLOOKUP(D46,Inputs!$I$31:$J$36,2,0))),0)","v":0},{"$f":"+IFERROR(+IF(Inputs!V31=FALSE,0,+(+VLOOKUP(D46,Inputs!$I$31:$J$36,2,0))),0)","v":0},{"$f":"+IFERROR(+IF(Inputs!W31=FALSE,0,+(+VLOOKUP(D46,Inputs!$I$31:$J$36,2,0))),0)","v":0}]
[null,null,8,{"$f":"+IFERROR(+IF(Inputs!I32=\"\",\"\",Inputs!I32),0)","v":""},0,{"$f":"+IFERROR(+IF(Inputs!L32=FALSE,0,+(+VLOOKUP(D47,Inputs!$I$31:$J$36,2,0))),0)","v":0},{"$f":"+IFERROR(+IF(Inputs!M32=FALSE,0,+(+VLOOKUP(D47,Inputs!$I$31:$J$36,2,0))),0)","v":0},{"$f":"+IFERROR(+IF(Inputs!N32=FALSE,0,+(+VLOOKUP(D47,Inputs!$I$31:$J$36,2,0))),0)","v":0},{"$f":"+IFERROR(+IF(Inputs!O32=FALSE,0,+(+VLOOKUP(D47,Inputs!$I$31:$J$36,2,0))),0)","v":0},{"$f":"+IFERROR(+IF(Inputs!P32=FALSE,0,+(+VLOOKUP(D47,Inputs!$I$31:$J$36,2,0))),0)","v":0},{"$f":"+IFERROR(+IF(Inputs!Q32=FALSE,0,+(+VLOOKUP(D47,Inputs!$I$31:$J$36,2,0))),0)","v":0},{"$f":"+IFERROR(+IF(Inputs!R32=FALSE,0,+(+VLOOKUP(D47,Inputs!$I$31:$J$36,2,0))),0)","v":0},{"$f":"+IFERROR(+IF(Inputs!S32=FALSE,0,+(+VLOOKUP(D47,Inputs!$I$31:$J$36,2,0))),0)","v":0},{"$f":"+IFERROR(+IF(Inputs!T32=FALSE,0,+(+VLOOKUP(D47,Inputs!$I$31:$J$36,2,0))),0)","v":0},{"$f":"+IFERROR(+IF(Inputs!U32=FALSE,0,+(+VLOOKUP(D47,Inputs!$I$31:$J$36,2,0))),0)","v":0},{"$f":"+IFERROR(+IF(Inputs!V32=FALSE,0,+(+VLOOKUP(D47,Inputs!$I$31:$J$36,2,0))),0)","v":0},{"$f":"+IFERROR(+IF(Inputs!W32=FALSE,0,+(+VLOOKUP(D47,Inputs!$I$31:$J$36,2,0))),0)","v":0}]
[null,null,9,{"$f":"+IFERROR(+IF(Inputs!I33=\"\",\"\",Inputs!I33),0)","v":""},0,{"$f":"+IFERROR(+IF(Inputs!L33=FALSE,0,+(+VLOOKUP(D48,Inputs!$I$31:$J$36,2,0))),0)","v":0},{"$f":"+IFERROR(+IF(Inputs!M33=FALSE,0,+(+VLOOKUP(D48,Inputs!$I$31:$J$36,2,0))),0)","v":0},{"$f":"+IFERROR(+IF(Inputs!N33=FALSE,0,+(+VLOOKUP(D48,Inputs!$I$31:$J$36,2,0))),0)","v":0},{"$f":"+IFERROR(+IF(Inputs!O33=FALSE,0,+(+VLOOKUP(D48,Inputs!$I$31:$J$36,2,0))),0)","v":0},{"$f":"+IFERROR(+IF(Inputs!P33=FALSE,0,+(+VLOOKUP(D48,Inputs!$I$31:$J$36,2,0))),0)","v":0},{"$f":"+IFERROR(+IF(Inputs!Q33=FALSE,0,+(+VLOOKUP(D48,Inputs!$I$31:$J$36,2,0))),0)","v":0},{"$f":"+IFERROR(+IF(Inputs!R33=FALSE,0,+(+VLOOKUP(D48,Inputs!$I$31:$J$36,2,0))),0)","v":0},{"$f":"+IFERROR(+IF(Inputs!S33=FALSE,0,+(+VLOOKUP(D48,Inputs!$I$31:$J$36,2,0))),0)","v":0},{"$f":"+IFERROR(+IF(Inputs!T33=FALSE,0,+(+VLOOKUP(D48,Inputs!$I$31:$J$36,2,0))),0)","v":0},{"$f":"+IFERROR(+IF(Inputs!U33=FALSE,0,+(+VLOOKUP(D48,Inputs!$I$31:$J$36,2,0))),0)","v":0},{"$f":"+IFERROR(+IF(Inputs!V33=FALSE,0,+(+VLOOKUP(D48,Inputs!$I$31:$J$36,2,0))),0)","v":0},{"$f":"+IFERROR(+IF(Inputs!W33=FALSE,0,+(+VLOOKUP(D48,Inputs!$I$31:$J$36,2,0))),0)","v":0}]
[null,null,10,{"$f":"+IFERROR(+IF(Inputs!I34=\"\",\"\",Inputs!I34),0)","v":""},0,{"$f":"+IFERROR(+IF(Inputs!L34=FALSE,0,+(+VLOOKUP(D49,Inputs!$I$31:$J$36,2,0))),0)","v":0},{"$f":"+IFERROR(+IF(Inputs!M34=FALSE,0,+(+VLOOKUP(D49,Inputs!$I$31:$J$36,2,0))),0)","v":0},{"$f":"+IFERROR(+IF(Inputs!N34=FALSE,0,+(+VLOOKUP(D49,Inputs!$I$31:$J$36,2,0))),0)","v":0},{"$f":"+IFERROR(+IF(Inputs!O34=FALSE,0,+(+VLOOKUP(D49,Inputs!$I$31:$J$36,2,0))),0)","v":0},{"$f":"+IFERROR(+IF(Inputs!P34=FALSE,0,+(+VLOOKUP(D49,Inputs!$I$31:$J$36,2,0))),0)","v":0},{"$f":"+IFERROR(+IF(Inputs!Q34=FALSE,0,+(+VLOOKUP(D49,Inputs!$I$31:$J$36,2,0))),0)","v":0},{"$f":"+IFERROR(+IF(Inputs!R34=FALSE,0,+(+VLOOKUP(D49,Inputs!$I$31:$J$36,2,0))),0)","v":0},{"$f":"+IFERROR(+IF(Inputs!S34=FALSE,0,+(+VLOOKUP(D49,Inputs!$I$31:$J$36,2,0))),0)","v":0},{"$f":"+IFERROR(+IF(Inputs!T34=FALSE,0,+(+VLOOKUP(D49,Inputs!$I$31:$J$36,2,0))),0)","v":0},{"$f":"+IFERROR(+IF(Inputs!U34=FALSE,0,+(+VLOOKUP(D49,Inputs!$I$31:$J$36,2,0))),0)","v":0},{"$f":"+IFERROR(+IF(Inputs!V34=FALSE,0,+(+VLOOKUP(D49,Inputs!$I$31:$J$36,2,0))),0)","v":0},{"$f":"+IFERROR(+IF(Inputs!W34=FALSE,0,+(+VLOOKUP(D49,Inputs!$I$31:$J$36,2,0))),0)","v":0}]
[null,null,11,{"$f":"+IFERROR(+IF(Inputs!I35=\"\",\"\",Inputs!I35),0)","v":""},0,{"$f":"+IFERROR(+IF(Inputs!L35=FALSE,0,+(+VLOOKUP(D50,Inputs!$I$31:$J$36,2,0))),0)","v":0},{"$f":"+IFERROR(+IF(Inputs!M35=FALSE,0,+(+VLOOKUP(D50,Inputs!$I$31:$J$36,2,0))),0)","v":0},{"$f":"+IFERROR(+IF(Inputs!N35=FALSE,0,+(+VLOOKUP(D50,Inputs!$I$31:$J$36,2,0))),0)","v":0},{"$f":"+IFERROR(+IF(Inputs!O35=FALSE,0,+(+VLOOKUP(D50,Inputs!$I$31:$J$36,2,0))),0)","v":0},{"$f":"+IFERROR(+IF(Inputs!P35=FALSE,0,+(+VLOOKUP(D50,Inputs!$I$31:$J$36,2,0))),0)","v":0},{"$f":"+IFERROR(+IF(Inputs!Q35=FALSE,0,+(+VLOOKUP(D50,Inputs!$I$31:$J$36,2,0))),0)","v":0},{"$f":"+IFERROR(+IF(Inputs!R35=FALSE,0,+(+VLOOKUP(D50,Inputs!$I$31:$J$36,2,0))),0)","v":0},{"$f":"+IFERROR(+IF(Inputs!S35=FALSE,0,+(+VLOOKUP(D50,Inputs!$I$31:$J$36,2,0))),0)","v":0},{"$f":"+IFERROR(+IF(Inputs!T35=FALSE,0,+(+VLOOKUP(D50,Inputs!$I$31:$J$36,2,0))),0)","v":0},{"$f":"+IFERROR(+IF(Inputs!U35=FALSE,0,+(+VLOOKUP(D50,Inputs!$I$31:$J$36,2,0))),0)","v":0},{"$f":"+IFERROR(+IF(Inputs!V35=FALSE,0,+(+VLOOKUP(D50,Inputs!$I$31:$J$36,2,0))),0)","v":0},{"$f":"+IFERROR(+IF(Inputs!W35=FALSE,0,+(+VLOOKUP(D50,Inputs!$I$31:$J$36,2,0))),0)","v":0}]
[null,null,12,{"$f":"+IFERROR(+IF(Inputs!I36=\"\",\"\",Inputs!I36),0)","v":""},0,{"$f":"+IFERROR(+IF(Inputs!L36=FALSE,0,+(+VLOOKUP(D51,Inputs!$I$31:$J$36,2,0))),0)","v":0},{"$f":"+IFERROR(+IF(Inputs!M36=FALSE,0,+(+VLOOKUP(D51,Inputs!$I$31:$J$36,2,0))),0)","v":0},{"$f":"+IFERROR(+IF(Inputs!N36=FALSE,0,+(+VLOOKUP(D51,Inputs!$I$31:$J$36,2,0))),0)","v":0},{"$f":"+IFERROR(+IF(Inputs!O36=FALSE,0,+(+VLOOKUP(D51,Inputs!$I$31:$J$36,2,0))),0)","v":0},{"$f":"+IFERROR(+IF(Inputs!P36=FALSE,0,+(+VLOOKUP(D51,Inputs!$I$31:$J$36,2,0))),0)","v":0},{"$f":"+IFERROR(+IF(Inputs!Q36=FALSE,0,+(+VLOOKUP(D51,Inputs!$I$31:$J$36,2,0))),0)","v":0},{"$f":"+IFERROR(+IF(Inputs!R36=FALSE,0,+(+VLOOKUP(D51,Inputs!$I$31:$J$36,2,0))),0)","v":0},{"$f":"+IFERROR(+IF(Inputs!S36=FALSE,0,+(+VLOOKUP(D51,Inputs!$I$31:$J$36,2,0))),0)","v":0},{"$f":"+IFERROR(+IF(Inputs!T36=FALSE,0,+(+VLOOKUP(D51,Inputs!$I$31:$J$36,2,0))),0)","v":0},{"$f":"+IFERROR(+IF(Inputs!U36=FALSE,0,+(+VLOOKUP(D51,Inputs!$I$31:$J$36,2,0))),0)","v":0},{"$f":"+IFERROR(+IF(Inputs!V36=FALSE,0,+(+VLOOKUP(D51,Inputs!$I$31:$J$36,2,0))),0)","v":0},{"$f":"+IFERROR(+IF(Inputs!W36=FALSE,0,+(+VLOOKUP(D51,Inputs!$I$31:$J$36,2,0))),0)","v":0}]
[null,null,"Resumen","TOTAL OBLIGACIONES FINANCIERAS",{"$f":"+IFERROR((+SUM(F52:Q52)/+SUM($F$24:$Q$24)),0)","v":0},{"$f":"+SUM(F40:F51)","v":0},{"$f":"+SUM(G40:G51)","v":0},0,0,0,0,0,0,0,0,0,0]
[null,null,null,1]
[null,null,null,1]
[null,null,1,{"$f":"+IFERROR(+IF(Inputs!D41=\"\",\"\",Inputs!D41),0)","v":""},{"$f":"+IFERROR((+SUM(F55:Q55)/+SUM($F$24:$Q$24)),0)","v":0},{"$f":"+IFERROR((+VLOOKUP(D55,Inputs!$D$41:$E$44,2,0)),0)","v":0},{"$f":"+F55","v":0},0,0,0,0,0,0,0,0,0,0]
[null,null,2,{"$f":"+IFERROR(+IF(Inputs!D42=\"\",\"\",Inputs!D42),0)","v":""},0,{"$f":"+IFERROR((+VLOOKUP(D56,Inputs!$D$41:$E$44,2,0)),0)","v":0},{"$f":"+F56","v":0},0,0,0,0,0,0,0,0,0,0]
[null,null,3,{"$f":"+IFERROR(+IF(Inputs!D43=\"\",\"\",Inputs!D43),0)","v":""},0,{"$f":"+IFERROR((+VLOOKUP(D57,Inputs!$D$41:$E$44,2,0)),0)","v":0},{"$f":"+F57","v":0},0,0,0,0,0,0,0,0,0,0]
[null,null,4,{"$f":"+IFERROR(+IF(Inputs!D44=\"\",\"\",Inputs!D44),0)","v":""},0,{"$f":"+IFERROR((+VLOOKUP(D58,Inputs!$D$41:$E$44,2,0)),0)","v":0},{"$f":"+F58","v":0},0,0,0,0,0,0,0,0,0,0]
[null,null,5,{"$f":"+IFERROR(+IF(Inputs!I41=\"\",\"\",Inputs!I41),0)","v":"Impuesto de renta (ejemplo)"},0,{"$f":"+IFERROR(+IF(Inputs!L41=FALSE,0,+(+VLOOKUP(D59,Inputs!$I$41:$J$44,2,0))),0)","v":0},{"$f":"+IFERROR(+IF(Inputs!M41=FALSE,0,+(+VLOOKUP(D59,Inputs!$I$41:$J$44,2,0))),0)","v":0},{"$f":"+IFERROR(+IF(Inputs!N41=FALSE,0,+(+VLOOKUP(D59,Inputs!$I$41:$J$44,2,0))),0)","v":0},{"$f":"+IFERROR(+IF(Inputs!O41=FALSE,0,+(+VLOOKUP(D59,Inputs!$I$41:$J$44,2,0))),0)","v":0},{"$f":"+IFERROR(+IF(Inputs!P41=FALSE,0,+(+VLOOKUP(D59,Inputs!$I$41:$J$44,2,0))),0)","v":0},{"$f":"+IFERROR(+IF(Inputs!Q41=FALSE,0,+(+VLOOKUP(D59,Inputs!$I$41:$J$44,2,0))),0)","v":0},{"$f":"+IFERROR(+IF(Inputs!R41=FALSE,0,+(+VLOOKUP(D59,Inputs!$I$41:$J$44,2,0))),0)","v":0},{"$f":"+IFERROR(+IF(Inputs!S41=FALSE,0,+(+VLOOKUP(D59,Inputs!$I$41:$J$44,2,0))),0)","v":0},{"$f":"+IFERROR(+IF(Inputs!T41=FALSE,0,+(+VLOOKUP(D59,Inputs!$I$41:$J$44,2,0))),0)","v":0},{"$f":"+IFERROR(+IF(Inputs!U41=FALSE,0,+(+VLOOKUP(D59,Inputs!$I$41:$J$44,2,0))),0)","v":0},{"$f":"+IFERROR(+IF(Inputs!V41=FALSE,0,+(+VLOOKUP(D59,Inputs!$I$41:$J$44,2,0))),0)","v":0},{"$f":"+IFERROR(+IF(Inputs!W41=FALSE,0,+(+VLOOKUP(D59,Inputs!$I$41:$J$44,2,0))),0)","v":0}]
[null,null,6,{"$f":"+IFERROR(+IF(Inputs!I42=\"\",\"\",Inputs!I42),0)","v":"Impuesto vehicular (ejemplo)"},0,{"$f":"+IFERROR(+IF(Inputs!L42=FALSE,0,+(+VLOOKUP(D60,Inputs!$I$41:$J$44,2,0))),0)","v":0},{"$f":"+IFERROR(+IF(Inputs!M42=FALSE,0,+(+VLOOKUP(D60,Inputs!$I$41:$J$44,2,0))),0)","v":0},{"$f":"+IFERROR(+IF(Inputs!N42=FALSE,0,+(+VLOOKUP(D60,Inputs!$I$41:$J$44,2,0))),0)","v":0},{"$f":"+IFERROR(+IF(Inputs!O42=FALSE,0,+(+VLOOKUP(D60,Inputs!$I$41:$J$44,2,0))),0)","v":0},{"$f":"+IFERROR(+IF(Inputs!P42=FALSE,0,+(+VLOOKUP(D60,Inputs!$I$41:$J$44,2,0))),0)","v":0},{"$f":"+IFERROR(+IF(Inputs!Q42=FALSE,0,+(+VLOOKUP(D60,Inputs!$I$41:$J$44,2,0))),0)","v":0},{"$f":"+IFERROR(+IF(Inputs!R42=FALSE,0,+(+VLOOKUP(D60,Inputs!$I$41:$J$44,2,0))),0)","v":0},{"$f":"+IFERROR(+IF(Inputs!S42=FALSE,0,+(+VLOOKUP(D60,Inputs!$I$41:$J$44,2,0))),0)","v":0},{"$f":"+IFERROR(+IF(Inputs!T42=FALSE,0,+(+VLOOKUP(D60,Inputs!$I$41:$J$44,2,0))),0)","v":0},{"$f":"+IFERROR(+IF(Inputs!U42=FALSE,0,+(+VLOOKUP(D60,Inputs!$I$41:$J$44,2,0))),0)","v":0},{"$f":"+IFERROR(+IF(Inputs!V42=FALSE,0,+(+VLOOKUP(D60,Inputs!$I$41:$J$44,2,0))),0)","v":0},{"$f":"+IFERROR(+IF(Inputs!W42=FALSE,0,+(+VLOOKUP(D60,Inputs!$I$41:$J$44,2,0))),0)","v":0}]
[null,null,7,{"$f":"+IFERROR(+IF(Inputs!I43=\"\",\"\",Inputs!I43),0)","v":"Impuesto predial (ejemplo)"},0,{"$f":"+IFERROR(+IF(Inputs!L43=FALSE,0,+(+VLOOKUP(D61,Inputs!$I$41:$J$44,2,0))),0)","v":0},{"$f":"+IFERROR(+IF(Inputs!M43=FALSE,0,+(+VLOOKUP(D61,Inputs!$I$41:$J$44,2,0))),0)","v":0},{"$f":"+IFERROR(+IF(Inputs!N43=FALSE,0,+(+VLOOKUP(D61,Inputs!$I$41:$J$44,2,0))),0)","v":0},{"$f":"+IFERROR(+IF(Inputs!O43=FALSE,0,+(+VLOOKUP(D61,Inputs!$I$41:$J$44,2,0))),0)","v":0},{"$f":"+IFERROR(+IF(Inputs!P43=FALSE,0,+(+VLOOKUP(D61,Inputs!$I$41:$J$44,2,0))),0)","v":0},{"$f":"+IFERROR(+IF(Inputs!Q43=FALSE,0,+(+VLOOKUP(D61,Inputs!$I$41:$J$44,2,0))),0)","v":0},{"$f":"+IFERROR(+IF(Inputs!R43=FALSE,0,+(+VLOOKUP(D61,Inputs!$I$41:$J$44,2,0))),0)","v":0},{"$f":"+IFERROR(+IF(Inputs!S43=FALSE,0,+(+VLOOKUP(D61,Inputs!$I$41:$J$44,2,0))),0)","v":0},{"$f":"+IFERROR(+IF(Inputs!T43=FALSE,0,+(+VLOOKUP(D61,Inputs!$I$41:$J$44,2,0))),0)","v":0},{"$f":"+IFERROR(+IF(Inputs!U43=FALSE,0,+(+VLOOKUP(D61,Inputs!$I$41:$J$44,2,0))),0)","v":0},{"$f":"+IFERROR(+IF(Inputs!V43=FALSE,0,+(+VLOOKUP(D61,Inputs!$I$41:$J$44,2,0))),0)","v":0},{"$f":"+IFERROR(+IF(Inputs!W43=FALSE,0,+(+VLOOKUP(D61,Inputs!$I$41:$J$44,2,0))),0)","v":0}]
[null,null,8,{"$f":"+IFERROR(+IF(Inputs!I44=\"\",\"\",Inputs!I44),0)","v":""},0,{"$f":"+IFERROR(+IF(Inputs!L44=FALSE,0,+(+VLOOKUP(D62,Inputs!$I$41:$J$44,2,0))),0)","v":0},{"$f":"+IFERROR(+IF(Inputs!M44=FALSE,0,+(+VLOOKUP(D62,Inputs!$I$41:$J$44,2,0))),0)","v":0},{"$f":"+IFERROR(+IF(Inputs!N44=FALSE,0,+(+VLOOKUP(D62,Inputs!$I$41:$J$44,2,0))),0)","v":0},{"$f":"+IFERROR(+IF(Inputs!O44=FALSE,0,+(+VLOOKUP(D62,Inputs!$I$41:$J$44,2,0))),0)","v":0},{"$f":"+IFERROR(+IF(Inputs!P44=FALSE,0,+(+VLOOKUP(D62,Inputs!$I$41:$J$44,2,0))),0)","v":0},{"$f":"+IFERROR(+IF(Inputs!Q44=FALSE,0,+(+VLOOKUP(D62,Inputs!$I$41:$J$44,2,0))),0)","v":0},{"$f":"+IFERROR(+IF(Inputs!R44=FALSE,0,+(+VLOOKUP(D62,Inputs!$I$41:$J$44,2,0))),0)","v":0},{"$f":"+IFERROR(+IF(Inputs!S44=FALSE,0,+(+VLOOKUP(D62,Inputs!$I$41:$J$44,2,0))),0)","v":0},{"$f":"+IFERROR(+IF(Inputs!T44=FALSE,0,+(+VLOOKUP(D62,Inputs!$I$41:$J$44,2,0))),0)","v":0},{"$f":"+IFERROR(+IF(Inputs!U44=FALSE,0,+(+VLOOKUP(D62,Inputs!$I$41:$J$44,2,0))),0)","v":0},{"$f":"+IFERROR(+IF(Inputs!V44=FALSE,0,+(+VLOOKUP(D62,Inputs!$I$41:$J$44,2,0))),0)","v":0},{"$f":"+IFERROR(+IF(Inputs!W44=FALSE,0,+(+VLOOKUP(D62,Inputs!$I$41:$J$44,2,0))),0)","v":0}]
[null,null,"Resumen","TOTAL IMPUESTOS Y CONTRIBUCIONES",{"$f":"+IFERROR((+SUM(F63:Q63)/+SUM($F$24:$Q$24)),0)","v":0},{"$f":"+SUM(F55:F62)","v":0},{"$f":"+SUM(G55:G62)","v":0},{"$f":"+SUM(H55:H62)","v":0},{"$f":"+SUM(I55:I62)","v":0},{"$f":"+SUM(J55:J62)","v":0},{"$f":"+SUM(K55:K62)","v":0},{"$f":"+SUM(L55:L62)","v":0},{"$f":"+SUM(M55:M62)","v":0},{"$f":"+SUM(N55:N62)","v":0},{"$f":"+SUM(O55:O62)","v":0},{"$f":"+SUM(P55:P62)","v":0},{"$f":"+SUM(Q55:Q62)","v":0}]
[null,null,null,1]
[null,null,null,1]
[null,null,1,{"$f":"+IFERROR(+IF(Inputs!D49=\"\",\"\",Inputs!D49),0)","v":"Arriendo (ejemplo)"},{"$f":"+IFERROR((+SUM(F66:Q66)/+SUM($F$24:$Q$24)),0)","v":0},{"$f":"+IFERROR((+VLOOKUP(D66,Inputs!$D$49:$E$63,2,0)),0)","v":0},{"$f":"+F66","v":0},0,0,0,0,0,0,0,0,0,0]
[null,null,2,{"$f":"+IFERROR(+IF(Inputs!D50=\"\",\"\",Inputs!D50),0)","v":"Administración (ejemplo)"},{"$f":"+IFERROR((+SUM(F67:Q67)/+SUM($F$24:$Q$24)),0)","v":0},{"$f":"+IFERROR((+VLOOKUP(D67,Inputs!$D$49:$E$63,2,0)),0)","v":0},{"$f":"+F67","v":0},0,0,0,0,0,0,0,0,0,0]
[null,null,3,{"$f":"+IFERROR(+IF(Inputs!D51=\"\",\"\",Inputs!D51),0)","v":""},0,{"$f":"+IFERROR((+VLOOKUP(D68,Inputs!$D$49:$E$63,2,0)),0)","v":0},{"$f":"+F68","v":0},0,0,0,0,0,0,0,0,0,0]
[null,null,4,{"$f":"+IFERROR(+IF(Inputs!D52=\"\",\"\",Inputs!D52),0)","v":""},0,{"$f":"+IFERROR((+VLOOKUP(D69,Inputs!$D$49:$E$63,2,0)),0)","v":0},{"$f":"+F69","v":0},0,0,0,0,0,0,0,0,0,0]
[null,null,5,{"$f":"+IFERROR(+IF(Inputs!D53=\"\",\"\",Inputs!D53),0)","v":""},0,{"$f":"+IFERROR((+VLOOKUP(D70,Inputs!$D$49:$E$63,2,0)),0)","v":0},{"$f":"+F70","v":0},0,0,0,0,0,0,0,0,0,0]
[null,null,6,{"$f":"+IFERROR(+IF(Inputs!D54=\"\",\"\",Inputs!D54),0)","v":""},0,{"$f":"+IFERROR((+VLOOKUP(D71,Inputs!$D$49:$E$63,2,0)),0)","v":0},{"$f":"+F71","v":0},0,0,0,0,0,0,0,0,0,0]
[null,null,7,{"$f":"+IFERROR(+IF(Inputs!D55=\"\",\"\",Inputs!D55),0)","v":""},0,{"$f":"+IFERROR((+VLOOKUP(D72,Inputs!$D$49:$E$63,2,0)),0)","v":0},{"$f":"+F72","v":0},0,0,0,0,0,0,0,0,0,0]
[null,null,8,{"$f":"+IFERROR(+IF(Inputs!D56=\"\",\"\",Inputs!D56),0)","v":""},0,{"$f":"+IFERROR((+VLOOKUP(D73,Inputs!$D$49:$E$63,2,0)),0)","v":0},{"$f":"+F73","v":0},0,0,0,0,0,0,0,0,0,0]
[null,null,9,{"$f":"+IFERROR(+IF(Inputs!D57=\"\",\"\",Inputs!D57),0)","v":""},0,{"$f":"+IFERROR((+VLOOKUP(D74,Inputs!$D$49:$E$63,2,0)),0)","v":0},{"$f":"+F74","v":0},0,0,0,0,0,0,0,0,0,0]
[null,null,10,{"$f":"+IFERROR(+IF(Inputs!D58=\"\",\"\",Inputs!D58),0)","v":""},0,{"$f":"+IFERROR((+VLOOKUP(D75,Inputs!$D$49:$E$63,2,0)),0)","v":0},{"$f":"+F75","v":0},0,0,0,0,0,0,0,0,0,0]
[null,null,11,{"$f":"+IFERROR(+IF(Inputs!D59=\"\",\"\",Inputs!D59),0)","v":""},0,{"$f":"+IFERROR((+VLOOKUP(D76,Inputs!$D$49:$E$63,2,0)),0)","v":0},{"$f":"+F76","v":0},0,0,0,0,0,0,0,0,0,0]
[null,null,12,{"$f":"+IFERROR(+IF(Inputs!D60=\"\",\"\",Inputs!D60),0)","v":""},0,{"$f":"+IFERROR((+VLOOKUP(D77,Inputs!$D$49:$E$63,2,0)),0)","v":0},{"$f":"+F77","v":0},0,0,0,0,0,0,0,0,0,0]
[null,null,13,{"$f":"+IFERROR(+IF(Inputs!D61=\"\",\"\",Inputs!D61),0)","v":""},0,{"$f":"+IFERROR((+VLOOKUP(D78,Inputs!$D$49:$E$63,2,0)),0)","v":0},{"$f":"+F78","v":0},0,0,0,0,0,0,0,0,0,0]
[null,null,14,{"$f":"+IFERROR(+IF(Inputs!D62=\"\",\"\",Inputs!D62),0)","v":""},0,{"$f":"+IFERROR((+VLOOKUP(D79,Inputs!$D$49:$E$63,2,0)),0)","v":0},{"$f":"+F79","v":0},0,0,0,0,0,0,0,0,0,0]
[null,null,15,{"$f":"+IFERROR(+IF(Inputs!D63=\"\",\"\",Inputs!D63),0)","v":""},0,{"$f":"+IFERROR((+VLOOKUP(D80,Inputs!$D$49:$E$63,2,0)),0)","v":0},{"$f":"+F80","v":0},0,0,0,0,0,0,0,0,0,0]
[null,null,16,{"$f":"+IFERROR(+IF(Inputs!I49=\"\",\"\",Inputs!I49),0)","v":"Matrícula universidad (ejemplo)"},0,{"$f":"+IFERROR(+IF(Inputs!L49=FALSE,0,+(+VLOOKUP(D81,Inputs!$I$49:$J$63,2,0))),0)","v":0},{"$f":"+IFERROR(+IF(Inputs!M49=FALSE,0,+(+VLOOKUP(D81,Inputs!$I$49:$J$63,2,0))),0)","v":0},{"$f":"+IFERROR(+IF(Inputs!N49=FALSE,0,+(+VLOOKUP(D81,Inputs!$I$49:$J$63,2,0))),0)","v":0},{"$f":"+IFERROR(+IF(Inputs!O49=FALSE,0,+(+VLOOKUP(D81,Inputs!$I$49:$J$63,2,0))),0)","v":0},{"$f":"+IFERROR(+IF(Inputs!P49=FALSE,0,+(+VLOOKUP(D81,Inputs!$I$49:$J$63,2,0))),0)","v":0},{"$f":"+IFERROR(+IF(Inputs!Q49=FALSE,0,+(+VLOOKUP(D81,Inputs!$I$49:$J$63,2,0))),0)","v":0},{"$f":"+IFERROR(+IF(Inputs!R49=FALSE,0,+(+VLOOKUP(D81,Inputs!$I$49:$J$63,2,0))),0)","v":0},{"$f":"+IFERROR(+IF(Inputs!S49=FALSE,0,+(+VLOOKUP(D81,Inputs!$I$49:$J$63,2,0))),0)","v":0},{"$f":"+IFERROR(+IF(Inputs!T49=FALSE,0,+(+VLOOKUP(D81,Inputs!$I$49:$J$63,2,0))),0)","v":0},{"$f":"+IFERROR(+IF(Inputs!U49=FALSE,0,+(+VLOOKUP(D81,Inputs!$I$49:$J$63,2,0))),0)","v":0},{"$f":"+IFERROR(+IF(Inputs!V49=FALSE,0,+(+VLOOKUP(D81,Inputs!$I$49:$J$63,2,0))),0)","v":0},{"$f":"+IFERROR(+IF(Inputs!W49=FALSE,0,+(+VLOOKUP(D81,Inputs!$I$49:$J$63,2,0))),0)","v":0}]
[null,null,17,{"$f":"+IFERROR(+IF(Inputs!I50=\"\",\"\",Inputs!I50),0)","v":""},0,{"$f":"+IFERROR(+IF(Inputs!L50=FALSE,0,+(+VLOOKUP(D82,Inputs!$I$49:$J$63,2,0))),0)","v":0},{"$f":"+IFERROR(+IF(Inputs!M50=FALSE,0,+(+VLOOKUP(D82,Inputs!$I$49:$J$63,2,0))),0)","v":0},{"$f":"+IFERROR(+IF(Inputs!N50=FALSE,0,+(+VLOOKUP(D82,Inputs!$I$49:$J$63,2,0))),0)","v":0},{"$f":"+IFERROR(+IF(Inputs!O50=FALSE,0,+(+VLOOKUP(D82,Inputs!$I$49:$J$63,2,0))),0)","v":0},{"$f":"+IFERROR(+IF(Inputs!P50=FALSE,0,+(+VLOOKUP(D82,Inputs!$I$49:$J$63,2,0))),0)","v":0},{"$f":"+IFERROR(+IF(Inputs!Q50=FALSE,0,+(+VLOOKUP(D82,Inputs!$I$49:$J$63,2,0))),0)","v":0},{"$f":"+IFERROR(+IF(Inputs!R50=FALSE,0,+(+VLOOKUP(D82,Inputs!$I$49:$J$63,2,0))),0)","v":0},{"$f":"+IFERROR(+IF(Inputs!S50=FALSE,0,+(+VLOOKUP(D82,Inputs!$I$49:$J$63,2,0))),0)","v":0},{"$f":"+IFERROR(+IF(Inputs!T50=FALSE,0,+(+VLOOKUP(D82,Inputs!$I$49:$J$63,2,0))),0)","v":0},{"$f":"+IFERROR(+IF(Inputs!U50=FALSE,0,+(+VLOOKUP(D82,Inputs!$I$49:$J$63,2,0))),0)","v":0},{"$f":"+IFERROR(+IF(Inputs!V50=FALSE,0,+(+VLOOKUP(D82,Inputs!$I$49:$J$63,2,0))),0)","v":0},{"$f":"+IFERROR(+IF(Inputs!W50=FALSE,0,+(+VLOOKUP(D82,Inputs!$I$49:$J$63,2,0))),0)","v":0}]
[null,null,18,{"$f":"+IFERROR(+IF(Inputs!I51=\"\",\"\",Inputs!I51),0)","v":""},0,{"$f":"+IFERROR(+IF(Inputs!L51=FALSE,0,+(+VLOOKUP(D83,Inputs!$I$49:$J$63,2,0))),0)","v":0},{"$f":"+IFERROR(+IF(Inputs!M51=FALSE,0,+(+VLOOKUP(D83,Inputs!$I$49:$J$63,2,0))),0)","v":0},{"$f":"+IFERROR(+IF(Inputs!N51=FALSE,0,+(+VLOOKUP(D83,Inputs!$I$49:$J$63,2,0))),0)","v":0},{"$f":"+IFERROR(+IF(Inputs!O51=FALSE,0,+(+VLOOKUP(D83,Inputs!$I$49:$J$63,2,0))),0)","v":0},{"$f":"+IFERROR(+IF(Inputs!P51=FALSE,0,+(+VLOOKUP(D83,Inputs!$I$49:$J$63,2,0))),0)","v":0},{"$f":"+IFERROR(+IF(Inputs!Q51=FALSE,0,+(+VLOOKUP(D83,Inputs!$I$49:$J$63,2,0))),0)","v":0},{"$f":"+IFERROR(+IF(Inputs!R51=FALSE,0,+(+VLOOKUP(D83,Inputs!$I$49:$J$63,2,0))),0)","v":0},{"$f":"+IFERROR(+IF(Inputs!S51=FALSE,0,+(+VLOOKUP(D83,Inputs!$I$49:$J$63,2,0))),0)","v":0},{"$f":"+IFERROR(+IF(Inputs!T51=FALSE,0,+(+VLOOKUP(D83,Inputs!$I$49:$J$63,2,0))),0)","v":0},{"$f":"+IFERROR(+IF(Inputs!U51=FALSE,0,+(+VLOOKUP(D83,Inputs!$I$49:$J$63,2,0))),0)","v":0},{"$f":"+IFERROR(+IF(Inputs!V51=FALSE,0,+(+VLOOKUP(D83,Inputs!$I$49:$J$63,2,0))),0)","v":0},{"$f":"+IFERROR(+IF(Inputs!W51=FALSE,0,+(+VLOOKUP(D83,Inputs!$I$49:$J$63,2,0))),0)","v":0}]
[null,null,19,{"$f":"+IFERROR(+IF(Inputs!I52=\"\",\"\",Inputs!I52),0)","v":""},0,{"$f":"+IFERROR(+IF(Inputs!L52=FALSE,0,+(+VLOOKUP(D84,Inputs!$I$49:$J$63,2,0))),0)","v":0},{"$f":"+IFERROR(+IF(Inputs!M52=FALSE,0,+(+VLOOKUP(D84,Inputs!$I$49:$J$63,2,0))),0)","v":0},{"$f":"+IFERROR(+IF(Inputs!N52=FALSE,0,+(+VLOOKUP(D84,Inputs!$I$49:$J$63,2,0))),0)","v":0},{"$f":"+IFERROR(+IF(Inputs!O52=FALSE,0,+(+VLOOKUP(D84,Inputs!$I$49:$J$63,2,0))),0)","v":0},{"$f":"+IFERROR(+IF(Inputs!P52=FALSE,0,+(+VLOOKUP(D84,Inputs!$I$49:$J$63,2,0))),0)","v":0},{"$f":"+IFERROR(+IF(Inputs!Q52=FALSE,0,+(+VLOOKUP(D84,Inputs!$I$49:$J$63,2,0))),0)","v":0},{"$f":"+IFERROR(+IF(Inputs!R52=FALSE,0,+(+VLOOKUP(D84,Inputs!$I$49:$J$63,2,0))),0)","v":0},{"$f":"+IFERROR(+IF(Inputs!S52=FALSE,0,+(+VLOOKUP(D84,Inputs!$I$49:$J$63,2,0))),0)","v":0},{"$f":"+IFERROR(+IF(Inputs!T52=FALSE,0,+(+VLOOKUP(D84,Inputs!$I$49:$J$63,2,0))),0)","v":0},{"$f":"+IFERROR(+IF(Inputs!U52=FALSE,0,+(+VLOOKUP(D84,Inputs!$I$49:$J$63,2,0))),0)","v":0},{"$f":"+IFERROR(+IF(Inputs!V52=FALSE,0,+(+VLOOKUP(D84,Inputs!$I$49:$J$63,2,0))),0)","v":0},{"$f":"+IFERROR(+IF(Inputs!W52=FALSE,0,+(+VLOOKUP(D84,Inputs!$I$49:$J$63,2,0))),0)","v":0}]
[null,null,20,{"$f":"+IFERROR(+IF(Inputs!I53=\"\",\"\",Inputs!I53),0)","v":""},0,{"$f":"+IFERROR(+IF(Inputs!L53=FALSE,0,+(+VLOOKUP(D85,Inputs!$I$49:$J$63,2,0))),0)","v":0},{"$f":"+IFERROR(+IF(Inputs!M53=FALSE,0,+(+VLOOKUP(D85,Inputs!$I$49:$J$63,2,0))),0)","v":0},{"$f":"+IFERROR(+IF(Inputs!N53=FALSE,0,+(+VLOOKUP(D85,Inputs!$I$49:$J$63,2,0))),0)","v":0},{"$f":"+IFERROR(+IF(Inputs!O53=FALSE,0,+(+VLOOKUP(D85,Inputs!$I$49:$J$63,2,0))),0)","v":0},{"$f":"+IFERROR(+IF(Inputs!P53=FALSE,0,+(+VLOOKUP(D85,Inputs!$I$49:$J$63,2,0))),0)","v":0},{"$f":"+IFERROR(+IF(Inputs!Q53=FALSE,0,+(+VLOOKUP(D85,Inputs!$I$49:$J$63,2,0))),0)","v":0},{"$f":"+IFERROR(+IF(Inputs!R53=FALSE,0,+(+VLOOKUP(D85,Inputs!$I$49:$J$63,2,0))),0)","v":0},{"$f":"+IFERROR(+IF(Inputs!S53=FALSE,0,+(+VLOOKUP(D85,Inputs!$I$49:$J$63,2,0))),0)","v":0},{"$f":"+IFERROR(+IF(Inputs!T53=FALSE,0,+(+VLOOKUP(D85,Inputs!$I$49:$J$63,2,0))),0)","v":0},{"$f":"+IFERROR(+IF(Inputs!U53=FALSE,0,+(+VLOOKUP(D85,Inputs!$I$49:$J$63,2,0))),0)","v":0},{"$f":"+IFERROR(+IF(Inputs!V53=FALSE,0,+(+VLOOKUP(D85,Inputs!$I$49:$J$63,2,0))),0)","v":0},{"$f":"+IFERROR(+IF(Inputs!W53=FALSE,0,+(+VLOOKUP(D85,Inputs!$I$49:$J$63,2,0))),0)","v":0}]
[null,null,21,{"$f":"+IFERROR(+IF(Inputs!I54=\"\",\"\",Inputs!I54),0)","v":""},0,{"$f":"+IFERROR(+IF(Inputs!L54=FALSE,0,+(+VLOOKUP(D86,Inputs!$I$49:$J$63,2,0))),0)","v":0},{"$f":"+IFERROR(+IF(Inputs!M54=FALSE,0,+(+VLOOKUP(D86,Inputs!$I$49:$J$63,2,0))),0)","v":0},{"$f":"+IFERROR(+IF(Inputs!N54=FALSE,0,+(+VLOOKUP(D86,Inputs!$I$49:$J$63,2,0))),0)","v":0},{"$f":"+IFERROR(+IF(Inputs!O54=FALSE,0,+(+VLOOKUP(D86,Inputs!$I$49:$J$63,2,0))),0)","v":0},{"$f":"+IFERROR(+IF(Inputs!P54=FALSE,0,+(+VLOOKUP(D86,Inputs!$I$49:$J$63,2,0))),0)","v":0},{"$f":"+IFERROR(+IF(Inputs!Q54=FALSE,0,+(+VLOOKUP(D86,Inputs!$I$49:$J$63,2,0))),0)","v":0},{"$f":"+IFERROR(+IF(Inputs!R54=FALSE,0,+(+VLOOKUP(D86,Inputs!$I$49:$J$63,2,0))),0)","v":0},{"$f":"+IFERROR(+IF(Inputs!S54=FALSE,0,+(+VLOOKUP(D86,Inputs!$I$49:$J$63,2,0))),0)","v":0},{"$f":"+IFERROR(+IF(Inputs!T54=FALSE,0,+(+VLOOKUP(D86,Inputs!$I$49:$J$63,2,0))),0)","v":0},{"$f":"+IFERROR(+IF(Inputs!U54=FALSE,0,+(+VLOOKUP(D86,Inputs!$I$49:$J$63,2,0))),0)","v":0},{"$f":"+IFERROR(+IF(Inputs!V54=FALSE,0,+(+VLOOKUP(D86,Inputs!$I$49:$J$63,2,0))),0)","v":0},{"$f":"+IFERROR(+IF(Inputs!W54=FALSE,0,+(+VLOOKUP(D86,Inputs!$I$49:$J$63,2,0))),0)","v":0}]
[null,null,22,{"$f":"+IFERROR(+IF(Inputs!I55=\"\",\"\",Inputs!I55),0)","v":""},0,{"$f":"+IFERROR(+IF(Inputs!L55=FALSE,0,+(+VLOOKUP(D87,Inputs!$I$49:$J$63,2,0))),0)","v":0},{"$f":"+IFERROR(+IF(Inputs!M55=FALSE,0,+(+VLOOKUP(D87,Inputs!$I$49:$J$63,2,0))),0)","v":0},{"$f":"+IFERROR(+IF(Inputs!N55=FALSE,0,+(+VLOOKUP(D87,Inputs!$I$49:$J$63,2,0))),0)","v":0},{"$f":"+IFERROR(+IF(Inputs!O55=FALSE,0,+(+VLOOKUP(D87,Inputs!$I$49:$J$63,2,0))),0)","v":0},{"$f":"+IFERROR(+IF(Inputs!P55=FALSE,0,+(+VLOOKUP(D87,Inputs!$I$49:$J$63,2,0))),0)","v":0},{"$f":"+IFERROR(+IF(Inputs!Q55=FALSE,0,+(+VLOOKUP(D87,Inputs!$I$49:$J$63,2,0))),0)","v":0},{"$f":"+IFERROR(+IF(Inputs!R55=FALSE,0,+(+VLOOKUP(D87,Inputs!$I$49:$J$63,2,0))),0)","v":0},{"$f":"+IFERROR(+IF(Inputs!S55=FALSE,0,+(+VLOOKUP(D87,Inputs!$I$49:$J$63,2,0))),0)","v":0},{"$f":"+IFERROR(+IF(Inputs!T55=FALSE,0,+(+VLOOKUP(D87,Inputs!$I$49:$J$63,2,0))),0)","v":0},{"$f":"+IFERROR(+IF(Inputs!U55=FALSE,0,+(+VLOOKUP(D87,Inputs!$I$49:$J$63,2,0))),0)","v":0},{"$f":"+IFERROR(+IF(Inputs!V55=FALSE,0,+(+VLOOKUP(D87,Inputs!$I$49:$J$63,2,0))),0)","v":0},{"$f":"+IFERROR(+IF(Inputs!W55=FALSE,0,+(+VLOOKUP(D87,Inputs!$I$49:$J$63,2,0))),0)","v":0}]
[null,null,23,{"$f":"+IFERROR(+IF(Inputs!I56=\"\",\"\",Inputs!I56),0)","v":""},0,{"$f":"+IFERROR(+IF(Inputs!L56=FALSE,0,+(+VLOOKUP(D88,Inputs!$I$49:$J$63,2,0))),0)","v":0},{"$f":"+IFERROR(+IF(Inputs!M56=FALSE,0,+(+VLOOKUP(D88,Inputs!$I$49:$J$63,2,0))),0)","v":0},{"$f":"+IFERROR(+IF(Inputs!N56=FALSE,0,+(+VLOOKUP(D88,Inputs!$I$49:$J$63,2,0))),0)","v":0},{"$f":"+IFERROR(+IF(Inputs!O56=FALSE,0,+(+VLOOKUP(D88,Inputs!$I$49:$J$63,2,0))),0)","v":0},{"$f":"+IFERROR(+IF(Inputs!P56=FALSE,0,+(+VLOOKUP(D88,Inputs!$I$49:$J$63,2,0))),0)","v":0},{"$f":"+IFERROR(+IF(Inputs!Q56=FALSE,0,+(+VLOOKUP(D88,Inputs!$I$49:$J$63,2,0))),0)","v":0},{"$f":"+IFERROR(+IF(Inputs!R56=FALSE,0,+(+VLOOKUP(D88,Inputs!$I$49:$J$63,2,0))),0)","v":0},{"$f":"+IFERROR(+IF(Inputs!S56=FALSE,0,+(+VLOOKUP(D88,Inputs!$I$49:$J$63,2,0))),0)","v":0},{"$f":"+IFERROR(+IF(Inputs!T56=FALSE,0,+(+VLOOKUP(D88,Inputs!$I$49:$J$63,2,0))),0)","v":0},{"$f":"+IFERROR(+IF(Inputs!U56=FALSE,0,+(+VLOOKUP(D88,Inputs!$I$49:$J$63,2,0))),0)","v":0},{"$f":"+IFERROR(+IF(Inputs!V56=FALSE,0,+(+VLOOKUP(D88,Inputs!$I$49:$J$63,2,0))),0)","v":0},{"$f":"+IFERROR(+IF(Inputs!W56=FALSE,0,+(+VLOOKUP(D88,Inputs!$I$49:$J$63,2,0))),0)","v":0}]
[null,null,24,{"$f":"+IFERROR(+IF(Inputs!I57=\"\",\"\",Inputs!I57),0)","v":""},0,{"$f":"+IFERROR(+IF(Inputs!L57=FALSE,0,+(+VLOOKUP(D89,Inputs!$I$49:$J$63,2,0))),0)","v":0},{"$f":"+IFERROR(+IF(Inputs!M57=FALSE,0,+(+VLOOKUP(D89,Inputs!$I$49:$J$63,2,0))),0)","v":0},{"$f":"+IFERROR(+IF(Inputs!N57=FALSE,0,+(+VLOOKUP(D89,Inputs!$I$49:$J$63,2,0))),0)","v":0},{"$f":"+IFERROR(+IF(Inputs!O57=FALSE,0,+(+VLOOKUP(D89,Inputs!$I$49:$J$63,2,0))),0)","v":0},{"$f":"+IFERROR(+IF(Inputs!P57=FALSE,0,+(+VLOOKUP(D89,Inputs!$I$49:$J$63,2,0))),0)","v":0},{"$f":"+IFERROR(+IF(Inputs!Q57=FALSE,0,+(+VLOOKUP(D89,Inputs!$I$49:$J$63,2,0))),0)","v":0},{"$f":"+IFERROR(+IF(Inputs!R57=FALSE,0,+(+VLOOKUP(D89,Inputs!$I$49:$J$63,2,0))),0)","v":0},{"$f":"+IFERROR(+IF(Inputs!S57=FALSE,0,+(+VLOOKUP(D89,Inputs!$I$49:$J$63,2,0))),0)","v":0},{"$f":"+IFERROR(+IF(Inputs!T57=FALSE,0,+(+VLOOKUP(D89,Inputs!$I$49:$J$63,2,0))),0)","v":0},{"$f":"+IFERROR(+IF(Inputs!U57=FALSE,0,+(+VLOOKUP(D89,Inputs!$I$49:$J$63,2,0))),0)","v":0},{"$f":"+IFERROR(+IF(Inputs!V57=FALSE,0,+(+VLOOKUP(D89,Inputs!$I$49:$J$63,2,0))),0)","v":0},{"$f":"+IFERROR(+IF(Inputs!W57=FALSE,0,+(+VLOOKUP(D89,Inputs!$I$49:$J$63,2,0))),0)","v":0}]
[null,null,25,{"$f":"+IFERROR(+IF(Inputs!I58=\"\",\"\",Inputs!I58),0)","v":""},0,{"$f":"+IFERROR(+IF(Inputs!L58=FALSE,0,+(+VLOOKUP(D90,Inputs!$I$49:$J$63,2,0))),0)","v":0},{"$f":"+IFERROR(+IF(Inputs!M58=FALSE,0,+(+VLOOKUP(D90,Inputs!$I$49:$J$63,2,0))),0)","v":0},{"$f":"+IFERROR(+IF(Inputs!N58=FALSE,0,+(+VLOOKUP(D90,Inputs!$I$49:$J$63,2,0))),0)","v":0},{"$f":"+IFERROR(+IF(Inputs!O58=FALSE,0,+(+VLOOKUP(D90,Inputs!$I$49:$J$63,2,0))),0)","v":0},{"$f":"+IFERROR(+IF(Inputs!P58=FALSE,0,+(+VLOOKUP(D90,Inputs!$I$49:$J$63,2,0))),0)","v":0},{"$f":"+IFERROR(+IF(Inputs!Q58=FALSE,0,+(+VLOOKUP(D90,Inputs!$I$49:$J$63,2,0))),0)","v":0},{"$f":"+IFERROR(+IF(Inputs!R58=FALSE,0,+(+VLOOKUP(D90,Inputs!$I$49:$J$63,2,0))),0)","v":0},{"$f":"+IFERROR(+IF(Inputs!S58=FALSE,0,+(+VLOOKUP(D90,Inputs!$I$49:$J$63,2,0))),0)","v":0},{"$f":"+IFERROR(+IF(Inputs!T58=FALSE,0,+(+VLOOKUP(D90,Inputs!$I$49:$J$63,2,0))),0)","v":0},{"$f":"+IFERROR(+IF(Inputs!U58=FALSE,0,+(+VLOOKUP(D90,Inputs!$I$49:$J$63,2,0))),0)","v":0},{"$f":"+IFERROR(+IF(Inputs!V58=FALSE,0,+(+VLOOKUP(D90,Inputs!$I$49:$J$63,2,0))),0)","v":0},{"$f":"+IFERROR(+IF(Inputs!W58=FALSE,0,+(+VLOOKUP(D90,Inputs!$I$49:$J$63,2,0))),0)","v":0}]
[null,null,26,{"$f":"+IFERROR(+IF(Inputs!I59=\"\",\"\",Inputs!I59),0)","v":""},0,{"$f":"+IFERROR(+IF(Inputs!L59=FALSE,0,+(+VLOOKUP(D91,Inputs!$I$49:$J$63,2,0))),0)","v":0},{"$f":"+IFERROR(+IF(Inputs!M59=FALSE,0,+(+VLOOKUP(D91,Inputs!$I$49:$J$63,2,0))),0)","v":0},{"$f":"+IFERROR(+IF(Inputs!N59=FALSE,0,+(+VLOOKUP(D91,Inputs!$I$49:$J$63,2,0))),0)","v":0},{"$f":"+IFERROR(+IF(Inputs!O59=FALSE,0,+(+VLOOKUP(D91,Inputs!$I$49:$J$63,2,0))),0)","v":0},{"$f":"+IFERROR(+IF(Inputs!P59=FALSE,0,+(+VLOOKUP(D91,Inputs!$I$49:$J$63,2,0))),0)","v":0},{"$f":"+IFERROR(+IF(Inputs!Q59=FALSE,0,+(+VLOOKUP(D91,Inputs!$I$49:$J$63,2,0))),0)","v":0},{"$f":"+IFERROR(+IF(Inputs!R59=FALSE,0,+(+VLOOKUP(D91,Inputs!$I$49:$J$63,2,0))),0)","v":0},{"$f":"+IFERROR(+IF(Inputs!S59=FALSE,0,+(+VLOOKUP(D91,Inputs!$I$49:$J$63,2,0))),0)","v":0},{"$f":"+IFERROR(+IF(Inputs!T59=FALSE,0,+(+VLOOKUP(D91,Inputs!$I$49:$J$63,2,0))),0)","v":0},{"$f":"+IFERROR(+IF(Inputs!U59=FALSE,0,+(+VLOOKUP(D91,Inputs!$I$49:$J$63,2,0))),0)","v":0},{"$f":"+IFERROR(+IF(Inputs!V59=FALSE,0,+(+VLOOKUP(D91,Inputs!$I$49:$J$63,2,0))),0)","v":0},{"$f":"+IFERROR(+IF(Inputs!W59=FALSE,0,+(+VLOOKUP(D91,Inputs!$I$49:$J$63,2,0))),0)","v":0}]
[null,null,27,{"$f":"+IFERROR(+IF(Inputs!I60=\"\",\"\",Inputs!I60),0)","v":""},0,{"$f":"+IFERROR(+IF(Inputs!L60=FALSE,0,+(+VLOOKUP(D92,Inputs!$I$49:$J$63,2,0))),0)","v":0},{"$f":"+IFERROR(+IF(Inputs!M60=FALSE,0,+(+VLOOKUP(D92,Inputs!$I$49:$J$63,2,0))),0)","v":0},{"$f":"+IFERROR(+IF(Inputs!N60=FALSE,0,+(+VLOOKUP(D92,Inputs!$I$49:$J$63,2,0))),0)","v":0},{"$f":"+IFERROR(+IF(Inputs!O60=FALSE,0,+(+VLOOKUP(D92,Inputs!$I$49:$J$63,2,0))),0)","v":0},{"$f":"+IFERROR(+IF(Inputs!P60=FALSE,0,+(+VLOOKUP(D92,Inputs!$I$49:$J$63,2,0))),0)","v":0},{"$f":"+IFERROR(+IF(Inputs!Q60=FALSE,0,+(+VLOOKUP(D92,Inputs!$I$49:$J$63,2,0))),0)","v":0},{"$f":"+IFERROR(+IF(Inputs!R60=FALSE,0,+(+VLOOKUP(D92,Inputs!$I$49:$J$63,2,0))),0)","v":0},{"$f":"+IFERROR(+IF(Inputs!S60=FALSE,0,+(+VLOOKUP(D92,Inputs!$I$49:$J$63,2,0))),0)","v":0},{"$f":"+IFERROR(+IF(Inputs!T60=FALSE,0,+(+VLOOKUP(D92,Inputs!$I$49:$J$63,2,0))),0)","v":0},{"$f":"+IFERROR(+IF(Inputs!U60=FALSE,0,+(+VLOOKUP(D92,Inputs!$I$49:$J$63,2,0))),0)","v":0},{"$f":"+IFERROR(+IF(Inputs!V60=FALSE,0,+(+VLOOKUP(D92,Inputs!$I$49:$J$63,2,0))),0)","v":0},{"$f":"+IFERROR(+IF(Inputs!W60=FALSE,0,+(+VLOOKUP(D92,Inputs!$I$49:$J$63,2,0))),0)","v":0}]
[null,null,28,{"$f":"+IFERROR(+IF(Inputs!I61=\"\",\"\",Inputs!I61),0)","v":""},0,{"$f":"+IFERROR(+IF(Inputs!L61=FALSE,0,+(+VLOOKUP(D93,Inputs!$I$49:$J$63,2,0))),0)","v":0},{"$f":"+IFERROR(+IF(Inputs!M61=FALSE,0,+(+VLOOKUP(D93,Inputs!$I$49:$J$63,2,0))),0)","v":0},{"$f":"+IFERROR(+IF(Inputs!N61=FALSE,0,+(+VLOOKUP(D93,Inputs!$I$49:$J$63,2,0))),0)","v":0},{"$f":"+IFERROR(+IF(Inputs!O61=FALSE,0,+(+VLOOKUP(D93,Inputs!$I$49:$J$63,2,0))),0)","v":0},{"$f":"+IFERROR(+IF(Inputs!P61=FALSE,0,+(+VLOOKUP(D93,Inputs!$I$49:$J$63,2,0))),0)","v":0},{"$f":"+IFERROR(+IF(Inputs!Q61=FALSE,0,+(+VLOOKUP(D93,Inputs!$I$49:$J$63,2,0))),0)","v":0},{"$f":"+IFERROR(+IF(Inputs!R61=FALSE,0,+(+VLOOKUP(D93,Inputs!$I$49:$J$63,2,0))),0)","v":0},{"$f":"+IFERROR(+IF(Inputs!S61=FALSE,0,+(+VLOOKUP(D93,Inputs!$I$49:$J$63,2,0))),0)","v":0},{"$f":"+IFERROR(+IF(Inputs!T61=FALSE,0,+(+VLOOKUP(D93,Inputs!$I$49:$J$63,2,0))),0)","v":0},{"$f":"+IFERROR(+IF(Inputs!U61=FALSE,0,+(+VLOOKUP(D93,Inputs!$I$49:$J$63,2,0))),0)","v":0},{"$f":"+IFERROR(+IF(Inputs!V61=FALSE,0,+(+VLOOKUP(D93,Inputs!$I$49:$J$63,2,0))),0)","v":0},{"$f":"+IFERROR(+IF(Inputs!W61=FALSE,0,+(+VLOOKUP(D93,Inputs!$I$49:$J$63,2,0))),0)","v":0}]
[null,null,29,{"$f":"+IFERROR(+IF(Inputs!I62=\"\",\"\",Inputs!I62),0)","v":""},0,{"$f":"+IFERROR(+IF(Inputs!L62=FALSE,0,+(+VLOOKUP(D94,Inputs!$I$49:$J$63,2,0))),0)","v":0},{"$f":"+IFERROR(+IF(Inputs!M62=FALSE,0,+(+VLOOKUP(D94,Inputs!$I$49:$J$63,2,0))),0)","v":0},{"$f":"+IFERROR(+IF(Inputs!N62=FALSE,0,+(+VLOOKUP(D94,Inputs!$I$49:$J$63,2,0))),0)","v":0},{"$f":"+IFERROR(+IF(Inputs!O62=FALSE,0,+(+VLOOKUP(D94,Inputs!$I$49:$J$63,2,0))),0)","v":0},{"$f":"+IFERROR(+IF(Inputs!P62=FALSE,0,+(+VLOOKUP(D94,Inputs!$I$49:$J$63,2,0))),0)","v":0},{"$f":"+IFERROR(+IF(Inputs!Q62=FALSE,0,+(+VLOOKUP(D94,Inputs!$I$49:$J$63,2,0))),0)","v":0},{"$f":"+IFERROR(+IF(Inputs!R62=FALSE,0,+(+VLOOKUP(D94,Inputs!$I$49:$J$63,2,0))),0)","v":0},{"$f":"+IFERROR(+IF(Inputs!S62=FALSE,0,+(+VLOOKUP(D94,Inputs!$I$49:$J$63,2,0))),0)","v":0},{"$f":"+IFERROR(+IF(Inputs!T62=FALSE,0,+(+VLOOKUP(D94,Inputs!$I$49:$J$63,2,0))),0)","v":0},{"$f":"+IFERROR(+IF(Inputs!U62=FALSE,0,+(+VLOOKUP(D94,Inputs!$I$49:$J$63,2,0))),0)","v":0},{"$f":"+IFERROR(+IF(Inputs!V62=FALSE,0,+(+VLOOKUP(D94,Inputs!$I$49:$J$63,2,0))),0)","v":0},{"$f":"+IFERROR(+IF(Inputs!W62=FALSE,0,+(+VLOOKUP(D94,Inputs!$I$49:$J$63,2,0))),0)","v":0}]
[null,null,30,{"$f":"+IFERROR(+IF(Inputs!I63=\"\",\"\",Inputs!I63),0)","v":""},0,{"$f":"+IFERROR(+IF(Inputs!L63=FALSE,0,+(+VLOOKUP(D95,Inputs!$I$49:$J$63,2,0))),0)","v":0},{"$f":"+IFERROR(+IF(Inputs!M63=FALSE,0,+(+VLOOKUP(D95,Inputs!$I$49:$J$63,2,0))),0)","v":0},{"$f":"+IFERROR(+IF(Inputs!N63=FALSE,0,+(+VLOOKUP(D95,Inputs!$I$49:$J$63,2,0))),0)","v":0},{"$f":"+IFERROR(+IF(Inputs!O63=FALSE,0,+(+VLOOKUP(D95,Inputs!$I$49:$J$63,2,0))),0)","v":0},{"$f":"+IFERROR(+IF(Inputs!P63=FALSE,0,+(+VLOOKUP(D95,Inputs!$I$49:$J$63,2,0))),0)","v":0},{"$f":"+IFERROR(+IF(Inputs!Q63=FALSE,0,+(+VLOOKUP(D95,Inputs!$I$49:$J$63,2,0))),0)","v":0},{"$f":"+IFERROR(+IF(Inputs!R63=FALSE,0,+(+VLOOKUP(D95,Inputs!$I$49:$J$63,2,0))),0)","v":0},{"$f":"+IFERROR(+IF(Inputs!S63=FALSE,0,+(+VLOOKUP(D95,Inputs!$I$49:$J$63,2,0))),0)","v":0},{"$f":"+IFERROR(+IF(Inputs!T63=FALSE,0,+(+VLOOKUP(D95,Inputs!$I$49:$J$63,2,0))),0)","v":0},{"$f":"+IFERROR(+IF(Inputs!U63=FALSE,0,+(+VLOOKUP(D95,Inputs!$I$49:$J$63,2,0))),0)","v":0},{"$f":"+IFERROR(+IF(Inputs!V63=FALSE,0,+(+VLOOKUP(D95,Inputs!$I$49:$J$63,2,0))),0)","v":0},{"$f":"+IFERROR(+IF(Inputs!W63=FALSE,0,+(+VLOOKUP(D95,Inputs!$I$49:$J$63,2,0))),0)","v":0}]
[null,null,"Resumen","GASTOS OBLIGATORIOS",{"$f":"+IFERROR((+SUM(F96:Q96)/+SUM($F$24:$Q$24)),0)","v":0},{"$f":"+SUM(F66:F95)","v":0},{"$f":"+SUM(G66:G95)","v":0},0,0,0,0,0,0,0,0,0,0]
[null,null,null,0]
[null,null,null,1]
[null,null,1,{"$f":"+IFERROR(+IF(Inputs!D68=\"\",\"\",Inputs!D68),0)","v":"Fondo de Emergencia (ejemplo)"},{"$f":"+IFERROR((+SUM(F99:Q99)/+SUM($F$24:$Q$24)),0)","v":0},{"$f":"+IFERROR((+VLOOKUP(D99,Inputs!$D$68:$E$82,2,0)),0)","v":0},{"$f":"+F99","v":0},0,0,0,0,0,0,0,0,0,0]
[null,null,2,{"$f":"+IFERROR(+IF(Inputs!D69=\"\",\"\",Inputs!D69),0)","v":"Alimentación (ejemplo)"},0,{"$f":"+IFERROR((+VLOOKUP(D100,Inputs!$D$68:$E$82,2,0)),0)","v":0},{"$f":"+F100","v":0},0,0,0,0,0,0,0,0,0,0]
[null,null,3,{"$f":"+IFERROR(+IF(Inputs!D70=\"\",\"\",Inputs!D70),0)","v":"Servicios públicos (ejemplo)"},0,{"$f":"+IFERROR((+VLOOKUP(D101,Inputs!$D$68:$E$82,2,0)),0)","v":0},{"$f":"+F101","v":0},0,0,0,0,0,0,0,0,0,0]
[null,null,4,{"$f":"+IFERROR(+IF(Inputs!D71=\"\",\"\",Inputs!D71),0)","v":"Gasolina (ejemplo)"},0,{"$f":"+IFERROR((+VLOOKUP(D102,Inputs!$D$68:$E$82,2,0)),0)","v":0},{"$f":"+F102","v":0},0,0,0,0,0,0,0,0,0,0]
[null,null,5,{"$f":"+IFERROR(+IF(Inputs!D72=\"\",\"\",Inputs!D72),0)","v":""},0,{"$f":"+IFERROR((+VLOOKUP(D103,Inputs!$D$68:$E$82,2,0)),0)","v":0},{"$f":"+F103","v":0},0,0,0,0,0,0,0,0,0,0]
[null,null,6,{"$f":"+IFERROR(+IF(Inputs!D73=\"\",\"\",Inputs!D73),0)","v":""},0,{"$f":"+IFERROR((+VLOOKUP(D104,Inputs!$D$68:$E$82,2,0)),0)","v":0},{"$f":"+F104","v":0},0,0,0,0,0,0,0,0,0,0]
[null,null,7,{"$f":"+IFERROR(+IF(Inputs!D74=\"\",\"\",Inputs!D74),0)","v":""},0,{"$f":"+IFERROR((+VLOOKUP(D105,Inputs!$D$68:$E$82,2,0)),0)","v":0},{"$f":"+F105","v":0},0,0,0,0,0,0,0,0,0,0]
[null,null,8,{"$f":"+IFERROR(+IF(Inputs!D75=\"\",\"\",Inputs!D75),0)","v":""},0,{"$f":"+IFERROR((+VLOOKUP(D106,Inputs!$D$68:$E$82,2,0)),0)","v":0},{"$f":"+F106","v":0},0,0,0,0,0,0,0,0,0,0]
[null,null,9,{"$f":"+IFERROR(+IF(Inputs!D76=\"\",\"\",Inputs!D76),0)","v":""},0,{"$f":"+IFERROR((+VLOOKUP(D107,Inputs!$D$68:$E$82,2,0)),0)","v":0},{"$f":"+F107","v":0},0,0,0,0,0,0,0,0,0,0]
[null,null,10,{"$f":"+IFERROR(+IF(Inputs!D77=\"\",\"\",Inputs!D77),0)","v":""},0,{"$f":"+IFERROR((+VLOOKUP(D108,Inputs!$D$68:$E$82,2,0)),0)","v":0},{"$f":"+F108","v":0},0,0,0,0,0,0,0,0,0,0]
[null,null,11,{"$f":"+IFERROR(+IF(Inputs!D78=\"\",\"\",Inputs!D78),0)","v":""},0,{"$f":"+IFERROR((+VLOOKUP(D109,Inputs!$D$68:$E$82,2,0)),0)","v":0},{"$f":"+F109","v":0},0,0,0,0,0,0,0,0,0,0]
[null,null,12,{"$f":"+IFERROR(+IF(Inputs!D79=\"\",\"\",Inputs!D79),0)","v":""},0,{"$f":"+IFERROR((+VLOOKUP(D110,Inputs!$D$68:$E$82,2,0)),0)","v":0},{"$f":"+F110","v":0},0,0,0,0,0,0,0,0,0,0]
[null,null,13,{"$f":"+IFERROR(+IF(Inputs!D80=\"\",\"\",Inputs!D80),0)","v":""},0,{"$f":"+IFERROR((+VLOOKUP(D111,Inputs!$D$68:$E$82,2,0)),0)","v":0},{"$f":"+F111","v":0},0,0,0,0,0,0,0,0,0,0]
[null,null,14,{"$f":"+IFERROR(+IF(Inputs!D81=\"\",\"\",Inputs!D81),0)","v":""},0,{"$f":"+IFERROR((+VLOOKUP(D112,Inputs!$D$68:$E$82,2,0)),0)","v":0},{"$f":"+F112","v":0},0,0,0,0,0,0,0,0,0,0]
[null,null,15,{"$f":"+IFERROR(+IF(Inputs!D82=\"\",\"\",Inputs!D82),0)","v":""},0,{"$f":"+IFERROR((+VLOOKUP(D113,Inputs!$D$68:$E$82,2,0)),0)","v":0},{"$f":"+F113","v":0},0,0,0,0,0,0,0,0,0,0]
[null,null,16,{"$f":"+IFERROR(+IF(Inputs!I68=\"\",\"\",Inputs!I68),0)","v":"Abono extra Fondo de Emerg. (ejemplo)"},0,{"$f":"+IFERROR(+IF(Inputs!L68=FALSE,0,+(+VLOOKUP(D114,Inputs!$I$68:$J$82,2,0))),0)","v":0},{"$f":"+IFERROR(+IF(Inputs!M68=FALSE,0,+(+VLOOKUP(D114,Inputs!$I$68:$J$82,2,0))),0)","v":0},{"$f":"+IFERROR(+IF(Inputs!N68=FALSE,0,+(+VLOOKUP(D114,Inputs!$I$68:$J$82,2,0))),0)","v":0},{"$f":"+IFERROR(+IF(Inputs!O68=FALSE,0,+(+VLOOKUP(D114,Inputs!$I$68:$J$82,2,0))),0)","v":0},{"$f":"+IFERROR(+IF(Inputs!P68=FALSE,0,+(+VLOOKUP(D114,Inputs!$I$68:$J$82,2,0))),0)","v":0},{"$f":"+IFERROR(+IF(Inputs!Q68=FALSE,0,+(+VLOOKUP(D114,Inputs!$I$68:$J$82,2,0))),0)","v":0},{"$f":"+IFERROR(+IF(Inputs!R68=FALSE,0,+(+VLOOKUP(D114,Inputs!$I$68:$J$82,2,0))),0)","v":0},{"$f":"+IFERROR(+IF(Inputs!S68=FALSE,0,+(+VLOOKUP(D114,Inputs!$I$68:$J$82,2,0))),0)","v":0},{"$f":"+IFERROR(+IF(Inputs!T68=FALSE,0,+(+VLOOKUP(D114,Inputs!$I$68:$J$82,2,0))),0)","v":0},{"$f":"+IFERROR(+IF(Inputs!U68=FALSE,0,+(+VLOOKUP(D114,Inputs!$I$68:$J$82,2,0))),0)","v":0},{"$f":"+IFERROR(+IF(Inputs!V68=FALSE,0,+(+VLOOKUP(D114,Inputs!$I$68:$J$82,2,0))),0)","v":0},{"$f":"+IFERROR(+IF(Inputs!W68=FALSE,0,+(+VLOOKUP(D114,Inputs!$I$68:$J$82,2,0))),0)","v":0}]
[null,null,17,{"$f":"+IFERROR(+IF(Inputs!I69=\"\",\"\",Inputs!I69),0)","v":"Seguro del vehículo (ejemplo)"},0,{"$f":"+IFERROR(+IF(Inputs!L69=FALSE,0,+(+VLOOKUP(D115,Inputs!$I$68:$J$82,2,0))),0)","v":0},{"$f":"+IFERROR(+IF(Inputs!M69=FALSE,0,+(+VLOOKUP(D115,Inputs!$I$68:$J$82,2,0))),0)","v":0},{"$f":"+IFERROR(+IF(Inputs!N69=FALSE,0,+(+VLOOKUP(D115,Inputs!$I$68:$J$82,2,0))),0)","v":0},{"$f":"+IFERROR(+IF(Inputs!O69=FALSE,0,+(+VLOOKUP(D115,Inputs!$I$68:$J$82,2,0))),0)","v":0},{"$f":"+IFERROR(+IF(Inputs!P69=FALSE,0,+(+VLOOKUP(D115,Inputs!$I$68:$J$82,2,0))),0)","v":0},{"$f":"+IFERROR(+IF(Inputs!Q69=FALSE,0,+(+VLOOKUP(D115,Inputs!$I$68:$J$82,2,0))),0)","v":0},{"$f":"+IFERROR(+IF(Inputs!R69=FALSE,0,+(+VLOOKUP(D115,Inputs!$I$68:$J$82,2,0))),0)","v":0},{"$f":"+IFERROR(+IF(Inputs!S69=FALSE,0,+(+VLOOKUP(D115,Inputs!$I$68:$J$82,2,0))),0)","v":0},{"$f":"+IFERROR(+IF(Inputs!T69=FALSE,0,+(+VLOOKUP(D115,Inputs!$I$68:$J$82,2,0))),0)","v":0},{"$f":"+IFERROR(+IF(Inputs!U69=FALSE,0,+(+VLOOKUP(D115,Inputs!$I$68:$J$82,2,0))),0)","v":0},{"$f":"+IFERROR(+IF(Inputs!V69=FALSE,0,+(+VLOOKUP(D115,Inputs!$I$68:$J$82,2,0))),0)","v":0},{"$f":"+IFERROR(+IF(Inputs!W69=FALSE,0,+(+VLOOKUP(D115,Inputs!$I$68:$J$82,2,0))),0)","v":0}]
[null,null,18,{"$f":"+IFERROR(+IF(Inputs!I70=\"\",\"\",Inputs!I70),0)","v":""},0,{"$f":"+IFERROR(+IF(Inputs!L70=FALSE,0,+(+VLOOKUP(D116,Inputs!$I$68:$J$82,2,0))),0)","v":0},{"$f":"+IFERROR(+IF(Inputs!M70=FALSE,0,+(+VLOOKUP(D116,Inputs!$I$68:$J$82,2,0))),0)","v":0},{"$f":"+IFERROR(+IF(Inputs!N70=FALSE,0,+(+VLOOKUP(D116,Inputs!$I$68:$J$82,2,0))),0)","v":0},{"$f":"+IFERROR(+IF(Inputs!O70=FALSE,0,+(+VLOOKUP(D116,Inputs!$I$68:$J$82,2,0))),0)","v":0},{"$f":"+IFERROR(+IF(Inputs!P70=FALSE,0,+(+VLOOKUP(D116,Inputs!$I$68:$J$82,2,0))),0)","v":0},{"$f":"+IFERROR(+IF(Inputs!Q70=FALSE,0,+(+VLOOKUP(D116,Inputs!$I$68:$J$82,2,0))),0)","v":0},{"$f":"+IFERROR(+IF(Inputs!R70=FALSE,0,+(+VLOOKUP(D116,Inputs!$I$68:$J$82,2,0))),0)","v":0},{"$f":"+IFERROR(+IF(Inputs!S70=FALSE,0,+(+VLOOKUP(D116,Inputs!$I$68:$J$82,2,0))),0)","v":0},{"$f":"+IFERROR(+IF(Inputs!T70=FALSE,0,+(+VLOOKUP(D116,Inputs!$I$68:$J$82,2,0))),0)","v":0},{"$f":"+IFERROR(+IF(Inputs!U70=FALSE,0,+(+VLOOKUP(D116,Inputs!$I$68:$J$82,2,0))),0)","v":0},{"$f":"+IFERROR(+IF(Inputs!V70=FALSE,0,+(+VLOOKUP(D116,Inputs!$I$68:$J$82,2,0))),0)","v":0},{"$f":"+IFERROR(+IF(Inputs!W70=FALSE,0,+(+VLOOKUP(D116,Inputs!$I$68:$J$82,2,0))),0)","v":0}]
[null,null,19,{"$f":"+IFERROR(+IF(Inputs!I71=\"\",\"\",Inputs!I71),0)","v":""},0,{"$f":"+IFERROR(+IF(Inputs!L71=FALSE,0,+(+VLOOKUP(D117,Inputs!$I$68:$J$82,2,0))),0)","v":0},{"$f":"+IFERROR(+IF(Inputs!M71=FALSE,0,+(+VLOOKUP(D117,Inputs!$I$68:$J$82,2,0))),0)","v":0},{"$f":"+IFERROR(+IF(Inputs!N71=FALSE,0,+(+VLOOKUP(D117,Inputs!$I$68:$J$82,2,0))),0)","v":0},{"$f":"+IFERROR(+IF(Inputs!O71=FALSE,0,+(+VLOOKUP(D117,Inputs!$I$68:$J$82,2,0))),0)","v":0},{"$f":"+IFERROR(+IF(Inputs!P71=FALSE,0,+(+VLOOKUP(D117,Inputs!$I$68:$J$82,2,0))),0)","v":0},{"$f":"+IFERROR(+IF(Inputs!Q71=FALSE,0,+(+VLOOKUP(D117,Inputs!$I$68:$J$82,2,0))),0)","v":0},{"$f":"+IFERROR(+IF(Inputs!R71=FALSE,0,+(+VLOOKUP(D117,Inputs!$I$68:$J$82,2,0))),0)","v":0},{"$f":"+IFERROR(+IF(Inputs!S71=FALSE,0,+(+VLOOKUP(D117,Inputs!$I$68:$J$82,2,0))),0)","v":0},{"$f":"+IFERROR(+IF(Inputs!T71=FALSE,0,+(+VLOOKUP(D117,Inputs!$I$68:$J$82,2,0))),0)","v":0},{"$f":"+IFERROR(+IF(Inputs!U71=FALSE,0,+(+VLOOKUP(D117,Inputs!$I$68:$J$82,2,0))),0)","v":0},{"$f":"+IFERROR(+IF(Inputs!V71=FALSE,0,+(+VLOOKUP(D117,Inputs!$I$68:$J$82,2,0))),0)","v":0},{"$f":"+IFERROR(+IF(Inputs!W71=FALSE,0,+(+VLOOKUP(D117,Inputs!$I$68:$J$82,2,0))),0)","v":0}]
[null,null,20,{"$f":"+IFERROR(+IF(Inputs!I72=\"\",\"\",Inputs!I72),0)","v":""},0,{"$f":"+IFERROR(+IF(Inputs!L72=FALSE,0,+(+VLOOKUP(D118,Inputs!$I$68:$J$82,2,0))),0)","v":0},{"$f":"+IFERROR(+IF(Inputs!M72=FALSE,0,+(+VLOOKUP(D118,Inputs!$I$68:$J$82,2,0))),0)","v":0},{"$f":"+IFERROR(+IF(Inputs!N72=FALSE,0,+(+VLOOKUP(D118,Inputs!$I$68:$J$82,2,0))),0)","v":0},{"$f":"+IFERROR(+IF(Inputs!O72=FALSE,0,+(+VLOOKUP(D118,Inputs!$I$68:$J$82,2,0))),0)","v":0},{"$f":"+IFERROR(+IF(Inputs!P72=FALSE,0,+(+VLOOKUP(D118,Inputs!$I$68:$J$82,2,0))),0)","v":0},{"$f":"+IFERROR(+IF(Inputs!Q72=FALSE,0,+(+VLOOKUP(D118,Inputs!$I$68:$J$82,2,0))),0)","v":0},{"$f":"+IFERROR(+IF(Inputs!R72=FALSE,0,+(+VLOOKUP(D118,Inputs!$I$68:$J$82,2,0))),0)","v":0},{"$f":"+IFERROR(+IF(Inputs!S72=FALSE,0,+(+VLOOKUP(D118,Inputs!$I$68:$J$82,2,0))),0)","v":0},{"$f":"+IFERROR(+IF(Inputs!T72=FALSE,0,+(+VLOOKUP(D118,Inputs!$I$68:$J$82,2,0))),0)","v":0},{"$f":"+IFERROR(+IF(Inputs!U72=FALSE,0,+(+VLOOKUP(D118,Inputs!$I$68:$J$82,2,0))),0)","v":0},{"$f":"+IFERROR(+IF(Inputs!V72=FALSE,0,+(+VLOOKUP(D118,Inputs!$I$68:$J$82,2,0))),0)","v":0},{"$f":"+IFERROR(+IF(Inputs!W72=FALSE,0,+(+VLOOKUP(D118,Inputs!$I$68:$J$82,2,0))),0)","v":0}]
[null,null,21,{"$f":"+IFERROR(+IF(Inputs!I73=\"\",\"\",Inputs!I73),0)","v":""},0,{"$f":"+IFERROR(+IF(Inputs!L73=FALSE,0,+(+VLOOKUP(D119,Inputs!$I$68:$J$82,2,0))),0)","v":0},{"$f":"+IFERROR(+IF(Inputs!M73=FALSE,0,+(+VLOOKUP(D119,Inputs!$I$68:$J$82,2,0))),0)","v":0},{"$f":"+IFERROR(+IF(Inputs!N73=FALSE,0,+(+VLOOKUP(D119,Inputs!$I$68:$J$82,2,0))),0)","v":0},{"$f":"+IFERROR(+IF(Inputs!O73=FALSE,0,+(+VLOOKUP(D119,Inputs!$I$68:$J$82,2,0))),0)","v":0},{"$f":"+IFERROR(+IF(Inputs!P73=FALSE,0,+(+VLOOKUP(D119,Inputs!$I$68:$J$82,2,0))),0)","v":0},{"$f":"+IFERROR(+IF(Inputs!Q73=FALSE,0,+(+VLOOKUP(D119,Inputs!$I$68:$J$82,2,0))),0)","v":0},{"$f":"+IFERROR(+IF(Inputs!R73=FALSE,0,+(+VLOOKUP(D119,Inputs!$I$68:$J$82,2,0))),0)","v":0},{"$f":"+IFERROR(+IF(Inputs!S73=FALSE,0,+(+VLOOKUP(D119,Inputs!$I$68:$J$82,2,0))),0)","v":0},{"$f":"+IFERROR(+IF(Inputs!T73=FALSE,0,+(+VLOOKUP(D119,Inputs!$I$68:$J$82,2,0))),0)","v":0},{"$f":"+IFERROR(+IF(Inputs!U73=FALSE,0,+(+VLOOKUP(D119,Inputs!$I$68:$J$82,2,0))),0)","v":0},{"$f":"+IFERROR(+IF(Inputs!V73=FALSE,0,+(+VLOOKUP(D119,Inputs!$I$68:$J$82,2,0))),0)","v":0},{"$f":"+IFERROR(+IF(Inputs!W73=FALSE,0,+(+VLOOKUP(D119,Inputs!$I$68:$J$82,2,0))),0)","v":0}]
[null,null,22,{"$f":"+IFERROR(+IF(Inputs!I74=\"\",\"\",Inputs!I74),0)","v":""},0,{"$f":"+IFERROR(+IF(Inputs!L74=FALSE,0,+(+VLOOKUP(D120,Inputs!$I$68:$J$82,2,0))),0)","v":0},{"$f":"+IFERROR(+IF(Inputs!M74=FALSE,0,+(+VLOOKUP(D120,Inputs!$I$68:$J$82,2,0))),0)","v":0},{"$f":"+IFERROR(+IF(Inputs!N74=FALSE,0,+(+VLOOKUP(D120,Inputs!$I$68:$J$82,2,0))),0)","v":0},{"$f":"+IFERROR(+IF(Inputs!O74=FALSE,0,+(+VLOOKUP(D120,Inputs!$I$68:$J$82,2,0))),0)","v":0},{"$f":"+IFERROR(+IF(Inputs!P74=FALSE,0,+(+VLOOKUP(D120,Inputs!$I$68:$J$82,2,0))),0)","v":0},{"$f":"+IFERROR(+IF(Inputs!Q74=FALSE,0,+(+VLOOKUP(D120,Inputs!$I$68:$J$82,2,0))),0)","v":0},{"$f":"+IFERROR(+IF(Inputs!R74=FALSE,0,+(+VLOOKUP(D120,Inputs!$I$68:$J$82,2,0))),0)","v":0},{"$f":"+IFERROR(+IF(Inputs!S74=FALSE,0,+(+VLOOKUP(D120,Inputs!$I$68:$J$82,2,0))),0)","v":0},{"$f":"+IFERROR(+IF(Inputs!T74=FALSE,0,+(+VLOOKUP(D120,Inputs!$I$68:$J$82,2,0))),0)","v":0},{"$f":"+IFERROR(+IF(Inputs!U74=FALSE,0,+(+VLOOKUP(D120,Inputs!$I$68:$J$82,2,0))),0)","v":0},{"$f":"+IFERROR(+IF(Inputs!V74=FALSE,0,+(+VLOOKUP(D120,Inputs!$I$68:$J$82,2,0))),0)","v":0},{"$f":"+IFERROR(+IF(Inputs!W74=FALSE,0,+(+VLOOKUP(D120,Inputs!$I$68:$J$82,2,0))),0)","v":0}]
[null,null,23,{"$f":"+IFERROR(+IF(Inputs!I75=\"\",\"\",Inputs!I75),0)","v":""},0,{"$f":"+IFERROR(+IF(Inputs!L75=FALSE,0,+(+VLOOKUP(D121,Inputs!$I$68:$J$82,2,0))),0)","v":0},{"$f":"+IFERROR(+IF(Inputs!M75=FALSE,0,+(+VLOOKUP(D121,Inputs!$I$68:$J$82,2,0))),0)","v":0},{"$f":"+IFERROR(+IF(Inputs!N75=FALSE,0,+(+VLOOKUP(D121,Inputs!$I$68:$J$82,2,0))),0)","v":0},{"$f":"+IFERROR(+IF(Inputs!O75=FALSE,0,+(+VLOOKUP(D121,Inputs!$I$68:$J$82,2,0))),0)","v":0},{"$f":"+IFERROR(+IF(Inputs!P75=FALSE,0,+(+VLOOKUP(D121,Inputs!$I$68:$J$82,2,0))),0)","v":0},{"$f":"+IFERROR(+IF(Inputs!Q75=FALSE,0,+(+VLOOKUP(D121,Inputs!$I$68:$J$82,2,0))),0)","v":0},{"$f":"+IFERROR(+IF(Inputs!R75=FALSE,0,+(+VLOOKUP(D121,Inputs!$I$68:$J$82,2,0))),0)","v":0},{"$f":"+IFERROR(+IF(Inputs!S75=FALSE,0,+(+VLOOKUP(D121,Inputs!$I$68:$J$82,2,0))),0)","v":0},{"$f":"+IFERROR(+IF(Inputs!T75=FALSE,0,+(+VLOOKUP(D121,Inputs!$I$68:$J$82,2,0))),0)","v":0},{"$f":"+IFERROR(+IF(Inputs!U75=FALSE,0,+(+VLOOKUP(D121,Inputs!$I$68:$J$82,2,0))),0)","v":0},{"$f":"+IFERROR(+IF(Inputs!V75=FALSE,0,+(+VLOOKUP(D121,Inputs!$I$68:$J$82,2,0))),0)","v":0},{"$f":"+IFERROR(+IF(Inputs!W75=FALSE,0,+(+VLOOKUP(D121,Inputs!$I$68:$J$82,2,0))),0)","v":0}]
[null,null,24,{"$f":"+IFERROR(+IF(Inputs!I76=\"\",\"\",Inputs!I76),0)","v":""},0,{"$f":"+IFERROR(+IF(Inputs!L76=FALSE,0,+(+VLOOKUP(D122,Inputs!$I$68:$J$82,2,0))),0)","v":0},{"$f":"+IFERROR(+IF(Inputs!M76=FALSE,0,+(+VLOOKUP(D122,Inputs!$I$68:$J$82,2,0))),0)","v":0},{"$f":"+IFERROR(+IF(Inputs!N76=FALSE,0,+(+VLOOKUP(D122,Inputs!$I$68:$J$82,2,0))),0)","v":0},{"$f":"+IFERROR(+IF(Inputs!O76=FALSE,0,+(+VLOOKUP(D122,Inputs!$I$68:$J$82,2,0))),0)","v":0},{"$f":"+IFERROR(+IF(Inputs!P76=FALSE,0,+(+VLOOKUP(D122,Inputs!$I$68:$J$82,2,0))),0)","v":0},{"$f":"+IFERROR(+IF(Inputs!Q76=FALSE,0,+(+VLOOKUP(D122,Inputs!$I$68:$J$82,2,0))),0)","v":0},{"$f":"+IFERROR(+IF(Inputs!R76=FALSE,0,+(+VLOOKUP(D122,Inputs!$I$68:$J$82,2,0))),0)","v":0},{"$f":"+IFERROR(+IF(Inputs!S76=FALSE,0,+(+VLOOKUP(D122,Inputs!$I$68:$J$82,2,0))),0)","v":0},{"$f":"+IFERROR(+IF(Inputs!T76=FALSE,0,+(+VLOOKUP(D122,Inputs!$I$68:$J$82,2,0))),0)","v":0},{"$f":"+IFERROR(+IF(Inputs!U76=FALSE,0,+(+VLOOKUP(D122,Inputs!$I$68:$J$82,2,0))),0)","v":0},{"$f":"+IFERROR(+IF(Inputs!V76=FALSE,0,+(+VLOOKUP(D122,Inputs!$I$68:$J$82,2,0))),0)","v":0},{"$f":"+IFERROR(+IF(Inputs!W76=FALSE,0,+(+VLOOKUP(D122,Inputs!$I$68:$J$82,2,0))),0)","v":0}]
[null,null,25,{"$f":"+IFERROR(+IF(Inputs!I77=\"\",\"\",Inputs!I77),0)","v":""},0,{"$f":"+IFERROR(+IF(Inputs!L77=FALSE,0,+(+VLOOKUP(D123,Inputs!$I$68:$J$82,2,0))),0)","v":0},{"$f":"+IFERROR(+IF(Inputs!M77=FALSE,0,+(+VLOOKUP(D123,Inputs!$I$68:$J$82,2,0))),0)","v":0},{"$f":"+IFERROR(+IF(Inputs!N77=FALSE,0,+(+VLOOKUP(D123,Inputs!$I$68:$J$82,2,0))),0)","v":0},{"$f":"+IFERROR(+IF(Inputs!O77=FALSE,0,+(+VLOOKUP(D123,Inputs!$I$68:$J$82,2,0))),0)","v":0},{"$f":"+IFERROR(+IF(Inputs!P77=FALSE,0,+(+VLOOKUP(D123,Inputs!$I$68:$J$82,2,0))),0)","v":0},{"$f":"+IFERROR(+IF(Inputs!Q77=FALSE,0,+(+VLOOKUP(D123,Inputs!$I$68:$J$82,2,0))),0)","v":0},{"$f":"+IFERROR(+IF(Inputs!R77=FALSE,0,+(+VLOOKUP(D123,Inputs!$I$68:$J$82,2,0))),0)","v":0},{"$f":"+IFERROR(+IF(Inputs!S77=FALSE,0,+(+VLOOKUP(D123,Inputs!$I$68:$J$82,2,0))),0)","v":0},{"$f":"+IFERROR(+IF(Inputs!T77=FALSE,0,+(+VLOOKUP(D123,Inputs!$I$68:$J$82,2,0))),0)","v":0},{"$f":"+IFERROR(+IF(Inputs!U77=FALSE,0,+(+VLOOKUP(D123,Inputs!$I$68:$J$82,2,0))),0)","v":0},{"$f":"+IFERROR(+IF(Inputs!V77=FALSE,0,+(+VLOOKUP(D123,Inputs!$I$68:$J$82,2,0))),0)","v":0},{"$f":"+IFERROR(+IF(Inputs!W77=FALSE,0,+(+VLOOKUP(D123,Inputs!$I$68:$J$82,2,0))),0)","v":0}]
[null,null,26,{"$f":"+IFERROR(+IF(Inputs!I78=\"\",\"\",Inputs!I78),0)","v":""},0,{"$f":"+IFERROR(+IF(Inputs!L78=FALSE,0,+(+VLOOKUP(D124,Inputs!$I$68:$J$82,2,0))),0)","v":0},{"$f":"+IFERROR(+IF(Inputs!M78=FALSE,0,+(+VLOOKUP(D124,Inputs!$I$68:$J$82,2,0))),0)","v":0},{"$f":"+IFERROR(+IF(Inputs!N78=FALSE,0,+(+VLOOKUP(D124,Inputs!$I$68:$J$82,2,0))),0)","v":0},{"$f":"+IFERROR(+IF(Inputs!O78=FALSE,0,+(+VLOOKUP(D124,Inputs!$I$68:$J$82,2,0))),0)","v":0},{"$f":"+IFERROR(+IF(Inputs!P78=FALSE,0,+(+VLOOKUP(D124,Inputs!$I$68:$J$82,2,0))),0)","v":0},{"$f":"+IFERROR(+IF(Inputs!Q78=FALSE,0,+(+VLOOKUP(D124,Inputs!$I$68:$J$82,2,0))),0)","v":0},{"$f":"+IFERROR(+IF(Inputs!R78=FALSE,0,+(+VLOOKUP(D124,Inputs!$I$68:$J$82,2,0))),0)","v":0},{"$f":"+IFERROR(+IF(Inputs!S78=FALSE,0,+(+VLOOKUP(D124,Inputs!$I$68:$J$82,2,0))),0)","v":0},{"$f":"+IFERROR(+IF(Inputs!T78=FALSE,0,+(+VLOOKUP(D124,Inputs!$I$68:$J$82,2,0))),0)","v":0},{"$f":"+IFERROR(+IF(Inputs!U78=FALSE,0,+(+VLOOKUP(D124,Inputs!$I$68:$J$82,2,0))),0)","v":0},{"$f":"+IFERROR(+IF(Inputs!V78=FALSE,0,+(+VLOOKUP(D124,Inputs!$I$68:$J$82,2,0))),0)","v":0},{"$f":"+IFERROR(+IF(Inputs!W78=FALSE,0,+(+VLOOKUP(D124,Inputs!$I$68:$J$82,2,0))),0)","v":0}]
[null,null,27,{"$f":"+IFERROR(+IF(Inputs!I79=\"\",\"\",Inputs!I79),0)","v":""},0,{"$f":"+IFERROR(+IF(Inputs!L79=FALSE,0,+(+VLOOKUP(D125,Inputs!$I$68:$J$82,2,0))),0)","v":0},{"$f":"+IFERROR(+IF(Inputs!M79=FALSE,0,+(+VLOOKUP(D125,Inputs!$I$68:$J$82,2,0))),0)","v":0},{"$f":"+IFERROR(+IF(Inputs!N79=FALSE,0,+(+VLOOKUP(D125,Inputs!$I$68:$J$82,2,0))),0)","v":0},{"$f":"+IFERROR(+IF(Inputs!O79=FALSE,0,+(+VLOOKUP(D125,Inputs!$I$68:$J$82,2,0))),0)","v":0},{"$f":"+IFERROR(+IF(Inputs!P79=FALSE,0,+(+VLOOKUP(D125,Inputs!$I$68:$J$82,2,0))),0)","v":0},{"$f":"+IFERROR(+IF(Inputs!Q79=FALSE,0,+(+VLOOKUP(D125,Inputs!$I$68:$J$82,2,0))),0)","v":0},{"$f":"+IFERROR(+IF(Inputs!R79=FALSE,0,+(+VLOOKUP(D125,Inputs!$I$68:$J$82,2,0))),0)","v":0},{"$f":"+IFERROR(+IF(Inputs!S79=FALSE,0,+(+VLOOKUP(D125,Inputs!$I$68:$J$82,2,0))),0)","v":0},{"$f":"+IFERROR(+IF(Inputs!T79=FALSE,0,+(+VLOOKUP(D125,Inputs!$I$68:$J$82,2,0))),0)","v":0},{"$f":"+IFERROR(+IF(Inputs!U79=FALSE,0,+(+VLOOKUP(D125,Inputs!$I$68:$J$82,2,0))),0)","v":0},{"$f":"+IFERROR(+IF(Inputs!V79=FALSE,0,+(+VLOOKUP(D125,Inputs!$I$68:$J$82,2,0))),0)","v":0},{"$f":"+IFERROR(+IF(Inputs!W79=FALSE,0,+(+VLOOKUP(D125,Inputs!$I$68:$J$82,2,0))),0)","v":0}]
[null,null,28,{"$f":"+IFERROR(+IF(Inputs!I80=\"\",\"\",Inputs!I80),0)","v":""},0,{"$f":"+IFERROR(+IF(Inputs!L80=FALSE,0,+(+VLOOKUP(D126,Inputs!$I$68:$J$82,2,0))),0)","v":0},{"$f":"+IFERROR(+IF(Inputs!M80=FALSE,0,+(+VLOOKUP(D126,Inputs!$I$68:$J$82,2,0))),0)","v":0},{"$f":"+IFERROR(+IF(Inputs!N80=FALSE,0,+(+VLOOKUP(D126,Inputs!$I$68:$J$82,2,0))),0)","v":0},{"$f":"+IFERROR(+IF(Inputs!O80=FALSE,0,+(+VLOOKUP(D126,Inputs!$I$68:$J$82,2,0))),0)","v":0},{"$f":"+IFERROR(+IF(Inputs!P80=FALSE,0,+(+VLOOKUP(D126,Inputs!$I$68:$J$82,2,0))),0)","v":0},{"$f":"+IFERROR(+IF(Inputs!Q80=FALSE,0,+(+VLOOKUP(D126,Inputs!$I$68:$J$82,2,0))),0)","v":0},{"$f":"+IFERROR(+IF(Inputs!R80=FALSE,0,+(+VLOOKUP(D126,Inputs!$I$68:$J$82,2,0))),0)","v":0},{"$f":"+IFERROR(+IF(Inputs!S80=FALSE,0,+(+VLOOKUP(D126,Inputs!$I$68:$J$82,2,0))),0)","v":0},{"$f":"+IFERROR(+IF(Inputs!T80=FALSE,0,+(+VLOOKUP(D126,Inputs!$I$68:$J$82,2,0))),0)","v":0},{"$f":"+IFERROR(+IF(Inputs!U80=FALSE,0,+(+VLOOKUP(D126,Inputs!$I$68:$J$82,2,0))),0)","v":0},{"$f":"+IFERROR(+IF(Inputs!V80=FALSE,0,+(+VLOOKUP(D126,Inputs!$I$68:$J$82,2,0))),0)","v":0},{"$f":"+IFERROR(+IF(Inputs!W80=FALSE,0,+(+VLOOKUP(D126,Inputs!$I$68:$J$82,2,0))),0)","v":0}]
[null,null,29,{"$f":"+IFERROR(+IF(Inputs!I81=\"\",\"\",Inputs!I81),0)","v":""},0,{"$f":"+IFERROR(+IF(Inputs!L81=FALSE,0,+(+VLOOKUP(D127,Inputs!$I$68:$J$82,2,0))),0)","v":0},{"$f":"+IFERROR(+IF(Inputs!M81=FALSE,0,+(+VLOOKUP(D127,Inputs!$I$68:$J$82,2,0))),0)","v":0},{"$f":"+IFERROR(+IF(Inputs!N81=FALSE,0,+(+VLOOKUP(D127,Inputs!$I$68:$J$82,2,0))),0)","v":0},{"$f":"+IFERROR(+IF(Inputs!O81=FALSE,0,+(+VLOOKUP(D127,Inputs!$I$68:$J$82,2,0))),0)","v":0},{"$f":"+IFERROR(+IF(Inputs!P81=FALSE,0,+(+VLOOKUP(D127,Inputs!$I$68:$J$82,2,0))),0)","v":0},{"$f":"+IFERROR(+IF(Inputs!Q81=FALSE,0,+(+VLOOKUP(D127,Inputs!$I$68:$J$82,2,0))),0)","v":0},{"$f":"+IFERROR(+IF(Inputs!R81=FALSE,0,+(+VLOOKUP(D127,Inputs!$I$68:$J$82,2,0))),0)","v":0},{"$f":"+IFERROR(+IF(Inputs!S81=FALSE,0,+(+VLOOKUP(D127,Inputs!$I$68:$J$82,2,0))),0)","v":0},{"$f":"+IFERROR(+IF(Inputs!T81=FALSE,0,+(+VLOOKUP(D127,Inputs!$I$68:$J$82,2,0))),0)","v":0},{"$f":"+IFERROR(+IF(Inputs!U81=FALSE,0,+(+VLOOKUP(D127,Inputs!$I$68:$J$82,2,0))),0)","v":0},{"$f":"+IFERROR(+IF(Inputs!V81=FALSE,0,+(+VLOOKUP(D127,Inputs!$I$68:$J$82,2,0))),0)","v":0},{"$f":"+IFERROR(+IF(Inputs!W81=FALSE,0,+(+VLOOKUP(D127,Inputs!$I$68:$J$82,2,0))),0)","v":0}]
[null,null,30,{"$f":"+IFERROR(+IF(Inputs!I82=\"\",\"\",Inputs!I82),0)","v":""},0,{"$f":"+IFERROR(+IF(Inputs!L82=FALSE,0,+(+VLOOKUP(D128,Inputs!$I$68:$J$82,2,0))),0)","v":0},{"$f":"+IFERROR(+IF(Inputs!M82=FALSE,0,+(+VLOOKUP(D128,Inputs!$I$68:$J$82,2,0))),0)","v":0},{"$f":"+IFERROR(+IF(Inputs!N82=FALSE,0,+(+VLOOKUP(D128,Inputs!$I$68:$J$82,2,0))),0)","v":0},{"$f":"+IFERROR(+IF(Inputs!O82=FALSE,0,+(+VLOOKUP(D128,Inputs!$I$68:$J$82,2,0))),0)","v":0},{"$f":"+IFERROR(+IF(Inputs!P82=FALSE,0,+(+VLOOKUP(D128,Inputs!$I$68:$J$82,2,0))),0)","v":0},{"$f":"+IFERROR(+IF(Inputs!Q82=FALSE,0,+(+VLOOKUP(D128,Inputs!$I$68:$J$82,2,0))),0)","v":0},{"$f":"+IFERROR(+IF(Inputs!R82=FALSE,0,+(+VLOOKUP(D128,Inputs!$I$68:$J$82,2,0))),0)","v":0},{"$f":"+IFERROR(+IF(Inputs!S82=FALSE,0,+(+VLOOKUP(D128,Inputs!$I$68:$J$82,2,0))),0)","v":0},{"$f":"+IFERROR(+IF(Inputs!T82=FALSE,0,+(+VLOOKUP(D128,Inputs!$I$68:$J$82,2,0))),0)","v":0},{"$f":"+IFERROR(+IF(Inputs!U82=FALSE,0,+(+VLOOKUP(D128,Inputs!$I$68:$J$82,2,0))),0)","v":0},{"$f":"+IFERROR(+IF(Inputs!V82=FALSE,0,+(+VLOOKUP(D128,Inputs!$I$68:$J$82,2,0))),0)","v":0},{"$f":"+IFERROR(+IF(Inputs!W82=FALSE,0,+(+VLOOKUP(D128,Inputs!$I$68:$J$82,2,0))),0)","v":0}]
[null,null,"Resumen","GASTOS NECESARIOS",{"$f":"+IFERROR((+SUM(F129:Q129)/+SUM($F$24:$Q$24)),0)","v":0},{"$f":"+SUM(F99:F128)","v":0},{"$f":"+SUM(G99:G128)","v":0},0,0,0,0,0,0,0,0,0,0]
[null,null,null,1]
[null,null,1,{"$f":"+IFERROR(+IF(Inputs!D87=\"\",\"\",Inputs!D87),0)","v":"Suscripción Netflix (ejemplo)"},{"$f":"+IFERROR((+SUM(F131:Q131)/+SUM($F$24:$Q$24)),0)","v":0},{"$f":"+IFERROR((+VLOOKUP(D131,Inputs!$D$87:$E$101,2,0)),0)","v":0},{"$f":"+F131","v":0},0,0,0,0,0,0,0,0,0,0]
[null,null,2,{"$f":"+IFERROR(+IF(Inputs!D88=\"\",\"\",Inputs!D88),0)","v":"Diversión  (ejemplo)"},0,{"$f":"+IFERROR((+VLOOKUP(D132,Inputs!$D$87:$E$101,2,0)),0)","v":0},{"$f":"+F132","v":0},0,0,0,0,0,0,0,0,0,0]
[null,null,3,{"$f":"+IFERROR(+IF(Inputs!D89=\"\",\"\",Inputs!D89),0)","v":"Domicilios  (ejemplo)"},0,{"$f":"+IFERROR((+VLOOKUP(D133,Inputs!$D$87:$E$101,2,0)),0)","v":0},{"$f":"+F133","v":0},0,0,0,0,0,0,0,0,0,0]
[null,null,4,{"$f":"+IFERROR(+IF(Inputs!D90=\"\",\"\",Inputs!D90),0)","v":""},0,{"$f":"+IFERROR((+VLOOKUP(D134,Inputs!$D$87:$E$101,2,0)),0)","v":0},{"$f":"+F134","v":0},0,0,0,0,0,0,0,0,0,0]
[null,null,5,{"$f":"+IFERROR(+IF(Inputs!D91=\"\",\"\",Inputs!D91),0)","v":""},0,{"$f":"+IFERROR((+VLOOKUP(D135,Inputs!$D$87:$E$101,2,0)),0)","v":0},{"$f":"+F135","v":0},0,0,0,0,0,0,0,0,0,0]
[null,null,6,{"$f":"+IFERROR(+IF(Inputs!D92=\"\",\"\",Inputs!D92),0)","v":""},0,{"$f":"+IFERROR((+VLOOKUP(D136,Inputs!$D$87:$E$101,2,0)),0)","v":0},{"$f":"+F136","v":0},0,0,0,0,0,0,0,0,0,0]
[null,null,7,{"$f":"+IFERROR(+IF(Inputs!D93=\"\",\"\",Inputs!D93),0)","v":""},0,{"$f":"+IFERROR((+VLOOKUP(D137,Inputs!$D$87:$E$101,2,0)),0)","v":0},{"$f":"+F137","v":0},0,0,0,0,0,0,0,0,0,0]
[null,null,8,{"$f":"+IFERROR(+IF(Inputs!D94=\"\",\"\",Inputs!D94),0)","v":""},0,{"$f":"+IFERROR((+VLOOKUP(D138,Inputs!$D$87:$E$101,2,0)),0)","v":0},{"$f":"+F138","v":0},0,0,0,0,0,0,0,0,0,0]
[null,null,9,{"$f":"+IFERROR(+IF(Inputs!D95=\"\",\"\",Inputs!D95),0)","v":""},0,{"$f":"+IFERROR((+VLOOKUP(D139,Inputs!$D$87:$E$101,2,0)),0)","v":0},{"$f":"+F139","v":0},0,0,0,0,0,0,0,0,0,0]
[null,null,10,{"$f":"+IFERROR(+IF(Inputs!D96=\"\",\"\",Inputs!D96),0)","v":""},0,{"$f":"+IFERROR((+VLOOKUP(D140,Inputs!$D$87:$E$101,2,0)),0)","v":0},{"$f":"+F140","v":0},0,0,0,0,0,0,0,0,0,0]
[null,null,11,{"$f":"+IFERROR(+IF(Inputs!D97=\"\",\"\",Inputs!D97),0)","v":""},0,{"$f":"+IFERROR((+VLOOKUP(D141,Inputs!$D$87:$E$101,2,0)),0)","v":0},{"$f":"+F141","v":0},0,0,0,0,0,0,0,0,0,0]
[null,null,12,{"$f":"+IFERROR(+IF(Inputs!D98=\"\",\"\",Inputs!D98),0)","v":""},0,{"$f":"+IFERROR((+VLOOKUP(D142,Inputs!$D$87:$E$101,2,0)),0)","v":0},{"$f":"+F142","v":0},0,0,0,0,0,0,0,0,0,0]
[null,null,13,{"$f":"+IFERROR(+IF(Inputs!D99=\"\",\"\",Inputs!D99),0)","v":""},0,{"$f":"+IFERROR((+VLOOKUP(D143,Inputs!$D$87:$E$101,2,0)),0)","v":0},{"$f":"+F143","v":0},0,0,0,0,0,0,0,0,0,0]
[null,null,14,{"$f":"+IFERROR(+IF(Inputs!D100=\"\",\"\",Inputs!D100),0)","v":""},0,{"$f":"+IFERROR((+VLOOKUP(D144,Inputs!$D$87:$E$101,2,0)),0)","v":0},{"$f":"+F144","v":0},0,0,0,0,0,0,0,0,0,0]
[null,null,15,{"$f":"+IFERROR(+IF(Inputs!D101=\"\",\"\",Inputs!D101),0)","v":""},0,{"$f":"+IFERROR((+VLOOKUP(D145,Inputs!$D$87:$E$101,2,0)),0)","v":0},{"$f":"+F145","v":0},0,0,0,0,0,0,0,0,0,0]
[null,null,16,{"$f":"+IFERROR(+IF(Inputs!I87=\"\",\"\",Inputs!I87),0)","v":"Vacaciones  (ejemplo)"},0,{"$f":"+IFERROR(+IF(Inputs!L87=FALSE,0,+(+VLOOKUP(D146,Inputs!$I$87:$J$101,2,0))),0)","v":0},{"$f":"+IFERROR(+IF(Inputs!M87=FALSE,0,+(+VLOOKUP(D146,Inputs!$I$87:$J$101,2,0))),0)","v":0},{"$f":"+IFERROR(+IF(Inputs!N87=FALSE,0,+(+VLOOKUP(D146,Inputs!$I$87:$J$101,2,0))),0)","v":0},{"$f":"+IFERROR(+IF(Inputs!O87=FALSE,0,+(+VLOOKUP(D146,Inputs!$I$87:$J$101,2,0))),0)","v":0},{"$f":"+IFERROR(+IF(Inputs!P87=FALSE,0,+(+VLOOKUP(D146,Inputs!$I$87:$J$101,2,0))),0)","v":0},{"$f":"+IFERROR(+IF(Inputs!Q87=FALSE,0,+(+VLOOKUP(D146,Inputs!$I$87:$J$101,2,0))),0)","v":0},{"$f":"+IFERROR(+IF(Inputs!R87=FALSE,0,+(+VLOOKUP(D146,Inputs!$I$87:$J$101,2,0))),0)","v":0},{"$f":"+IFERROR(+IF(Inputs!S87=FALSE,0,+(+VLOOKUP(D146,Inputs!$I$87:$J$101,2,0))),0)","v":0},{"$f":"+IFERROR(+IF(Inputs!T87=FALSE,0,+(+VLOOKUP(D146,Inputs!$I$87:$J$101,2,0))),0)","v":0},{"$f":"+IFERROR(+IF(Inputs!U87=FALSE,0,+(+VLOOKUP(D146,Inputs!$I$87:$J$101,2,0))),0)","v":0},{"$f":"+IFERROR(+IF(Inputs!V87=FALSE,0,+(+VLOOKUP(D146,Inputs!$I$87:$J$101,2,0))),0)","v":0},{"$f":"+IFERROR(+IF(Inputs!W87=FALSE,0,+(+VLOOKUP(D146,Inputs!$I$87:$J$101,2,0))),0)","v":0}]
[null,null,17,{"$f":"+IFERROR(+IF(Inputs!I88=\"\",\"\",Inputs!I88),0)","v":"Regalos de navidad  (ejemplo)"},0,{"$f":"+IFERROR(+IF(Inputs!L88=FALSE,0,+(+VLOOKUP(D147,Inputs!$I$87:$J$101,2,0))),0)","v":0},{"$f":"+IFERROR(+IF(Inputs!M88=FALSE,0,+(+VLOOKUP(D147,Inputs!$I$87:$J$101,2,0))),0)","v":0},{"$f":"+IFERROR(+IF(Inputs!N88=FALSE,0,+(+VLOOKUP(D147,Inputs!$I$87:$J$101,2,0))),0)","v":0},{"$f":"+IFERROR(+IF(Inputs!O88=FALSE,0,+(+VLOOKUP(D147,Inputs!$I$87:$J$101,2,0))),0)","v":0},{"$f":"+IFERROR(+IF(Inputs!P88=FALSE,0,+(+VLOOKUP(D147,Inputs!$I$87:$J$101,2,0))),0)","v":0},{"$f":"+IFERROR(+IF(Inputs!Q88=FALSE,0,+(+VLOOKUP(D147,Inputs!$I$87:$J$101,2,0))),0)","v":0},{"$f":"+IFERROR(+IF(Inputs!R88=FALSE,0,+(+VLOOKUP(D147,Inputs!$I$87:$J$101,2,0))),0)","v":0},{"$f":"+IFERROR(+IF(Inputs!S88=FALSE,0,+(+VLOOKUP(D147,Inputs!$I$87:$J$101,2,0))),0)","v":0},{"$f":"+IFERROR(+IF(Inputs!T88=FALSE,0,+(+VLOOKUP(D147,Inputs!$I$87:$J$101,2,0))),0)","v":0},{"$f":"+IFERROR(+IF(Inputs!U88=FALSE,0,+(+VLOOKUP(D147,Inputs!$I$87:$J$101,2,0))),0)","v":0},{"$f":"+IFERROR(+IF(Inputs!V88=FALSE,0,+(+VLOOKUP(D147,Inputs!$I$87:$J$101,2,0))),0)","v":0},{"$f":"+IFERROR(+IF(Inputs!W88=FALSE,0,+(+VLOOKUP(D147,Inputs!$I$87:$J$101,2,0))),0)","v":0}]
[null,null,18,{"$f":"+IFERROR(+IF(Inputs!I89=\"\",\"\",Inputs!I89),0)","v":""},0,{"$f":"+IFERROR(+IF(Inputs!L89=FALSE,0,+(+VLOOKUP(D148,Inputs!$I$87:$J$101,2,0))),0)","v":0},{"$f":"+IFERROR(+IF(Inputs!M89=FALSE,0,+(+VLOOKUP(D148,Inputs!$I$87:$J$101,2,0))),0)","v":0},{"$f":"+IFERROR(+IF(Inputs!N89=FALSE,0,+(+VLOOKUP(D148,Inputs!$I$87:$J$101,2,0))),0)","v":0},{"$f":"+IFERROR(+IF(Inputs!O89=FALSE,0,+(+VLOOKUP(D148,Inputs!$I$87:$J$101,2,0))),0)","v":0},{"$f":"+IFERROR(+IF(Inputs!P89=FALSE,0,+(+VLOOKUP(D148,Inputs!$I$87:$J$101,2,0))),0)","v":0},{"$f":"+IFERROR(+IF(Inputs!Q89=FALSE,0,+(+VLOOKUP(D148,Inputs!$I$87:$J$101,2,0))),0)","v":0},{"$f":"+IFERROR(+IF(Inputs!R89=FALSE,0,+(+VLOOKUP(D148,Inputs!$I$87:$J$101,2,0))),0)","v":0},{"$f":"+IFERROR(+IF(Inputs!S89=FALSE,0,+(+VLOOKUP(D148,Inputs!$I$87:$J$101,2,0))),0)","v":0},{"$f":"+IFERROR(+IF(Inputs!T89=FALSE,0,+(+VLOOKUP(D148,Inputs!$I$87:$J$101,2,0))),0)","v":0},{"$f":"+IFERROR(+IF(Inputs!U89=FALSE,0,+(+VLOOKUP(D148,Inputs!$I$87:$J$101,2,0))),0)","v":0},{"$f":"+IFERROR(+IF(Inputs!V89=FALSE,0,+(+VLOOKUP(D148,Inputs!$I$87:$J$101,2,0))),0)","v":0},{"$f":"+IFERROR(+IF(Inputs!W89=FALSE,0,+(+VLOOKUP(D148,Inputs!$I$87:$J$101,2,0))),0)","v":0}]
[null,null,19,{"$f":"+IFERROR(+IF(Inputs!I90=\"\",\"\",Inputs!I90),0)","v":""},0,{"$f":"+IFERROR(+IF(Inputs!L90=FALSE,0,+(+VLOOKUP(D149,Inputs!$I$87:$J$101,2,0))),0)","v":0},{"$f":"+IFERROR(+IF(Inputs!M90=FALSE,0,+(+VLOOKUP(D149,Inputs!$I$87:$J$101,2,0))),0)","v":0},{"$f":"+IFERROR(+IF(Inputs!N90=FALSE,0,+(+VLOOKUP(D149,Inputs!$I$87:$J$101,2,0))),0)","v":0},{"$f":"+IFERROR(+IF(Inputs!O90=FALSE,0,+(+VLOOKUP(D149,Inputs!$I$87:$J$101,2,0))),0)","v":0},{"$f":"+IFERROR(+IF(Inputs!P90=FALSE,0,+(+VLOOKUP(D149,Inputs!$I$87:$J$101,2,0))),0)","v":0},{"$f":"+IFERROR(+IF(Inputs!Q90=FALSE,0,+(+VLOOKUP(D149,Inputs!$I$87:$J$101,2,0))),0)","v":0},{"$f":"+IFERROR(+IF(Inputs!R90=FALSE,0,+(+VLOOKUP(D149,Inputs!$I$87:$J$101,2,0))),0)","v":0},{"$f":"+IFERROR(+IF(Inputs!S90=FALSE,0,+(+VLOOKUP(D149,Inputs!$I$87:$J$101,2,0))),0)","v":0},{"$f":"+IFERROR(+IF(Inputs!T90=FALSE,0,+(+VLOOKUP(D149,Inputs!$I$87:$J$101,2,0))),0)","v":0},{"$f":"+IFERROR(+IF(Inputs!U90=FALSE,0,+(+VLOOKUP(D149,Inputs!$I$87:$J$101,2,0))),0)","v":0},{"$f":"+IFERROR(+IF(Inputs!V90=FALSE,0,+(+VLOOKUP(D149,Inputs!$I$87:$J$101,2,0))),0)","v":0},{"$f":"+IFERROR(+IF(Inputs!W90=FALSE,0,+(+VLOOKUP(D149,Inputs!$I$87:$J$101,2,0))),0)","v":0}]
[null,null,20,{"$f":"+IFERROR(+IF(Inputs!I91=\"\",\"\",Inputs!I91),0)","v":""},0,{"$f":"+IFERROR(+IF(Inputs!L91=FALSE,0,+(+VLOOKUP(D150,Inputs!$I$87:$J$101,2,0))),0)","v":0},{"$f":"+IFERROR(+IF(Inputs!M91=FALSE,0,+(+VLOOKUP(D150,Inputs!$I$87:$J$101,2,0))),0)","v":0},{"$f":"+IFERROR(+IF(Inputs!N91=FALSE,0,+(+VLOOKUP(D150,Inputs!$I$87:$J$101,2,0))),0)","v":0},{"$f":"+IFERROR(+IF(Inputs!O91=FALSE,0,+(+VLOOKUP(D150,Inputs!$I$87:$J$101,2,0))),0)","v":0},{"$f":"+IFERROR(+IF(Inputs!P91=FALSE,0,+(+VLOOKUP(D150,Inputs!$I$87:$J$101,2,0))),0)","v":0},{"$f":"+IFERROR(+IF(Inputs!Q91=FALSE,0,+(+VLOOKUP(D150,Inputs!$I$87:$J$101,2,0))),0)","v":0},{"$f":"+IFERROR(+IF(Inputs!R91=FALSE,0,+(+VLOOKUP(D150,Inputs!$I$87:$J$101,2,0))),0)","v":0},{"$f":"+IFERROR(+IF(Inputs!S91=FALSE,0,+(+VLOOKUP(D150,Inputs!$I$87:$J$101,2,0))),0)","v":0},{"$f":"+IFERROR(+IF(Inputs!T91=FALSE,0,+(+VLOOKUP(D150,Inputs!$I$87:$J$101,2,0))),0)","v":0},{"$f":"+IFERROR(+IF(Inputs!U91=FALSE,0,+(+VLOOKUP(D150,Inputs!$I$87:$J$101,2,0))),0)","v":0},{"$f":"+IFERROR(+IF(Inputs!V91=FALSE,0,+(+VLOOKUP(D150,Inputs!$I$87:$J$101,2,0))),0)","v":0},{"$f":"+IFERROR(+IF(Inputs!W91=FALSE,0,+(+VLOOKUP(D150,Inputs!$I$87:$J$101,2,0))),0)","v":0}]
[null,null,21,{"$f":"+IFERROR(+IF(Inputs!I92=\"\",\"\",Inputs!I92),0)","v":""},0,{"$f":"+IFERROR(+IF(Inputs!L92=FALSE,0,+(+VLOOKUP(D151,Inputs!$I$87:$J$101,2,0))),0)","v":0},{"$f":"+IFERROR(+IF(Inputs!M92=FALSE,0,+(+VLOOKUP(D151,Inputs!$I$87:$J$101,2,0))),0)","v":0},{"$f":"+IFERROR(+IF(Inputs!N92=FALSE,0,+(+VLOOKUP(D151,Inputs!$I$87:$J$101,2,0))),0)","v":0},{"$f":"+IFERROR(+IF(Inputs!O92=FALSE,0,+(+VLOOKUP(D151,Inputs!$I$87:$J$101,2,0))),0)","v":0},{"$f":"+IFERROR(+IF(Inputs!P92=FALSE,0,+(+VLOOKUP(D151,Inputs!$I$87:$J$101,2,0))),0)","v":0},{"$f":"+IFERROR(+IF(Inputs!Q92=FALSE,0,+(+VLOOKUP(D151,Inputs!$I$87:$J$101,2,0))),0)","v":0},{"$f":"+IFERROR(+IF(Inputs!R92=FALSE,0,+(+VLOOKUP(D151,Inputs!$I$87:$J$101,2,0))),0)","v":0},{"$f":"+IFERROR(+IF(Inputs!S92=FALSE,0,+(+VLOOKUP(D151,Inputs!$I$87:$J$101,2,0))),0)","v":0},{"$f":"+IFERROR(+IF(Inputs!T92=FALSE,0,+(+VLOOKUP(D151,Inputs!$I$87:$J$101,2,0))),0)","v":0},{"$f":"+IFERROR(+IF(Inputs!U92=FALSE,0,+(+VLOOKUP(D151,Inputs!$I$87:$J$101,2,0))),0)","v":0},{"$f":"+IFERROR(+IF(Inputs!V92=FALSE,0,+(+VLOOKUP(D151,Inputs!$I$87:$J$101,2,0))),0)","v":0},{"$f":"+IFERROR(+IF(Inputs!W92=FALSE,0,+(+VLOOKUP(D151,Inputs!$I$87:$J$101,2,0))),0)","v":0}]
[null,null,22,{"$f":"+IFERROR(+IF(Inputs!I93=\"\",\"\",Inputs!I93),0)","v":""},0,{"$f":"+IFERROR(+IF(Inputs!L93=FALSE,0,+(+VLOOKUP(D152,Inputs!$I$87:$J$101,2,0))),0)","v":0},{"$f":"+IFERROR(+IF(Inputs!M93=FALSE,0,+(+VLOOKUP(D152,Inputs!$I$87:$J$101,2,0))),0)","v":0},{"$f":"+IFERROR(+IF(Inputs!N93=FALSE,0,+(+VLOOKUP(D152,Inputs!$I$87:$J$101,2,0))),0)","v":0},{"$f":"+IFERROR(+IF(Inputs!O93=FALSE,0,+(+VLOOKUP(D152,Inputs!$I$87:$J$101,2,0))),0)","v":0},{"$f":"+IFERROR(+IF(Inputs!P93=FALSE,0,+(+VLOOKUP(D152,Inputs!$I$87:$J$101,2,0))),0)","v":0},{"$f":"+IFERROR(+IF(Inputs!Q93=FALSE,0,+(+VLOOKUP(D152,Inputs!$I$87:$J$101,2,0))),0)","v":0},{"$f":"+IFERROR(+IF(Inputs!R93=FALSE,0,+(+VLOOKUP(D152,Inputs!$I$87:$J$101,2,0))),0)","v":0},{"$f":"+IFERROR(+IF(Inputs!S93=FALSE,0,+(+VLOOKUP(D152,Inputs!$I$87:$J$101,2,0))),0)","v":0},{"$f":"+IFERROR(+IF(Inputs!T93=FALSE,0,+(+VLOOKUP(D152,Inputs!$I$87:$J$101,2,0))),0)","v":0},{"$f":"+IFERROR(+IF(Inputs!U93=FALSE,0,+(+VLOOKUP(D152,Inputs!$I$87:$J$101,2,0))),0)","v":0},{"$f":"+IFERROR(+IF(Inputs!V93=FALSE,0,+(+VLOOKUP(D152,Inputs!$I$87:$J$101,2,0))),0)","v":0},{"$f":"+IFERROR(+IF(Inputs!W93=FALSE,0,+(+VLOOKUP(D152,Inputs!$I$87:$J$101,2,0))),0)","v":0}]
[null,null,23,{"$f":"+IFERROR(+IF(Inputs!I94=\"\",\"\",Inputs!I94),0)","v":""},0,{"$f":"+IFERROR(+IF(Inputs!L94=FALSE,0,+(+VLOOKUP(D153,Inputs!$I$87:$J$101,2,0))),0)","v":0},{"$f":"+IFERROR(+IF(Inputs!M94=FALSE,0,+(+VLOOKUP(D153,Inputs!$I$87:$J$101,2,0))),0)","v":0},{"$f":"+IFERROR(+IF(Inputs!N94=FALSE,0,+(+VLOOKUP(D153,Inputs!$I$87:$J$101,2,0))),0)","v":0},{"$f":"+IFERROR(+IF(Inputs!O94=FALSE,0,+(+VLOOKUP(D153,Inputs!$I$87:$J$101,2,0))),0)","v":0},{"$f":"+IFERROR(+IF(Inputs!P94=FALSE,0,+(+VLOOKUP(D153,Inputs!$I$87:$J$101,2,0))),0)","v":0},{"$f":"+IFERROR(+IF(Inputs!Q94=FALSE,0,+(+VLOOKUP(D153,Inputs!$I$87:$J$101,2,0))),0)","v":0},{"$f":"+IFERROR(+IF(Inputs!R94=FALSE,0,+(+VLOOKUP(D153,Inputs!$I$87:$J$101,2,0))),0)","v":0},{"$f":"+IFERROR(+IF(Inputs!S94=FALSE,0,+(+VLOOKUP(D153,Inputs!$I$87:$J$101,2,0))),0)","v":0},{"$f":"+IFERROR(+IF(Inputs!T94=FALSE,0,+(+VLOOKUP(D153,Inputs!$I$87:$J$101,2,0))),0)","v":0},{"$f":"+IFERROR(+IF(Inputs!U94=FALSE,0,+(+VLOOKUP(D153,Inputs!$I$87:$J$101,2,0))),0)","v":0},{"$f":"+IFERROR(+IF(Inputs!V94=FALSE,0,+(+VLOOKUP(D153,Inputs!$I$87:$J$101,2,0))),0)","v":0},{"$f":"+IFERROR(+IF(Inputs!W94=FALSE,0,+(+VLOOKUP(D153,Inputs!$I$87:$J$101,2,0))),0)","v":0}]
[null,null,24,{"$f":"+IFERROR(+IF(Inputs!I95=\"\",\"\",Inputs!I95),0)","v":""},0,{"$f":"+IFERROR(+IF(Inputs!L95=FALSE,0,+(+VLOOKUP(D154,Inputs!$I$87:$J$101,2,0))),0)","v":0},{"$f":"+IFERROR(+IF(Inputs!M95=FALSE,0,+(+VLOOKUP(D154,Inputs!$I$87:$J$101,2,0))),0)","v":0},{"$f":"+IFERROR(+IF(Inputs!N95=FALSE,0,+(+VLOOKUP(D154,Inputs!$I$87:$J$101,2,0))),0)","v":0},{"$f":"+IFERROR(+IF(Inputs!O95=FALSE,0,+(+VLOOKUP(D154,Inputs!$I$87:$J$101,2,0))),0)","v":0},{"$f":"+IFERROR(+IF(Inputs!P95=FALSE,0,+(+VLOOKUP(D154,Inputs!$I$87:$J$101,2,0))),0)","v":0},{"$f":"+IFERROR(+IF(Inputs!Q95=FALSE,0,+(+VLOOKUP(D154,Inputs!$I$87:$J$101,2,0))),0)","v":0},{"$f":"+IFERROR(+IF(Inputs!R95=FALSE,0,+(+VLOOKUP(D154,Inputs!$I$87:$J$101,2,0))),0)","v":0},{"$f":"+IFERROR(+IF(Inputs!S95=FALSE,0,+(+VLOOKUP(D154,Inputs!$I$87:$J$101,2,0))),0)","v":0},{"$f":"+IFERROR(+IF(Inputs!T95=FALSE,0,+(+VLOOKUP(D154,Inputs!$I$87:$J$101,2,0))),0)","v":0},{"$f":"+IFERROR(+IF(Inputs!U95=FALSE,0,+(+VLOOKUP(D154,Inputs!$I$87:$J$101,2,0))),0)","v":0},{"$f":"+IFERROR(+IF(Inputs!V95=FALSE,0,+(+VLOOKUP(D154,Inputs!$I$87:$J$101,2,0))),0)","v":0},{"$f":"+IFERROR(+IF(Inputs!W95=FALSE,0,+(+VLOOKUP(D154,Inputs!$I$87:$J$101,2,0))),0)","v":0}]
[null,null,25,{"$f":"+IFERROR(+IF(Inputs!I96=\"\",\"\",Inputs!I96),0)","v":""},0,{"$f":"+IFERROR(+IF(Inputs!L96=FALSE,0,+(+VLOOKUP(D155,Inputs!$I$87:$J$101,2,0))),0)","v":0},{"$f":"+IFERROR(+IF(Inputs!M96=FALSE,0,+(+VLOOKUP(D155,Inputs!$I$87:$J$101,2,0))),0)","v":0},{"$f":"+IFERROR(+IF(Inputs!N96=FALSE,0,+(+VLOOKUP(D155,Inputs!$I$87:$J$101,2,0))),0)","v":0},{"$f":"+IFERROR(+IF(Inputs!O96=FALSE,0,+(+VLOOKUP(D155,Inputs!$I$87:$J$101,2,0))),0)","v":0},{"$f":"+IFERROR(+IF(Inputs!P96=FALSE,0,+(+VLOOKUP(D155,Inputs!$I$87:$J$101,2,0))),0)","v":0},{"$f":"+IFERROR(+IF(Inputs!Q96=FALSE,0,+(+VLOOKUP(D155,Inputs!$I$87:$J$101,2,0))),0)","v":0},{"$f":"+IFERROR(+IF(Inputs!R96=FALSE,0,+(+VLOOKUP(D155,Inputs!$I$87:$J$101,2,0))),0)","v":0},{"$f":"+IFERROR(+IF(Inputs!S96=FALSE,0,+(+VLOOKUP(D155,Inputs!$I$87:$J$101,2,0))),0)","v":0},{"$f":"+IFERROR(+IF(Inputs!T96=FALSE,0,+(+VLOOKUP(D155,Inputs!$I$87:$J$101,2,0))),0)","v":0},{"$f":"+IFERROR(+IF(Inputs!U96=FALSE,0,+(+VLOOKUP(D155,Inputs!$I$87:$J$101,2,0))),0)","v":0},{"$f":"+IFERROR(+IF(Inputs!V96=FALSE,0,+(+VLOOKUP(D155,Inputs!$I$87:$J$101,2,0))),0)","v":0},{"$f":"+IFERROR(+IF(Inputs!W96=FALSE,0,+(+VLOOKUP(D155,Inputs!$I$87:$J$101,2,0))),0)","v":0}]
[null,null,26,{"$f":"+IFERROR(+IF(Inputs!I97=\"\",\"\",Inputs!I97),0)","v":""},0,{"$f":"+IFERROR(+IF(Inputs!L97=FALSE,0,+(+VLOOKUP(D156,Inputs!$I$87:$J$101,2,0))),0)","v":0},{"$f":"+IFERROR(+IF(Inputs!M97=FALSE,0,+(+VLOOKUP(D156,Inputs!$I$87:$J$101,2,0))),0)","v":0},{"$f":"+IFERROR(+IF(Inputs!N97=FALSE,0,+(+VLOOKUP(D156,Inputs!$I$87:$J$101,2,0))),0)","v":0},{"$f":"+IFERROR(+IF(Inputs!O97=FALSE,0,+(+VLOOKUP(D156,Inputs!$I$87:$J$101,2,0))),0)","v":0},{"$f":"+IFERROR(+IF(Inputs!P97=FALSE,0,+(+VLOOKUP(D156,Inputs!$I$87:$J$101,2,0))),0)","v":0},{"$f":"+IFERROR(+IF(Inputs!Q97=FALSE,0,+(+VLOOKUP(D156,Inputs!$I$87:$J$101,2,0))),0)","v":0},{"$f":"+IFERROR(+IF(Inputs!R97=FALSE,0,+(+VLOOKUP(D156,Inputs!$I$87:$J$101,2,0))),0)","v":0},{"$f":"+IFERROR(+IF(Inputs!S97=FALSE,0,+(+VLOOKUP(D156,Inputs!$I$87:$J$101,2,0))),0)","v":0},{"$f":"+IFERROR(+IF(Inputs!T97=FALSE,0,+(+VLOOKUP(D156,Inputs!$I$87:$J$101,2,0))),0)","v":0},{"$f":"+IFERROR(+IF(Inputs!U97=FALSE,0,+(+VLOOKUP(D156,Inputs!$I$87:$J$101,2,0))),0)","v":0},{"$f":"+IFERROR(+IF(Inputs!V97=FALSE,0,+(+VLOOKUP(D156,Inputs!$I$87:$J$101,2,0))),0)","v":0},{"$f":"+IFERROR(+IF(Inputs!W97=FALSE,0,+(+VLOOKUP(D156,Inputs!$I$87:$J$101,2,0))),0)","v":0}]
[null,null,27,{"$f":"+IFERROR(+IF(Inputs!I98=\"\",\"\",Inputs!I98),0)","v":""},0,{"$f":"+IFERROR(+IF(Inputs!L98=FALSE,0,+(+VLOOKUP(D157,Inputs!$I$87:$J$101,2,0))),0)","v":0},{"$f":"+IFERROR(+IF(Inputs!M98=FALSE,0,+(+VLOOKUP(D157,Inputs!$I$87:$J$101,2,0))),0)","v":0},{"$f":"+IFERROR(+IF(Inputs!N98=FALSE,0,+(+VLOOKUP(D157,Inputs!$I$87:$J$101,2,0))),0)","v":0},{"$f":"+IFERROR(+IF(Inputs!O98=FALSE,0,+(+VLOOKUP(D157,Inputs!$I$87:$J$101,2,0))),0)","v":0},{"$f":"+IFERROR(+IF(Inputs!P98=FALSE,0,+(+VLOOKUP(D157,Inputs!$I$87:$J$101,2,0))),0)","v":0},{"$f":"+IFERROR(+IF(Inputs!Q98=FALSE,0,+(+VLOOKUP(D157,Inputs!$I$87:$J$101,2,0))),0)","v":0},{"$f":"+IFERROR(+IF(Inputs!R98=FALSE,0,+(+VLOOKUP(D157,Inputs!$I$87:$J$101,2,0))),0)","v":0},{"$f":"+IFERROR(+IF(Inputs!S98=FALSE,0,+(+VLOOKUP(D157,Inputs!$I$87:$J$101,2,0))),0)","v":0},{"$f":"+IFERROR(+IF(Inputs!T98=FALSE,0,+(+VLOOKUP(D157,Inputs!$I$87:$J$101,2,0))),0)","v":0},{"$f":"+IFERROR(+IF(Inputs!U98=FALSE,0,+(+VLOOKUP(D157,Inputs!$I$87:$J$101,2,0))),0)","v":0},{"$f":"+IFERROR(+IF(Inputs!V98=FALSE,0,+(+VLOOKUP(D157,Inputs!$I$87:$J$101,2,0))),0)","v":0},{"$f":"+IFERROR(+IF(Inputs!W98=FALSE,0,+(+VLOOKUP(D157,Inputs!$I$87:$J$101,2,0))),0)","v":0}]
[null,null,28,{"$f":"+IFERROR(+IF(Inputs!I99=\"\",\"\",Inputs!I99),0)","v":""},0,{"$f":"+IFERROR(+IF(Inputs!L99=FALSE,0,+(+VLOOKUP(D158,Inputs!$I$87:$J$101,2,0))),0)","v":0},{"$f":"+IFERROR(+IF(Inputs!M99=FALSE,0,+(+VLOOKUP(D158,Inputs!$I$87:$J$101,2,0))),0)","v":0},{"$f":"+IFERROR(+IF(Inputs!N99=FALSE,0,+(+VLOOKUP(D158,Inputs!$I$87:$J$101,2,0))),0)","v":0},{"$f":"+IFERROR(+IF(Inputs!O99=FALSE,0,+(+VLOOKUP(D158,Inputs!$I$87:$J$101,2,0))),0)","v":0},{"$f":"+IFERROR(+IF(Inputs!P99=FALSE,0,+(+VLOOKUP(D158,Inputs!$I$87:$J$101,2,0))),0)","v":0},{"$f":"+IFERROR(+IF(Inputs!Q99=FALSE,0,+(+VLOOKUP(D158,Inputs!$I$87:$J$101,2,0))),0)","v":0},{"$f":"+IFERROR(+IF(Inputs!R99=FALSE,0,+(+VLOOKUP(D158,Inputs!$I$87:$J$101,2,0))),0)","v":0},{"$f":"+IFERROR(+IF(Inputs!S99=FALSE,0,+(+VLOOKUP(D158,Inputs!$I$87:$J$101,2,0))),0)","v":0},{"$f":"+IFERROR(+IF(Inputs!T99=FALSE,0,+(+VLOOKUP(D158,Inputs!$I$87:$J$101,2,0))),0)","v":0},{"$f":"+IFERROR(+IF(Inputs!U99=FALSE,0,+(+VLOOKUP(D158,Inputs!$I$87:$J$101,2,0))),0)","v":0},{"$f":"+IFERROR(+IF(Inputs!V99=FALSE,0,+(+VLOOKUP(D158,Inputs!$I$87:$J$101,2,0))),0)","v":0},{"$f":"+IFERROR(+IF(Inputs!W99=FALSE,0,+(+VLOOKUP(D158,Inputs!$I$87:$J$101,2,0))),0)","v":0}]
[null,null,29,{"$f":"+IFERROR(+IF(Inputs!I100=\"\",\"\",Inputs!I100),0)","v":""},0,{"$f":"+IFERROR(+IF(Inputs!L100=FALSE,0,+(+VLOOKUP(D159,Inputs!$I$87:$J$101,2,0))),0)","v":0},{"$f":"+IFERROR(+IF(Inputs!M100=FALSE,0,+(+VLOOKUP(D159,Inputs!$I$87:$J$101,2,0))),0)","v":0},{"$f":"+IFERROR(+IF(Inputs!N100=FALSE,0,+(+VLOOKUP(D159,Inputs!$I$87:$J$101,2,0))),0)","v":0},{"$f":"+IFERROR(+IF(Inputs!O100=FALSE,0,+(+VLOOKUP(D159,Inputs!$I$87:$J$101,2,0))),0)","v":0},{"$f":"+IFERROR(+IF(Inputs!P100=FALSE,0,+(+VLOOKUP(D159,Inputs!$I$87:$J$101,2,0))),0)","v":0},{"$f":"+IFERROR(+IF(Inputs!Q100=FALSE,0,+(+VLOOKUP(D159,Inputs!$I$87:$J$101,2,0))),0)","v":0},{"$f":"+IFERROR(+IF(Inputs!R100=FALSE,0,+(+VLOOKUP(D159,Inputs!$I$87:$J$101,2,0))),0)","v":0},{"$f":"+IFERROR(+IF(Inputs!S100=FALSE,0,+(+VLOOKUP(D159,Inputs!$I$87:$J$101,2,0))),0)","v":0},{"$f":"+IFERROR(+IF(Inputs!T100=FALSE,0,+(+VLOOKUP(D159,Inputs!$I$87:$J$101,2,0))),0)","v":0},{"$f":"+IFERROR(+IF(Inputs!U100=FALSE,0,+(+VLOOKUP(D159,Inputs!$I$87:$J$101,2,0))),0)","v":0},{"$f":"+IFERROR(+IF(Inputs!V100=FALSE,0,+(+VLOOKUP(D159,Inputs!$I$87:$J$101,2,0))),0)","v":0},{"$f":"+IFERROR(+IF(Inputs!W100=FALSE,0,+(+VLOOKUP(D159,Inputs!$I$87:$J$101,2,0))),0)","v":0}]
[null,null,30,{"$f":"+IFERROR(+IF(Inputs!I101=\"\",\"\",Inputs!I101),0)","v":""},0,{"$f":"+IFERROR(+IF(Inputs!L101=FALSE,0,+(+VLOOKUP(D160,Inputs!$I$87:$J$101,2,0))),0)","v":0},{"$f":"+IFERROR(+IF(Inputs!M101=FALSE,0,+(+VLOOKUP(D160,Inputs!$I$87:$J$101,2,0))),0)","v":0},{"$f":"+IFERROR(+IF(Inputs!N101=FALSE,0,+(+VLOOKUP(D160,Inputs!$I$87:$J$101,2,0))),0)","v":0},{"$f":"+IFERROR(+IF(Inputs!O101=FALSE,0,+(+VLOOKUP(D160,Inputs!$I$87:$J$101,2,0))),0)","v":0},{"$f":"+IFERROR(+IF(Inputs!P101=FALSE,0,+(+VLOOKUP(D160,Inputs!$I$87:$J$101,2,0))),0)","v":0},{"$f":"+IFERROR(+IF(Inputs!Q101=FALSE,0,+(+VLOOKUP(D160,Inputs!$I$87:$J$101,2,0))),0)","v":0},{"$f":"+IFERROR(+IF(Inputs!R101=FALSE,0,+(+VLOOKUP(D160,Inputs!$I$87:$J$101,2,0))),0)","v":0},{"$f":"+IFERROR(+IF(Inputs!S101=FALSE,0,+(+VLOOKUP(D160,Inputs!$I$87:$J$101,2,0))),0)","v":0},{"$f":"+IFERROR(+IF(Inputs!T101=FALSE,0,+(+VLOOKUP(D160,Inputs!$I$87:$J$101,2,0))),0)","v":0},{"$f":"+IFERROR(+IF(Inputs!U101=FALSE,0,+(+VLOOKUP(D160,Inputs!$I$87:$J$101,2,0))),0)","v":0},{"$f":"+IFERROR(+IF(Inputs!V101=FALSE,0,+(+VLOOKUP(D160,Inputs!$I$87:$J$101,2,0))),0)","v":0},{"$f":"+IFERROR(+IF(Inputs!W101=FALSE,0,+(+VLOOKUP(D160,Inputs!$I$87:$J$101,2,0))),0)","v":0}]
[null,null,"Resumen","GASTOS PRESCINDIBLES/DISFRUTE",{"$f":"+IFERROR((+SUM(F161:Q161)/+SUM($F$24:$Q$24)),0)","v":0},{"$f":"+SUM(F131:F160)","v":0},{"$f":"+SUM(G131:G160)","v":0},{"$f":"+SUM(H131:H160)","v":0},{"$f":"+SUM(I131:I160)","v":0},0,0,0,0,0,0,0,0]
[null,null,"Resumen",1]
[null,null,"Resumen","TOTAL SALIDAS (AHORRO + GASTOS)",null,{"$f":"+F37+F52+F63+F96+F129+F161","v":0},{"$f":"+G37+G52+G63+G96+G129+G161","v":0},0,0,0,0,0,0,0,0,0,0]
[null,null,"Resumen",1]
[null,null,"Resumen",1]
[null,null,"Resumen","     SALDO FINAL / FLUJO DE CAJA",null,{"$f":"+F9+F24-F163","v":0},0,0,0,0,0,0,0,0,0,0,0]
[null,null,"Resumen",1]
[null,null,"Resumen",1]
[null,null,"Resumen",1,"Saldo año anterior",null,null,null,null,null,null,null,null,null,null,null,"Saldo a final de año esperado"]
[null,null,"Resumen","RESERVAS"]
[null,null,"Resumen","Ahorro",0,{"$f":"+E171+F37","v":0},0,0,0,0,0,0,0,0,0,0,0]
[null,null,null,"Fondo de Emergencia",0,{"$f":"+E172+IFERROR(VLOOKUP($D$172,$D$12:$F$160,3,0),0)","v":0},{"$f":"+F172+IFERROR(VLOOKUP($D$172,$D$12:$F$160,3,0),0)","v":0},0,0,0,0,0,0,0,0,0,{"$f":"+P172+IFERROR(VLOOKUP($D$172,$D$12:$F$160,3,0),0)","v":0}]
[null,null,null,"Provisiones",0,0,0,0,0,0,0,0,0,0,0,0,0]
[null,null,"Resumen",1]
[null,null,"Resumen","INDICADORES"]
[null,null,"Resumen","Nivel de endeudamiento","-",{"$f":"+IFERROR(F52/F24,0)","v":0},{"$f":"+IFERROR(G52/G24,0)","v":0},0,0,0,0,0,0,0,0,0,0]
[null,null,"Resumen","Capacidad de endeudamiento","-",{"$f":"+IFERROR(IF(F166<=0,0,(F166*35%)),0)","v":0},{"$f":"+IFERROR(IF(G166<=0,0,(G166*35%)),0)","v":0},0,0,0,0,0,0,0,0,0,0]
[null,null,"Resumen"]
[null,null,"Resumen",1]
[null,null,"Resumen",1]
[null,null,"Resumen",1]

{"sheet":"Gastos diarios","index":4,"n_rows":281,"n_cols":16372,"rows_kept":33,"cut":true,"hidden":false,"merged":[[27,16370,30,16379],[95,16355,96,16360],[161,13,161,16],[129,14,129,15],[11,3,12,8],[63,16355,63,16358],[56,16355,61,16360],[14,3,15,8]],"bounds":{"rows_first":15,"rows_last":3,"rows_between":15,"halvings":7}}
[]
[]
[]
[]
[]
[]
[]
[]
[]
[null,null,null,"Revisa las categorías incluidas en el listado, agrega o modifícalas (máximo 25 conceptos). Personaliza las categorías."]
[]
[null,null,null,"Registra cada día todos los movimientos que realices, indicando la categoría y una pequeña descripción que te permita recordar a que corresponde. Ver ejemplo."]
[]
[]
[null,null,null,"Para diligenciar la pestaña de \"Ejecución\", apóyate en el resumen que agrupa los valores por categoría. Ver ejemplo del resumen."]
[]
[null,null,null,null,null,null,null,null,null,null,null,null,null,null,null,null,null,null,null,null,null,null,null,null,null,null,null,null,null,null,null,null,null,null,null,null,null,null,null,null,null,null,null,null,null,null,null,null,null,null,null,null,null,null,null,null,null,null,null,null,null,null,null,null,null,null,null,null,null,null,null,null,null,null,null,null,null,null,null,null,null,null,null,null,null,null,null,null,null,null,null,null,null,null,null,null,null,null,null,null,null,null,null,null,null,null,null,null,null,null,null,null,null,null,null,null,null,null,null,null,null,null,null,null,null,null,null,null,null,null,null,null,null,null,null,null,null,null,null,null,null,null,null,null,null,null,null,null,null,null,null,null,null,null,null,null,null,null,null,null,null,null,null,null,null,null,null,null,null,null,null,null,null,null,null,null,null,null,null,null,null,null,null,null,null,null,null,null,null,null,null,null,null,null,null,null,null,null,null,null,null,null,null,null,null,null,null,null,null,null,null,null,null,null,null,null,null,null,null,null,null,null,null,null,null,null,null,null,null,null,null,null,null,null,null,null,null,null,null,null,null,null,null,null,null,null,null,null,null,null,null,null,null,null,null,null,null,null,null,null,null,null,null,null,null,null,null,null,null,null,null,null,null,null,null,null,null,null,null,null,null,null,null,null,null,null,null,null,null,null,null,null,null,null,null,null,null,null,null,null,null,null,null,null,null,null,null,null,null,null,null,null,null,null,null,null,null,null,null,null,null,null,null,null,null,null,null,null,null,null,null,null,null,null,null,null,null,null,null,null,null,null,null,null,null,null,null,null,null,null,null,null,null,null,null,null,null,null,null,null,null,null,null,null,null,null,null,null,null,null,null,null,null,null,null,null,null,null,null,null,null,null,null,null,null,null,null,null,null,null,null,null,null,null,null,null,null,null,null,null,null,null,null,null,null,null,null,null,null,null,null,null,null,null,null,null,null,null,null,null,null,null,null,null,null,null,null,null,null,null,null,null,null,null,null,null,null,null,null,null,null,null,null,null,null,null,null,null,null,null,null,null,null,null,null,null,null,null,null,null,null,null,null,null,null,null,null,null,null,null,null,null,null,null,null,null,null,null,null,null,null,null,null,null,null,null,null,null,null,null,null,null,null,null,null,null,null,null,null,null,null,null,null,null,null,null,null,null,null,null,null,null,null,null,null,null,null,null,null,null,null,null,null,null,null,null,null,null,null,null,null,null,null,null,null,null,null,null,null,null,null,null,null,null,null,null,null,null,null,null,null,null,null,null,null,null,null,null,null,null,null,null,null,null,null,null,null,null,null,null,null,null,null,null,null,null,null,null,null,null,null,null,null,null,null,null,null,null,null,null,null,null,null,null,null,null,null,null,null,null,null,null,null,null,null,null,null,null,null,null,null,null,null,null,null,null,null,null,null,null,null,null,null,null,null,null,null,null,null,null,null,null,null,null,null,null,null,null,null,null,null,null,null,null,null,null,null,null,null,null,null,null,null,null,null,null,null,null,null,null,null,null,null,null,null,null,null,null,null,null,null,null,null,null,null,null,null,null,null,null,null,null,null,null,null,null,null,null,null,null,null,null,null,null,null,null,null,null,null,null,null,null,null,null,null,null,null,null,null,null,null,null,null,null,null,null,null,null,null,null,null,null,null,null,null,null,null,null,null,null,null,null,null,null,null,null,null,null,null,null,null,null,null,null,null,null,null,null,null,null,null,null,null,null,null,null,null,null,null,null,null,null,null,null,null,null,null,null,null,null,null,null,null,null,null,null,null,null,null,null,null,null,null,null,null,null,null,null,null,null,null,null,null,null,null,null,null,null,null,null,null,null,null,null,null,null,null,null,null,null,null,null,null,null,null,null,null,null,null,null,null,null,null,null,null,null,null,null,null,null,null,null,null,null,null,null,null,null,null,null,null,null,null,null,null,null,null,null,null,null,null,null,null,null,null,null,null,null,null,null,null,null,null,null,null,null,null,null,null,null,null,null,null,null,null,null,null,null,null,null,null,null,null,null,null,null,null,null,null,null,null,null,null,null,null,null,null,null,null,null,null,null,null,null,null,null,null,null,null,null,null,null,null,null,null,null,null,null,null,null,null,null,null,null,null,null,null,null,null,null,null,null,null,null,null,null,null,null,null,null,null,null,null,null,null,null,null,null,null,null,null,null,null,null,null,null,null,null,null,null,null,null,null,null,null,null,null,null,null,null,null,null,null,null,null,null,null,null,null,null,null,null,null,null,null,null,null,null,null,null,null,null,null,null,null,null,null,null,null,null,null,null,null,null,null,null,null,null,null,null,null,null,null,null,null,null,null,null,null,null,null,null,null,null,null,null,null,null,null,null,null,null,null,null,null,null,null,null,null,null,null,null,null,null,null,null,null,null,null,null,null,null,null,null,null,null,null,null,null,null,null,null,null,null,null,null,null,null,null,null,null,null,null,null,null,null,null,null,null,null,null,null,null,null,null,null,null,null,null,null,null,null,null,null,null,null,null,null,null,null,null,null,null,null,null,null,null,null,null,null,null,null,null,null,null,null,null,null,null,null,null,null,null,null,null,null,null,null,null,null,null,null,null,null,null,null,null,null,null,null,null,null,null,null,null,null,null,null,null,null,null,null,null,null,null,null,null,null,null,null,null,null,null,null,null,null,null,null,null,null,null,null,null,null,null,null,null,null,null,null,null,null,null,null,null,null,null,null,null,null,null,null,null,null,null,null,null,null,null,null,null,null,null,null,null,null,null,null,null,null,null,null,null,null,null,null,null,null,null,null,null,null,null,null,null,null,null,null,null,null,null,null,null,null,null,null,null,null,null,null,null,null,null,null,null,null,null,null,null,null,null,null,null,null,null,null,null,null,null,null,null,null,null,null,null,null,null,null,null,null,null,null,null,null,null,null,null,null,null,null,null,null,null,null,null,null,null,null,null,null,null,null,null,null,null,null,null,null,null,null,null,null,null,null,null,null,null,null,null,null,null,null,null,null,null,null,null,null,null,null,null,null,null,null,null,null,null,null,null,null,null,null,null,null,null,null,null,null,null,null,null,null,null,null,null,null,null,null,null,null,null,null,null,null,null,null,null,null,null,null,null,null,null,null,null,null,null,null,null,null,null,null,null,null,null,null,null,null,null,null,null,null,null,null,null,null,null,null,null,null,null,null,null,null,null,null,null,null,null,null,null,null,null,null,null,null,null,null,null,null,null,null,null,null,null,null,null,null,null,null,null,null,null,null,null,null,null,null,null,null,null,null,null,null,null,null,null,null,null,null,null,null,null,null,null,null,null,null,null,null,null,null,null,null,null,null,null,null,null,null,null,null,null,null,null,null,null,null,null,null,null,null,null,null,null,null,null,null,null,null,null,null,null,null,null,null,null,null,null,null,null,null,null,null,null,null,null,null,null,null,null,null,null,null,null,null,null,null,null,null,null,null,null,null,null,null,null,null,null,null,null,null,null,null,null,null,null,null,null,null,null,null,null,null,null,null,null,null,null,null,null,null,null,null,null,null,null,null,null,null,null,null,null,null,null,null,null,null,null,null,null,null,null,null,null,null,null,null,null,null,null,null,null,null,null,null,null,null,null,null,null,null,null,null,null,null,null,null,null,null,null,null,null,null,null,null,null,null,null,null,null,null,null,null,null,null,null,null,null,null,null,null,null,null,null,null,null,null,null,null,null,null,null,null,null,null,null,null,null,null,null,null,null,null,null,null,null,null,null,null,null,null,null,null,null,null,null,null,null,null,null,null,null,null,null,null,null,null,null,null,null,null,null,null,null,null,null,null,null,null,null,null,null,null,null,null,null,null,null,null,null,null,null,null,null,null,null,null,null,null,null,null,null,null,null,null,null,null,null,null,null,null,null,null,null,null,null,null,null,null,null,null,null,null,null,null,null,null,null,null,null,null,null,null,null,null,null,null,null,null,null,null,null,null,null,null,null,null,null,null,null,null,null,null,null,null,null,null,null,null,null,null,null,null,null,null,null,null,null,null,null,null,null,null,null,null,null,null,null,null,null,null,null,null,null,null,null,null,null,null,null,null,null,null,null,null,null,null,null,null,null,null,null,null,null,null,null,null,null,null,null,null,null,null,null,null,null,null,null,null,null,null,null,null,null,null,null,null,null,null,null,null,null,null,null,null,null,null,null,null,null,null,null,null,null,null,null,null,null,null,null,null,null,null,null,null,null,null,null,null,null,null,null,null,null,null,null,null,null,null,null,null,null,null,null,null,null,null,null,null,null,null,null,null,null,null,null,null,null,null,null,null,null,null,null,null,null,null,null,null,null,null,null,null,null,null,null,null,null,null,null,null,null,null,null,null,null,null,null,null,null,null,null,null,null,null,null,null,null,null,null,null,null,null,null,null,null,null,null,null,null,null,null,null,null,null,null,null,null,null,null,null,null,null,null,null,null,null,null,null,null,null,null,null,null,null,null,null,null,null,null,null,null,null,null,null,null,null,null,null,null,null,null,null,null,null,null,null,null,null,null,null,null,null,null,null,null,null,null,null,null,null,null,null,null,null,null,null,null,null,null,null,null,null,null,null,null,null,null,null,null,null,null,null,null,null,null,null,null,null,null,null,null,null,null,null,null,null,null,null,null,null,null,null,null,null,null,null,null,null,null,null,null,null,null,null,null,null,null,null,null,null,null,null,null,null,null,null,null,null,null,null,null,null,null,null,null,null,null,null,null,null,null,null,null,null,null,null,null,null,null,null,null,null,null,null,null,null,null,null,null,null,null,null,null,null,null,null,null,null,null,null,null,null,null,null,null,null,null,null,null,null,null,null,null,null,null,null,null,null,null,null,null,null,null,null,null,null,null,null,null,null,null,null,null,null,null,null,null,null,null,null,null,null,null,null,null,null,null,null,null,null,null,null,null,null,null,null,null,null,null,null,null,null,null,null,null,null,null,null,null,null,null,null,null,null,null,null,null,null,null,null,null,null,null,null,null,null,null,null,null,null,null,null,null,null,null,null,null,null,null,null,null,null,null,null,null,null,null,null,null,null,null,null,null,null,null,null,null,null,null,null,null,null,null,null,null,null,null,null,null,null,null,null,null,null,null,null,null,null,null,null,null,null,null,null,null,null,null,null,null,null,null,null,null,null,null,null,null,null,null,null,null,null,null,null,null,null,null,null,null,null,null,null,null,null,null,null,null,null,null,null,null,null,null,null,null,null,null,null,null,null,null,null,null,null,null,null,null,null,null,null,null,null,null,null,null,null,null,null,null,null,null,null,null,null,null,null,null,null,null,null,null,null,null,null,null,null,null,null,null,null,null,null,null,null,null,null,null,null,null,null,null,null,null,null,null,null,null,null,null,null,null,null,null,null,null,null,null,null,null,null,null,null,null,null,null,null,null,null,null,null,null,null,null,null,null,null,null,null,null,null,null,null,null,null,null,null,null,null,null,null,null,null,null,null,null,null,null,null,null,null,null,null,null,null,null,null,null,null,null,null,null,null,null,null,null,null,null,null,null,null,null,null,null,null,null,null,null,null,null,null,null,null,null,null,null,null,null,null,null,null,null,null,null,null,null,null,null,null,null,null,null,null,null,null,null,null,null,null,null,null,null,null,null,null,null,null,null,null,null,null,null,null,null,null,null,null,null,null,null,null,null,null,null,null,null,null,null,null,null,null,null,null,null,null,null,null,null,null,null,null,null,null,null,null,null,null,null,null,null,null,null,null,null,null,null,null,null,null,null,null,null,null,null,null,null,null,null,null,null,null,null,null,null,null,null,null,null,null,null,null,null,null,null,null,null,null,null,null,null,null,null,null,null,null,null,null,null,null,null,null,null,null,null,null,null,null,null,null,null,null,null,null,null,null,null,null,null,null,null,null,null,null,null,null,null,null,null,null,null,null,null,null,null,null,null,null,null,null,null,null,null,null,null,null,null,null,null,null,null,null,null,null,null,null,null,null,null,null,null,null,null,null,null,null,null,null,null,null,null,null,null,null,null,null,null,null,null,null,null,null,null,null,null,null,null,null,null,null,null,null,null,null,null,null,null,null,null,null,null,null,null,null,null,null,null,null,null,null,null,null,null,null,null,null,null,null,null,null,null,null,null,null,null,null,null,null,null,null,null,null,null,null,null,null,null,null,null,null,null,null,null,null,null,null,null,null,null,null,null,null,null,null,null,null,null,null,null,null,null,null,null,null,null,null,null,null,null,null,null,null,null,null,null,null,null,null,null,null,null,null,null,null,null,null,null,null,null,null,null,null,null,null,null,null,null,null,null,null,null,null,null,null,null,null,null,null,null,null,null,null,null,null,null,null,null,null,null,null,null,null,null,null,null,null,null,null,null,null,null,null,null,null,null,null,null,null,null,null,null,null,null,null,null,null,null,null,null,null,null,null,null,null,null,null,null,null,null,null,null,null,null,null,null,null,null,null,null,null,null,null,null,null,null,null,null,null,null,null,null,null,null,null,null,null,null,null,null,null,null,null,null,null,null,null,null,null,null,null,null,null,null,null,null,null,null,null,null,null,null,null,null,null,null,null,null,null,null,null,null,null,null,null,null,null,null,null,null,null,null,null,null,null,null,null,null,null,null,null,null,null,null,null,null,null,null,null,null,null,null,null,null,null,null,null,null,null,null,null,null,null,null,null,null,null,null,null,null,null,null,null,null,null,null,null,null,null,null,null,null,null,null,null,null,null,null,null,null,null,null,null,null,null,null,null,null,null,null,null,null,null,null,null,null,null,null,null,null,null,null,null,null,null,null,null,null,null,null,null,null,null,null,null,null,null,null,null,null,null,null,null,null,null,null,null,null,null,null,null,null,null,null,null,null,null,null,null,null,null,null,null,null,null,null,null,null,null,null,null,null,null,null,null,null,null,null,null,null,null,null,null,null,null,null,null,null,null,null,null,null,null,null,null,null,null,null,null,null,null,null,null,null,null,null,null,null,null,null,null,null,null,null,null,null,null,null,null,null,null,null,null,null,null,null,null,null,null,null,null,null,null,null,null,null,null,null,null,null,null,null,null,null,null,null,null,null,null,null,null,null,null,null,null,null,null,null,null,null,null,null,null,null,null,null,null,null,null,null,null,null,null,null,null,null,null,null,null,null,null,null,null,null,null,null,null,null,null,null,null,null,null,null,null,null,null,null,null,null,null,null,null,null,null,null,null,null,null,null,null,null,null,null,null,null,null,null,null,null,null,null,null,null,null,null,null,null,null,null,null,null,null,null,null,null,null,null,null,null,null,null,null,null,null,null,null,null,null,null,null,null,null,null,null,null,null,null,null,null,null,null,null,null,null,null,null,null,null,null,null,null,null,null,null,null,null,null,null,null,null,null,null,null,null,null,null,null,null,null,null,null,null,null,null,null,null,null,null,null,null,null,null,null,null,null,null,null,null,null,null,null,null,null,null,null,null,null,null,null,null,null,null,null,null,null,null,null,null,null,null,null,null,null,null,null,null,null,null,null,null,null,null,null,null,null,null,null,null,null,null,null,null,null,null,null,null,null,null,null,null,null,null,null,null,null,null,null,null,null,null,null,null,null,null,null,null,null,null,null,null,null,null,null,null,null,null,null,null,null,null,null,null,null,null,null,null,null,null,null,null,null,null,null,null,null,null,null,null,null,null,null,null,null,null,null,null,null,null,null,null,null,null,null,null,null,null,null,null,null,null,null,null,null,null,null,null,null,null,null,null,null,null,null,null,null,null,null,null,null,null,null,null,null,null,null,null,null,null,null,null,null,null,null,null,null,null,null,null,null,null,null,null,null,null,null,null,null,null,null,null,null,null,null,null,null,null,null,null,null,null,null,null,null,null,null,null,null,null,null,null,null,null,null,null,null,null,null,null,null,null,null,null,null,null,null,null,null,null,null,null,null,null,null,null,null,null,null,null,null,null,null,null,null,null,null,null,null,null,null,null,null,null,null,null,null,null,null,null,null,null,null,null,null,null,null,null,null,null,null,null,null,null,null,null,null,null,null,null,null,null,null,null,null,null,null,null,null,null,null,null,null,null,null,null,null,null,null,null,null,null,null,null,null,null,null,null,null,null,null,null,null,null,null,null,null,null,null,null,null,null,null,null,null,null,null,null,null,null,null,null,null,null,null,null,null,null,null,null,null,null,null,null,null,null,null,null,null,null,null,null,null,null,null,null,null,null,null,null,null,null,null,null,null,null,null,null,null,null,null,null,null,null,null,null,null,null,null,null,null,null,null,null,null,null,null,null,null,null,null,null,null,null,null,null,null,null,null,null,null,null,null,null,null,null,null,null,null,null,null,null,null,null,null,null,null,null,null,null,null,null,null,null,null,null,null,null,null,null,null,null,null,null,null,null,null,null,null,null,null,null,null,null,null,null,null,null,null,null,null,null,null,null,null,null,null,null,null,null,null,null,null,null,null,null,null,null,null,null,null,null,null,null,null,null,null,null,null,null,null,null,null,null,null,null,null,null,null,null,null,null,null,null,null,null,null,null,null,null,null,null,null,null,null,null,null,null,null,null,null,null,null,null,null,null,null,null,null,null,null,null,null,null,null,null,null,null,null,null,null,null,null,null,null,null,null,null,null,null,null,null,null,null,null,null,null,null,null,null,null,null,null,null,null,null,null,null,null,null,null,null,null,null,null,null,null,null,null,null,null,null,null,null,null,null,null,null,null,null,null,null,null,null,null,null,null,null,null,null,null,null,null,null,null,null,null,null,null,null,null,null,null,null,null,null,null,null,null,null,null,null,null,null,null,null,null,null,null,null,null,null,null,null,null,null,null,null,null,null,null,null,null,null,null,null,null,null,null,null,null,null,null,null,null,null,null,null,null,null,null,null,null,null,null,null,null,null,null,null,null,null,null,null,null,null,null,null,null,null,null,null,null,null,null,null,null,null,null,null,null,null,null,null,null,null,null,null,null,null,null,null,null,null,null,null,null,null,null,null,null,null,null,null,null,null,null,null,null,null,null,null,null,null,null,null,null,null,null,null,null,null,null,null,null,null,null,null,null,null,null,null,null,null,null,null,null,null,null,null,null,null,null,null,null,null,null,null,null,null,null,null,null,null,null,null,null,null,null,null,null,null,null,null,null,null,null,null,null,null,null,null,null,null,null,null,null,null,null,null,null,null,null,null,null,null,null,null,null,null,null,null,null,null,null,null,null,null,null,null,null,null,null,null,null,null,null,null,null,null,null,null,null,null,null,null,null,null,null,null,null,null,null,null,null,null,null,null,null,null,null,null,null,null,null,null,null,null,null,null,null,null,null,null,null,null,null,null,null,null,null,null,null,null,null,null,null,null,null,null,null,null,null,null,null,null,null,null,null,null,null,null,null,null,null,null,null,null,null,null,null,null,null,null,null,null,null,null,null,null,null,null,null,null,null,null,null,null,null,null,null,null,null,null,null,null,null,null,null,null,null,null,null,null,null,null,null,null,null,null,null,null,null,null,null,null,null,null,null,null,null,null,null,null,null,null,null,null,null,null,null,null,null,null,null,null,null,null,null,null,null,null,null,null,null,null,null,null,null,null,null,null,null,null,null,null,null,null,null,null,null,null,null,null,null,null,null,null,null,null,null,null,null,null,null,null,null,null,null,null,null,null,null,null,null,null,null,null,null,null,null,null,null,null,null,null,null,null,null,null,null,null,null,null,null,null,null,null,null,null,null,null,null,null,null,null,null,null,null,null,null,null,null,null,null,null,null,null,null,null,null,null,null,null,null,null,null,null,null,null,null,null,null,null,null,null,null,null,null,null,null,null,null,null,null,null,null,null,null,null,null,null,null,null,null,null,null,null,null,null,null,null,null,null,null,null,null,null,null,null,null,null,null,null,null,null,null,null,null,null,null,null,null,null,null,null,null,null,null,null,null,null,null,null,null,null,null,null,null,null,null,null,null,null,null,null,null,null,null,null,null,null,null,null,null,null,null,null,null,null,null,null,null,null,null,null,null,null,null,null,null,null,null,null,null,null,null,null,null,null,null,null,null,null,null,null,null,null,null,null,null,null,null,null,null,null,null,null,null,null,null,null,null,null,null,null,null,null,null,null,null,null,null,null,null,null,null,null,null,null,null,null,null,null,null,null,null,null,null,null,null,null,null,null,null,null,null,null,null,null,null,null,null,null,null,null,null,null,null,null,null,null,null,null,null,null,null,null,null,null,null,null,null,null,null,null,null,null,null,null,null,null,null,null,null,null,null,null,null,null,null,null,null,null,null,null,null,null,null,null,null,null,null,null,null,null,null,null,null,null,null,null,null,null,null,null,null,null,null,null,null,null,null,null,null,null,null,null,null,null,null,null,null,null,null,null,null,null,null,null,null,null,null,null,null,null,null,null,null,null,null,null,null,null,null,null,null,null,null,null,null,null,null,null,null,null,null,null,null,null,null,null,null,null,null,null,null,null,null,null,null,null,null,null,null,null,null,null,null,null,null,null,null,null,null,null,null,null,null,null,null,null,null,null,null,null,null,null,null,null,null,null,null,null,null,null,null,null,null,null,null,null,null,null,null,null,null,null,null,null,null,null,null,null,null,null,null,null,null,null,null,null,null,null,null,null,null,null,null,null,null,null,null,null,null,null,null,null,null,null,null,null,null,null,null,null,null,null,null,null,null,null,null,null,null,null,null,null,null,null,null,null,null,null,null,null,null,null,null,null,null,null,null,null,null,null,null,null,null,null,null,null,null,null,null,null,null,null,null,null,null,null,null,null,null,null,null,null,null,null,null,null,null,null,null,null,null,null,null,null,null,null,null,null,null,null,null,null,null,null,null,null,null,null,null,null,null,null,null,null,null,null,null,null,null,null,null,null,null,null,null,null,null,null,null,null,null,null,null,null,null,null,null,null,null,null,null,null,null,null,null,null,null,null,null,null,null,null,null,null,null,null,null,null,null,null,null,null,null,null,null,null,null,null,null,null,null,null,null,null,null,null,null,null,null,null,null,null,null,null,null,null,null,null,null,null,null,null,null,null,null,null,null,null,null,null,null,null,null,null,null,null,null,null,null,null,null,null,null,null,null,null,null,null,null,null,null,null,null,null,null,null,null,null,null,null,null,null,null,null,null,null,null,null,null,null,null,null,null,null,null,null,null,null,null,null,null,null,null,null,null,null,null,null,null,null,null,null,null,null,null,null,null,null,null,null,null,null,null,null,null,null,null,null,null,null,null,null,null,null,null,null,null,null,null,null,null,null,null,null,null,null,null,null,null,null,null,null,null,null,null,null,null,null,null,null,null,null,null,null,null,null,null,null,null,null,null,null,null,null,null,null,null,null,null,null,null,null,null,null,null,null,null,null,null,null,null,null,null,null,null,null,null,null,null,null,null,null,null,null,null,null,null,null,null,null,null,null,null,null,null,null,null,null,null,null,null,null,null,null,null,null,null,null,null,null,null,null,null,null,null,null,null,null,null,null,null,null,null,null,null,null,null,null,null,null,null,null,null,null,null,null,null,null,null,null,null,null,null,null,null,null,null,null,null,null,null,null,null,null,null,null,null,null,null,null,null,null,null,null,null,null,null,null,null,null,null,null,null,null,null,null,null,null,null,null,null,null,null,null,null,null,null,null,null,null,null,null,null,null,null,null,null,null,null,null,null,null,null,null,null,null,null,null,null,null,null,null,null,null,null,null,null,null,null,null,null,null,null,null,null,null,null,null,null,null,null,null,null,null,null,null,null,null,null,null,null,null,null,null,null,null,null,null,null,null,null,null,null,null,null,null,null,null,null,null,null,null,null,null,null,null,null,null,null,null,null,null,null,null,null,null,null,null,null,null,null,null,null,null,null,null,null,null,null,null,null,null,null,null,null,null,null,null,null,null,null,null,null,null,null,null,null,null,null,null,null,null,null,null,null,null,null,null,null,null,null,null,null,null,null,null,null,null,null,null,null,null,null,null,null,null,null,null,null,null,null,null,null,null,null,null,null,null,null,null,null,null,null,null,null,null,null,null,null,null,null,null,null,null,null,null,null,null,null,null,null,null,null,null,null,null,null,null,null,null,null,null,null,null,null,null,null,null,null,null,null,null,null,null,null,null,null,null,null,null,null,null,null,null,null,null,null,null,null,null,null,null,null,null,null,null,null,null,null,null,null,null,null,null,null,null,null,null,null,null,null,null,null,null,null,null,null,null,null,null,null,null,null,null,null,null,null,null,null,null,null,null,null,null,null,null,null,null,null,null,null,null,null,null,null,null,null,null,null,null,null,null,null,null,null,null,null,null,null,null,null,null,null,null,null,null,null,null,null,null,null,null,null,null,null,null,null,null,null,null,null,null,null,null,null,null,null,null,null,null,null,null,null,null,null,null,null,null,null,null,null,null,null,null,null,null,null,null,null,null,null,null,null,null,null,null,null,null,null,null,null,null,null,null,null,null,null,null,null,null,null,null,null,null,null,null,null,null,null,null,null,null,null,null,null,null,null,null,null,null,null,null,null,null,null,null,null,null,null,null,null,null,null,null,null,null,null,null,null,null,null,null,null,null,null,null,null,null,null,null,null,null,null,null,null,null,null,null,null,null,null,null,null,null,null,null,null,null,null,null,null,null,null,null,null,null,null,null,null,null,null,null,null,null,null,null,null,null,null,null,null,null,null,null,null,null,null,null,null,null,null,null,null,null,null,null,null,null,null,null,null,null,null,null,null,null,null,null,null,null,null,null,null,null,null,null,null,null,null,null,null,null,null,null,null,null,null,null,null,null,null,null,null,null,null,null,null,null,null,null,null,null,null,null,null,null,null,null,null,null,null,null,null,null,null,null,null,null,null,null,null,null,null,null,null,null,null,null,null,null,null,null,null,null,null,null,null,null,null,null,null,null,null,null,null,null,null,null,null,null,null,null,null,null,null,null,null,null,null,null,null,null,null,null,null,null,null,null,null,null,null,null,null,null,null,null,null,null,null,null,null,null,null,null,null,null,null,null,null,null,null,null,null,null,null,null,null,null,null,null,null,null,null,null,null,null,null,null,null,null,null,null,null,null,null,null,null,null,null,null,null,null,null,null,null,null,null,null,null,null,null,null,null,null,null,null,null,null,null,null,null,null,null,null,null,null,null,null,null,null,null,null,null,null,null,null,null,null,null,null,null,null,null,null,null,null,null,null,null,null,null,null,null,null,null,null,null,null,null,null,null,null,null,null,null,null,null,null,null,null,null,null,null,null,null,null,null,null,null,null,null,null,null,null,null,null,null,null,null,null,null,null,null,null,null,null,null,null,null,null,null,null,null,null,null,null,null,null,null,null,null,null,null,null,null,null,null,null,null,null,null,null,null,null,null,null,null,null,null,null,null,null,null,null,null,null,null,null,null,null,null,null,null,null,null,null,null,null,null,null,null,null,null,null,null,null,null,null,null,null,null,null,null,null,null,null,null,null,null,null,null,null,null,null,null,null,null,null,null,null,null,null,null,null,null,null,null,null,null,null,null,null,null,null,null,null,null,null,null,null,null,null,null,null,null,null,null,null,null,null,null,null,null,null,null,null,null,null,null,null,null,null,null,null,null,null,null,null,null,null,null,null,null,null,null,null,null,null,null,null,null,null,null,null,null,null,null,null,null,null,null,null,null,null,null,null,null,null,null,null,null,null,null,null,null,null,null,null,null,null,null,null,null,null,null,null,null,null,null,null,null,null,null,null,null,null,null,null,null,null,null,null,null,null,null,null,null,null,null,null,null,null,null,null,null,null,null,null,null,null,null,null,null,null,null,null,null,null,null,null,null,null,null,null,null,null,null,null,null,null,null,null,null,null,null,null,null,null,null,null,null,null,null,null,null,null,null,null,null,null,null,null,null,null,null,null,null,null,null,null,null,null,null,null,null,null,null,null,null,null,null,null,null,null,null,null,null,null,null,null,null,null,null,null,null,null,null,null,null,null,null,null,null,null,null,null,null,null,null,null,null,null,null,null,null,null,null,null,null,null,null,null,null,null,null,null,null,null,null,null,null,null,null,null,null,null,null,null,null,null,null,null,null,null,null,null,null,null,null,null,null,null,null,null,null,null,null,null,null,null,null,null,null,null,null,null,null,null,null,null,null,null,null,null,null,null,null,null,null,null,null,null,null,null,null,null,null,null,null,null,null,null,null,null,null,null,null,null,null,null,null,null,null,null,null,null,null,null,null,null,null,null,null,null,null,null,null,null,null,null,null,null,null,null,null,null,null,null,null,null,null,null,null,null,null,null,null,null,null,null,null,null,null,null,null,null,null,null,null,null,null,null,null,null,null,null,null,null,null,null,null,null,null,null,null,null,null,null,null,null,null,null,null,null,null,null,null,null,null,null,null,null,null,null,null,null,null,null,null,null,null,null,null,null,null,null,null,null,null,null,null,null,null,null,null,null,null,null,null,null,null,null,null,null,null,null,null,null,null,null,null,null,null,null,null,null,null,null,null,null,null,null,null,null,null,null,null,null,null,null,null,null,null,null,null,null,null,null,null,null,null,null,null,null,null,null,null,null,null,null,null,null,null,null,null,null,null,null,null,null,null,null,null,null,null,null,null,null,null,null,null,null,null,null,null,null,null,null,null,null,null,null,null,null,null,null,null,null,null,null,null,null,null,null,null,null,null,null,null,null,null,null,null,null,null,null,null,null,null,null,null,null,null,null,null,null,null,null,null,null,null,null,null,null,null,null,null,null,null,null,null,null,null,null,null,null,null,null,null,null,null,null,null,null,null,null,null,null,null,null,null,null,null,null,null,null,null,null,null,null,null,null,null,null,null,null,null,null,null,null,null,null,null,null,null,null,null,null,null,null,null,null,null,null,null,null,null,null,null,null,null,null,null,null,null,null,null,null,null,null,null,null,null,null,null,null,null,null,null,null,null,null,null,null,null,null,null,null,null,null,null,null,null,null,null,null,null,null,null,null,null,null,null,null,null,null,null,null,null,null,null,null,null,null,null,null,null,null,null,null,null,null,null,null,null,null,null,null,null,null,null,null,null,null,null,null,null,null,null,null,null,null,null,null,null,null,null,null,null,null,null,null,null,null,null,null,null,null,null,null,null,null,null,null,null,null,null,null,null,null,null,null,null,null,null,null,null,null,null,null,null,null,null,null,null,null,null,null,null,null,null,null,null,null,null,null,null,null,null,null,null,null,null,null,null,null,null,null,null,null,null,null,null,null,null,null,null,null,null,null,null,null,null,null,null,null,null,null,null,null,null,null,null,null,null,null,null,null,null,null,null,null,null,null,null,null,null,null,null,null,null,null,null,null,null,null,null,null,null,null,null,null,null,null,null,null,null,null,null,null,null,null,null,null,null,null,null,null,null,null,null,null,null,null,null,null,null,null,null,null,null,null,null,null,null,null,null,null,null,null,null,null,null,null,null,null,null,null,null,null,null,null,null,null,null,null,null,null,null,null,null,null,null,null,null,null,null,null,null,null,null,null,null,null,null,null,null,null,null,null,null,null,null,null,null,null,null,null,null,null,null,null,null,null,null,null,null,null,null,null,null,null,null,null,null,null,null,null,null,null,null,null,null,null,null,null,null,null,null,null,null,null,null,null,null,null,null,null,null,null,null,null,null,null,null,null,null,null,null,null,null,null,null,null,null,null,null,null,null,null,null,null,null,null,null,null,null,null,null,null,null,null,null,null,null,null,null,null,null,null,null,null,null,null,null,null,null,null,null,null,null,null,null,null,null,null,null,null,null,null,null,null,null,null,null,null,null,null,null,null,null,null,null,null,null,null,null,null,null,null,null,null,null,null,null,null,null,null,null,null,null,null,null,null,null,null,null,null,null,null,null,null,null,null,null,null,null,null,null,null,null,null,null,null,null,null,null,null,null,null,null,null,null,null,null,null,null,null,null,null,null,null,null,null,null,null,null,null,null,null,null,null,null,null,null,null,null,null,null,null,null,null,null,null,null,null,null,null,null,null,null,null,null,null,null,null,null,null,null,null,null,null,null,null,null,null,null,null,null,null,null,null,null,null,null,null,null,null,null,null,null,null,null,null,null,null,null,null,null,null,null,null,null,null,null,null,null,null,null,null,null,null,null,null,null,null,null,null,null,null,null,null,null,null,null,null,null,null,null,null,null,null,null,null,null,null,null,null,null,null,null,null,null,null,null,null,null,null,null,null,null,null,null,null,null,null,null,null,null,null,null,null,null,null,null,null,null,null,null,null,null,null,null,null,null,null,null,null,null,null,null,null,null,null,null,null,null,null,null,null,null,null,null,null,null,null,null,null,null,null,null,null,null,null,null,null,null,null,null,null,null,null,null,null,null,null,null,null,null,null,null,null,null,null,null,null,null,null,null,null,null,null,null,null,null,null,null,null,null,null,null,null,null,null,null,null,null,null,null,null,null,null,null,null,null,null,null,null,null,null,null,null,null,null,null,null,null,null,null,null,null,null,null,null,null,null,null,null,null,null,null,null,null,null,null,null,null,null,null,null,null,null,null,null,null,null,null,null,null,null,null,null,null,null,null,null,null,null,null,null,null,null,null,null,null,null,null,null,null,null,null,null,null,null,null,null,null,null,null,null,null,null,null,null,null,null,null,null,null,null,null,null,null,null,null,null,null,null,null,null,null,null,null,null,null,null,null,null,null,null,null,null,null,null,null,null,null,null,null,null,null,null,null,null,null,null,null,null,null,null,null,null,null,null,null,null,null,null,null,null,null,null,null,null,null,null,null,null,null,null,null,null,null,null,null,null,null,null,null,null,null,null,null,null,null,null,null,null,null,null,null,null,null,null,null,null,null,null,null,null,null,null,null,null,null,null,null,null,null,null,null,null,null,null,null,null,null,null,null,null,null,null,null,null,null,null,null,null,null,null,null,null,null,null,null,null,null,null,null,null,null,null,null,null,null,null,null,null,null,null,null,null,null,null,null,null,null,null,null,null,null,null,null,null,null,null,null,null,null,null,null,null,null,null,null,null,null,null,null,null,null,null,null,null,null,null,null,null,null,null,null,null,null,null,null,null,null,null,null,null,null,null,null,null,null,null,null,null,null,null,null,null,null,null,null,null,null,null,null,null,null,null,null,null,null,null,null,null,null,null,null,null,null,null,null,null,null,null,null,null,null,null,null,null,null,null,null,null,null,null,null,null,null,null,null,null,null,null,null,null,null,null,null,null,null,null,null,null,null,null,null,null,null,null,null,null,null,null,null,null,null,null,null,null,null,null,null,null,null,null,null,null,null,null,null,null,null,null,null,null,null,null,null,null,null,null,null,null,null,null,null,null,null,null,null,null,null,null,null,null,null,null,null,null,null,null,null,null,null,null,null,null,null,null,null,null,null,null,null,null,null,null,null,null,null,null,null,null,null,null,null,null,null,null,null,null,null,null,null,null,null,null,null,null,null,null,null,null,null,null,null,null,null,null,null,null,null,null,null,null,null,null,null,null,null,null,null,null,null,null,null,null,null,null,null,null,null,null,null,null,null,null,null,null,null,null,null,null,null,null,null,null,null,null,null,null,null,null,null,null,null,null,null,null,null,null,null,null,null,null,null,null,null,null,null,null,null,null,null,null,null,null,null,null,null,null,null,null,null,null,null,null,null,null,null,null,null,null,null,null,null,null,null,null,null,null,null,null,null,null,null,null,null,null,null,null,null,null,null,null,null,null,null,null,null,null,null,null,null,null,null,null,null,null,null,null,null,null,null,null,null,null,null,null,null,null,null,null,null,null,null,null,null,null,null,null,null,null,null,null,null,null,null,null,null,null,null,null,null,null,null,null,null,null,null,null,null,null,null,null,null,null,null,null,null,null,null,null,null,null,null,null,null,null,null,null,null,null,null,null,null,null,null,null,null,null,null,null,null,null,null,null,null,null,null,null,null,null,null,null,null,null,null,null,null,null,null,null,null,null,null,null,null,null,null,null,null,null,null,null,null,null,null,null,null,null,null,null,null,null,null,null,null,null,null,null,null,null,null,null,null,null,null,null,null,null,null,null,null,null,null,null,null,null,null,null,null,null,null,null,null,null,null,null,null,null,null,null,null,null,null,null,null,null,null,null,null,null,null,null,null,null,null,null,null,null,null,null,null,null,null,null,null,null,null,null,null,null,null,null,null,null,null,null,null,null,null,null,null,null,null,null,null,null,null,null,null,null,null,null,null,null,null,null,null,null,null,null,null,null,null,null,null,null,null,null,null,null,null,null,null,null,null,null,null,null,null,null,null,null,null,null,null,null,null,null,null,null,null,null,null,null,null,null,null,null,null,null,null,null,null,null,null,null,null,null,null,null,null,null,null,null,null,null,null,null,null,null,null,null,null,null,null,null,null,null,null,null,null,null,null,null,null,null,null,null,null,null,null,null,null,null,null,null,null,null,null,null,null,null,null,null,null,null,null,null,null,null,null,null,null,null,null,null,null,null,null,null,null,null,null,null,null,null,null,null,null,null,null,null,null,null,null,null,null,null,null,null,null,null,null,null,null,null,null,null,null,null,null,null,null,null,null,null,null,null,null,null,null,null,null,null,null,null,null,null,null,null,null,null,null,null,null,null,null,null,null,null,null,null,null,null,null,null,null,null,null,null,null,null,null,null,null,null,null,null,null,null,null,null,null,null,null,null,null,null,null,null,null,null,null,null,null,null,null,null,null,null,null,null,null,null,null,null,null,null,null,null,null,null,null,null,null,null,null,null,null,null,null,null,null,null,null,null,null,null,null,null,null,null,null,null,null,null,null,null,null,null,null,null,null,null,null,null,null,null,null,null,null,null,null,null,null,null,null,null,null,null,null,null,null,null,null,null,null,null,null,null,null,null,null,null,null,null,null,null,null,null,null,null,null,null,null,null,null,null,null,null,null,null,null,null,null,null,null,null,null,null,null,null,null,null,null,null,null,null,null,null,null,null,null,null,null,null,null,null,null,null,null,null,null,null,null,null,null,null,null,null,null,null,null,null,null,null,null,null,null,null,null,null,null,null,null,null,null,null,null,null,null,null,null,null,null,null,null,null,null,null,null,null,null,null,null,null,null,null,null,null,null,null,null,null,null,null,null,null,null,null,null,null,null,null,null,null,null,null,null,null,null,null,null,null,null,null,null,null,null,null,null,null,null,null,null,null,null,null,null,null,null,null,null,null,null,null,null,null,null,null,null,null,null,null,null,null,null,null,null,null,null,null,null,null,null,null,null,null,null,null,null,null,null,null,null,null,null,null,null,null,null,null,null,null,null,null,null,null,null,null,null,null,null,null,null,null,null,null,null,null,null,null,null,null,null,null,null,null,null,null,null,null,null,null,null,null,null,null,null,null,null,null,null,null,null,null,null,null,null,null,null,null,null,null,null,null,null,null,null,null,null,null,null,null,null,null,null,null,null,null,null,null,null,null,null,null,null,null,null,null,null,null,null,null,null,null,null,null,null,null,null,null,null,null,null,null,null,null,null,null,null,null,null,null,null,null,null,null,null,null,null,null,null,null,null,null,null,null,null,null,null,null,null,null,null,null,null,null,null,null,null,null,null,null,null,null,null,null,null,null,null,null,null,null,null,null,null,null,null,null,null,null,null,null,null,null,null,null,null,null,null,null,null,null,null,null,null,null,null,null,null,null,null,null,null,null,null,null,null,null,null,null,null,null,null,null,null,null,null,null,null,null,null,null,null,null,null,null,null,null,null,null,null,null,null,null,null,null,null,null,null,null,null,null,null,null,null,null,null,null,null,null,null,null,null,null,null,null,null,null,null,null,null,null,null,null,null,null,null,null,null,null,null,null,null,null,null,null,null,null,null,null,null,null,null,null,null,null,null,null,null,null,null,null,null,null,null,null,null,null,null,null,null,null,null,null,null,null,null,null,null,null,null,null,null,null,null,null,null,null,null,null,null,null,null,null,null,null,null,null,null,null,null,null,null,null,null,null,null,null,null,null,null,null,null,null,null,null,null,null,null,null,null,null,null,null,null,null,null,null,null,null,null,null,null,null,null,null,null,null,null,null,null,null,null,null,null,null,null,null,null,null,null,null,null,null,null,null,null,null,null,null,null,null,null,null,null,null,null,null,null,null,null,null,null,null,null,null,null,null,null,null,null,null,null,null,null,null,null,null,null,null,null,null,null,null,null,null,null,null,null,null,null,null,null,null,null,null,null,null,null,null,null,null,null,null,null,null,null,null,null,null,null,null,null,null,null,null,null,null,null,null,null,null,null,null,null,null,null,null,null,null,null,null,null,null,null,null,null,null,null,null,null,null,null,null,null,null,null,null,null,null,null,null,null,null,null,null,null,null,null,null,null,null,null,null,null,null,null,null,null,null,null,null,null,null,null,null,null,null,null,null,null,null,null,null,null,null,null,null,null,null,null,null,null,null,null,null,null,null,null,null,null,null,null,null,null,null,null,null,null,null,null,null,null,null,null,null,null,null,null,null,null,null,null,null,null,null,null,null,null,null,null,null,null,null,null,null,null,null,null,null,null,null,null,null,null,null,null,null,null,null,null,null,null,null,null,null,null,null,null,null,null,null,null,null,null,null,null,null,null,null,null,null,null,null,null,null,null,null,null,null,null,null,null,null,null,null,null,null,null,null,null,null,null,null,null,null,null,null,null,null,null,null,null,null,null,null,null,null,null,null,null,null,null,null,null,null,null,null,null,null,null,null,null,null,null,null,null,null,null,null,null,null,null,null,null,null,null,null,null,null,null,null,null,null,null,null,null,null,null,null,null,null,null,null,null,null,null,null,null,null,null,null,null,null,null,null,null,null,null,null,null,null,null,null,null,null,null,null,null,null,null,null,null,null,null,null,null,null,null,null,null,null,null,null,null,null,null,null,null,null,null,null,null,null,null,null,null,null,null,null,null,null,null,null,null,null,null,null,null,null,null,null,null,null,null,null,null,null,null,null,null,null,null,null,null,null,null,null,null,null,null,null,null,null,null,null,null,null,null,null,null,null,null,null,null,null,null,null,null,null,null,null,null,null,null,null,null,null,null,null,null,null,null,null,null,null,null,null,null,null,null,null,null,null,null,null,null,null,null,null,null,null,null,null,null,null,null,null,null,null,null,null,null,null,null,null,null,null,null,null,null,null,null,null,null,null,null,null,null,null,null,null,null,null,null,null,null,null,null,null,null,null,null,null,null,null,null,null,null,null,null,null,null,null,null,null,null,null,null,null,null,null,null,null,null,null,null,null,null,null,null,null,null,null,null,null,null,null,null,null,null,null,null,null,null,null,null,null,null,null,null,null,null,null,null,null,null,null,null,null,null,null,null,null,null,null,null,null,null,null,null,null,null,null,null,null,null,null,null,null,null,null,null,null,null,null,null,null,null,null,null,null,null,null,null,null,null,null,null,null,null,null,null,null,null,null,null,null,null,null,null,null,null,null,null,null,null,null,null,null,null,null,null,null,null,null,null,null,null,null,null,null,null,null,null,null,null,null,null,null,null,null,null,null,null,null,null,null,null,null,null,null,null,null,null,null,null,null,null,null,null,null,null,null,null,null,null,null,null,null,null,null,null,null,null,null,null,null,null,null,null,null,null,null,null,null,null,null,null,null,null,null,null,null,null,null,null,null,null,null,null,null,null,null,null,null,null,null,null,null,null,null,null,null,null,null,null,null,null,null,null,null,null,null,null,null,null,null,null,null,null,null,null,null,null,null,null,null,null,null,null,null,null,null,null,null,null,null,null,null,null,null,null,null,null,null,null,null,null,null,null,null,null,null,null,null,null,null,null,null,null,null,null,null,null,null,null,null,null,null,null,null,null,null,null,null,null,null,null,null,null,null,null,null,null,null,null,null,null,null,null,null,null,null,null,null,null,null,null,null,null,null,null,null,null,null,null,null,null,null,null,null,null,null,null,null,null,null,null,null,null,null,null,null,null,null,null,null,null,null,null,null,null,null,null,null,null,null,null,null,null,null,null,null,null,null,null,null,null,null,null,null,null,null,null,null,null,null,null,null,null,null,null,null,null,null,null,null,null,null,null,null,null,null,null,null,null,null,null,null,null,null,null,null,null,null,null,null,null,null,null,null,null,null,null,null,null,null,null,null,null,null,null,null,null,null,null,null,null,null,null,null,null,null,null,null,null,null,null,null,null,null,null,null,null,null,null,null,null,null,null,null,null,null,null,null,null,null,null,null,null,null,null,null,null,null,null,null,null,null,null,null,null,null,null,null,null,null,null,null,null,null,null,null,null,null,null,null,null,null,null,null,null,null,null,null,null,null,null,null,null,null,null,null,null,null,null,null,null,null,null,null,null,null,null,null,null,null,null,null,null,null,null,null,null,null,null,null,null,null,null,null,null,null,null,null,null,null,null,null,null,null,null,null,null,null,null,null,null,null,null,null,null,null,null,null,null,null,null,null,null,null,null,null,null,null,null,null,null,null,null,null,null,null,null,null,null,null,null,null,null,null,null,null,null,null,null,null,null,null,null,null,null,null,null,null,null,null,null,null,null,null,null,null,null,null,null,null,null,null,null,null,null,null,null,null,null,null,null,null,null,null,null,null,null,null,null,null,null,null,null,null,null,null,null,null,null,null,null,null,null,null,null,null,null,null,null,null,null,null,null,null,null,null,null,null,null,null,null,null,null,null,null,null,null,null,null,null,null,null,null,null,null,null,null,null,null,null,null,null,null,null,null,null,null,null,null,null,null,null,null,null,null,null,null,null,null,null,null,null,null,null,null,null,null,null,null,null,null,null,null,null,null,null,null,null,null,null,null,null,null,null,null,null,null,null,null,null,null,null,null,null,null,null,null,null,null,null,null,null,null,null,null,null,null,null,null,null,null,null,null,null,null,null,null,null,null,null,null,null,null,null,null,null,null,null,null,null,null,null,null,null,null,null,null,null,null,null,null,null,null,null,null,null,null,null,null,null,null,null,null,null,null,null,null,null,null,null,null,null,null,null,null,null,null,null,null,null,null,null,null,null,null,null,null,null,null,null,null,null,null,null,null,null,null,null,null,null,null,null,null,null,null,null,null,null,null,null,null,null,null,null,null,null,null,null,null,null,null,null,null,null,null,null,null,null,null,null,null,null,null,null,null,null,null,null,null,null,null,null,null,null,null,null,null,null,null,null,null,null,null,null,null,null,null,null,null,null,null,null,null,null,null,null,null,null,null,null,null,null,null,null,null,null,null,null,null,null,null,null,null,null,null,null,null,null,null,null,null,null,null,null,null,null,null,null,null,null,null,null,null,null,null,null,null,null,null,null,null,null,null,null,null,null,null,null,null,null,null,null,null,null,null,null,null,null,null,null,null,null,null,null,null,null,null,null,null,null,null,null,null,null,null,null,null,null,null,null,null,null,null,null,null,null,null,null,null,null,null,null,null,null,null,null,null,null,null,null,null,null,null,null,null,null,null,null,null,null,null,null,null,null,null,null,null,null,null,null,null,null,null,null,null,null,null,null,null,null,null,null,null,null,null,null,null,null,null,null,null,null,null,null,null,null,null,null,null,null,null,null,null,null,null,null,null,null,null,null,null,null,null,null,null,null,null,null,null,null,null,null,null,null,null,null,null,null,null,null,null,null,null,null,null,null,null,null,null,null,null,null,null,null,null,null,null,null,null,null,null,null,null,null,null,null,null,null,null,null,null,null,null,null,null,null,null,null,null,null,null,null,null,null,null,null,null,null,null,null,null,null,null,null,null,null,null,null,null,null,null,null,null,null,null,null,null,null,null,null,null,null,null,null,null,null,null,null,null,null,null,null,null,null,null,null,null,null,null,null,null,null,null,null,null,null,null,null,null,null,null,null,null,null,null,null,null,null,null,null,null,null,null,null,null,null,null,null,null,null,null,null,null,null,null,null,null,null,null,null,null,null,null,null,null,null,null,null,null,null,null,null,null,null,null,null,null,null,null,null,null,null,null,null,null,null,null,null,null,null,null,null,null,null,null,null,null,null,null,null,null,null,null,null,null,null,null,null,null,null,null,null,null,null,null,null,null,null,null,null,null,null,null,null,null,null,null,null,null,null,null,null,null,null,null,null,null,null,null,null,null,null,null,null,null,null,null,null,null,null,null,null,null,null,null,null,null,null,null,null,null,null,null,null,null,null,null,null,null,null,null,null,null,null,null,null,null,null,null,null,null,null,null,null,null,null,null,null,null,null,null,null,null,null,null,null,null,null,null,null,null,null,null,null,null,null,null,null,null,null,null,null,null,null,null,null,null,null,null,null,null,null,null,null,null,null,null,null,null,null,null,null,null,null,null,null,null,null,null,null,null,null,null,null,null,null,null,null,null,null,null,null,null,null,null,null,null,null,null,null,null,null,null,null,null,null,null,null,null,null,null,null,null,null,null,null,null,null,null,null,null,null,null,null,null,null,null,null,null,null,null,null,null,null,null,null,null,null,null,null,null,null,null,null,null,null,null,null,null,null,null,null,null,null,null,null,null,null,null,null,null,null,null,null,null,null,null,null,null,null,null,null,null,null,null,null,null,null,null,null,null,null,null,null,null,null,null,null,null,null,null,null,null,null,null,null,null,null,null,null,null,null,null,null,null,null,null,null,null,null,null,null,null,null,null,null,null,null,null,null,null,null,null,null,null,null,null,null,null,null,null,null,null,null,null,null,null,null,null,null,null,null,null,null,null,null,null,null,null,null,null,null,null,null,null,null,null,null,null,null,null,null,null,null,null,null,null,null,null,null,null,null,null,null,null,null,null,null,null,null,null,null,null,null,null,null,null,null,null,null,null,null,null,null,null,null,null,null,null,null,null,null,null,null,null,null,null,null,null,null,null,null,null,null,null,null,null,null,null,null,null,null,null,null,null,null,null,null,null,null,null,null,null,null,null,null,null,null,null,null,null,null,null,null,null,null,null,null,null,null,null,null,null,null,null,null,null,null,null,null,null,null,null,null,null,null,null,null,null,null,null,null,null,null,null,null,null,null,null,null,null,null,null,null,null,null,null,null,null,null,null,null,null,null,null,null,null,null,null,null,null,null,null,null,null,null,null,null,null,null,null,null,null,null,null,null,null,null,null,null,null,null,null,null,null,null,null,null,null,null,null,null,null,null,null,null,null,null,null,null,null,null,null,null,null,null,null,null,null,null,null,null,null,null,null,null,null,null,null,null,null,null,null,null,null,null,null,null,null,null,null,null,null,null,null,null,null,null,null,null,null,null,null,null,null,null,null,null,null,null,null,null,null,null,null,null,null,null,null,null,null,null,null,null,null,null,null,null,null,null,null,null,null,null,null,null,null,null,null,null,null,null,null,null,null,null,null,null,null,null,null,null,null,null,null,null,null,null,null,null,null,null,null,null,null,null,null,null,null,null,null,null,null,null,null,null,null,null,null,null,null,null,null,null,null,null,null,null,null,null,null,null,null,null,null,null,null,null,null,null,null,null,null,null,null,null,null,null,null,null,null,null,null,null,null,null,null,null,null,null,null,null,null,null,null,null,null,null,null,null,null,null,null,null,null,null,null,null,null,null,null,null,null,null,null,null,null,null,null,null,null,null,null,null,null,null,null,null,null,null,null,null,null,null,null,null,null,null,null,null,null,null,null,null,null,null,null,null,null,null,null,null,null,null,null,null,null,null,null,null,null,null,null,null,null,null,null,null,null,null,null,null,null,null,null,null,null,null,null,null,null,null,null,null,null,null,null,null,null,null,null,null,null,null,null,null,null,null,null,null,null,null,null,null,null,null,null,null,null,null,null,null,null,null,null,null,null,null,null,null,null,null,null,null,null,null,null,null,null,null,null,null,null,null,null,null,null,null,null,null,null,null,null,null,null,null,null,null,null,null,null,null,null,null,null,null,null,null,null,null,null,null,null,null,null,null,null,null,null,null,null,null,null,null,null,null,null,null,null,null,null,null,null,null,null,null,null,null,null,null,null,null,null,null,null,null,null,null,null,null,null,null,null,null,null,null,null,null,null,null,null,null,null,null,null,null,null,null,null,null,null,null,null,null,null,null,null,null,null,null,null,null,null,null,null,null,null,null,null,null,null,null,null,null,null,null,null,null,null,null,null,null,null,null,null,null,null,null,null,null,null,null,null,null,null,null,null,null,null,null,null,null,null,null,null,null,null,null,null,null,null,null,null,null,null,null,null,null,null,null,null,null,null,null,null,null,null,null,null,null,null,null,null,null,null,null,null,null,null,null,null,null,null,null,null,null,null,null,null,null,null,null,null,null,null,null,null,null,null,null,null,null,null,null,null,null,null,null,null,null,null,null,null,null,null,null,null,null,null,null,null,null,null,null,null,null,null,null,null,null,null,null,null,null,null,null,null,null,null,null,null,null,null,null,null,null,null,null,null,null,null,null,null,null,null,null,null,null,null,null,null,null,null,null,null,null,null,null,null,null,null,null,null,null,null,null,null,null,null,null,null,null,null,null,null,null,null,null,null,null,null,null,null,null,null,null,null,null,null,null,null,null,null,null,null,null,null,null,null,null,null,null,null,null,null,null,null,null,null,null,null,null,null,null,null,null,null,null,null,null,null,null,null,null,null,null,null,null,null,null,null,null,null,null,null,null,null,null,null,null,null,null,null,null,null,null,null,null,null,null,null,null,null,null,null,null,null,null,null,null,null,null,null,null,null,null,null,null,null,null,null,null,null,null,null,null,null,null,null,null,null,null,null,null,null,null,null,null,null,null,null,null,null,null,null,null,null,null,null,null,null,null,null,null,null,null,null,null,null,null,null,null,null,null,null,null,null,null,null,null,null,null,null,null,null,null,null,null,null,null,null,null,null,null,null,null,null,null,null,null,null,null,null,null,null,null,null,null,null,null,null,null,null,null,null,null,null,null,null,null,null,null,null,null,null,null,null,null,null,null,null,null,null,null,null,null,null,null,null,null,null,null,null,null,null,null,null,null,null,null,null,null,null,null,null,null,null,null,null,null,null,null,null,null,null,null,null,null,null,null,null,null,null,null,null,null,null,null,null,null,null,null,null,null,null,null,null,null,null,null,null,null,null,null,null,null,null,null,null,null,null,null,null,null,null,null,null,null,null,null,null,null,null,null,null,null,null,null,null,null,null,null,null,null,null,null,null,null,null,null,null,null,null,null,null,null,null,null,null,null,null,null,null,null,null,null,null,null,null,null,null,null,null,null,null,null,null,null,null,null,null,null,null,null,null,null,null,null,null,null,null,null,null,null,null,null,null,null,null,null,null,null,null,null,null,null,null,null,null,null,null,null,null,null,null,null,null,null,null,null,null,null,null,null,null,null,null,null,null,null,null,null,null,null,null,null,null,null,null,null,null,null,null,null,null,null,null,null,null,null,null,null,null,null,null,null,null,null,null,null,null,null,null,null,null,null,null,null,null,null,null,null,null,null,null,null,null,null,null,null,null,null,null,null,null,null,null,null,null,null,null,null,null,null,null,null,null,null,null,null,null,null,null,null,null,null,null,null,null,null,null,null,null,null,null,null,null,null,null,null,null,null,null,null,null,null,null,null,null,null,null,null,null,null,null,null,null,null,null,null,null,null,null,null,null,null,null,null,null,null,null,null,null,null,null,null,null,null,null,null,null,null,null,null,null,null,null,null,null,null,null,null,null,null,null,null,null,null,null,null,null,null,null,null,null,null,null,null,null,null,null,null,null,null,null,null,null,null,null,null,null,null,null,null,null,null,null,null,null,null,null,null,null,null,null,null,null,null,null,null,null,null,null,null,null,null,null,null,null,null,null,null,null,null,null,null,null,null,null,null,null,null,null,null,null,null,null,null,null,null,null,null,null,null,null,null,null,null,null,null,null,null,null,null,null,null,null,null,null,null,null,null,null,null,null,null,null,null,null,null,null,null,null,null,null,null,null,null,null,null,null,null,null,null,null,null,null,null,null,null,null,null,null,null,null,null,null,null,null,null,null,null,null,null,null,null,null,null,null,null,null,null,null,null,null,null,null,null,null,null,null,null,null,null,null,null,null,null,null,null,null,null,null,null,null,null,null,null,null,null,null,null,null,null,null,null,null,null,null,null,null,null,null,null,null,null,null,null,null,null,null,null,null,null,null,null,null,null,null,null,null,null,null,null,null,null,null,null,null,null,null,null,null,null,null,null,null,null,null,null,null,null,null,null,null,null,null,null,null,null,null,null,null,null,null,null,null,null,null,null,null,null,null,null,null,null,null,null,null,null,null,null,null,null,null,null,null,null,null,null,null,null,null,null,null,null,null,null,null,null,null,null,null,null,null,null,null,null,null,null,null,null,null,null,null,null,null,null,null,null,null,null,null,null,null,null,null,null,null,null,null,null,null,null,null,null,null,null,null,null,null,null,null,null,null,null,null,null,null,null,null,null,null,null,null,null,null,null,null,null,null,null,null,null,null,null,null,null,null,null,null,null,null,null,null,null,null,null,null,null,null,null,null,null,null,null,null,null,null,null,null,null,null,null,null,null,null,null,null,null,null,null,null,null,null,null,null,null,null,null,null,null,null,null,null,null,null,null,null,null,null,null,null,null,null,null,null,null,null,null,null,null,null,null,null,null,null,null,null,null,null,null,null,null,null,null,null,null,null,null,null,null,null,null,null,null,null,null,null,null,null,null,null,null,null,null,null,null,null,null,null,null,null,null,null,null,null,null,null,null,null,null,null,null,null,null,null,null,null,null,null,null,null,null,null,null,null,null,null,null,null,null,null,null,null,null,null,null,null,null,null,null,null,null,null,null,null,null,null,null,null,null,null,null,null,null,null,null,null,null,null,null,null,null,null,null,null,null,null,null,null,null,null,null,null,null,null,null,null,null,null,null,null,null,null,null,null,null,null,null,null,null,null,null,null,null,null,null,null,null,null,null,null,null,null,null,null,null,null,null,null,null,null,null,null,null,null,null,null,null,null,null,null,null,null,null,null,null,null,null,null,null,null,null,null,null,null,null,null,null,null,null,null,null,null,null,null,null,null,null,null,null,null,null,null,null,null,null,null,null,null,null,null,null,null,null,null,null,null,null,null,null,null,null,null,null,null,null,null,null,null,null,null,null,null,null,null,null,null,null,null,null,null,null,null,null,null,null,null,null,null,null,null,null,null,null,null,null,null,null,null,null,null,null,null,null,null,null,null,null,null,null,null,null,null,null,null,null,null,null,null,null,null,null,null,null,null,null,null,null,null,null,null,null,null,null,null,null,null,null,null,null,null,null,null,null,null,null,null,null,null,null,null,null,null,null,null,null,null,null,null,null,null,null,null,null,null,null,null,null,null,null,null,null,null,null,null,null,null,null,null,null,null,null,null,null,null,null,null,null,null,null,null,null,null,null,null,null,null,null,null,null,null,null,null,null,null,null,null,null,null,null,null,null,null,null,null,null,null,null,null,null,null,null,null,null,null,null,null,null,null,null,null,null,null,null,null,null,null,null,null,null,null,null,null,null,null,null,null,null,null,null,null,null,null,null,null,null,null,null,null,null,null,null,null,null,null,null,null,null,null,null,null,null,null,null,null,null,null,null,null,null,null,null,null,null,null,null,null,null,null,null,null,null,null,null,null,null,null,null,null,null,null,null,null,null,null,null,null,null,null,null,null,null,null,null,null,null,null,null,null,null,null,null,null,null,null,null,null,null,null,null,null,null,null,null,null,null,null,null,null,null,null,null,null,null,null,null,null,null,null,null,null,null,null,null,null,null,null,null,null,null,null,null,null,null,null,null,null,null,null,null,null,null,null,null,null,null,null,null,null,null,null,null,null,null,null,null,null,null,null,null,null,null,null,null,null,null,null,null,null,null,null,null,null,null,null,null,null,null,null,null,null,null,null,null,null,null,null,null,null,null,null,null,null,null,null,null,null,null,null,null,null,null,null,null,null,null,null,null,null,null,null,null,null,null,null,null,null,null,null,null,null,null,null,null,null,null,null,null,null,null,null,null,null,null,null,null,null,null,null,null,null,null,null,null,null,null,null,null,null,null,null,null,null,null,null,null,null,null,null,null,null,null,null,null,null,null,null,null,null,null,null,null,null,null,null,null,null,null,null,null,null,null,null,null,null,null,null,null,null,null,null,null,null,null,null,null,null,null,null,null,null,null,null,null,null,null,null,null,null,null,null,null,null,null,null,null,null,null,null,null,null,null,null,null,null,null,null,null,null,null,null,null,null,null,null,null,null,null,null,null,null,null,null,null,null,null,null,null,null,null,null,null,null,null,null,null,null,null,null,null,null,null,null,null,null,null,null,null,null,null,null,null,null,null,null,null,null,null,null,null,null,null,null,null,null,null,null,null,null,null,null,null,null,null,null,null,null,null,null,null,null,null,null,null,null,null,null,null,null,null,null,null,null,null,null,null,null,null,null,null,null,null,null,null,null,null,null,null,null,null,null,null,null,null,null,null,null,null,null,null,null,null,null,null,null,null,null,null,null,null,null,null,null,null,null,null,null,null,null,null,null,null,null,null,null,null,null,null,null,null,null,null,null,null,null,null,null,null,null,null,null,null,null,null,null,null,null,null,null,null,null,null,null,null,null,null,null,null,null,null,null,null,null,null,null,null,null,null,null,null,null,null,null,null,null,null,null,null,null,null,null,null,null,null,null,null,null,null,null,null,null,null,null,null,null,null,null,null,null,null,null,null,null,null,null,null,null,null,null,null,null,null,null,null,null,null,null,null,null,null,null,null,null,null,null,null,null,null,null,null,null,null,null,null,null,null,null,null,null,null,null,null,null,null,null,null,null,null,null,null,null,null,null,null,null,null,null,null,null,null,null,null,null,null,null,null,null,null,null,null,null,null,null,null,null,null,null,null,null,null,null,null,null,null,null,null,null,null,null,null,null,null,null,null,null,null,null,null,null,null,null,null,null,null,null,null,null,null,null,null,null,null,null,null,null,null,null,null,null,null,null,null,null,null,null,null,null,null,null,null,null,null,null,null,null,null,null,null,null,null,null,null,null,null,null,null,null,null,null,null,null,null,null,null,null,null,null,null,null,null,null,null,null,null,null,null,null,null,null,null,null,null,null,null,null,null,null,null,null,null,null,null,null,null,null,null,null,null,null,null,null,null,null,null,null,null,null,null,null,null,null,null,null,null,null,null,null,null,null,null,null,null,null,null,null,null,null,null,null,null,null,null,null,null,null,null,null,null,null,null,null,null,null,null,null,null,null,null,null,null,null,null,null,null,null,null,null,null,null,null,null,null,null,null,null,null,null,null,null,null,null,null,null,null,null,null,null,null,null,null,null,null,null,null,null,null,null,null,null,null,null,null,null,null,null,null,null,null,null,null,null,null,null,null,null,null,null,null,null,null,null,null,null,null,null,null,null,null,null,null,null,null,null,null,null,null,null,null,null,null,null,null,null,null,null,null,null,null,null,null,null,null,null,null,null,null,null,null,null,null,null,null,null,null,null,null,null,null,null,null,null,null,null,null,null,null,null,null,null,null,null,null,null,null,null,null,null,null,null,null,null,null,null,null,null,null,null,null,null,null,null,null,null,null,null,null,null,null,null,null,null,null,null,null,null,null,null,null,null,null,null,null,null,null,null,null,null,null,null,null,null,null,null,null,null,null,null,null,null,null,null,null,null,null,null,null,null,null,null,null,null,null,null,null,null,null,null,null,null,null,null,null,null,null,null,null,null,null,null,null,null,null,null,null,null,null,null,null,null,null,null,null,null,null,null,null,null,null,null,null,null,null,null,null,null,null,null,null,null,null,null,null,null,null,null,null,null,null,null,null,null,null,null,null,null,null,null,null,null,null,null,null,null,null,null,null,null,null,null,null,null,null,null,null,null,null,null,null,null,null,null,null,null,null,null,null,null,null,null,null,null,null,null,null,null,null,null,null,null,null,null,null,null,null,null,null,null,null,null,null,null,null,null,null,null,null,null,null,null,null,null,null,null,null,null,null,null,null,null,null,null,null,null,null,null,null,null,null,null,null,null,null,null,null,null,null,null,null,null,null,null,null,null,null,null,null,null,null,null,null,null,null,null,null,null,null,null,null,null,null,null,null,null,null,null,null,null,null,null,null,null,null,null,null,null,null,null,null,null,null,null,null,null,null,null,null,null,null,null,null,null,null,null,null,null,null,null,null,null,null,null,null,null,null,null,null,null,null,null,null,null,null,null,null,null,null,null,null,null,null,null,null,null,null,null,null,null,null,null,null,null,null,null,null,null,null,null,null,null,null,null,null,null,null,null,null,null,null,null,null,null,null,null,null,null,null,null,null,null,null,null,null,null,null,null,null,null,null,null,null,null,null,null,null,null,null,null,null,null,null,null,null,null,null,null,null,null,null,null,null,null,null,null,null,null,null,null,null,null,null,null,null,null,null,null,null,null,null,null,null,null,null,null,null,null,null,null,null,null,null,null,null,null,null,null,null,null,null,null,null,null,null,null,null,null,null,null,null,null,null,null,null,null,null,null,null,null,null,null,null,null,null,null,null,null,null,null,null,null,null,null,null,null,null,null,null,null,null,null,null,null,null,null,null,null,null,null,null,null,null,null,null,null,null,null,null,null,null,null,null,null,null,null,null,null,null,null,null,null,null,null,null,null,null,null,null,null,null,null,null,null,null,null,null,null,null,null,null,null,null,null,null,null,null,null,null,null,null,null,null,null,null,null,null,null,null,null,null,null,null,null,null,null,null,null,null,null,null,null,null,null,null,null,null,null,null,null,null,null,null,null,null,null,null,null,null,null,null,null,null,null,null,null,null,null,null,null,null,null,null,null,null,null,null,null,null,null,null,null,null,null,null,null,null,null,null,null,null,null,null,null,null,null,null,null,null,null,null,null,null,null,null,null,null,null,null,null,null,null,null,null,null,null,null,null,null,null,null,null,null,null,null,null,null,null,null,null,null,null,null,null,null,null,null,null,null,null,null,null,null,null,null,null,null,null,null,null,null,null,null,null,null,null,null,null,null,null,null,null,null,null,null,null,null,null,null,null,null,null,null,null,null,null,null,null,null,null,null,null,null,null,null,null,null,null,null,null,null,null,null,null,null,null,null,null,null,null,null,null,null,null,null,null,null,null,null,null,null,null,null,null,null,null,null,null,null,null,null,null,null,null,null,null,null,null,null,null,null,null,null,null,null,null,null,null,null,null,null,null,null,null,null,null,null,null,null,null,null,null,null,null,null,null,null,null,null,null,null,null,null,null,null,null,null,null,null,null,null,null,null,null,null,null,null,null,null,null,null,null,null,null,null,null,null,null,null,null,null,null,null,null,null,null,null,null,null,null,null,null,null,null,null,null,null,null,null,null,null,null,null,null,null,null,null,null,null,null,null,null,null,null,null,null,null,null,null,null,null,null,null,null,null,null,null,null,null,null,null,null,null,null,null,null,null,null,null,null,null,null,null,null,null,null,null,null,null,null,null,null,null,null,null,null,null,null,null,null,null,null,null,null,null,null,null,null,null,null,null,null,null,null,null,null,null,null,null,null,null,null,null,null,null,null,null,null,null,null,null,null,null,null,null,null,null,null,null,null,null,null,null,null,null,null,null,null,null,null,null,null,null,null,null,null,null,null,null,null,null,null,null,null,null,null,null,null,null,null,null,null,null,null,null,null,null,null,null,null,null,null,null,null,null,null,null,null,null,null,null,null,null,null,null,null,null,null,null,null,null,null,null,null,null,null,null,null,null,null,null,null,null,null,null,null,null,null,null,null,null,null,null,null,null,null,null,null,null,null,null,null,null,null,null,null,null,null,null,null,null,null,null,null,null,null,null,null,null,null,null,null,null,null,null,null,null,null,null,null,null,null,null,null,null,null,null,null,null,null,null,null,null,null,null,null,null,null,null,null,null,null,null,null,null,null,null,null,null,null,null,null,null,null,null,null,null,null,null,null,null,null,null,null,null,null,null,null,null,null,null,null,null,null,null,null,null,null,null,null,null,null,null,null,null,null,null,null,null,null,null,null,null,null,null,null,null,null,null,null,null,null,null,null,null,null,null,null,null,null,null,null,null,null,null,null,null,null,null,null,null,null,null,null,null,null,null,null,null,null,null,null,null,null,null,null,null,null,null,null,null,null,null,null,null,null,null,null,null,null,null,null,null,null,null,null,null,null,null,null,null,null,null,null,null,null,null,null,null,null,null,null,null,null,null,null,null,null,null,null,null,null,null,null,null,null,null,null,null,null,null,null,null,null,null,null,null,null,null,null,null,null,null,null,null,null,null,null,null,null,null,null,null,null,null,null,null,null,null,null,null,null,null,null,null,null,null,null,null,null,null,null,null,null,null,null,null,null,null,null,null,null,null,null,null,null,null,null,null,null,null,null,null,null,null,null,null,null,null,null,null,null,null,null,null,null,null,null,null,null,null,null,null,null,null,null,null,null,null,null,null,null,null,null,null,null,null,null,null,null,null,null,null,null,null,null,null,null,null,null,null,null,null,null,null,null,null,null,null,null,null,null,null,null,null,null,null,null,null,null,null,null,null,null,null,null,null,null,null,null,null,null,null,null,null,null,null,null,null,null,null,null,null,null,null,null,null,null,null,null,null,null,null,null,null,null,null,null,null,null,null,null,null,null,null,null,null,null,null,null,null,null,null,null,null,null,null,null,null,null,null,null,null,null,null,null,null,null,null,null,null,null,null,null,null,null,null,null,null,null,null,null,null,null,null,null,null,null,null,null,null,null,null,null,null,null,null,null,null,null,null,null,null,null,null,null,null,null,null,null,null,null,null,null,null,null,null,null,null,null,null,null,null,null,null,null,null,null,null,null,null,null,null,null,null,null,null,null,null,null,null,null,null,null,null,null,null,null,null,null,null,null,null,null,null,null,null,null,null,null,null,null,null,null,null,null,null,null,null,null,null,null,null,null,null,null,null,null,null,null,null,null,null,null,null,null,null,null,null,null,null,null,null,null,null,null,null,null,null,null,null,null,null,null,null,null,null,null,null,null,null,null,null,null,null,null,null,null,null,null,null,null,null,null,null,null,null,null,null,null,null,null,null,null,null,null,null,null,null,null,null,null,null,null,null,null,null,null,null,null,null,null,null,null,null,null,null,null,null,null,null,null,null,null,null,null,null,null,null,null,null,null,null,null,null,null,null,null,null,null,null,null,null,null,null,null,null,null,null,null,null,null,null,null,null,null,null,null,null,null,null,null,null,null,null,null,null,null,null,null,null,null,null,null,null,null,null,null,null,null,null,null,null,null,null,null,null,null,null,null,null,null,null,null,null,null,null,null,null,null,null,null,null,null,null,null,null,null,null,null,null,null,null,null,null,null,null,null,null,null,null,null,null,null,null,null,null,null,null,null,null,null,null,null,null,null,null,null,null,null,null,null,null,null,null,null,null,null,null,null,null,null,null,null,null,null,null,null,null,null,null,null,null,null,null,null,null,null,null,null,null,null,null,null,null,null,null,null,null,null,null,null,null,null,null,null,null,null,null,null,null,null,null,null,null,null,null,null,null,null,null,null,null,null,null,null,null,null,null,null,null,null,null,null,null,null,null,null,null,null,null,null,null,null,null,null,null,null,null,null,null,null,null,null,null,null,null,null,null,null,null,null,null,null,null,null,null,null,null,null,null,null,null,null,null,null,null,null,null,null,null,null,null,null,null,null,null,null,null,null,null,null,null,null,null,null,null,null,null,null,null,null,null,null,null,null,null,null,null,null,null,null,null,null,null,null,null,null,null,null,null,null,null,null,null,null,null,null,null,null,null,null,null,null,null,null,null,null,null,null,null,null,null,null,null,null,null,null,null,null,null,null,null,null,null,null,null,null,null,null,null,null,null,null,null,null,null,null,null,null,null,null,null,null,null,null,null,null,null,null,null,null,null,null,null,null,null,null,null,null,null,null,null,null,null,null,null,null,null,null,null,null,null,null,null,null,null,null,null,null,null,null,null,null,null,null,null,null,null,null,null,null,null,null,null,null,null,null,null,null,null,null,null,null,null,null,null,null,null,null,null,null,null,null,null,null,null,null,null,null,null,null,null,null,null,null,null,null,null,null,null,null,null,null,null,null,null,null,null,null,null,null,null,null,null,null,null,null,null,null,null,null,null,null,null,null,null,null,null,null,null,null,null,null,null,null,null,null,null,null,null,null,null,null,null,null,null,null,null,null,null,null,null,null,null,null,null,null,null,null,null,null,null,null,null,null,null,null,null,null,null,null,null,null,null,null,null,null,null,null,null,null,null,null,null,null,null,null,null,null,null,null,null,null,null,null,null,null,null,null,null,null,null,null,null,null,null,null,null,null,null,null,null,null,null,null,null,null,null,null,null,null,null,null,null,null,null,null,null,null,null,null,null,null,null,null,null,null,null,null,null,null,null,null,null,null,null,null,null,null,null,null,null,null,null,null,null,null,null,null,null,null,null,null,null,null,null,null,null,null,null,null,null,null,null,null,null,null,null,null,null,null,null,null,null,null,null,null,null,null,null,null,null,null,null,null,null,null,null,null,null,null,null,null,null,null,null,null,null,null,null,null,null,null,null,null,null,null,null,null,null,null,null,null,null,null,null,null,null,null,null,null,null,null,null,null,null,null,null,null,null,null,null,null,null,null,null,null,null,null,null,null,null,null,null,null,null,null,null,null,null,null,null,null,null,null,null,null,null,null,null,null,null,null,null,null,null,null,null,null,null,null,null,null,null,null,null,null,null,null,null,null,null,null,null,null,null,null,null,null,null,null,null,null,null,null,null,null,null,null,null,null,null,null,null,null,null,null,null,null,null,null,null,null,null,null,null,null,null,null,null,null,null,null,null,null,null,null,null,null,null,null,null,null,null,null,null,null,null,null,null,null,null,null,null,null,null,null,null,null,null,null,null,null,null,null,null,null,null,null,null,null,null,null,null,null,null,null,null,null,null,null,null,null,null,null,null,null,null,null,null,null,null,null,null,null,null,null,null,null,null,null,null,null,null,null,null,null,null,null,null,null,null,null,null,null,null,null,null,null,null,null,null,null,null,null,null,null,null,null,null,null,null,null,null,null,null,null,null,null,null,null,null,null,null,null,null,null,null,null,null,null,null,null,null,null,null,null,null,null,null,null,null,null,null,null,null,null,null,null,null,null,null,null,null,null,null,null,null,null,null,null,null,null,null,null,null,null,null,null,null,null,null,null,null,null,null,null,null,null,null,null,null,null,null,null,null,null,null,null,null,null,null,null,null,null,null,null,null,null,null,null,null,null,null,null,null,null,null,null,null,null,null,null,null,null,null,null,null,6,"Donaciones"]
[null,null,null,null,null,null,null,null,null,null,null,null,null,null,null,null,null,null,null,null,null,null,null,null,null,null,null,null,null,null,null,null,null,null,null,null,null,null,null,null,null,null,null,null,null,null,null,null,null,null,null,null,null,null,null,null,null,null,null,null,null,null,null,null,null,null,null,null,null,null,null,null,null,null,null,null,null,null,null,null,null,null,null,null,null,null,null,null,null,null,null,null,null,null,null,null,null,null,null,null,null,null,null,null,null,null,null,null,null,null,null,null,null,null,null,null,null,null,null,null,null,null,null,null,null,null,null,null,null,null,null,null,null,null,null,null,null,null,null,null,null,null,null,null,null,null,null,null,null,null,null,null,null,null,null,null,null,null,null,null,null,null,null,null,null,null,null,null,null,null,null,null,null,null,null,null,null,null,null,null,null,null,null,null,null,null,null,null,null,null,null,null,null,null,null,null,null,null,null,null,null,null,null,null,null,null,null,null,null,null,null,null,null,null,null,null,null,null,null,null,null,null,null,null,null,null,null,null,null,null,null,null,null,null,null,null,null,null,null,null,null,null,null,null,null,null,null,null,null,null,null,null,null,null,null,null,null,null,null,null,null,null,null,null,null,null,null,null,null,null,null,null,null,null,null,null,null,null,null,null,null,null,null,null,null,null,null,null,null,null,null,null,null,null,null,null,null,null,null,null,null,null,null,null,null,null,null,null,null,null,null,null,null,null,null,null,null,null,null,null,null,null,null,null,null,null,null,null,null,null,null,null,null,null,null,null,null,null,null,null,null,null,null,null,null,null,null,null,null,null,null,null,null,null,null,null,null,null,null,null,null,null,null,null,null,null,null,null,null,null,null,null,null,null,null,null,null,null,null,null,null,null,null,null,null,null,null,null,null,null,null,null,null,null,null,null,null,null,null,null,null,null,null,null,null,null,null,null,null,null,null,null,null,null,null,null,null,null,null,null,null,null,null,null,null,null,null,null,null,null,null,null,null,null,null,null,null,null,null,null,null,null,null,null,null,null,null,null,null,null,null,null,null,null,null,null,null,null,null,null,null,null,null,null,null,null,null,null,null,null,null,null,null,null,null,null,null,null,null,null,null,null,null,null,null,null,null,null,null,null,null,null,null,null,null,null,null,null,null,null,null,null,null,null,null,null,null,null,null,null,null,null,null,null,null,null,null,null,null,null,null,null,null,null,null,null,null,null,null,null,null,null,null,null,null,null,null,null,null,null,null,null,null,null,null,null,null,null,null,null,null,null,null,null,null,null,null,null,null,null,null,null,null,null,null,null,null,null,null,null,null,null,null,null,null,null,null,null,null,null,null,null,null,null,null,null,null,null,null,null,null,null,null,null,null,null,null,null,null,null,null,null,null,null,null,null,null,null,null,null,null,null,null,null,null,null,null,null,null,null,null,null,null,null,null,null,null,null,null,null,null,null,null,null,null,null,null,null,null,null,null,null,null,null,null,null,null,null,null,null,null,null,null,null,null,null,null,null,null,null,null,null,null,null,null,null,null,null,null,null,null,null,null,null,null,null,null,null,null,null,null,null,null,null,null,null,null,null,null,null,null,null,null,null,null,null,null,null,null,null,null,null,null,null,null,null,null,null,null,null,null,null,null,null,null,null,null,null,null,null,null,null,null,null,null,null,null,null,null,null,null,null,null,null,null,null,null,null,null,null,null,null,null,null,null,null,null,null,null,null,null,null,null,null,null,null,null,null,null,null,null,null,null,null,null,null,null,null,null,null,null,null,null,null,null,null,null,null,null,null,null,null,null,null,null,null,null,null,null,null,null,null,null,null,null,null,null,null,null,null,null,null,null,null,null,null,null,null,null,null,null,null,null,null,null,null,null,null,null,null,null,null,null,null,null,null,null,null,null,null,null,null,null,null,null,null,null,null,null,null,null,null,null,null,null,null,null,null,null,null,null,null,null,null,null,null,null,null,null,null,null,null,null,null,null,null,null,null,null,null,null,null,null,null,null,null,null,null,null,null,null,null,null,null,null,null,null,null,null,null,null,null,null,null,null,null,null,null,null,null,null,null,null,null,null,null,null,null,null,null,null,null,null,null,null,null,null,null,null,null,null,null,null,null,null,null,null,null,null,null,null,null,null,null,null,null,null,null,null,null,null,null,null,null,null,null,null,null,null,null,null,null,null,null,null,null,null,null,null,null,null,null,null,null,null,null,null,null,null,null,null,null,null,null,null,null,null,null,null,null,null,null,null,null,null,null,null,null,null,null,null,null,null,null,null,null,null,null,null,null,null,null,null,null,null,null,null,null,null,null,null,null,null,null,null,null,null,null,null,null,null,null,null,null,null,null,null,null,null,null,null,null,null,null,null,null,null,null,null,null,null,null,null,null,null,null,null,null,null,null,null,null,null,null,null,null,null,null,null,null,null,null,null,null,null,null,null,null,null,null,null,null,null,null,null,null,null,null,null,null,null,null,null,null,null,null,null,null,null,null,null,null,null,null,null,null,null,null,null,null,null,null,null,null,null,null,null,null,null,null,null,null,null,null,null,null,null,null,null,null,null,null,null,null,null,null,null,null,null,null,null,null,null,null,null,null,null,null,null,null,null,null,null,null,null,null,null,null,null,null,null,null,null,null,null,null,null,null,null,null,null,null,null,null,null,null,null,null,null,null,null,null,null,null,null,null,null,null,null,null,null,null,null,null,null,null,null,null,null,null,null,null,null,null,null,null,null,null,null,null,null,null,null,null,null,null,null,null,null,null,null,null,null,null,null,null,null,null,null,null,null,null,null,null,null,null,null,null,null,null,null,null,null,null,null,null,null,null,null,null,null,null,null,null,null,null,null,null,null,null,null,null,null,null,null,null,null,null,null,null,null,null,null,null,null,null,null,null,null,null,null,null,null,null,null,null,null,null,null,null,null,null,null,null,null,null,null,null,null,null,null,null,null,null,null,null,null,null,null,null,null,null,null,null,null,null,null,null,null,null,null,null,null,null,null,null,null,null,null,null,null,null,null,null,null,null,null,null,null,null,null,null,null,null,null,null,null,null,null,null,null,null,null,null,null,null,null,null,null,null,null,null,null,null,null,null,null,null,null,null,null,null,null,null,null,null,null,null,null,null,null,null,null,null,null,null,null,null,null,null,null,null,null,null,null,null,null,null,null,null,null,null,null,null,null,null,null,null,null,null,null,null,null,null,null,null,null,null,null,null,null,null,null,null,null,null,null,null,null,null,null,null,null,null,null,null,null,null,null,null,null,null,null,null,null,null,null,null,null,null,null,null,null,null,null,null,null,null,null,null,null,null,null,null,null,null,null,null,null,null,null,null,null,null,null,null,null,null,null,null,null,null,null,null,null,null,null,null,null,null,null,null,null,null,null,null,null,null,null,null,null,null,null,null,null,null,null,null,null,null,null,null,null,null,null,null,null,null,null,null,null,null,null,null,null,null,null,null,null,null,null,null,null,null,null,null,null,null,null,null,null,null,null,null,null,null,null,null,null,null,null,null,null,null,null,null,null,null,null,null,null,null,null,null,null,null,null,null,null,null,null,null,null,null,null,null,null,null,null,null,null,null,null,null,null,null,null,null,null,null,null,null,null,null,null,null,null,null,null,null,null,null,null,null,null,null,null,null,null,null,null,null,null,null,null,null,null,null,null,null,null,null,null,null,null,null,null,null,null,null,null,null,null,null,null,null,null,null,null,null,null,null,null,null,null,null,null,null,null,null,null,null,null,null,null,null,null,null,null,null,null,null,null,null,null,null,null,null,null,null,null,null,null,null,null,null,null,null,null,null,null,null,null,null,null,null,null,null,null,null,null,null,null,null,null,null,null,null,null,null,null,null,null,null,null,null,null,null,null,null,null,null,null,null,null,null,null,null,null,null,null,null,null,null,null,null,null,null,null,null,null,null,null,null,null,null,null,null,null,null,null,null,null,null,null,null,null,null,null,null,null,null,null,null,null,null,null,null,null,null,null,null,null,null,null,null,null,null,null,null,null,null,null,null,null,null,null,null,null,null,null,null,null,null,null,null,null,null,null,null,null,null,null,null,null,null,null,null,null,null,null,null,null,null,null,null,null,null,null,null,null,null,null,null,null,null,null,null,null,null,null,null,null,null,null,null,null,null,null,null,null,null,null,null,null,null,null,null,null,null,null,null,null,null,null,null,null,null,null,null,null,null,null,null,null,null,null,null,null,null,null,null,null,null,null,null,null,null,null,null,null,null,null,null,null,null,null,null,null,null,null,null,null,null,null,null,null,null,null,null,null,null,null,null,null,null,null,null,null,null,null,null,null,null,null,null,null,null,null,null,null,null,null,null,null,null,null,null,null,null,null,null,null,null,null,null,null,null,null,null,null,null,null,null,null,null,null,null,null,null,null,null,null,null,null,null,null,null,null,null,null,null,null,null,null,null,null,null,null,null,null,null,null,null,null,null,null,null,null,null,null,null,null,null,null,null,null,null,null,null,null,null,null,null,null,null,null,null,null,null,null,null,null,null,null,null,null,null,null,null,null,null,null,null,null,null,null,null,null,null,null,null,null,null,null,null,null,null,null,null,null,null,null,null,null,null,null,null,null,null,null,null,null,null,null,null,null,null,null,null,null,null,null,null,null,null,null,null,null,null,null,null,null,null,null,null,null,null,null,null,null,null,null,null,null,null,null,null,null,null,null,null,null,null,null,null,null,null,null,null,null,null,null,null,null,null,null,null,null,null,null,null,null,null,null,null,null,null,null,null,null,null,null,null,null,null,null,null,null,null,null,null,null,null,null,null,null,null,null,null,null,null,null,null,null,null,null,null,null,null,null,null,null,null,null,null,null,null,null,null,null,null,null,null,null,null,null,null,null,null,null,null,null,null,null,null,null,null,null,null,null,null,null,null,null,null,null,null,null,null,null,null,null,null,null,null,null,null,null,null,null,null,null,null,null,null,null,null,null,null,null,null,null,null,null,null,null,null,null,null,null,null,null,null,null,null,null,null,null,null,null,null,null,null,null,null,null,null,null,null,null,null,null,null,null,null,null,null,null,null,null,null,null,null,null,null,null,null,null,null,null,null,null,null,null,null,null,null,null,null,null,null,null,null,null,null,null,null,null,null,null,null,null,null,null,null,null,null,null,null,null,null,null,null,null,null,null,null,null,null,null,null,null,null,null,null,null,null,null,null,null,null,null,null,null,null,null,null,null,null,null,null,null,null,null,null,null,null,null,null,null,null,null,null,null,null,null,null,null,null,null,null,null,null,null,null,null,null,null,null,null,null,null,null,null,null,null,null,null,null,null,null,null,null,null,null,null,null,null,null,null,null,null,null,null,null,null,null,null,null,null,null,null,null,null,null,null,null,null,null,null,null,null,null,null,null,null,null,null,null,null,null,null,null,null,null,null,null,null,null,null,null,null,null,null,null,null,null,null,null,null,null,null,null,null,null,null,null,null,null,null,null,null,null,null,null,null,null,null,null,null,null,null,null,null,null,null,null,null,null,null,null,null,null,null,null,null,null,null,null,null,null,null,null,null,null,null,null,null,null,null,null,null,null,null,null,null,null,null,null,null,null,null,null,null,null,null,null,null,null,null,null,null,null,null,null,null,null,null,null,null,null,null,null,null,null,null,null,null,null,null,null,null,null,null,null,null,null,null,null,null,null,null,null,null,null,null,null,null,null,null,null,null,null,null,null,null,null,null,null,null,null,null,null,null,null,null,null,null,null,null,null,null,null,null,null,null,null,null,null,null,null,null,null,null,null,null,null,null,null,null,null,null,null,null,null,null,null,null,null,null,null,null,null,null,null,null,null,null,null,null,null,null,null,null,null,null,null,null,null,null,null,null,null,null,null,null,null,null,null,null,null,null,null,null,null,null,null,null,null,null,null,null,null,null,null,null,null,null,null,null,null,null,null,null,null,null,null,null,null,null,null,null,null,null,null,null,null,null,null,null,null,null,null,null,null,null,null,null,null,null,null,null,null,null,null,null,null,null,null,null,null,null,null,null,null,null,null,null,null,null,null,null,null,null,null,null,null,null,null,null,null,null,null,null,null,null,null,null,null,null,null,null,null,null,null,null,null,null,null,null,null,null,null,null,null,null,null,null,null,null,null,null,null,null,null,null,null,null,null,null,null,null,null,null,null,null,null,null,null,null,null,null,null,null,null,null,null,null,null,null,null,null,null,null,null,null,null,null,null,null,null,null,null,null,null,null,null,null,null,null,null,null,null,null,null,null,null,null,null,null,null,null,null,null,null,null,null,null,null,null,null,null,null,null,null,null,null,null,null,null,null,null,null,null,null,null,null,null,null,null,null,null,null,null,null,null,null,null,null,null,null,null,null,null,null,null,null,null,null,null,null,null,null,null,null,null,null,null,null,null,null,null,null,null,null,null,null,null,null,null,null,null,null,null,null,null,null,null,null,null,null,null,null,null,null,null,null,null,null,null,null,null,null,null,null,null,null,null,null,null,null,null,null,null,null,null,null,null,null,null,null,null,null,null,null,null,null,null,null,null,null,null,null,null,null,null,null,null,null,null,null,null,null,null,null,null,null,null,null,null,null,null,null,null,null,null,null,null,null,null,null,null,null,null,null,null,null,null,null,null,null,null,null,null,null,null,null,null,null,null,null,null,null,null,null,null,null,null,null,null,null,null,null,null,null,null,null,null,null,null,null,null,null,null,null,null,null,null,null,null,null,null,null,null,null,null,null,null,null,null,null,null,null,null,null,null,null,null,null,null,null,null,null,null,null,null,null,null,null,null,null,null,null,null,null,null,null,null,null,null,null,null,null,null,null,null,null,null,null,null,null,null,null,null,null,null,null,null,null,null,null,null,null,null,null,null,null,null,null,null,null,null,null,null,null,null,null,null,null,null,null,null,null,null,null,null,null,null,null,null,null,null,null,null,null,null,null,null,null,null,null,null,null,null,null,null,null,null,null,null,null,null,null,null,null,null,null,null,null,null,null,null,null,null,null,null,null,null,null,null,null,null,null,null,null,null,null,null,null,null,null,null,null,null,null,null,null,null,null,null,null,null,null,null,null,null,null,null,null,null,null,null,null,null,null,null,null,null,null,null,null,null,null,null,null,null,null,null,null,null,null,null,null,null,null,null,null,null,null,null,null,null,null,null,null,null,null,null,null,null,null,null,null,null,null,null,null,null,null,null,null,null,null,null,null,null,null,null,null,null,null,null,null,null,null,null,null,null,null,null,null,null,null,null,null,null,null,null,null,null,null,null,null,null,null,null,null,null,null,null,null,null,null,null,null,null,null,null,null,null,null,null,null,null,null,null,null,null,null,null,null,null,null,null,null,null,null,null,null,null,null,null,null,null,null,null,null,null,null,null,null,null,null,null,null,null,null,null,null,null,null,null,null,null,null,null,null,null,null,null,null,null,null,null,null,null,null,null,null,null,null,null,null,null,null,null,null,null,null,null,null,null,null,null,null,null,null,null,null,null,null,null,null,null,null,null,null,null,null,null,null,null,null,null,null,null,null,null,null,null,null,null,null,null,null,null,null,null,null,null,null,null,null,null,null,null,null,null,null,null,null,null,null,null,null,null,null,null,null,null,null,null,null,null,null,null,null,null,null,null,null,null,null,null,null,null,null,null,null,null,null,null,null,null,null,null,null,null,null,null,null,null,null,null,null,null,null,null,null,null,null,null,null,null,null,null,null,null,null,null,null,null,null,null,null,null,null,null,null,null,null,null,null,null,null,null,null,null,null,null,null,null,null,null,null,null,null,null,null,null,null,null,null,null,null,null,null,null,null,null,null,null,null,null,null,null,null,null,null,null,null,null,null,null,null,null,null,null,null,null,null,null,null,null,null,null,null,null,null,null,null,null,null,null,null,null,null,null,null,null,null,null,null,null,null,null,null,null,null,null,null,null,null,null,null,null,null,null,null,null,null,null,null,null,null,null,null,null,null,null,null,null,null,null,null,null,null,null,null,null,null,null,null,null,null,null,null,null,null,null,null,null,null,null,null,null,null,null,null,null,null,null,null,null,null,null,null,null,null,null,null,null,null,null,null,null,null,null,null,null,null,null,null,null,null,null,null,null,null,null,null,null,null,null,null,null,null,null,null,null,null,null,null,null,null,null,null,null,null,null,null,null,null,null,null,null,null,null,null,null,null,null,null,null,null,null,null,null,null,null,null,null,null,null,null,null,null,null,null,null,null,null,null,null,null,null,null,null,null,null,null,null,null,null,null,null,null,null,null,null,null,null,null,null,null,null,null,null,null,null,null,null,null,null,null,null,null,null,null,null,null,null,null,null,null,null,null,null,null,null,null,null,null,null,null,null,null,null,null,null,null,null,null,null,null,null,null,null,null,null,null,null,null,null,null,null,null,null,null,null,null,null,null,null,null,null,null,null,null,null,null,null,null,null,null,null,null,null,null,null,null,null,null,null,null,null,null,null,null,null,null,null,null,null,null,null,null,null,null,null,null,null,null,null,null,null,null,null,null,null,null,null,null,null,null,null,null,null,null,null,null,null,null,null,null,null,null,null,null,null,null,null,null,null,null,null,null,null,null,null,null,null,null,null,null,null,null,null,null,null,null,null,null,null,null,null,null,null,null,null,null,null,null,null,null,null,null,null,null,null,null,null,null,null,null,null,null,null,null,null,null,null,null,null,null,null,null,null,null,null,null,null,null,null,null,null,null,null,null,null,null,null,null,null,null,null,null,null,null,null,null,null,null,null,null,null,null,null,null,null,null,null,null,null,null,null,null,null,null,null,null,null,null,null,null,null,null,null,null,null,null,null,null,null,null,null,null,null,null,null,null,null,null,null,null,null,null,null,null,null,null,null,null,null,null,null,null,null,null,null,null,null,null,null,null,null,null,null,null,null,null,null,null,null,null,null,null,null,null,null,null,null,null,null,null,null,null,null,null,null,null,null,null,null,null,null,null,null,null,null,null,null,null,null,null,null,null,null,null,null,null,null,null,null,null,null,null,null,null,null,null,null,null,null,null,null,null,null,null,null,null,null,null,null,null,null,null,null,null,null,null,null,null,null,null,null,null,null,null,null,null,null,null,null,null,null,null,null,null,null,null,null,null,null,null,null,null,null,null,null,null,null,null,null,null,null,null,null,null,null,null,null,null,null,null,null,null,null,null,null,null,null,null,null,null,null,null,null,null,null,null,null,null,null,null,null,null,null,null,null,null,null,null,null,null,null,null,null,null,null,null,null,null,null,null,null,null,null,null,null,null,null,null,null,null,null,null,null,null,null,null,null,null,null,null,null,null,null,null,null,null,null,null,null,null,null,null,null,null,null,null,null,null,null,null,null,null,null,null,null,null,null,null,null,null,null,null,null,null,null,null,null,null,null,null,null,null,null,null,null,null,null,null,null,null,null,null,null,null,null,null,null,null,null,null,null,null,null,null,null,null,null,null,null,null,null,null,null,null,null,null,null,null,null,null,null,null,null,null,null,null,null,null,null,null,null,null,null,null,null,null,null,null,null,null,null,null,null,null,null,null,null,null,null,null,null,null,null,null,null,null,null,null,null,null,null,null,null,null,null,null,null,null,null,null,null,null,null,null,null,null,null,null,null,null,null,null,null,null,null,null,null,null,null,null,null,null,null,null,null,null,null,null,null,null,null,null,null,null,null,null,null,null,null,null,null,null,null,null,null,null,null,null,null,null,null,null,null,null,null,null,null,null,null,null,null,null,null,null,null,null,null,null,null,null,null,null,null,null,null,null,null,null,null,null,null,null,null,null,null,null,null,null,null,null,null,null,null,null,null,null,null,null,null,null,null,null,null,null,null,null,null,null,null,null,null,null,null,null,null,null,null,null,null,null,null,null,null,null,null,null,null,null,null,null,null,null,null,null,null,null,null,null,null,null,null,null,null,null,null,null,null,null,null,null,null,null,null,null,null,null,null,null,null,null,null,null,null,null,null,null,null,null,null,null,null,null,null,null,null,null,null,null,null,null,null,null,null,null,null,null,null,null,null,null,null,null,null,null,null,null,null,null,null,null,null,null,null,null,null,null,null,null,null,null,null,null,null,null,null,null,null,null,null,null,null,null,null,null,null,null,null,null,null,null,null,null,null,null,null,null,null,null,null,null,null,null,null,null,null,null,null,null,null,null,null,null,null,null,null,null,null,null,null,null,null,null,null,null,null,null,null,null,null,null,null,null,null,null,null,null,null,null,null,null,null,null,null,null,null,null,null,null,null,null,null,null,null,null,null,null,null,null,null,null,null,null,null,null,null,null,null,null,null,null,null,null,null,null,null,null,null,null,null,null,null,null,null,null,null,null,null,null,null,null,null,null,null,null,null,null,null,null,null,null,null,null,null,null,null,null,null,null,null,null,null,null,null,null,null,null,null,null,null,null,null,null,null,null,null,null,null,null,null,null,null,null,null,null,null,null,null,null,null,null,null,null,null,null,null,null,null,null,null,null,null,null,null,null,null,null,null,null,null,null,null,null,null,null,null,null,null,null,null,null,null,null,null,null,null,null,null,null,null,null,null,null,null,null,null,null,null,null,null,null,null,null,null,null,null,null,null,null,null,null,null,null,null,null,null,null,null,null,null,null,null,null,null,null,null,null,null,null,null,null,null,null,null,null,null,null,null,null,null,null,null,null,null,null,null,null,null,null,null,null,null,null,null,null,null,null,null,null,null,null,null,null,null,null,null,null,null,null,null,null,null,null,null,null,null,null,null,null,null,null,null,null,null,null,null,null,null,null,null,null,null,null,null,null,null,null,null,null,null,null,null,null,null,null,null,null,null,null,null,null,null,null,null,null,null,null,null,null,null,null,null,null,null,null,null,null,null,null,null,null,null,null,null,null,null,null,null,null,null,null,null,null,null,null,null,null,null,null,null,null,null,null,null,null,null,null,null,null,null,null,null,null,null,null,null,null,null,null,null,null,null,null,null,null,null,null,null,null,null,null,null,null,null,null,null,null,null,null,null,null,null,null,null,null,null,null,null,null,null,null,null,null,null,null,null,null,null,null,null,null,null,null,null,null,null,null,null,null,null,null,null,null,null,null,null,null,null,null,null,null,null,null,null,null,null,null,null,null,null,null,null,null,null,null,null,null,null,null,null,null,null,null,null,null,null,null,null,null,null,null,null,null,null,null,null,null,null,null,null,null,null,null,null,null,null,null,null,null,null,null,null,null,null,null,null,null,null,null,null,null,null,null,null,null,null,null,null,null,null,null,null,null,null,null,null,null,null,null,null,null,null,null,null,null,null,null,null,null,null,null,null,null,null,null,null,null,null,null,null,null,null,null,null,null,null,null,null,null,null,null,null,null,null,null,null,null,null,null,null,null,null,null,null,null,null,null,null,null,null,null,null,null,null,null,null,null,null,null,null,null,null,null,null,null,null,null,null,null,null,null,null,null,null,null,null,null,null,null,null,null,null,null,null,null,null,null,null,null,null,null,null,null,null,null,null,null,null,null,null,null,null,null,null,null,null,null,null,null,null,null,null,null,null,null,null,null,null,null,null,null,null,null,null,null,null,null,null,null,null,null,null,null,null,null,null,null,null,null,null,null,null,null,null,null,null,null,null,null,null,null,null,null,null,null,null,null,null,null,null,null,null,null,null,null,null,null,null,null,null,null,null,null,null,null,null,null,null,null,null,null,null,null,null,null,null,null,null,null,null,null,null,null,null,null,null,null,null,null,null,null,null,null,null,null,null,null,null,null,null,null,null,null,null,null,null,null,null,null,null,null,null,null,null,null,null,null,null,null,null,null,null,null,null,null,null,null,null,null,null,null,null,null,null,null,null,null,null,null,null,null,null,null,null,null,null,null,null,null,null,null,null,null,null,null,null,null,null,null,null,null,null,null,null,null,null,null,null,null,null,null,null,null,null,null,null,null,null,null,null,null,null,null,null,null,null,null,null,null,null,null,null,null,null,null,null,null,null,null,null,null,null,null,null,null,null,null,null,null,null,null,null,null,null,null,null,null,null,null,null,null,null,null,null,null,null,null,null,null,null,null,null,null,null,null,null,null,null,null,null,null,null,null,null,null,null,null,null,null,null,null,null,null,null,null,null,null,null,null,null,null,null,null,null,null,null,null,null,null,null,null,null,null,null,null,null,null,null,null,null,null,null,null,null,null,null,null,null,null,null,null,null,null,null,null,null,null,null,null,null,null,null,null,null,null,null,null,null,null,null,null,null,null,null,null,null,null,null,null,null,null,null,null,null,null,null,null,null,null,null,null,null,null,null,null,null,null,null,null,null,null,null,null,null,null,null,null,null,null,null,null,null,null,null,null,null,null,null,null,null,null,null,null,null,null,null,null,null,null,null,null,null,null,null,null,null,null,null,null,null,null,null,null,null,null,null,null,null,null,null,null,null,null,null,null,null,null,null,null,null,null,null,null,null,null,null,null,null,null,null,null,null,null,null,null,null,null,null,null,null,null,null,null,null,null,null,null,null,null,null,null,null,null,null,null,null,null,null,null,null,null,null,null,null,null,null,null,null,null,null,null,null,null,null,null,null,null,null,null,null,null,null,null,null,null,null,null,null,null,null,null,null,null,null,null,null,null,null,null,null,null,null,null,null,null,null,null,null,null,null,null,null,null,null,null,null,null,null,null,null,null,null,null,null,null,null,null,null,null,null,null,null,null,null,null,null,null,null,null,null,null,null,null,null,null,null,null,null,null,null,null,null,null,null,null,null,null,null,null,null,null,null,null,null,null,null,null,null,null,null,null,null,null,null,null,null,null,null,null,null,null,null,null,null,null,null,null,null,null,null,null,null,null,null,null,null,null,null,null,null,null,null,null,null,null,null,null,null,null,null,null,null,null,null,null,null,null,null,null,null,null,null,null,null,null,null,null,null,null,null,null,null,null,null,null,null,null,null,null,null,null,null,null,null,null,null,null,null,null,null,null,null,null,null,null,null,null,null,null,null,null,null,null,null,null,null,null,null,null,null,null,null,null,null,null,null,null,null,null,null,null,null,null,null,null,null,null,null,null,null,null,null,null,null,null,null,null,null,null,null,null,null,null,null,null,null,null,null,null,null,null,null,null,null,null,null,null,null,null,null,null,null,null,null,null,null,null,null,null,null,null,null,null,null,null,null,null,null,null,null,null,null,null,null,null,null,null,null,null,null,null,null,null,null,null,null,null,null,null,null,null,null,null,null,null,null,null,null,null,null,null,null,null,null,null,null,null,null,null,null,null,null,null,null,null,null,null,null,null,null,null,null,null,null,null,null,null,null,null,null,null,null,null,null,null,null,null,null,null,null,null,null,null,null,null,null,null,null,null,null,null,null,null,null,null,null,null,null,null,null,null,null,null,null,null,null,null,null,null,null,null,null,null,null,null,null,null,null,null,null,null,null,null,null,null,null,null,null,null,null,null,null,null,null,null,null,null,null,null,null,null,null,null,null,null,null,null,null,null,null,null,null,null,null,null,null,null,null,null,null,null,null,null,null,null,null,null,null,null,null,null,null,null,null,null,null,null,null,null,null,null,null,null,null,null,null,null,null,null,null,null,null,null,null,null,null,null,null,null,null,null,null,null,null,null,null,null,null,null,null,null,null,null,null,null,null,null,null,null,null,null,null,null,null,null,null,null,null,null,null,null,null,null,null,null,null,null,null,null,null,null,null,null,null,null,null,null,null,null,null,null,null,null,null,null,null,null,null,null,null,null,null,null,null,null,null,null,null,null,null,null,null,null,null,null,null,null,null,null,null,null,null,null,null,null,null,null,null,null,null,null,null,null,null,null,null,null,null,null,null,null,null,null,null,null,null,null,null,null,null,null,null,null,null,null,null,null,null,null,null,null,null,null,null,null,null,null,null,null,null,null,null,null,null,null,null,null,null,null,null,null,null,null,null,null,null,null,null,null,null,null,null,null,null,null,null,null,null,null,null,null,null,null,null,null,null,null,null,null,null,null,null,null,null,null,null,null,null,null,null,null,null,null,null,null,null,null,null,null,null,null,null,null,null,null,null,null,null,null,null,null,null,null,null,null,null,null,null,null,null,null,null,null,null,null,null,null,null,null,null,null,null,null,null,null,null,null,null,null,null,null,null,null,null,null,null,null,null,null,null,null,null,null,null,null,null,null,null,null,null,null,null,null,null,null,null,null,null,null,null,null,null,null,null,null,null,null,null,null,null,null,null,null,null,null,null,null,null,null,null,null,null,null,null,null,null,null,null,null,null,null,null,null,null,null,null,null,null,null,null,null,null,null,null,null,null,null,null,null,null,null,null,null,null,null,null,null,null,null,null,null,null,null,null,null,null,null,null,null,null,null,null,null,null,null,null,null,null,null,null,null,null,null,null,null,null,null,null,null,null,null,null,null,null,null,null,null,null,null,null,null,null,null,null,null,null,null,null,null,null,null,null,null,null,null,null,null,null,null,null,null,null,null,null,null,null,null,null,null,null,null,null,null,null,null,null,null,null,null,null,null,null,null,null,null,null,null,null,null,null,null,null,null,null,null,null,null,null,null,null,null,null,null,null,null,null,null,null,null,null,null,null,null,null,null,null,null,null,null,null,null,null,null,null,null,null,null,null,null,null,null,null,null,null,null,null,null,null,null,null,null,null,null,null,null,null,null,null,null,null,null,null,null,null,null,null,null,null,null,null,null,null,null,null,null,null,null,null,null,null,null,null,null,null,null,null,null,null,null,null,null,null,null,null,null,null,null,null,null,null,null,null,null,null,null,null,null,null,null,null,null,null,null,null,null,null,null,null,null,null,null,null,null,null,null,null,null,null,null,null,null,null,null,null,null,null,null,null,null,null,null,null,null,null,null,null,null,null,null,null,null,null,null,null,null,null,null,null,null,null,null,null,null,null,null,null,null,null,null,null,null,null,null,null,null,null,null,null,null,null,null,null,null,null,null,null,null,null,null,null,null,null,null,null,null,null,null,null,null,null,null,null,null,null,null,null,null,null,null,null,null,null,null,null,null,null,null,null,null,null,null,null,null,null,null,null,null,null,null,null,null,null,null,null,null,null,null,null,null,null,null,null,null,null,null,null,null,null,null,null,null,null,null,null,null,null,null,null,null,null,null,null,null,null,null,null,null,null,null,null,null,null,null,null,null,null,null,null,null,null,null,null,null,null,null,null,null,null,null,null,null,null,null,null,null,null,null,null,null,null,null,null,null,null,null,null,null,null,null,null,null,null,null,null,null,null,null,null,null,null,null,null,null,null,null,null,null,null,null,null,null,null,null,null,null,null,null,null,null,null,null,null,null,null,null,null,null,null,null,null,null,null,null,null,null,null,null,null,null,null,null,null,null,null,null,null,null,null,null,null,null,null,null,null,null,null,null,null,null,null,null,null,null,null,null,null,null,null,null,null,null,null,null,null,null,null,null,null,null,null,null,null,null,null,null,null,null,null,null,null,null,null,null,null,null,null,null,null,null,null,null,null,null,null,null,null,null,null,null,null,null,null,null,null,null,null,null,null,null,null,null,null,null,null,null,null,null,null,null,null,null,null,null,null,null,null,null,null,null,null,null,null,null,null,null,null,null,null,null,null,null,null,null,null,null,null,null,null,null,null,null,null,null,null,null,null,null,null,null,null,null,null,null,null,null,null,null,null,null,null,null,null,null,null,null,null,null,null,null,null,null,null,null,null,null,null,null,null,null,null,null,null,null,null,null,null,null,null,null,null,null,null,null,null,null,null,null,null,null,null,null,null,null,null,null,null,null,null,null,null,null,null,null,null,null,null,null,null,null,null,null,null,null,null,null,null,null,null,null,null,null,null,null,null,null,null,null,null,null,null,null,null,null,null,null,null,null,null,null,null,null,null,null,null,null,null,null,null,null,null,null,null,null,null,null,null,null,null,null,null,null,null,null,null,null,null,null,null,null,null,null,null,null,null,null,null,null,null,null,null,null,null,null,null,null,null,null,null,null,null,null,null,null,null,null,null,null,null,null,null,null,null,null,null,null,null,null,null,null,null,null,null,null,null,null,null,null,null,null,null,null,null,null,null,null,null,null,null,null,null,null,null,null,null,null,null,null,null,null,null,null,null,null,null,null,null,null,null,null,null,null,null,null,null,null,null,null,null,null,null,null,null,null,null,null,null,null,null,null,null,null,null,null,null,null,null,null,null,null,null,null,null,null,null,null,null,null,null,null,null,null,null,null,null,null,null,null,null,null,null,null,null,null,null,null,null,null,null,null,null,null,null,null,null,null,null,null,null,null,null,null,null,null,null,null,null,null,null,null,null,null,null,null,null,null,null,null,null,null,null,null,null,null,null,null,null,null,null,null,null,null,null,null,null,null,null,null,null,null,null,null,null,null,null,null,null,null,null,null,null,null,null,null,null,null,null,null,null,null,null,null,null,null,null,null,null,null,null,null,null,null,null,null,null,null,null,null,null,null,null,null,null,null,null,null,null,null,null,null,null,null,null,null,null,null,null,null,null,null,null,null,null,null,null,null,null,null,null,null,null,null,null,null,null,null,null,null,null,null,null,null,null,null,null,null,null,null,null,null,null,null,null,null,null,null,null,null,null,null,null,null,null,null,null,null,null,null,null,null,null,null,null,null,null,null,null,null,null,null,null,null,null,null,null,null,null,null,null,null,null,null,null,null,null,null,null,null,null,null,null,null,null,null,null,null,null,null,null,null,null,null,null,null,null,null,null,null,null,null,null,null,null,null,null,null,null,null,null,null,null,null,null,null,null,null,null,null,null,null,null,null,null,null,null,null,null,null,null,null,null,null,null,null,null,null,null,null,null,null,null,null,null,null,null,null,null,null,null,null,null,null,null,null,null,null,null,null,null,null,null,null,null,null,null,null,null,null,null,null,null,null,null,null,null,null,null,null,null,null,null,null,null,null,null,null,null,null,null,null,null,null,null,null,null,null,null,null,null,null,null,null,null,null,null,null,null,null,null,null,null,null,null,null,null,null,null,null,null,null,null,null,null,null,null,null,null,null,null,null,null,null,null,null,null,null,null,null,null,null,null,null,null,null,null,null,null,null,null,null,null,null,null,null,null,null,null,null,null,null,null,null,null,null,null,null,null,null,null,null,null,null,null,null,null,null,null,null,null,null,null,null,null,null,null,null,null,null,null,null,null,null,null,null,null,null,null,null,null,null,null,null,null,null,null,null,null,null,null,null,null,null,null,null,null,null,null,null,null,null,null,null,null,null,null,null,null,null,null,null,null,null,null,null,null,null,null,null,null,null,null,null,null,null,null,null,null,null,null,null,null,null,null,null,null,null,null,null,null,null,null,null,null,null,null,null,null,null,null,null,null,null,null,null,null,null,null,null,null,null,null,null,null,null,null,null,null,null,null,null,null,null,null,null,null,null,null,null,null,null,null,null,null,null,null,null,null,null,null,null,null,null,null,null,null,null,null,null,null,null,null,null,null,null,null,null,null,null,null,null,null,null,null,null,null,null,null,null,null,null,null,null,null,null,null,null,null,null,null,null,null,null,null,null,null,null,null,null,null,null,null,null,null,null,null,null,null,null,null,null,null,null,null,null,null,null,null,null,null,null,null,null,null,null,null,null,null,null,null,null,null,null,null,null,null,null,null,null,null,null,null,null,null,null,null,null,null,null,null,null,null,null,null,null,null,null,null,null,null,null,null,null,null,null,null,null,null,null,null,null,null,null,null,null,null,null,null,null,null,null,null,null,null,null,null,null,null,null,null,null,null,null,null,null,null,null,null,null,null,null,null,null,null,null,null,null,null,null,null,null,null,null,null,null,null,null,null,null,null,null,null,null,null,null,null,null,null,null,null,null,null,null,null,null,null,null,null,null,null,null,null,null,null,null,null,null,null,null,null,null,null,null,null,null,null,null,null,null,null,null,null,null,null,null,null,null,null,null,null,null,null,null,null,null,null,null,null,null,null,null,null,null,null,null,null,null,null,null,null,null,null,null,null,null,null,null,null,null,null,null,null,null,null,null,null,null,null,null,null,null,null,null,null,null,null,null,null,null,null,null,null,null,null,null,null,null,null,null,null,null,null,null,null,null,null,null,null,null,null,null,null,null,null,null,null,null,null,null,null,null,null,null,null,null,null,null,null,null,null,null,null,null,null,null,null,null,null,null,null,null,null,null,null,null,null,null,null,null,null,null,null,null,null,null,null,null,null,null,null,null,null,null,null,null,null,null,null,null,null,null,null,null,null,null,null,null,null,null,null,null,null,null,null,null,null,null,null,null,null,null,null,null,null,null,null,null,null,null,null,null,null,null,null,null,null,null,null,null,null,null,null,null,null,null,null,null,null,null,null,null,null,null,null,null,null,null,null,null,null,null,null,null,null,null,null,null,null,null,null,null,null,null,null,null,null,null,null,null,null,null,null,null,null,null,null,null,null,null,null,null,null,null,null,null,null,null,null,null,null,null,null,null,null,null,null,null,null,null,null,null,null,null,null,null,null,null,null,null,null,null,null,null,null,null,null,null,null,null,null,null,null,null,null,null,null,null,null,null,null,null,null,null,null,null,null,null,null,null,null,null,null,null,null,null,null,null,null,null,null,null,null,null,null,null,null,null,null,null,null,null,null,null,null,null,null,null,null,null,null,null,null,null,null,null,null,null,null,null,null,null,null,null,null,null,null,null,null,null,null,null,null,null,null,null,null,null,null,null,null,null,null,null,null,null,null,null,null,null,null,null,null,null,null,null,null,null,null,null,null,null,null,null,null,null,null,null,null,null,null,null,null,null,null,null,null,null,null,null,null,null,null,null,null,null,null,null,null,null,null,null,null,null,null,null,null,null,null,null,null,null,null,null,null,null,null,null,null,null,null,null,null,null,null,null,null,null,null,null,null,null,null,null,null,null,null,null,null,null,null,null,null,null,null,null,null,null,null,null,null,null,null,null,null,null,null,null,null,null,null,null,null,null,null,null,null,null,null,null,null,null,null,null,null,null,null,null,null,null,null,null,null,null,null,null,null,null,null,null,null,null,null,null,null,null,null,null,null,null,null,null,null,null,null,null,null,null,null,null,null,null,null,null,null,null,null,null,null,null,null,null,null,null,null,null,null,null,null,null,null,null,null,null,null,null,null,null,null,null,null,null,null,null,null,null,null,null,null,null,null,null,null,null,null,null,null,null,null,null,null,null,null,null,null,null,null,null,null,null,null,null,null,null,null,null,null,null,null,null,null,null,null,null,null,null,null,null,null,null,null,null,null,null,null,null,null,null,null,null,null,null,null,null,null,null,null,null,null,null,null,null,null,null,null,null,null,null,null,null,null,null,null,null,null,null,null,null,null,null,null,null,null,null,null,null,null,null,null,null,null,null,null,null,null,null,null,null,null,null,null,null,null,null,null,null,null,null,null,null,null,null,null,null,null,null,null,null,null,null,null,null,null,null,null,null,null,null,null,null,null,null,null,null,null,null,null,null,null,null,null,null,null,null,null,null,null,null,null,null,null,null,null,null,null,null,null,null,null,null,null,null,null,null,null,null,null,null,null,null,null,null,null,null,null,null,null,null,null,null,null,null,null,null,null,null,null,null,null,null,null,null,null,null,null,null,null,null,null,null,null,null,null,null,null,null,null,null,null,null,null,null,null,null,null,null,null,null,null,null,null,null,null,null,null,null,null,null,null,null,null,null,null,null,null,null,null,null,null,null,null,null,null,null,null,null,null,null,null,null,null,null,null,null,null,null,null,null,null,null,null,null,null,null,null,null,null,null,null,null,null,null,null,null,null,null,null,null,null,null,null,null,null,null,null,null,null,null,null,null,null,null,null,null,null,null,null,null,null,null,null,null,null,null,null,null,null,null,null,null,null,null,null,null,null,null,null,null,null,null,null,null,null,null,null,null,null,null,null,null,null,null,null,null,null,null,null,null,null,null,null,null,null,null,null,null,null,null,null,null,null,null,null,null,null,null,null,null,null,null,null,null,null,null,null,null,null,null,null,null,null,null,null,null,null,null,null,null,null,null,null,null,null,null,null,null,null,null,null,null,null,null,null,null,null,null,null,null,null,null,null,null,null,null,null,null,null,null,null,null,null,null,null,null,null,null,null,null,null,null,null,null,null,null,null,null,null,null,null,null,null,null,null,null,null,null,null,null,null,null,null,null,null,null,null,null,null,null,null,null,null,null,null,null,null,null,null,null,null,null,null,null,null,null,null,null,null,null,null,null,null,null,null,null,null,null,null,null,null,null,null,null,null,null,null,null,null,null,null,null,null,null,null,null,null,null,null,null,null,null,null,null,null,null,null,null,null,null,null,null,null,null,null,null,null,null,null,null,null,null,null,null,null,null,null,null,null,null,null,null,null,null,null,null,null,null,null,null,null,null,null,null,null,null,null,null,null,null,null,null,null,null,null,null,null,null,null,null,null,null,null,null,null,null,null,null,null,null,null,null,null,null,null,null,null,null,null,null,null,null,null,null,null,null,null,null,null,null,null,null,null,null,null,null,null,null,null,null,null,null,null,null,null,null,null,null,null,null,null,null,null,null,null,null,null,null,null,null,null,null,null,null,null,null,null,null,null,null,null,null,null,null,null,null,null,null,null,null,null,null,null,null,null,null,null,null,null,null,null,null,null,null,null,null,null,null,null,null,null,null,null,null,null,null,null,null,null,null,null,null,null,null,null,null,null,null,null,null,null,null,null,null,null,null,null,null,null,null,null,null,null,null,null,null,null,null,null,null,null,null,null,null,null,null,null,null,null,null,null,null,null,null,null,null,null,null,null,null,null,null,null,null,null,null,null,null,null,null,null,null,null,null,null,null,null,null,null,null,null,null,null,null,null,null,null,null,null,null,null,null,null,null,null,null,null,null,null,null,null,null,null,null,null,null,null,null,null,null,null,null,null,null,null,null,null,null,null,null,null,null,null,null,null,null,null,null,null,null,null,null,null,null,null,null,null,null,null,null,null,null,null,null,null,null,null,null,null,null,null,null,null,null,null,null,null,null,null,null,null,null,null,null,null,null,null,null,null,null,null,null,null,null,null,null,null,null,null,null,null,null,null,null,null,null,null,null,null,null,null,null,null,null,null,null,null,null,null,null,null,null,null,null,null,null,null,null,null,null,null,null,null,null,null,null,null,null,null,null,null,null,null,null,null,null,null,null,null,null,null,null,null,null,null,null,null,null,null,null,null,null,null,null,null,null,null,null,null,null,null,null,null,null,null,null,null,null,null,null,null,null,null,null,null,null,null,null,null,null,null,null,null,null,null,null,null,null,null,null,null,null,null,null,null,null,null,null,null,null,null,null,null,null,null,null,null,null,null,null,null,null,null,null,null,null,null,null,null,null,null,null,null,null,null,null,null,null,null,null,null,null,null,null,null,null,null,null,null,null,null,null,null,null,null,null,null,null,null,null,null,null,null,null,null,null,null,null,null,null,null,null,null,null,null,null,null,null,null,null,null,null,null,null,null,null,null,null,null,null,null,null,null,null,null,null,null,null,null,null,null,null,null,null,null,null,null,null,null,null,null,null,null,null,null,null,null,null,null,null,null,null,null,null,null,null,null,null,null,null,null,null,null,null,null,null,null,null,null,null,null,null,null,null,null,null,null,null,null,null,null,null,null,null,null,null,null,null,null,null,null,null,null,null,null,null,null,null,null,null,null,null,null,null,null,null,null,null,null,null,null,null,null,null,null,null,null,null,null,null,null,null,null,null,null,null,null,null,null,null,null,null,null,null,null,null,null,null,null,null,null,null,null,null,null,null,null,null,null,null,null,null,null,null,null,null,null,null,null,null,null,null,null,null,null,null,null,null,null,null,null,null,null,null,null,null,null,null,null,null,null,null,null,null,null,null,null,null,null,null,null,null,null,null,null,null,null,null,null,null,null,null,null,null,null,null,null,null,null,null,null,null,null,null,null,null,null,null,null,null,null,null,null,null,null,null,null,null,null,null,null,null,null,null,null,null,null,null,null,null,null,null,null,null,null,null,null,null,null,null,null,null,null,null,null,null,null,null,null,null,null,null,null,null,null,null,null,null,null,null,null,null,null,null,null,null,null,null,null,null,null,null,null,null,null,null,null,null,null,null,null,null,null,null,null,null,null,null,null,null,null,null,null,null,null,null,null,null,null,null,null,null,null,null,null,null,null,null,null,null,null,null,null,null,null,null,null,null,null,null,null,null,null,null,null,null,null,null,null,null,null,null,null,null,null,null,null,null,null,null,null,null,null,null,null,null,null,null,null,null,null,null,null,null,null,null,null,null,null,null,null,null,null,null,null,null,null,null,null,null,null,null,null,null,null,null,null,null,null,null,null,null,null,null,null,null,null,null,null,null,null,null,null,null,null,null,null,null,null,null,null,null,null,null,null,null,null,null,null,null,null,null,null,null,null,null,null,null,null,null,null,null,null,null,null,null,null,null,null,null,null,null,null,null,null,null,null,null,null,null,null,null,null,null,null,null,null,null,null,null,null,null,null,null,null,null,null,null,null,null,null,null,null,null,null,null,null,null,null,null,null,null,null,null,null,null,null,null,null,null,null,null,null,null,null,null,null,null,null,null,null,null,null,null,null,null,null,null,null,null,null,null,null,null,null,null,null,null,null,null,null,null,null,null,null,null,null,null,null,null,null,null,null,null,null,null,null,null,null,null,null,null,null,null,null,null,null,null,null,null,null,null,null,null,null,null,null,null,null,null,null,null,null,null,null,null,null,null,null,null,null,null,null,null,null,null,null,null,null,null,null,null,null,null,null,null,null,null,null,null,null,null,null,null,null,null,null,null,null,null,null,null,null,null,null,null,null,null,null,null,null,null,null,null,null,null,null,null,null,null,null,null,null,null,null,null,null,null,null,null,null,null,null,null,null,null,null,null,null,null,null,null,null,null,null,null,null,null,null,null,null,null,null,null,null,null,null,null,null,null,null,null,null,null,null,null,null,null,null,null,null,null,null,null,null,null,null,null,null,null,null,null,null,null,null,null,null,null,null,null,null,null,null,null,null,null,null,null,null,null,null,null,null,null,null,null,null,null,null,null,null,null,null,null,null,null,null,null,null,null,null,null,null,null,null,null,null,null,null,null,null,null,null,null,null,null,null,null,null,null,null,null,null,null,null,null,null,null,null,null,null,null,null,null,null,null,null,null,null,null,null,null,null,null,null,null,null,null,null,null,null,null,null,null,null,null,null,null,null,null,null,null,null,null,null,null,null,null,null,null,null,null,null,null,null,null,null,null,null,null,null,null,null,null,null,null,null,null,null,null,null,null,null,null,null,null,null,null,null,null,null,null,null,null,null,null,null,null,null,null,null,null,null,null,null,null,null,null,null,null,null,null,null,null,null,null,null,null,null,null,null,null,null,null,null,null,null,null,null,null,null,null,null,null,null,null,null,null,null,null,null,null,null,null,null,null,null,null,null,null,null,null,null,null,null,null,null,null,null,null,null,null,null,null,null,null,null,null,null,null,null,null,null,null,null,null,null,null,null,null,null,null,null,null,null,null,null,null,null,null,null,null,null,null,null,null,null,null,null,null,null,null,null,null,null,null,null,null,null,null,null,null,null,null,null,null,null,null,null,null,null,null,null,null,null,null,null,null,null,null,null,null,null,null,null,null,null,null,null,null,null,null,null,null,null,null,null,null,null,null,null,null,null,null,null,null,null,null,null,null,null,null,null,null,null,null,null,null,null,null,null,null,null,null,null,null,null,null,null,null,null,null,null,null,null,null,null,null,null,null,null,null,null,null,null,null,null,null,null,null,null,null,null,null,null,null,null,null,null,null,null,null,null,null,null,null,null,null,null,null,null,null,null,null,null,null,null,null,null,null,null,null,null,null,null,null,null,null,null,null,null,null,null,null,null,null,null,null,null,null,null,null,null,null,null,null,null,null,null,null,null,null,null,null,null,null,null,null,null,null,null,null,null,null,null,null,null,null,null,null,null,null,null,null,null,null,null,null,null,null,null,null,null,null,null,null,null,null,null,null,null,null,null,null,null,null,null,null,null,null,null,null,null,null,null,null,null,null,null,null,null,null,null,null,null,null,null,null,null,null,null,null,null,null,null,null,null,null,null,null,null,null,null,null,null,null,null,null,null,null,null,null,null,null,null,null,null,null,null,null,null,null,null,null,null,null,null,null,null,null,null,null,null,null,null,null,null,null,null,null,null,null,null,null,null,null,null,null,null,null,null,null,null,null,null,null,null,null,null,null,null,null,null,null,null,null,null,null,null,null,null,null,null,null,null,null,null,null,null,null,null,null,null,null,null,null,null,null,null,null,null,null,null,null,null,null,null,null,null,null,null,null,null,null,null,null,null,null,null,null,null,null,null,null,null,null,null,null,null,null,null,null,null,null,null,null,null,null,null,null,null,null,null,null,null,null,null,null,null,null,null,null,null,null,null,null,null,null,null,null,null,null,null,null,null,null,null,null,null,null,null,null,null,null,null,null,null,null,null,null,null,null,null,null,null,null,null,null,null,null,null,null,null,null,null,null,null,null,null,null,null,null,null,null,null,null,null,null,null,null,null,null,null,null,null,null,null,null,null,null,null,null,null,null,null,null,null,null,null,null,null,null,null,null,null,null,null,null,null,null,null,null,null,null,null,null,null,null,null,null,null,null,null,null,null,null,null,null,null,null,null,null,null,null,null,null,null,null,null,null,null,null,null,null,null,null,null,null,null,null,null,null,null,null,null,null,null,null,null,null,null,null,null,null,null,null,null,null,null,null,null,null,null,null,null,null,null,null,null,null,null,null,null,null,null,null,null,null,null,null,null,null,null,null,null,null,null,null,null,null,null,null,null,null,null,null,null,null,null,null,null,null,null,null,null,null,null,null,null,null,null,null,null,null,null,null,null,null,null,null,null,null,null,null,null,null,null,null,null,null,null,null,null,null,null,null,null,null,null,null,null,null,null,null,null,null,null,null,null,null,null,null,null,null,null,null,null,null,null,null,null,null,null,null,null,null,null,null,null,null,null,null,null,null,null,null,null,null,null,null,null,null,null,null,null,null,null,null,null,null,null,null,null,null,null,null,null,null,null,null,null,null,null,null,null,null,null,null,null,null,null,null,null,null,null,null,null,null,null,null,null,null,null,null,null,null,null,null,null,null,null,null,null,null,null,null,null,null,null,null,null,null,null,null,null,null,null,null,null,null,null,null,null,null,null,null,null,null,null,null,null,null,null,null,null,null,null,null,null,null,null,null,null,null,null,null,null,null,null,null,null,null,null,null,null,null,null,null,null,null,null,null,null,null,null,null,null,null,null,null,null,null,null,null,null,null,null,null,null,null,null,null,null,null,null,null,null,null,null,null,null,null,null,null,null,null,null,null,null,null,null,null,null,null,null,null,null,null,null,null,null,null,null,null,null,null,null,null,null,null,null,null,null,null,null,null,null,null,null,null,null,null,null,null,null,null,null,null,null,null,null,null,null,null,null,null,null,null,null,null,null,null,null,null,null,null,null,null,null,null,null,null,null,null,null,null,null,null,null,null,null,null,null,null,null,null,null,null,null,null,null,null,null,null,null,null,null,null,null,null,null,null,null,null,null,null,null,null,null,null,null,null,null,null,null,null,null,null,null,null,null,null,null,null,null,null,null,null,null,null,null,null,null,null,null,null,null,null,null,null,null,null,null,null,null,null,null,null,null,null,null,null,null,null,null,null,null,null,null,null,null,null,null,null,null,null,null,null,null,null,null,null,null,null,null,null,null,null,null,null,null,null,null,null,null,null,null,null,null,null,null,null,null,null,null,null,null,null,null,null,null,null,null,null,null,null,null,null,null,null,null,null,null,null,null,null,null,null,null,null,null,null,null,null,null,null,null,null,null,null,null,null,null,null,null,null,null,null,null,null,null,null,null,null,null,null,null,null,null,null,null,null,null,null,null,null,null,null,null,null,null,null,null,null,null,null,null,null,null,null,null,null,null,null,null,null,null,null,null,null,null,null,null,null,null,null,null,null,null,null,null,null,null,null,null,null,null,null,null,null,null,null,null,null,null,null,null,null,null,null,null,null,null,null,null,null,null,null,null,null,null,null,null,null,null,null,null,null,null,null,null,null,null,null,null,null,null,null,null,null,null,null,null,null,null,null,null,null,null,null,null,null,null,null,null,null,null,null,null,null,null,null,null,null,null,null,null,null,null,null,null,null,null,null,null,null,null,null,null,null,null,null,null,null,null,null,null,null,null,null,null,null,null,null,null,null,null,null,null,null,null,null,null,null,null,null,null,null,null,null,null,null,null,null,null,null,null,null,null,null,null,null,null,null,null,null,null,null,null,null,null,null,null,null,null,null,null,null,null,null,null,null,null,null,null,null,null,null,null,null,null,null,null,null,null,null,null,null,null,null,null,null,null,null,null,null,null,null,null,null,null,null,null,null,null,null,null,null,null,null,null,null,null,null,null,null,null,null,null,null,null,null,null,null,null,null,null,null,null,null,null,null,null,null,null,null,null,null,null,null,null,null,null,null,null,null,null,null,null,null,null,null,null,null,null,null,null,null,null,null,null,null,null,null,null,null,null,null,null,null,null,null,null,null,null,null,null,null,null,null,null,null,null,null,null,null,null,null,null,null,null,null,null,null,null,null,null,null,null,null,null,null,null,null,null,null,null,null,null,null,null,null,null,null,null,null,null,null,null,null,null,null,null,null,null,null,null,null,null,null,null,null,null,null,null,null,null,null,null,null,null,null,null,null,null,null,null,null,null,null,null,null,null,null,null,null,null,null,null,null,null,null,null,null,null,null,null,null,null,null,null,null,null,null,null,null,null,null,null,null,null,null,null,null,null,null,null,null,null,null,null,null,null,null,null,null,null,null,null,null,null,null,null,null,null,null,null,null,null,null,null,null,null,null,null,null,null,null,null,null,null,null,null,null,null,null,null,null,null,null,null,null,null,null,null,null,null,null,null,null,null,null,null,null,null,null,null,null,null,null,null,null,null,null,null,null,null,null,null,null,null,null,null,null,null,null,null,null,null,null,null,null,null,null,null,null,null,null,null,null,null,null,null,null,null,null,null,null,null,null,null,null,null,null,null,null,null,null,null,null,null,null,null,null,null,null,null,null,null,null,null,null,null,null,null,null,null,null,null,null,null,null,null,null,null,null,null,null,null,null,null,null,null,null,null,null,null,null,null,null,null,null,null,null,null,null,null,null,null,null,null,null,null,null,null,null,null,null,null,null,null,null,null,null,null,null,null,null,null,null,null,null,null,null,null,null,null,null,null,null,null,null,null,null,null,null,null,null,null,null,null,null,null,null,null,null,null,null,null,null,null,null,null,null,null,null,null,null,null,null,null,null,null,null,null,null,null,null,null,null,null,null,null,null,null,null,null,null,null,null,null,null,null,null,null,null,null,null,null,null,null,null,null,null,null,null,null,null,null,null,null,null,null,null,null,null,null,null,null,null,null,null,null,null,null,null,null,null,null,null,null,null,null,null,null,null,null,null,null,null,null,null,null,null,null,null,null,null,null,null,null,null,null,null,null,null,null,null,null,null,null,null,null,null,null,null,null,null,null,null,null,null,null,null,null,null,null,null,null,null,null,null,null,null,null,null,null,null,null,null,null,null,null,null,null,null,null,null,null,null,null,null,null,null,null,null,null,null,null,null,null,null,null,null,null,null,null,null,null,null,null,null,null,null,null,null,null,null,null,null,null,null,null,null,null,null,null,null,null,null,null,null,null,null,null,null,null,null,null,null,null,null,null,null,null,null,null,null,null,null,null,null,null,null,null,null,null,null,null,null,null,null,null,null,null,null,null,null,null,null,null,null,null,null,null,null,null,null,null,null,null,null,null,null,null,null,null,null,null,null,null,null,null,null,null,null,null,null,null,null,null,null,null,null,null,null,null,null,null,null,null,null,null,null,null,null,null,null,null,null,null,null,null,null,null,null,null,null,null,null,null,null,null,null,null,null,null,null,null,null,null,null,null,null,null,null,null,null,null,null,null,null,null,null,null,null,null,null,null,null,null,null,null,null,null,null,null,null,null,null,null,null,null,null,null,null,null,null,null,null,null,null,null,null,null,null,null,null,null,null,null,null,null,null,null,null,null,null,null,null,null,null,null,null,null,null,null,null,null,null,null,null,null,null,null,null,null,null,null,null,null,null,null,null,null,null,null,null,null,null,null,null,null,null,null,null,null,null,null,null,null,null,null,null,null,null,null,null,null,null,null,null,null,null,null,null,null,null,null,null,null,null,null,null,null,null,null,null,null,null,null,null,null,null,null,null,null,null,null,null,null,null,null,null,null,null,null,null,null,null,null,null,null,null,null,null,null,null,null,null,null,null,null,null,null,null,null,null,null,null,null,null,null,null,null,null,null,null,null,null,null,null,null,null,null,null,null,null,null,null,null,null,null,null,null,null,null,null,null,null,null,null,null,null,null,null,null,null,null,null,null,null,null,null,null,null,null,null,null,null,null,null,null,null,null,null,null,null,null,null,null,null,null,null,null,null,null,null,null,null,null,null,null,null,null,null,null,null,null,null,null,null,null,null,null,null,null,null,null,null,null,null,null,null,null,null,null,null,null,null,null,null,null,null,null,null,null,null,null,null,null,null,null,null,null,null,null,null,null,null,null,null,null,null,null,null,null,null,null,null,null,null,null,null,null,null,null,null,null,null,null,null,null,null,null,null,null,null,null,null,null,null,null,null,null,null,null,null,null,null,null,null,null,null,null,null,null,null,null,null,null,null,null,null,null,null,null,null,null,null,null,null,null,null,null,null,null,null,null,null,null,null,null,null,null,null,null,null,null,null,null,null,null,null,null,null,null,null,null,null,null,null,null,null,null,null,null,null,null,null,null,null,null,null,null,null,null,null,null,null,null,null,null,null,null,null,null,null,null,null,null,null,null,null,null,null,null,null,null,null,null,null,null,null,null,null,null,null,null,null,null,null,null,null,null,null,null,null,null,null,null,null,null,null,null,null,null,null,null,null,null,null,null,null,null,null,null,null,null,null,null,null,null,null,null,null,null,null,null,null,null,null,null,null,null,null,null,null,null,null,null,null,null,null,null,null,null,null,null,null,null,null,null,null,null,null,null,null,null,null,null,null,null,null,null,null,null,null,null,null,null,null,null,null,null,null,null,null,null,null,null,null,null,null,null,null,null,null,null,null,null,null,null,null,null,null,null,null,null,null,null,null,null,null,null,null,null,null,null,null,null,null,null,null,null,null,null,null,null,null,null,null,null,null,null,null,null,null,null,null,null,null,null,null,null,null,null,null,null,null,null,null,null,null,null,null,null,null,null,null,null,null,null,null,null,null,null,null,null,null,null,null,null,null,null,null,null,null,null,null,null,null,null,null,null,null,null,null,null,null,null,null,null,null,null,null,null,null,null,null,null,null,null,null,null,null,null,null,null,null,null,null,null,null,null,null,null,null,null,null,null,null,null,null,null,null,null,null,null,null,null,null,null,null,null,null,null,null,null,null,null,null,null,null,null,null,null,null,null,null,null,null,null,null,null,null,null,null,null,null,null,null,null,null,null,null,null,null,null,null,null,null,null,null,null,null,null,null,null,null,null,null,null,null,null,null,null,null,null,null,null,null,null,null,null,null,null,null,null,null,null,null,null,null,null,null,null,null,null,null,null,null,null,null,null,null,null,null,null,null,null,null,null,null,null,null,null,null,null,null,null,null,null,null,null,null,null,null,null,null,null,null,null,null,null,null,null,null,null,null,null,null,null,null,null,null,null,null,null,null,null,null,null,null,null,null,null,null,null,null,null,null,null,null,null,null,null,null,null,null,null,null,null,null,null,null,null,null,null,null,null,null,null,null,null,null,null,null,null,null,null,null,null,null,null,null,null,null,null,null,null,null,null,null,null,null,null,null,null,null,null,null,null,null,null,null,null,null,null,null,null,null,null,null,null,null,null,null,null,null,null,null,null,null,null,null,null,null,null,null,null,null,null,null,null,null,null,null,null,null,null,null,null,null,null,null,null,null,null,null,null,null,null,null,null,null,null,null,null,null,null,null,null,null,null,null,null,null,null,null,null,null,null,null,null,null,null,null,null,null,null,null,null,null,null,null,null,null,null,null,null,null,null,null,null,null,null,null,null,null,null,null,null,null,null,null,null,null,null,null,null,null,null,null,null,null,null,null,null,null,null,null,null,null,null,null,null,null,null,null,null,null,null,null,null,null,null,null,null,null,null,null,null,null,null,null,null,null,null,null,null,null,null,null,null,null,null,null,null,null,null,null,null,null,null,null,null,null,null,null,null,null,null,null,null,null,null,null,null,null,null,null,null,null,null,null,null,null,null,null,null,null,null,null,null,null,null,null,null,null,null,null,null,null,null,null,null,null,null,null,null,null,null,null,null,null,null,null,null,null,null,null,null,null,null,null,null,null,null,null,null,null,null,null,null,null,null,null,null,null,null,null,null,null,null,null,null,null,null,null,null,null,null,null,null,null,null,null,null,null,null,null,null,null,null,null,null,null,null,null,null,null,null,null,null,null,null,null,null,null,null,null,null,null,null,null,null,null,null,null,null,null,null,null,null,null,null,null,null,null,null,null,null,null,null,null,null,null,null,null,null,null,null,null,null,null,null,null,null,null,null,null,null,null,null,null,null,null,null,null,null,null,null,null,null,null,null,null,null,null,null,null,null,null,null,null,null,null,null,null,null,null,null,null,null,null,null,null,null,null,null,null,null,null,null,null,null,null,null,null,null,null,null,null,null,null,null,null,null,null,null,null,null,null,null,null,null,null,null,null,null,null,null,null,null,null,null,null,null,null,null,null,null,null,null,null,null,null,null,null,null,null,null,null,null,null,null,null,null,null,null,null,null,null,null,null,null,null,null,null,null,null,null,null,null,null,null,null,null,null,null,null,null,null,null,null,null,null,null,null,null,null,null,null,null,null,null,null,null,null,null,null,null,null,null,null,null,null,null,null,null,null,null,null,null,null,null,null,null,null,null,null,null,null,null,null,null,null,null,null,null,null,null,null,null,null,null,null,null,null,null,null,null,null,null,null,null,null,null,null,null,null,null,null,null,null,null,null,null,null,null,null,null,null,null,null,null,null,null,null,null,null,null,null,null,null,null,null,null,null,null,null,null,null,null,null,null,null,null,null,null,null,null,null,null,null,null,null,null,null,null,null,null,null,null,null,null,null,null,null,null,null,null,null,null,null,null,null,null,null,null,null,null,null,null,null,null,null,null,null,null,null,null,null,null,null,null,null,null,null,null,null,null,null,null,null,null,null,null,null,null,null,null,null,null,null,null,null,null,null,null,null,null,null,null,null,null,null,null,null,null,null,null,null,null,null,null,null,null,null,null,null,null,null,null,null,null,null,null,null,null,null,null,null,null,null,null,null,null,null,null,null,null,null,null,null,null,null,null,null,null,null,null,null,null,null,null,null,null,null,null,null,null,null,null,null,null,null,null,null,null,null,null,null,null,null,null,null,null,null,null,null,null,null,null,null,null,null,null,null,null,null,null,null,null,null,null,null,null,null,null,null,null,null,null,null,null,null,null,null,null,null,null,null,null,null,null,null,null,null,null,null,null,null,null,null,null,null,null,null,null,null,null,null,null,null,null,null,null,null,null,null,null,null,null,null,null,null,null,null,null,null,null,null,null,null,null,null,null,null,null,null,null,null,null,null,null,null,null,null,null,null,null,null,null,null,null,null,null,null,null,null,null,null,null,null,null,null,null,null,null,null,null,null,null,null,null,null,null,null,null,null,null,null,null,null,null,null,null,null,null,null,null,null,null,null,null,null,null,null,null,null,null,null,null,null,null,null,null,null,null,null,null,null,null,null,null,null,null,null,null,null,null,null,null,null,null,null,null,null,null,null,null,null,null,null,null,null,null,null,null,null,null,null,null,null,null,null,null,null,null,null,null,null,null,null,null,null,null,null,null,null,null,null,null,null,null,null,null,null,null,null,null,null,null,null,null,null,null,null,null,null,null,null,null,null,null,null,null,null,null,null,null,null,null,null,null,null,null,null,null,null,null,null,null,null,null,null,null,null,null,null,null,null,null,null,null,null,null,null,null,null,null,null,null,null,null,null,null,null,null,null,null,null,null,null,null,null,null,null,null,null,null,null,null,null,null,null,null,null,null,null,null,null,null,null,null,null,null,null,null,null,null,null,null,null,null,null,null,null,null,null,null,null,null,null,null,null,null,null,null,null,null,null,null,null,null,null,null,null,null,null,null,null,null,null,null,null,null,null,null,null,null,null,null,null,null,null,null,null,null,null,null,null,null,null,null,null,null,null,null,null,null,null,null,null,null,null,null,null,null,null,null,null,null,null,null,null,null,null,null,null,null,null,null,null,null,null,null,null,null,null,null,null,null,null,null,null,null,null,null,null,null,null,null,null,null,null,null,null,null,null,null,null,null,null,null,null,null,null,null,null,null,null,null,null,null,null,null,null,null,null,null,null,null,null,null,null,null,null,null,null,null,null,null,null,null,null,null,null,null,null,null,null,null,null,null,null,null,null,null,null,null,null,null,null,null,null,null,null,null,null,null,null,null,null,null,null,null,null,null,null,null,null,null,null,null,null,null,null,null,null,null,null,null,null,null,null,null,null,null,null,null,null,null,null,null,null,null,null,null,null,null,null,null,null,null,null,null,null,null,null,null,null,null,null,null,null,null,null,null,null,null,null,null,null,null,null,null,null,null,null,null,null,null,null,null,null,null,null,null,null,null,null,null,null,null,null,null,null,null,null,null,null,null,null,null,null,null,null,null,null,null,null,null,null,null,null,null,null,null,null,null,null,null,null,null,null,null,null,null,null,null,null,null,null,null,null,null,null,null,null,null,null,null,null,null,null,null,null,null,null,null,null,null,null,null,null,null,null,null,null,null,null,null,null,null,null,null,null,null,null,null,null,null,null,null,null,null,null,null,null,null,null,null,null,null,null,null,null,null,null,null,null,null,null,null,null,null,null,null,null,null,null,null,null,null,null,null,null,null,null,null,null,null,null,null,null,null,null,null,null,null,null,null,null,null,null,null,null,null,null,null,null,null,null,null,null,null,null,null,null,null,null,null,null,null,null,null,null,null,null,null,null,null,null,null,null,null,null,null,null,null,null,null,null,null,null,null,null,null,null,null,null,null,null,null,null,null,null,null,null,null,null,null,null,null,null,null,null,null,null,null,null,null,null,null,null,null,null,null,null,null,null,null,null,null,null,null,null,null,null,null,null,null,null,null,null,null,null,null,null,null,null,null,null,null,null,null,null,null,null,null,null,null,null,null,null,null,null,null,null,null,null,null,null,null,null,null,null,null,null,null,null,null,null,null,null,null,null,null,null,null,null,null,null,null,null,null,null,null,null,null,null,null,null,null,null,null,null,null,null,null,null,null,null,null,null,null,null,null,null,null,null,null,null,null,null,null,null,null,null,null,null,null,null,null,null,null,null,null,null,null,null,null,null,null,null,null,null,null,null,null,null,null,null,null,null,null,null,null,null,null,null,null,null,null,null,null,null,null,null,null,null,null,null,null,null,null,null,null,null,null,null,null,null,null,null,null,null,null,null,null,null,null,null,null,null,null,null,null,null,null,null,null,null,null,null,null,null,null,null,null,null,null,null,null,null,null,null,null,null,null,null,null,null,null,null,null,null,null,null,null,null,null,null,null,null,null,null,null,null,null,null,null,null,null,null,null,null,null,null,null,null,null,null,null,null,null,null,null,null,null,null,null,null,null,null,null,null,null,null,null,null,null,null,null,null,null,null,null,null,null,null,null,null,null,null,null,null,null,null,null,null,null,null,null,null,null,null,null,null,null,null,null,null,null,null,null,null,null,null,null,null,null,null,null,null,null,null,null,null,null,null,null,null,null,null,null,null,null,null,null,null,null,null,null,null,null,null,null,null,null,null,null,null,null,null,null,null,null,null,null,null,null,null,null,null,null,null,null,null,null,null,null,null,null,null,null,null,null,null,null,null,null,null,null,null,null,null,null,null,null,null,null,null,null,null,null,null,null,null,null,null,null,null,null,null,null,null,null,null,null,null,null,null,null,null,null,null,null,null,null,null,null,null,null,null,null,null,null,null,null,null,null,null,null,null,null,null,null,null,null,null,null,null,null,null,null,null,null,null,null,null,null,null,null,null,null,null,null,null,null,null,null,null,null,null,null,null,null,null,null,null,null,null,null,null,null,null,null,null,null,null,null,null,null,null,null,null,null,null,null,null,null,null,null,null,null,null,null,null,null,null,null,null,null,null,null,null,null,null,null,null,null,null,null,null,null,null,null,null,null,null,null,null,null,null,null,null,null,null,null,null,null,null,null,null,null,null,null,null,null,null,null,null,null,null,null,null,null,null,null,null,null,null,null,null,null,null,null,null,null,null,null,null,null,null,null,null,null,null,null,null,null,null,null,null,null,null,null,null,null,null,null,null,null,null,null,null,null,null,null,null,null,null,null,null,null,null,null,null,null,null,null,null,null,null,null,null,null,null,null,null,null,null,null,null,null,null,null,null,null,null,null,null,null,null,null,null,null,null,null,null,null,null,null,null,null,null,null,null,null,null,null,null,null,null,null,null,null,null,null,null,null,null,null,null,null,null,null,null,null,null,null,null,null,null,null,null,null,null,null,null,null,null,null,null,null,null,null,null,null,null,null,null,null,null,null,null,null,null,null,null,null,null,null,null,null,null,null,null,null,null,null,null,null,null,null,null,null,null,null,null,null,null,null,null,null,null,null,null,null,null,null,null,null,null,null,null,null,null,null,null,null,null,null,null,null,null,null,null,null,null,null,null,null,null,null,null,null,null,null,null,null,null,null,null,null,null,null,null,null,null,null,null,null,null,null,null,null,null,null,null,null,null,null,null,null,null,null,null,null,null,null,null,null,null,null,null,null,null,null,null,null,null,null,null,null,null,null,null,null,null,null,null,null,null,null,null,null,null,null,null,null,null,null,null,null,null,null,null,null,null,null,null,null,null,null,null,null,null,null,null,null,null,null,null,null,null,null,null,null,null,null,null,null,null,null,null,null,null,null,null,null,null,null,null,null,null,null,null,null,null,null,null,null,null,null,null,null,null,null,null,null,null,null,null,null,null,null,null,null,null,null,null,null,null,null,null,null,null,null,null,null,null,null,null,null,null,null,null,null,null,null,null,null,null,null,null,null,null,null,null,null,null,null,null,null,null,null,null,null,null,null,null,null,null,null,null,null,null,null,null,null,null,null,null,null,null,null,null,null,null,null,null,null,null,null,null,null,null,null,null,null,null,null,null,null,null,null,null,null,null,null,null,null,null,null,null,null,null,null,null,null,null,null,null,null,null,null,null,null,null,null,null,null,null,null,null,null,null,null,null,null,null,null,null,null,null,null,null,null,null,null,null,null,null,null,null,null,null,null,null,null,null,null,null,null,null,null,null,null,null,null,null,null,null,null,null,null,null,null,null,null,null,null,null,null,null,null,null,null,null,null,null,null,null,null,null,null,null,null,null,null,null,null,null,null,null,null,null,null,null,null,null,null,null,null,null,null,null,null,null,null,null,null,null,null,null,null,null,null,null,null,null,null,null,null,null,null,null,null,null,null,null,null,null,null,null,null,null,null,null,null,null,null,null,null,null,null,null,null,null,null,null,null,null,null,null,null,null,null,null,null,null,null,null,null,null,null,null,null,null,null,null,null,null,null,null,null,null,null,null,null,null,null,null,null,null,null,null,null,null,null,null,null,null,null,null,null,null,null,null,null,null,null,null,null,null,null,null,null,null,null,null,null,null,null,null,null,null,null,null,null,null,null,null,null,null,null,null,null,null,null,null,null,null,null,null,null,null,null,null,null,null,null,null,null,null,null,null,null,null,null,null,null,null,null,null,null,null,null,null,null,null,null,null,null,null,null,null,null,null,null,null,null,null,null,null,null,null,null,null,null,null,null,null,null,null,null,null,null,null,null,null,null,null,null,null,null,null,null,null,null,null,null,null,null,null,null,null,null,null,null,null,null,null,null,null,null,null,null,null,null,null,null,null,null,null,null,null,null,null,null,null,null,null,null,null,null,null,null,null,null,null,null,null,null,null,null,null,null,null,null,null,null,null,null,null,null,null,null,null,null,null,null,null,null,null,null,null,null,null,null,null,null,null,null,null,null,null,null,null,null,null,null,null,null,null,null,null,null,null,null,null,null,null,null,null,null,null,null,null,null,null,null,null,null,null,null,null,null,null,null,null,null,null,null,null,null,null,null,null,null,null,null,null,null,null,null,null,null,null,null,null,null,null,null,null,null,null,null,null,null,null,null,null,null,null,null,null,null,null,null,null,null,null,null,null,null,null,null,null,null,null,null,null,null,null,null,null,null,null,null,null,null,null,null,null,null,null,null,null,null,null,null,null,null,null,null,null,null,null,null,null,null,null,null,null,null,null,null,null,null,null,null,null,null,null,null,null,null,null,null,null,null,null,null,null,null,null,null,null,null,null,null,null,null,null,null,null,null,null,null,null,null,null,null,null,null,null,null,null,null,null,null,null,null,null,null,null,null,null,null,null,null,null,null,null,null,null,null,null,null,null,null,null,null,null,null,null,null,null,null,null,null,null,null,null,null,null,null,null,null,null,null,null,null,null,null,null,null,null,null,null,null,null,null,null,null,null,null,null,null,null,null,null,null,null,null,null,null,null,null,null,null,null,null,null,null,null,null,null,null,null,null,null,null,null,null,null,null,null,null,null,null,null,null,null,null,null,null,null,null,null,null,null,null,null,null,null,null,null,null,null,null,null,null,null,null,null,null,null,null,null,null,null,null,null,null,null,null,null,null,null,null,null,null,null,null,null,null,null,null,null,null,null,null,null,null,null,null,null,null,null,null,null,null,null,null,null,null,null,null,null,null,null,null,null,null,null,null,null,null,null,null,null,null,null,null,null,null,null,null,null,null,null,null,null,null,null,null,null,null,null,null,null,null,null,null,null,null,null,null,null,null,null,null,null,null,null,null,null,null,null,null,null,null,null,null,null,null,null,null,null,null,null,null,null,null,null,null,null,null,null,null,null,null,null,null,null,null,null,null,null,null,null,null,null,null,null,null,null,null,null,null,null,null,null,null,null,null,null,null,null,null,null,null,null,null,null,null,null,null,null,null,null,null,null,null,null,null,null,null,null,null,null,null,null,24]
[null,null,null,null,null,null,null,null,null,null,null,null,null,null,null,null,null,null,null,null,null,null,null,null,null,null,null,null,null,null,null,null,null,null,null,null,null,null,null,null,null,null,null,null,null,null,null,null,null,null,null,null,null,null,null,null,null,null,null,null,null,null,null,null,null,null,null,null,null,null,null,null,null,null,null,null,null,null,null,null,null,null,null,null,null,null,null,null,null,null,null,null,null,null,null,null,null,null,null,null,null,null,null,null,null,null,null,null,null,null,null,null,null,null,null,null,null,null,null,null,null,null,null,null,null,null,null,null,null,null,null,null,null,null,null,null,null,null,null,null,null,null,null,null,null,null,null,null,null,null,null,null,null,null,null,null,null,null,null,null,null,null,null,null,null,null,null,null,null,null,null,null,null,null,null,null,null,null,null,null,null,null,null,null,null,null,null,null,null,null,null,null,null,null,null,null,null,null,null,null,null,null,null,null,null,null,null,null,null,null,null,null,null,null,null,null,null,null,null,null,null,null,null,null,null,null,null,null,null,null,null,null,null,null,null,null,null,null,null,null,null,null,null,null,null,null,null,null,null,null,null,null,null,null,null,null,null,null,null,null,null,null,null,null,null,null,null,null,null,null,null,null,null,null,null,null,null,null,null,null,null,null,null,null,null,null,null,null,null,null,null,null,null,null,null,null,null,null,null,null,null,null,null,null,null,null,null,null,null,null,null,null,null,null,null,null,null,null,null,null,null,null,null,null,null,null,null,null,null,null,null,null,null,null,null,null,null,null,null,null,null,null,null,null,null,null,null,null,null,null,null,null,null,null,null,null,null,null,null,null,null,null,null,null,null,null,null,null,null,null,null,null,null,null,null,null,null,null,null,null,null,null,null,null,null,null,null,null,null,null,null,null,null,null,null,null,null,null,null,null,null,null,null,null,null,null,null,null,null,null,null,null,null,null,null,null,null,null,null,null,null,null,null,null,null,null,null,null,null,null,null,null,null,null,null,null,null,null,null,null,null,null,null,null,null,null,null,null,null,null,null,null,null,null,null,null,null,null,null,null,null,null,null,null,null,null,null,null,null,null,null,null,null,null,null,null,null,null,null,null,null,null,null,null,null,null,null,null,null,null,null,null,null,null,null,null,null,null,null,null,null,null,null,null,null,null,null,null,null,null,null,null,null,null,null,null,null,null,null,null,null,null,null,null,null,null,null,null,null,null,null,null,null,null,null,null,null,null,null,null,null,null,null,null,null,null,null,null,null,null,null,null,null,null,null,null,null,null,null,null,null,null,null,null,null,null,null,null,null,null,null,null,null,null,null,null,null,null,null,null,null,null,null,null,null,null,null,null,null,null,null,null,null,null,null,null,null,null,null,null,null,null,null,null,null,null,null,null,null,null,null,null,null,null,null,null,null,null,null,null,null,null,null,null,null,null,null,null,null,null,null,null,null,null,null,null,null,null,null,null,null,null,null,null,null,null,null,null,null,null,null,null,null,null,null,null,null,null,null,null,null,null,null,null,null,null,null,null,null,null,null,null,null,null,null,null,null,null,null,null,null,null,null,null,null,null,null,null,null,null,null,null,null,null,null,null,null,null,null,null,null,null,null,null,null,null,null,null,null,null,null,null,null,null,null,null,null,null,null,null,null,null,null,null,null,null,null,null,null,null,null,null,null,null,null,null,null,null,null,null,null,null,null,null,null,null,null,null,null,null,null,null,null,null,null,null,null,null,null,null,null,null,null,null,null,null,null,null,null,null,null,null,null,null,null,null,null,null,null,null,null,null,null,null,null,null,null,null,null,null,null,null,null,null,null,null,null,null,null,null,null,null,null,null,null,null,null,null,null,null,null,null,null,null,null,null,null,null,null,null,null,null,null,null,null,null,null,null,null,null,null,null,null,null,null,null,null,null,null,null,null,null,null,null,null,null,null,null,null,null,null,null,null,null,null,null,null,null,null,null,null,null,null,null,null,null,null,null,null,null,null,null,null,null,null,null,null,null,null,null,null,null,null,null,null,null,null,null,null,null,null,null,null,null,null,null,null,null,null,null,null,null,null,null,null,null,null,null,null,null,null,null,null,null,null,null,null,null,null,null,null,null,null,null,null,null,null,null,null,null,null,null,null,null,null,null,null,null,null,null,null,null,null,null,null,null,null,null,null,null,null,null,null,null,null,null,null,null,null,null,null,null,null,null,null,null,null,null,null,null,null,null,null,null,null,null,null,null,null,null,null,null,null,null,null,null,null,null,null,null,null,null,null,null,null,null,null,null,null,null,null,null,null,null,null,null,null,null,null,null,null,null,null,null,null,null,null,null,null,null,null,null,null,null,null,null,null,null,null,null,null,null,null,null,null,null,null,null,null,null,null,null,null,null,null,null,null,null,null,null,null,null,null,null,null,null,null,null,null,null,null,null,null,null,null,null,null,null,null,null,null,null,null,null,null,null,null,null,null,null,null,null,null,null,null,null,null,null,null,null,null,null,null,null,null,null,null,null,null,null,null,null,null,null,null,null,null,null,null,null,null,null,null,null,null,null,null,null,null,null,null,null,null,null,null,null,null,null,null,null,null,null,null,null,null,null,null,null,null,null,null,null,null,null,null,null,null,null,null,null,null,null,null,null,null,null,null,null,null,null,null,null,null,null,null,null,null,null,null,null,null,null,null,null,null,null,null,null,null,null,null,null,null,null,null,null,null,null,null,null,null,null,null,null,null,null,null,null,null,null,null,null,null,null,null,null,null,null,null,null,null,null,null,null,null,null,null,null,null,null,null,null,null,null,null,null,null,null,null,null,null,null,null,null,null,null,null,null,null,null,null,null,null,null,null,null,null,null,null,null,null,null,null,null,null,null,null,null,null,null,null,null,null,null,null,null,null,null,null,null,null,null,null,null,null,null,null,null,null,null,null,null,null,null,null,null,null,null,null,null,null,null,null,null,null,null,null,null,null,null,null,null,null,null,null,null,null,null,null,null,null,null,null,null,null,null,null,null,null,null,null,null,null,null,null,null,null,null,null,null,null,null,null,null,null,null,null,null,null,null,null,null,null,null,null,null,null,null,null,null,null,null,null,null,null,null,null,null,null,null,null,null,null,null,null,null,null,null,null,null,null,null,null,null,null,null,null,null,null,null,null,null,null,null,null,null,null,null,null,null,null,null,null,null,null,null,null,null,null,null,null,null,null,null,null,null,null,null,null,null,null,null,null,null,null,null,null,null,null,null,null,null,null,null,null,null,null,null,null,null,null,null,null,null,null,null,null,null,null,null,null,null,null,null,null,null,null,null,null,null,null,null,null,null,null,null,null,null,null,null,null,null,null,null,null,null,null,null,null,null,null,null,null,null,null,null,null,null,null,null,null,null,null,null,null,null,null,null,null,null,null,null,null,null,null,null,null,null,null,null,null,null,null,null,null,null,null,null,null,null,null,null,null,null,null,null,null,null,null,null,null,null,null,null,null,null,null,null,null,null,null,null,null,null,null,null,null,null,null,null,null,null,null,null,null,null,null,null,null,null,null,null,null,null,null,null,null,null,null,null,null,null,null,null,null,null,null,null,null,null,null,null,null,null,null,null,null,null,null,null,null,null,null,null,null,null,null,null,null,null,null,null,null,null,null,null,null,null,null,null,null,null,null,null,null,null,null,null,null,null,null,null,null,null,null,null,null,null,null,null,null,null,null,null,null,null,null,null,null,null,null,null,null,null,null,null,null,null,null,null,null,null,null,null,null,null,null,null,null,null,null,null,null,null,null,null,null,null,null,null,null,null,null,null,null,null,null,null,null,null,null,null,null,null,null,null,null,null,null,null,null,null,null,null,null,null,null,null,null,null,null,null,null,null,null,null,null,null,null,null,null,null,null,null,null,null,null,null,null,null,null,null,null,null,null,null,null,null,null,null,null,null,null,null,null,null,null,null,null,null,null,null,null,null,null,null,null,null,null,null,null,null,null,null,null,null,null,null,null,null,null,null,null,null,null,null,null,null,null,null,null,null,null,null,null,null,null,null,null,null,null,null,null,null,null,null,null,null,null,null,null,null,null,null,null,null,null,null,null,null,null,null,null,null,null,null,null,null,null,null,null,null,null,null,null,null,null,null,null,null,null,null,null,null,null,null,null,null,null,null,null,null,null,null,null,null,null,null,null,null,null,null,null,null,null,null,null,null,null,null,null,null,null,null,null,null,null,null,null,null,null,null,null,null,null,null,null,null,null,null,null,null,null,null,null,null,null,null,null,null,null,null,null,null,null,null,null,null,null,null,null,null,null,null,null,null,null,null,null,null,null,null,null,null,null,null,null,null,null,null,null,null,null,null,null,null,null,null,null,null,null,null,null,null,null,null,null,null,null,null,null,null,null,null,null,null,null,null,null,null,null,null,null,null,null,null,null,null,null,null,null,null,null,null,null,null,null,null,null,null,null,null,null,null,null,null,null,null,null,null,null,null,null,null,null,null,null,null,null,null,null,null,null,null,null,null,null,null,null,null,null,null,null,null,null,null,null,null,null,null,null,null,null,null,null,null,null,null,null,null,null,null,null,null,null,null,null,null,null,null,null,null,null,null,null,null,null,null,null,null,null,null,null,null,null,null,null,null,null,null,null,null,null,null,null,null,null,null,null,null,null,null,null,null,null,null,null,null,null,null,null,null,null,null,null,null,null,null,null,null,null,null,null,null,null,null,null,null,null,null,null,null,null,null,null,null,null,null,null,null,null,null,null,null,null,null,null,null,null,null,null,null,null,null,null,null,null,null,null,null,null,null,null,null,null,null,null,null,null,null,null,null,null,null,null,null,null,null,null,null,null,null,null,null,null,null,null,null,null,null,null,null,null,null,null,null,null,null,null,null,null,null,null,null,null,null,null,null,null,null,null,null,null,null,null,null,null,null,null,null,null,null,null,null,null,null,null,null,null,null,null,null,null,null,null,null,null,null,null,null,null,null,null,null,null,null,null,null,null,null,null,null,null,null,null,null,null,null,null,null,null,null,null,null,null,null,null,null,null,null,null,null,null,null,null,null,null,null,null,null,null,null,null,null,null,null,null,null,null,null,null,null,null,null,null,null,null,null,null,null,null,null,null,null,null,null,null,null,null,null,null,null,null,null,null,null,null,null,null,null,null,null,null,null,null,null,null,null,null,null,null,null,null,null,null,null,null,null,null,null,null,null,null,null,null,null,null,null,null,null,null,null,null,null,null,null,null,null,null,null,null,null,null,null,null,null,null,null,null,null,null,null,null,null,null,null,null,null,null,null,null,null,null,null,null,null,null,null,null,null,null,null,null,null,null,null,null,null,null,null,null,null,null,null,null,null,null,null,null,null,null,null,null,null,null,null,null,null,null,null,null,null,null,null,null,null,null,null,null,null,null,null,null,null,null,null,null,null,null,null,null,null,null,null,null,null,null,null,null,null,null,null,null,null,null,null,null,null,null,null,null,null,null,null,null,null,null,null,null,null,null,null,null,null,null,null,null,null,null,null,null,null,null,null,null,null,null,null,null,null,null,null,null,null,null,null,null,null,null,null,null,null,null,null,null,null,null,null,null,null,null,null,null,null,null,null,null,null,null,null,null,null,null,null,null,null,null,null,null,null,null,null,null,null,null,null,null,null,null,null,null,null,null,null,null,null,null,null,null,null,null,null,null,null,null,null,null,null,null,null,null,null,null,null,null,null,null,null,null,null,null,null,null,null,null,null,null,null,null,null,null,null,null,null,null,null,null,null,null,null,null,null,null,null,null,null,null,null,null,null,null,null,null,null,null,null,null,null,null,null,null,null,null,null,null,null,null,null,null,null,null,null,null,null,null,null,null,null,null,null,null,null,null,null,null,null,null,null,null,null,null,null,null,null,null,null,null,null,null,null,null,null,null,null,null,null,null,null,null,null,null,null,null,null,null,null,null,null,null,null,null,null,null,null,null,null,null,null,null,null,null,null,null,null,null,null,null,null,null,null,null,null,null,null,null,null,null,null,null,null,null,null,null,null,null,null,null,null,null,null,null,null,null,null,null,null,null,null,null,null,null,null,null,null,null,null,null,null,null,null,null,null,null,null,null,null,null,null,null,null,null,null,null,null,null,null,null,null,null,null,null,null,null,null,null,null,null,null,null,null,null,null,null,null,null,null,null,null,null,null,null,null,null,null,null,null,null,null,null,null,null,null,null,null,null,null,null,null,null,null,null,null,null,null,null,null,null,null,null,null,null,null,null,null,null,null,null,null,null,null,null,null,null,null,null,null,null,null,null,null,null,null,null,null,null,null,null,null,null,null,null,null,null,null,null,null,null,null,null,null,null,null,null,null,null,null,null,null,null,null,null,null,null,null,null,null,null,null,null,null,null,null,null,null,null,null,null,null,null,null,null,null,null,null,null,null,null,null,null,null,null,null,null,null,null,null,null,null,null,null,null,null,null,null,null,null,null,null,null,null,null,null,null,null,null,null,null,null,null,null,null,null,null,null,null,null,null,null,null,null,null,null,null,null,null,null,null,null,null,null,null,null,null,null,null,null,null,null,null,null,null,null,null,null,null,null,null,null,null,null,null,null,null,null,null,null,null,null,null,null,null,null,null,null,null,null,null,null,null,null,null,null,null,null,null,null,null,null,null,null,null,null,null,null,null,null,null,null,null,null,null,null,null,null,null,null,null,null,null,null,null,null,null,null,null,null,null,null,null,null,null,null,null,null,null,null,null,null,null,null,null,null,null,null,null,null,null,null,null,null,null,null,null,null,null,null,null,null,null,null,null,null,null,null,null,null,null,null,null,null,null,null,null,null,null,null,null,null,null,null,null,null,null,null,null,null,null,null,null,null,null,null,null,null,null,null,null,null,null,null,null,null,null,null,null,null,null,null,null,null,null,null,null,null,null,null,null,null,null,null,null,null,null,null,null,null,null,null,null,null,null,null,null,null,null,null,null,null,null,null,null,null,null,null,null,null,null,null,null,null,null,null,null,null,null,null,null,null,null,null,null,null,null,null,null,null,null,null,null,null,null,null,null,null,null,null,null,null,null,null,null,null,null,null,null,null,null,null,null,null,null,null,null,null,null,null,null,null,null,null,null,null,null,null,null,null,null,null,null,null,null,null,null,null,null,null,null,null,null,null,null,null,null,null,null,null,null,null,null,null,null,null,null,null,null,null,null,null,null,null,null,null,null,null,null,null,null,null,null,null,null,null,null,null,null,null,null,null,null,null,null,null,null,null,null,null,null,null,null,null,null,null,null,null,null,null,null,null,null,null,null,null,null,null,null,null,null,null,null,null,null,null,null,null,null,null,null,null,null,null,null,null,null,null,null,null,null,null,null,null,null,null,null,null,null,null,null,null,null,null,null,null,null,null,null,null,null,null,null,null,null,null,null,null,null,null,null,null,null,null,null,null,null,null,null,null,null,null,null,null,null,null,null,null,null,null,null,null,null,null,null,null,null,null,null,null,null,null,null,null,null,null,null,null,null,null,null,null,null,null,null,null,null,null,null,null,null,null,null,null,null,null,null,null,null,null,null,null,null,null,null,null,null,null,null,null,null,null,null,null,null,null,null,null,null,null,null,null,null,null,null,null,null,null,null,null,null,null,null,null,null,null,null,null,null,null,null,null,null,null,null,null,null,null,null,null,null,null,null,null,null,null,null,null,null,null,null,null,null,null,null,null,null,null,null,null,null,null,null,null,null,null,null,null,null,null,null,null,null,null,null,null,null,null,null,null,null,null,null,null,null,null,null,null,null,null,null,null,null,null,null,null,null,null,null,null,null,null,null,null,null,null,null,null,null,null,null,null,null,null,null,null,null,null,null,null,null,null,null,null,null,null,null,null,null,null,null,null,null,null,null,null,null,null,null,null,null,null,null,null,null,null,null,null,null,null,null,null,null,null,null,null,null,null,null,null,null,null,null,null,null,null,null,null,null,null,null,null,null,null,null,null,null,null,null,null,null,null,null,null,null,null,null,null,null,null,null,null,null,null,null,null,null,null,null,null,null,null,null,null,null,null,null,null,null,null,null,null,null,null,null,null,null,null,null,null,null,null,null,null,null,null,null,null,null,null,null,null,null,null,null,null,null,null,null,null,null,null,null,null,null,null,null,null,null,null,null,null,null,null,null,null,null,null,null,null,null,null,null,null,null,null,null,null,null,null,null,null,null,null,null,null,null,null,null,null,null,null,null,null,null,null,null,null,null,null,null,null,null,null,null,null,null,null,null,null,null,null,null,null,null,null,null,null,null,null,null,null,null,null,null,null,null,null,null,null,null,null,null,null,null,null,null,null,null,null,null,null,null,null,null,null,null,null,null,null,null,null,null,null,null,null,null,null,null,null,null,null,null,null,null,null,null,null,null,null,null,null,null,null,null,null,null,null,null,null,null,null,null,null,null,null,null,null,null,null,null,null,null,null,null,null,null,null,null,null,null,null,null,null,null,null,null,null,null,null,null,null,null,null,null,null,null,null,null,null,null,null,null,null,null,null,null,null,null,null,null,null,null,null,null,null,null,null,null,null,null,null,null,null,null,null,null,null,null,null,null,null,null,null,null,null,null,null,null,null,null,null,null,null,null,null,null,null,null,null,null,null,null,null,null,null,null,null,null,null,null,null,null,null,null,null,null,null,null,null,null,null,null,null,null,null,null,null,null,null,null,null,null,null,null,null,null,null,null,null,null,null,null,null,null,null,null,null,null,null,null,null,null,null,null,null,null,null,null,null,null,null,null,null,null,null,null,null,null,null,null,null,null,null,null,null,null,null,null,null,null,null,null,null,null,null,null,null,null,null,null,null,null,null,null,null,null,null,null,null,null,null,null,null,null,null,null,null,null,null,null,null,null,null,null,null,null,null,null,null,null,null,null,null,null,null,null,null,null,null,null,null,null,null,null,null,null,null,null,null,null,null,null,null,null,null,null,null,null,null,null,null,null,null,null,null,null,null,null,null,null,null,null,null,null,null,null,null,null,null,null,null,null,null,null,null,null,null,null,null,null,null,null,null,null,null,null,null,null,null,null,null,null,null,null,null,null,null,null,null,null,null,null,null,null,null,null,null,null,null,null,null,null,null,null,null,null,null,null,null,null,null,null,null,null,null,null,null,null,null,null,null,null,null,null,null,null,null,null,null,null,null,null,null,null,null,null,null,null,null,null,null,null,null,null,null,null,null,null,null,null,null,null,null,null,null,null,null,null,null,null,null,null,null,null,null,null,null,null,null,null,null,null,null,null,null,null,null,null,null,null,null,null,null,null,null,null,null,null,null,null,null,null,null,null,null,null,null,null,null,null,null,null,null,null,null,null,null,null,null,null,null,null,null,null,null,null,null,null,null,null,null,null,null,null,null,null,null,null,null,null,null,null,null,null,null,null,null,null,null,null,null,null,null,null,null,null,null,null,null,null,null,null,null,null,null,null,null,null,null,null,null,null,null,null,null,null,null,null,null,null,null,null,null,null,null,null,null,null,null,null,null,null,null,null,null,null,null,null,null,null,null,null,null,null,null,null,null,null,null,null,null,null,null,null,null,null,null,null,null,null,null,null,null,null,null,null,null,null,null,null,null,null,null,null,null,null,null,null,null,null,null,null,null,null,null,null,null,null,null,null,null,null,null,null,null,null,null,null,null,null,null,null,null,null,null,null,null,null,null,null,null,null,null,null,null,null,null,null,null,null,null,null,null,null,null,null,null,null,null,null,null,null,null,null,null,null,null,null,null,null,null,null,null,null,null,null,null,null,null,null,null,null,null,null,null,null,null,null,null,null,null,null,null,null,null,null,null,null,null,null,null,null,null,null,null,null,null,null,null,null,null,null,null,null,null,null,null,null,null,null,null,null,null,null,null,null,null,null,null,null,null,null,null,null,null,null,null,null,null,null,null,null,null,null,null,null,null,null,null,null,null,null,null,null,null,null,null,null,null,null,null,null,null,null,null,null,null,null,null,null,null,null,null,null,null,null,null,null,null,null,null,null,null,null,null,null,null,null,null,null,null,null,null,null,null,null,null,null,null,null,null,null,null,null,null,null,null,null,null,null,null,null,null,null,null,null,null,null,null,null,null,null,null,null,null,null,null,null,null,null,null,null,null,null,null,null,null,null,null,null,null,null,null,null,null,null,null,null,null,null,null,null,null,null,null,null,null,null,null,null,null,null,null,null,null,null,null,null,null,null,null,null,null,null,null,null,null,null,null,null,null,null,null,null,null,null,null,null,null,null,null,null,null,null,null,null,null,null,null,null,null,null,null,null,null,null,null,null,null,null,null,null,null,null,null,null,null,null,null,null,null,null,null,null,null,null,null,null,null,null,null,null,null,null,null,null,null,null,null,null,null,null,null,null,null,null,null,null,null,null,null,null,null,null,null,null,null,null,null,null,null,null,null,null,null,null,null,null,null,null,null,null,null,null,null,null,null,null,null,null,null,null,null,null,null,null,null,null,null,null,null,null,null,null,null,null,null,null,null,null,null,null,null,null,null,null,null,null,null,null,null,null,null,null,null,null,null,null,null,null,null,null,null,null,null,null,null,null,null,null,null,null,null,null,null,null,null,null,null,null,null,null,null,null,null,null,null,null,null,null,null,null,null,null,null,null,null,null,null,null,null,null,null,null,null,null,null,null,null,null,null,null,null,null,null,null,null,null,null,null,null,null,null,null,null,null,null,null,null,null,null,null,null,null,null,null,null,null,null,null,null,null,null,null,null,null,null,null,null,null,null,null,null,null,null,null,null,null,null,null,null,null,null,null,null,null,null,null,null,null,null,null,null,null,null,null,null,null,null,null,null,null,null,null,null,null,null,null,null,null,null,null,null,null,null,null,null,null,null,null,null,null,null,null,null,null,null,null,null,null,null,null,null,null,null,null,null,null,null,null,null,null,null,null,null,null,null,null,null,null,null,null,null,null,null,null,null,null,null,null,null,null,null,null,null,null,null,null,null,null,null,null,null,null,null,null,null,null,null,null,null,null,null,null,null,null,null,null,null,null,null,null,null,null,null,null,null,null,null,null,null,null,null,null,null,null,null,null,null,null,null,null,null,null,null,null,null,null,null,null,null,null,null,null,null,null,null,null,null,null,null,null,null,null,null,null,null,null,null,null,null,null,null,null,null,null,null,null,null,null,null,null,null,null,null,null,null,null,null,null,null,null,null,null,null,null,null,null,null,null,null,null,null,null,null,null,null,null,null,null,null,null,null,null,null,null,null,null,null,null,null,null,null,null,null,null,null,null,null,null,null,null,null,null,null,null,null,null,null,null,null,null,null,null,null,null,null,null,null,null,null,null,null,null,null,null,null,null,null,null,null,null,null,null,null,null,null,null,null,null,null,null,null,null,null,null,null,null,null,null,null,null,null,null,null,null,null,null,null,null,null,null,null,null,null,null,null,null,null,null,null,null,null,null,null,null,null,null,null,null,null,null,null,null,null,null,null,null,null,null,null,null,null,null,null,null,null,null,null,null,null,null,null,null,null,null,null,null,null,null,null,null,null,null,null,null,null,null,null,null,null,null,null,null,null,null,null,null,null,null,null,null,null,null,null,null,null,null,null,null,null,null,null,null,null,null,null,null,null,null,null,null,null,null,null,null,null,null,null,null,null,null,null,null,null,null,null,null,null,null,null,null,null,null,null,null,null,null,null,null,null,null,null,null,null,null,null,null,null,null,null,null,null,null,null,null,null,null,null,null,null,null,null,null,null,null,null,null,null,null,null,null,null,null,null,null,null,null,null,null,null,null,null,null,null,null,null,null,null,null,null,null,null,null,null,null,null,null,null,null,null,null,null,null,null,null,null,null,null,null,null,null,null,null,null,null,null,null,null,null,null,null,null,null,null,null,null,null,null,null,null,null,null,null,null,null,null,null,null,null,null,null,null,null,null,null,null,null,null,null,null,null,null,null,null,null,null,null,null,null,null,null,null,null,null,null,null,null,null,null,null,null,null,null,null,null,null,null,null,null,null,null,null,null,null,null,null,null,null,null,null,null,null,null,null,null,null,null,null,null,null,null,null,null,null,null,null,null,null,null,null,null,null,null,null,null,null,null,null,null,null,null,null,null,null,null,null,null,null,null,null,null,null,null,null,null,null,null,null,null,null,null,null,null,null,null,null,null,null,null,null,null,null,null,null,null,null,null,null,null,null,null,null,null,null,null,null,null,null,null,null,null,null,null,null,null,null,null,null,null,null,null,null,null,null,null,null,null,null,null,null,null,null,null,null,null,null,null,null,null,null,null,null,null,null,null,null,null,null,null,null,null,null,null,null,null,null,null,null,null,null,null,null,null,null,null,null,null,null,null,null,null,null,null,null,null,null,null,null,null,null,null,null,null,null,null,null,null,null,null,null,null,null,null,null,null,null,null,null,null,null,null,null,null,null,null,null,null,null,null,null,null,null,null,null,null,null,null,null,null,null,null,null,null,null,null,null,null,null,null,null,null,null,null,null,null,null,null,null,null,null,null,null,null,null,null,null,null,null,null,null,null,null,null,null,null,null,null,null,null,null,null,null,null,null,null,null,null,null,null,null,null,null,null,null,null,null,null,null,null,null,null,null,null,null,null,null,null,null,null,null,null,null,null,null,null,null,null,null,null,null,null,null,null,null,null,null,null,null,null,null,null,null,null,null,null,null,null,null,null,null,null,null,null,null,null,null,null,null,null,null,null,null,null,null,null,null,null,null,null,null,null,null,null,null,null,null,null,null,null,null,null,null,null,null,null,null,null,null,null,null,null,null,null,null,null,null,null,null,null,null,null,null,null,null,null,null,null,null,null,null,null,null,null,null,null,null,null,null,null,null,null,null,null,null,null,null,null,null,null,null,null,null,null,null,null,null,null,null,null,null,null,null,null,null,null,null,null,null,null,null,null,null,null,null,null,null,null,null,null,null,null,null,null,null,null,null,null,null,null,null,null,null,null,null,null,null,null,null,null,null,null,null,null,null,null,null,null,null,null,null,null,null,null,null,null,null,null,null,null,null,null,null,null,null,null,null,null,null,null,null,null,null,null,null,null,null,null,null,null,null,null,null,null,null,null,null,null,null,null,null,null,null,null,null,null,null,null,null,null,null,null,null,null,null,null,null,null,null,null,null,null,null,null,null,null,null,null,null,null,null,null,null,null,null,null,null,null,null,null,null,null,null,null,null,null,null,null,null,null,null,null,null,null,null,null,null,null,null,null,null,null,null,null,null,null,null,null,null,null,null,null,null,null,null,null,null,null,null,null,null,null,null,null,null,null,null,null,null,null,null,null,null,null,null,null,null,null,null,null,null,null,null,null,null,null,null,null,null,null,null,null,null,null,null,null,null,null,null,null,null,null,null,null,null,null,null,null,null,null,null,null,null,null,null,null,null,null,null,null,null,null,null,null,null,null,null,null,null,null,null,null,null,null,null,null,null,null,null,null,null,null,null,null,null,null,null,null,null,null,null,null,null,null,null,null,null,null,null,null,null,null,null,null,null,null,null,null,null,null,null,null,null,null,null,null,null,null,null,null,null,null,null,null,null,null,null,null,null,null,null,null,null,null,null,null,null,null,null,null,null,null,null,null,null,null,null,null,null,null,null,null,null,null,null,null,null,null,null,null,null,null,null,null,null,null,null,null,null,null,null,null,null,null,null,null,null,null,null,null,null,null,null,null,null,null,null,null,null,null,null,null,null,null,null,null,null,null,null,null,null,null,null,null,null,null,null,null,null,null,null,null,null,null,null,null,null,null,null,null,null,null,null,null,null,null,null,null,null,null,null,null,null,null,null,null,null,null,null,null,null,null,null,null,null,null,null,null,null,null,null,null,null,null,null,null,null,null,null,null,null,null,null,null,null,null,null,null,null,null,null,null,null,null,null,null,null,null,null,null,null,null,null,null,null,null,null,null,null,null,null,null,null,null,null,null,null,null,null,null,null,null,null,null,null,null,null,null,null,null,null,null,null,null,null,null,null,null,null,null,null,null,null,null,null,null,null,null,null,null,null,null,null,null,null,null,null,null,null,null,null,null,null,null,null,null,null,null,null,null,null,null,null,null,null,null,null,null,null,null,null,null,null,null,null,null,null,null,null,null,null,null,null,null,null,null,null,null,null,null,null,null,null,null,null,null,null,null,null,null,null,null,null,null,null,null,null,null,null,null,null,null,null,null,null,null,null,null,null,null,null,null,null,null,null,null,null,null,null,null,null,null,null,null,null,null,null,null,null,null,null,null,null,null,null,null,null,null,null,null,null,null,null,null,null,null,null,null,null,null,null,null,null,null,null,null,null,null,null,null,null,null,null,null,null,null,null,null,null,null,null,null,null,null,null,null,null,null,null,null,null,null,null,null,null,null,null,null,null,null,null,null,null,null,null,null,null,null,null,null,null,null,null,null,null,null,null,null,null,null,null,null,null,null,null,null,null,null,null,null,null,null,null,null,null,null,null,null,null,null,null,null,null,null,null,null,null,null,null,null,null,null,null,null,null,null,null,null,null,null,null,null,null,null,null,null,null,null,null,null,null,null,null,null,null,null,null,null,null,null,null,null,null,null,null,null,null,null,null,null,null,null,null,null,null,null,null,null,null,null,null,null,null,null,null,null,null,null,null,null,null,null,null,null,null,null,null,null,null,null,null,null,null,null,null,null,null,null,null,null,null,null,null,null,null,null,null,null,null,null,null,null,null,null,null,null,null,null,null,null,null,null,null,null,null,null,null,null,null,null,null,null,null,null,null,null,null,null,null,null,null,null,null,null,null,null,null,null,null,null,null,null,null,null,null,null,null,null,null,null,null,null,null,null,null,null,null,null,null,null,null,null,null,null,null,null,null,null,null,null,null,null,null,null,null,null,null,null,null,null,null,null,null,null,null,null,null,null,null,null,null,null,null,null,null,null,null,null,null,null,null,null,null,null,null,null,null,null,null,null,null,null,null,null,null,null,null,null,null,null,null,null,null,null,null,null,null,null,null,null,null,null,null,null,null,null,null,null,null,null,null,null,null,null,null,null,null,null,null,null,null,null,null,null,null,null,null,null,null,null,null,null,null,null,null,null,null,null,null,null,null,null,null,null,null,null,null,null,null,null,null,null,null,null,null,null,null,null,null,null,null,null,null,null,null,null,null,null,null,null,null,null,null,null,null,null,null,null,null,null,null,null,null,null,null,null,null,null,null,null,null,null,null,null,null,null,null,null,null,null,null,null,null,null,null,null,null,null,null,null,null,null,null,null,null,null,null,null,null,null,null,null,null,null,null,null,null,null,null,null,null,null,null,null,null,null,null,null,null,null,null,null,null,null,null,null,null,null,null,null,null,null,null,null,null,null,null,null,null,null,null,null,null,null,null,null,null,null,null,null,null,null,null,null,null,null,null,null,null,null,null,null,null,null,null,null,null,null,null,null,null,null,null,null,null,null,null,null,null,null,null,null,null,null,null,null,null,null,null,null,null,null,null,null,null,null,null,null,null,null,null,null,null,null,null,null,null,null,null,null,null,null,null,null,null,null,null,null,null,null,null,null,null,null,null,null,null,null,null,null,null,null,null,null,null,null,null,null,null,null,null,null,null,null,null,null,null,null,null,null,null,null,null,null,null,null,null,null,null,null,null,null,null,null,null,null,null,null,null,null,null,null,null,null,null,null,null,null,null,null,null,null,null,null,null,null,null,null,null,null,null,null,null,null,null,null,null,null,null,null,null,null,null,null,null,null,null,null,null,null,null,null,null,null,null,null,null,null,null,null,null,null,null,null,null,null,null,null,null,null,null,null,null,null,null,null,null,null,null,null,null,null,null,null,null,null,null,null,null,null,null,null,null,null,null,null,null,null,null,null,null,null,null,null,null,null,null,null,null,null,null,null,null,null,null,null,null,null,null,null,null,null,null,null,null,null,null,null,null,null,null,null,null,null,null,null,null,null,null,null,null,null,null,null,null,null,null,null,null,null,null,null,null,null,null,null,null,null,null,null,null,null,null,null,null,null,null,null,null,null,null,null,null,null,null,null,null,null,null,null,null,null,null,null,null,null,null,null,null,null,null,null,null,null,null,null,null,null,null,null,null,null,null,null,null,null,null,null,null,null,null,null,null,null,null,null,null,null,null,null,null,null,null,null,null,null,null,null,null,null,null,null,null,null,null,null,null,null,null,null,null,null,null,null,null,null,null,null,null,null,null,null,null,null,null,null,null,null,null,null,null,null,null,null,null,null,null,null,null,null,null,null,null,null,null,null,null,null,null,null,null,null,null,null,null,null,null,null,null,null,null,null,null,null,null,null,null,null,null,null,null,null,null,null,null,null,null,null,null,null,null,null,null,null,null,null,null,null,null,null,null,null,null,null,null,null,null,null,null,null,null,null,null,null,null,null,null,null,null,null,null,null,null,null,null,null,null,null,null,null,null,null,null,null,null,null,null,null,null,null,null,null,null,null,null,null,null,null,null,null,null,null,null,null,null,null,null,null,null,null,null,null,null,null,null,null,null,null,null,null,null,null,null,null,null,null,null,null,null,null,null,null,null,null,null,null,null,null,null,null,null,null,null,null,null,null,null,null,null,null,null,null,null,null,null,null,null,null,null,null,null,null,null,null,null,null,null,null,null,null,null,null,null,null,null,null,null,null,null,null,null,null,null,null,null,null,null,null,null,null,null,null,null,null,null,null,null,null,null,null,null,null,null,null,null,null,null,null,null,null,null,null,null,null,null,null,null,null,null,null,null,null,null,null,null,null,null,null,null,null,null,null,null,null,null,null,null,null,null,null,null,null,null,null,null,null,null,null,null,null,null,null,null,null,null,null,null,null,null,null,null,null,null,null,null,null,null,null,null,null,null,null,null,null,null,null,null,null,null,null,null,null,null,null,null,null,null,null,null,null,null,null,null,null,null,null,null,null,null,null,null,null,null,null,null,null,null,null,null,null,null,null,null,null,null,null,null,null,null,null,null,null,null,null,null,null,null,null,null,null,null,null,null,null,null,null,null,null,null,null,null,null,null,null,null,null,null,null,null,null,null,null,null,null,null,null,null,null,null,null,null,null,null,null,null,null,null,null,null,null,null,null,null,null,null,null,null,null,null,null,null,null,null,null,null,null,null,null,null,null,null,null,null,null,null,null,null,null,null,null,null,null,null,null,null,null,null,null,null,null,null,null,null,null,null,null,null,null,null,null,null,null,null,null,null,null,null,null,null,null,null,null,null,null,null,null,null,null,null,null,null,null,null,null,null,null,null,null,null,null,null,null,null,null,null,null,null,null,null,null,null,null,null,null,null,null,null,null,null,null,null,null,null,null,null,null,null,null,null,null,null,null,null,null,null,null,null,null,null,null,null,null,null,null,null,null,null,null,null,null,null,null,null,null,null,null,null,null,null,null,null,null,null,null,null,null,null,null,null,null,null,null,null,null,null,null,null,null,null,null,null,null,null,null,null,null,null,null,null,null,null,null,null,null,null,null,null,null,null,null,null,null,null,null,null,null,null,null,null,null,null,null,null,null,null,null,null,null,null,null,null,null,null,null,null,null,null,null,null,null,null,null,null,null,null,null,null,null,null,null,null,null,null,null,null,null,null,null,null,null,null,null,null,null,null,null,null,null,null,null,null,null,null,null,null,null,null,null,null,null,null,null,null,null,null,null,null,null,null,null,null,null,null,null,null,null,null,null,null,null,null,null,null,null,null,null,null,null,null,null,null,null,null,null,null,null,null,null,null,null,null,null,null,null,null,null,null,null,null,null,null,null,null,null,null,null,null,null,null,null,null,null,null,null,null,null,null,null,null,null,null,null,null,null,null,null,null,null,null,null,null,null,null,null,null,null,null,null,null,null,null,null,null,null,null,null,null,null,null,null,null,null,null,null,null,null,null,null,null,null,null,null,null,null,null,null,null,null,null,null,null,null,null,null,null,null,null,null,null,null,null,null,null,null,null,null,null,null,null,null,null,null,null,null,null,null,null,null,null,null,null,null,null,null,null,null,null,null,null,null,null,null,null,null,null,null,null,null,null,null,null,null,null,null,null,null,null,null,null,null,null,null,null,null,null,null,null,null,null,null,null,null,null,null,null,null,null,null,null,null,null,null,null,null,null,null,null,null,null,null,null,null,null,null,null,null,null,null,null,null,null,null,null,null,null,null,null,null,null,null,null,null,null,null,null,null,null,null,null,null,null,null,null,null,null,null,null,null,null,null,null,null,null,null,null,null,null,null,null,null,null,null,null,null,null,null,null,null,null,null,null,null,null,null,null,null,null,null,null,null,null,null,null,null,null,null,null,null,null,null,null,null,null,null,null,null,null,null,null,null,null,null,null,null,null,null,null,null,null,null,null,null,null,null,null,null,null,null,null,null,null,null,null,null,null,null,null,null,null,null,null,null,null,null,null,null,null,null,null,null,null,null,null,null,null,null,null,null,null,null,null,null,null,null,null,null,null,null,null,null,null,null,null,null,null,null,null,null,null,null,null,null,null,null,null,null,null,null,null,null,null,null,null,null,null,null,null,null,null,null,null,null,null,null,null,null,null,null,null,null,null,null,null,null,null,null,null,null,null,null,null,null,null,null,null,null,null,null,null,null,null,null,null,null,null,null,null,null,null,null,null,null,null,null,null,null,null,null,null,null,null,null,null,null,null,null,null,null,null,null,null,null,null,null,null,null,null,null,null,null,null,null,null,null,null,null,null,null,null,null,null,null,null,null,null,null,null,null,null,null,null,null,null,null,null,null,null,null,null,null,null,null,null,null,null,null,null,null,null,null,null,null,null,null,null,null,null,null,null,null,null,null,null,null,null,null,null,null,null,null,null,null,null,null,null,null,null,null,null,null,null,null,null,null,null,null,null,null,null,null,null,null,null,null,null,null,null,null,null,null,null,null,null,null,null,null,null,null,null,null,null,null,null,null,null,null,null,null,null,null,null,null,null,null,null,null,null,null,null,null,null,null,null,null,null,null,null,null,null,null,null,null,null,null,null,null,null,null,null,null,null,null,null,null,null,null,null,null,null,null,null,null,null,null,null,null,null,null,null,null,null,null,null,null,null,null,null,null,null,null,null,null,null,null,null,null,null,null,null,null,null,null,null,null,null,null,null,null,null,null,null,null,null,null,null,null,null,null,null,null,null,null,null,null,null,null,null,null,null,null,null,null,null,null,null,null,null,null,null,null,null,null,null,null,null,null,null,null,null,null,null,null,null,null,null,null,null,null,null,null,null,null,null,null,null,null,null,null,null,null,null,null,null,null,null,null,null,null,null,null,null,null,null,null,null,null,null,null,null,null,null,null,null,null,null,null,null,null,null,null,null,null,null,null,null,null,null,null,null,null,null,null,null,null,null,null,null,null,null,null,null,null,null,null,null,null,null,null,null,null,null,null,null,null,null,null,null,null,null,null,null,null,null,null,null,null,null,null,null,null,null,null,null,null,null,null,null,null,null,null,null,null,null,null,null,null,null,null,null,null,null,null,null,null,null,null,null,null,null,null,null,null,null,null,null,null,null,null,null,null,null,null,null,null,null,null,null,null,null,null,null,null,null,null,null,null,null,null,null,null,null,null,null,null,null,null,null,null,null,null,null,null,null,null,null,null,null,null,null,null,null,null,null,null,null,null,null,null,null,null,null,null,null,null,null,null,null,null,null,null,null,null,null,null,null,null,null,null,null,null,null,null,null,null,null,null,null,null,null,null,null,null,null,null,null,null,null,null,null,null,null,null,null,null,null,null,null,null,null,null,null,null,null,null,null,null,null,null,null,null,null,null,null,null,null,null,null,null,null,null,null,null,null,null,null,null,null,null,null,null,null,null,null,null,null,null,null,null,null,null,null,null,null,null,null,null,null,null,null,null,null,null,null,null,null,null,null,null,null,null,null,null,null,null,null,null,null,null,null,null,null,null,null,null,null,null,null,null,null,null,null,null,null,null,null,null,null,null,null,null,null,null,null,null,null,null,null,null,null,null,null,null,null,null,null,null,null,null,null,null,null,null,null,null,null,null,null,null,null,null,null,null,null,null,null,null,null,null,null,null,null,null,null,null,null,null,null,null,null,null,null,null,null,null,null,null,null,null,null,null,null,null,null,null,null,null,null,null,null,null,null,null,null,null,null,null,null,null,null,null,null,null,null,null,null,null,null,null,null,null,null,null,null,null,null,null,null,null,null,null,null,null,null,null,null,null,null,null,null,null,null,null,null,null,null,null,null,null,null,null,null,null,null,null,null,null,null,null,null,null,null,null,null,null,null,null,null,null,null,null,null,null,null,null,null,null,null,null,null,null,null,null,null,null,null,null,null,null,null,null,null,null,null,null,null,null,null,null,null,null,null,null,null,null,null,null,null,null,null,null,null,null,null,null,null,null,null,null,null,null,null,null,null,null,null,null,null,null,null,null,null,null,null,null,null,null,null,null,null,null,null,null,null,null,null,null,null,null,null,null,null,null,null,null,null,null,null,null,null,null,null,null,null,null,null,null,null,null,null,null,null,null,null,null,null,null,null,null,null,null,null,null,null,null,null,null,null,null,null,null,null,null,null,null,null,null,null,null,null,null,null,null,null,null,null,null,null,null,null,null,null,null,null,null,null,null,null,null,null,null,null,null,null,null,null,null,null,null,null,null,null,null,null,null,null,null,null,null,null,null,null,null,null,null,null,null,null,null,null,null,null,null,null,null,null,null,null,null,null,null,null,null,null,null,null,null,null,null,null,null,null,null,null,null,null,null,null,null,null,null,null,null,null,null,null,null,null,null,null,null,null,null,null,null,null,null,null,null,null,null,null,null,null,null,null,null,null,null,null,null,null,null,null,null,null,null,null,null,null,null,null,null,null,null,null,null,null,null,null,null,null,null,null,null,null,null,null,null,null,null,null,null,null,null,null,null,null,null,null,null,null,null,null,null,null,null,null,null,null,null,null,null,null,null,null,null,null,null,null,null,null,null,null,null,null,null,null,null,null,null,null,null,null,null,null,null,null,null,null,null,null,null,null,null,null,null,null,null,null,null,null,null,null,null,null,null,null,null,null,null,null,null,null,null,null,null,null,null,null,null,null,null,null,null,null,null,null,null,null,null,null,null,null,null,null,null,null,null,null,null,null,null,null,null,null,null,null,null,null,null,null,null,null,null,null,null,null,null,null,null,null,null,null,null,null,null,null,null,null,null,null,null,null,null,null,null,null,null,null,null,null,null,null,null,null,null,null,null,null,null,null,null,null,null,null,null,null,null,null,null,null,null,null,null,null,null,null,null,null,null,null,null,null,null,null,null,null,null,null,null,null,null,null,null,null,null,null,null,null,null,null,null,null,null,null,null,null,null,null,null,null,null,null,null,null,null,null,null,null,null,null,null,null,null,null,null,null,null,null,null,null,null,null,null,null,null,null,null,null,null,null,null,null,null,null,null,null,null,null,null,null,null,null,null,null,null,null,null,null,null,null,null,null,null,null,null,null,null,null,null,null,null,null,null,null,null,null,null,null,null,null,null,null,null,null,null,null,null,null,null,null,null,null,null,null,null,null,null,null,null,null,null,null,null,null,null,null,null,null,null,null,null,null,null,null,null,null,null,null,null,null,null,null,null,null,null,null,null,null,null,null,null,null,null,null,null,null,null,null,null,null,null,null,null,null,null,null,null,null,null,null,null,null,null,null,null,null,null,null,null,null,null,null,null,null,null,null,null,null,null,null,null,null,null,null,null,null,null,null,null,null,null,null,null,null,null,null,null,null,null,null,null,null,null,null,null,null,null,null,null,null,null,null,null,null,null,null,null,null,null,null,null,null,null,null,null,null,null,null,null,null,null,null,null,null,null,null,null,null,null,null,null,null,null,null,null,null,null,null,null,null,null,null,null,null,null,null,null,null,null,null,null,null,null,null,null,null,null,null,null,null,null,null,null,null,null,null,null,null,null,null,null,null,null,null,null,null,null,null,null,null,null,null,null,null,null,null,null,null,null,null,null,null,null,null,null,null,null,null,null,null,null,null,null,null,null,null,null,null,null,null,null,null,null,null,null,null,null,null,null,null,null,null,null,null,null,null,null,null,null,null,null,null,null,null,null,null,null,null,null,null,null,null,null,null,null,null,null,null,null,null,null,null,null,null,null,null,null,null,null,null,null,null,null,null,null,null,null,null,null,null,null,null,null,null,null,null,null,null,null,null,null,null,null,null,null,null,null,null,null,null,null,null,null,null,null,null,null,null,null,null,null,null,null,null,null,null,null,null,null,null,null,null,null,null,null,null,null,null,null,null,null,null,null,null,null,null,null,null,null,null,null,null,null,null,null,null,null,null,null,null,null,null,null,null,null,null,null,null,null,null,null,null,null,null,null,null,null,null,null,null,null,null,null,null,null,null,null,null,null,null,null,null,null,null,null,null,null,null,null,null,null,null,null,null,null,null,null,null,null,null,null,null,null,null,null,null,null,null,null,null,null,null,null,null,null,null,null,null,null,null,null,null,null,null,null,null,null,null,null,null,null,null,null,null,null,null,null,null,null,null,null,null,null,null,null,null,null,null,null,null,null,null,null,null,null,null,null,null,null,null,null,null,null,null,null,null,null,null,null,null,null,null,null,null,null,null,null,null,null,null,null,null,null,null,null,null,null,null,null,null,null,null,null,null,null,null,null,null,null,null,null,null,null,null,null,null,null,null,null,null,null,null,null,null,null,null,null,null,null,null,null,null,null,null,null,null,null,null,null,null,null,null,null,null,null,null,null,null,null,null,null,null,null,null,null,null,null,null,null,null,null,null,null,null,null,null,null,null,null,null,null,null,null,null,null,null,null,null,null,null,null,null,null,null,null,null,null,null,null,null,null,null,null,null,null,null,null,null,null,null,null,null,null,null,null,null,null,null,null,null,null,null,null,null,null,null,null,null,null,null,null,null,null,null,null,null,null,null,null,null,null,null,null,null,null,null,null,null,null,null,null,null,null,null,null,null,null,null,null,null,null,null,null,null,null,null,null,null,null,null,null,null,null,null,null,null,null,null,null,null,null,null,null,null,null,null,null,null,null,null,null,null,null,null,null,null,null,null,null,null,null,null,null,null,null,null,null,null,null,null,null,null,null,null,null,null,null,null,null,null,null,null,null,null,null,null,null,null,null,null,null,null,null,null,null,null,null,null,null,null,null,null,null,null,null,null,null,null,null,null,null,null,null,null,null,null,null,null,null,null,null,null,null,null,null,null,null,null,null,null,null,null,null,null,null,null,null,null,null,null,null,null,null,null,null,null,null,null,null,null,null,null,null,null,null,null,null,null,null,null,null,null,null,null,null,null,null,null,null,null,null,null,null,null,null,null,null,null,null,null,null,null,null,null,null,null,null,null,null,null,null,null,null,null,null,null,null,null,null,null,null,null,null,null,null,null,null,null,null,null,null,null,null,null,null,null,null,null,null,null,null,null,null,null,null,null,null,null,null,null,null,null,null,null,null,null,null,null,null,null,null,null,null,null,null,null,null,null,null,null,null,null,null,null,null,null,null,null,null,null,null,null,null,null,null,null,null,null,null,null,null,null,null,null,null,null,null,null,null,null,null,null,null,null,null,null,null,null,null,null,null,null,null,null,null,null,null,null,null,null,null,null,null,null,null,null,null,null,null,null,null,null,null,null,null,null,null,null,null,null,null,null,null,null,null,null,null,null,null,null,null,null,null,null,null,null,null,null,null,null,null,null,null,null,null,null,null,null,null,null,null,null,null,null,null,null,null,null,null,null,null,null,null,null,null,null,null,null,null,null,null,null,null,null,null,null,null,null,null,null,null,null,null,null,null,null,null,null,null,null,null,null,null,null,null,null,null,null,null,null,null,null,null,null,null,null,null,null,null,null,null,null,null,null,null,null,null,null,null,null,null,null,null,null,null,null,null,null,null,null,null,null,null,null,null,null,null,null,null,null,null,null,null,null,null,null,null,null,null,null,null,null,null,null,null,null,null,null,null,null,null,null,null,null,null,null,null,null,null,null,null,null,null,null,null,null,null,null,null,null,null,null,null,null,null,null,null,null,null,null,null,null,null,null,null,null,null,null,null,null,null,null,null,null,null,null,null,null,null,null,null,null,null,null,null,null,null,null,null,null,null,null,null,null,null,null,null,null,null,null,null,null,null,null,null,null,null,null,null,null,null,null,null,null,null,null,null,null,null,null,null,null,null,null,null,null,null,null,null,null,null,null,null,null,null,null,null,null,null,null,null,null,null,null,null,null,null,null,null,null,null,null,null,null,null,null,null,null,null,null,null,null,null,null,null,null,null,null,null,null,null,null,null,null,null,null,null,null,null,null,null,null,null,null,null,null,null,null,null,null,null,null,null,null,null,null,null,null,null,null,null,null,null,null,null,null,null,null,null,null,null,null,null,null,null,null,null,null,null,null,null,null,null,null,null,null,null,null,null,null,null,null,null,null,null,null,null,null,null,null,null,null,null,null,null,null,null,null,null,null,null,null,null,null,null,null,null,null,null,null,null,null,null,null,null,null,null,null,null,null,null,null,null,null,null,null,null,null,null,null,null,null,null,null,null,null,null,null,null,null,null,null,null,null,null,null,null,null,null,null,null,null,null,null,null,null,null,null,null,null,null,null,null,null,null,null,null,null,null,null,null,null,null,null,null,null,null,null,null,null,null,null,null,null,null,null,null,null,null,null,null,null,null,null,null,null,null,null,null,null,null,null,null,null,null,null,null,null,null,null,null,null,null,null,null,null,null,null,null,null,null,null,null,null,null,null,null,null,null,null,null,null,null,null,null,null,null,null,null,null,null,null,null,null,null,null,null,null,null,null,null,null,null,null,null,null,null,null,null,null,null,null,null,null,null,null,null,null,null,null,null,null,null,null,null,null,null,null,null,null,null,null,null,null,null,null,null,null,null,null,null,null,null,null,null,null,null,null,null,null,null,null,null,null,null,null,null,null,null,null,null,null,null,null,null,null,null,null,null,null,null,null,null,null,null,null,null,null,null,null,null,null,null,null,null,null,null,null,null,null,null,null,null,null,null,null,null,null,null,null,null,null,null,null,null,null,null,null,null,null,null,null,null,null,null,null,null,null,null,null,null,null,null,null,null,null,null,null,null,null,null,null,null,null,null,null,null,null,null,null,null,null,null,null,null,null,null,null,null,null,null,null,null,null,null,null,null,null,null,null,null,null,null,null,null,null,null,null,null,null,null,null,null,null,null,null,null,null,null,null,null,null,null,null,null,null,null,null,null,null,null,null,null,null,null,null,null,null,null,null,null,null,null,null,null,null,null,null,null,null,null,null,null,null,null,null,null,null,null,null,null,null,null,null,null,null,null,null,null,null,null,null,null,null,null,null,null,null,null,null,null,null,null,null,null,null,null,null,null,null,null,null,null,null,null,null,null,null,null,null,null,null,null,null,null,null,null,null,null,null,null,null,null,null,null,null,null,null,null,null,null,null,null,null,null,null,null,null,null,null,null,null,null,null,null,null,null,null,null,null,null,null,null,null,null,null,null,null,null,null,null,null,null,null,null,null,null,null,null,null,null,null,null,null,null,null,null,null,null,null,null,null,null,null,null,null,null,null,null,null,null,null,null,null,null,null,null,null,null,null,null,null,null,null,null,null,null,null,null,null,null,null,null,null,null,null,null,null,null,null,null,null,null,null,null,null,null,null,null,null,null,null,null,null,null,null,null,null,null,null,null,null,null,null,null,null,null,null,null,null,null,null,null,null,null,null,null,null,null,null,null,null,null,null,null,null,null,null,null,null,null,null,null,null,null,null,null,null,null,null,null,null,null,null,null,null,null,null,null,null,null,null,null,null,null,null,null,null,null,null,null,null,null,null,null,null,null,null,null,null,null,null,null,null,null,null,null,null,null,null,null,null,null,null,null,null,null,null,null,null,null,null,null,null,null,null,null,null,null,null,null,null,null,null,null,null,null,null,null,null,null,null,null,null,null,null,null,null,null,null,null,null,null,null,null,null,null,null,null,null,null,null,null,null,null,null,null,null,null,null,null,null,null,null,null,null,null,null,null,null,null,null,null,null,null,null,null,null,null,null,null,null,null,null,null,null,null,null,null,null,null,null,null,null,null,null,null,null,null,null,null,null,null,null,null,null,null,null,null,null,null,null,null,null,null,null,null,null,null,null,null,null,null,null,null,null,null,null,null,null,null,null,null,null,null,null,null,null,null,null,null,null,null,null,null,null,null,null,null,null,null,null,null,null,null,null,null,null,null,null,null,null,null,null,null,null,null,null,null,null,null,null,null,null,null,null,null,null,null,null,null,null,null,null,null,null,null,null,null,null,null,null,null,null,null,null,null,null,null,null,null,null,null,null,null,null,null,null,null,null,null,null,null,null,null,null,null,null,null,null,null,null,null,null,null,null,null,null,null,null,null,null,null,null,null,null,null,null,null,null,null,null,null,null,null,null,null,null,null,null,null,null,null,null,null,null,null,null,null,null,null,null,null,null,null,null,null,null,null,null,null,null,null,null,null,null,null,null,null,null,null,null,null,null,null,null,null,null,null,null,null,null,null,null,null,null,null,null,null,null,null,null,null,null,null,null,null,null,null,null,null,null,null,null,null,null,null,null,null,null,null,null,null,null,null,null,null,null,null,null,null,null,null,null,null,null,null,null,null,null,null,null,null,null,null,null,null,null,null,null,null,null,null,null,null,null,null,null,null,null,null,null,null,null,null,null,null,null,null,null,null,null,null,null,null,null,null,null,null,null,null,null,null,null,null,null,null,null,null,null,null,null,null,null,null,null,null,null,null,null,null,null,null,null,null,null,null,null,null,null,null,null,null,null,null,null,null,null,null,null,null,null,null,null,null,null,null,null,null,null,null,null,null,null,null,null,null,null,null,null,null,null,null,null,null,null,null,null,null,null,null,null,null,null,null,null,null,null,null,null,null,null,null,null,null,null,null,null,null,null,null,null,null,null,null,null,null,null,null,null,null,null,null,null,null,null,null,null,null,null,null,null,null,null,null,null,null,null,null,null,null,null,null,null,null,null,null,null,null,null,null,null,null,null,null,null,null,null,null,null,null,null,null,null,null,null,null,null,null,null,null,null,null,null,null,null,null,null,null,null,null,null,null,null,null,null,null,null,null,null,null,null,null,null,null,null,null,null,null,null,null,null,null,null,null,null,null,null,null,null,null,null,null,null,null,null,null,null,null,null,null,null,null,null,null,null,null,null,null,null,null,null,null,null,null,null,null,null,null,null,null,null,null,null,null,null,null,null,null,null,null,null,null,null,null,null,null,null,null,null,null,null,null,null,null,null,null,null,null,null,null,null,null,null,null,null,null,null,null,null,null,null,null,null,null,null,null,null,null,null,null,null,null,null,null,null,null,null,null,null,null,null,null,null,null,null,null,null,null,null,null,null,null,null,null,null,null,null,null,null,null,null,null,null,null,null,null,null,null,null,null,null,null,null,null,null,null,null,null,null,null,null,null,null,null,null,null,null,null,null,null,null,null,null,null,null,null,null,null,null,null,null,null,null,null,null,null,null,null,null,null,null,null,null,null,null,null,null,null,null,null,null,null,null,null,null,null,null,null,null,null,null,null,null,null,null,null,null,null,null,null,null,null,null,null,null,null,null,null,null,null,null,null,null,null,null,null,null,null,null,null,null,null,null,null,null,null,null,null,null,null,null,null,null,null,null,null,null,null,null,null,null,null,null,null,null,null,null,null,null,null,null,null,null,null,null,null,null,null,null,null,null,null,null,null,null,null,null,null,null,null,null,null,null,null,null,null,null,null,null,null,null,null,null,null,null,null,null,null,null,null,null,null,null,null,null,null,null,null,null,null,null,null,null,null,null,null,null,null,null,null,null,null,null,null,null,null,null,null,null,null,null,null,null,null,null,null,null,null,null,null,null,null,null,null,null,null,null,null,null,null,null,null,null,null,null,null,null,null,null,null,null,null,null,null,null,null,null,null,null,null,null,null,null,null,null,null,null,null,null,null,null,null,null,null,null,null,null,null,null,null,null,null,null,null,null,null,null,null,null,null,null,null,null,null,null,null,null,null,null,null,null,null,null,null,null,null,null,null,null,null,null,null,null,null,null,null,null,null,null,null,null,null,null,null,null,null,null,null,null,null,null,null,null,null,null,null,null,null,null,null,null,null,null,null,null,null,null,null,null,null,null,null,null,null,null,null,null,null,null,null,null,null,null,null,null,null,null,null,null,null,null,null,null,null,null,null,null,null,null,null,null,null,null,null,null,null,null,null,null,null,null,null,null,null,null,null,null,null,null,null,null,null,null,null,null,null,null,null,null,null,null,null,null,null,null,null,null,null,null,null,null,null,null,null,null,null,null,null,null,null,null,null,null,null,null,null,null,null,null,null,null,null,null,null,null,null,null,null,null,null,null,null,null,null,null,null,null,null,null,null,null,null,null,null,null,null,null,null,null,null,null,null,null,null,null,null,null,null,null,null,null,null,null,null,null,null,null,null,null,null,null,null,null,null,null,null,null,null,null,null,null,null,null,null,null,null,null,null,null,null,null,null,null,null,null,null,null,null,null,null,null,null,null,null,null,null,null,null,null,null,null,null,null,null,null,null,null,null,null,null,null,null,null,null,null,null,null,null,null,null,null,null,null,null,null,null,null,null,null,null,null,null,null,null,null,null,null,null,null,null,null,null,null,null,null,null,null,null,null,null,null,null,null,null,null,null,null,null,null,null,null,null,null,null,null,null,null,null,null,null,null,null,null,null,null,null,null,null,null,null,null,null,null,null,null,null,null,null,null,null,null,null,null,null,null,null,null,null,null,null,null,null,null,null,null,null,null,null,null,null,null,null,null,null,null,null,null,null,null,null,null,null,null,null,null,null,null,null,null,null,null,null,null,null,null,null,null,null,null,null,null,null,null,null,null,null,null,null,null,null,null,null,null,null,null,null,null,null,null,null,null,null,null,null,null,null,null,null,null,null,null,null,null,null,null,null,null,null,null,null,null,null,null,null,null,null,null,null,null,null,null,null,null,null,null,null,null,null,null,null,null,null,null,null,null,null,null,null,null,null,null,null,null,null,null,null,null,null,null,null,null,null,null,null,null,null,null,null,null,null,null,null,null,null,null,null,null,null,null,null,null,null,null,null,null,null,null,null,null,null,null,null,null,null,null,null,null,null,null,null,null,null,null,null,null,null,null,null,null,null,null,null,null,null,null,null,null,null,null,null,null,null,null,null,null,null,null,null,null,null,null,null,null,null,null,null,null,null,null,null,null,null,null,null,null,null,null,null,null,null,null,null,null,null,null,null,null,null,null,null,null,null,null,null,null,null,null,null,null,null,null,null,null,null,null,null,null,null,null,null,null,null,null,null,null,null,null,null,null,null,null,null,null,null,null,null,null,null,null,null,null,null,null,null,null,null,null,null,null,null,null,null,null,null,null,null,null,null,null,null,null,null,null,null,null,null,null,null,null,null,null,null,null,null,null,null,null,null,null,null,null,null,null,null,null,null,null,null,null,null,null,null,null,null,null,null,null,null,null,null,null,null,null,null,null,null,null,null,null,null,null,null,null,null,null,null,null,null,null,null,null,null,null,null,null,null,null,null,null,null,null,null,null,null,null,null,null,null,null,null,null,null,null,null,null,null,null,null,null,null,null,null,null,null,null,null,null,null,null,null,null,null,null,null,null,null,null,null,null,null,null,null,null,null,null,null,null,null,null,null,null,null,null,null,null,null,null,null,null,null,null,null,null,null,null,null,null,null,null,null,null,null,null,null,null,null,null,null,null,null,null,null,null,null,null,null,null,null,null,null,null,null,null,null,null,null,null,null,null,null,null,null,null,null,null,null,null,null,null,null,null,null,null,null,null,null,null,null,null,null,null,null,null,null,null,null,null,null,null,null,null,null,null,null,null,null,null,null,null,null,null,null,null,null,null,null,null,null,null,null,null,null,null,null,null,null,null,null,null,null,null,null,null,null,null,null,null,null,null,null,null,null,null,null,null,null,null,null,null,null,null,null,null,null,null,null,null,null,null,null,null,null,null,null,null,null,null,null,null,null,null,null,null,null,null,null,null,null,null,null,null,null,null,null,null,null,null,null,null,null,null,null,null,null,null,null,null,null,null,null,null,null,null,null,null,null,null,null,null,null,null,null,null,null,null,null,null,null,null,null,null,null,null,null,null,null,null,null,null,null,null,null,null,null,null,null,null,null,null,null,null,null,null,null,null,null,null,null,null,null,null,null,null,null,null,null,null,null,null,null,null,null,null,null,null,null,null,null,null,null,null,null,null,null,null,null,null,null,null,null,null,null,null,null,null,null,null,null,null,null,null,null,null,null,null,null,null,null,null,null,null,null,null,null,null,null,null,null,null,null,null,null,null,null,null,null,null,null,null,null,null,null,null,null,null,null,null,null,null,null,null,null,null,null,null,null,null,null,null,null,null,null,null,null,null,null,null,null,null,null,null,null,null,null,null,null,null,null,null,null,null,null,null,null,null,null,null,null,null,null,null,null,null,null,null,null,null,null,null,null,null,null,null,null,null,null,null,null,null,null,null,null,null,null,null,null,null,null,null,null,null,null,null,null,null,null,null,null,null,null,null,null,null,null,null,null,null,null,null,null,null,null,null,null,null,null,null,null,null,null,null,null,null,null,null,null,null,null,null,null,null,null,null,null,null,null,null,null,null,null,null,null,null,null,null,null,null,null,null,null,null,null,null,null,null,null,null,null,null,null,null,null,null,null,null,null,null,null,null,null,null,null,null,null,null,null,null,null,null,null,null,null,null,null,null,null,null,null,null,null,null,null,null,null,null,null,null,null,null,null,null,null,null,null,null,null,null,null,null,null,null,null,null,null,null,null,null,null,null,null,null,null,null,null,null,null,null,null,null,null,null,null,null,null,null,null,null,null,null,null,null,null,null,null,null,null,null,null,null,null,null,null,null,null,null,null,null,null,null,null,null,null,null,null,null,null,null,null,null,null,null,null,null,null,null,null,null,null,null,null,null,null,null,null,null,null,null,null,null,null,null,null,null,null,null,null,null,null,null,null,null,null,null,null,null,null,null,null,null,null,null,null,null,null,null,null,null,null,null,null,null,null,null,null,null,null,null,null,null,null,null,null,null,null,null,null,null,null,null,null,null,null,null,null,null,null,null,null,null,null,null,null,null,null,null,null,null,null,null,null,null,null,null,null,null,null,null,null,null,null,null,null,null,null,null,null,null,null,null,null,null,null,null,null,null,null,null,null,null,null,null,null,null,null,null,null,null,null,null,null,null,null,null,null,null,null,null,null,null,null,null,null,null,null,null,null,null,null,null,null,null,null,null,null,null,null,null,null,null,null,null,null,null,null,null,null,null,null,null,null,null,null,null,null,null,null,null,null,null,null,null,null,null,null,null,null,null,null,null,null,null,null,null,null,null,null,null,null,null,null,null,null,null,null,null,null,null,null,null,null,null,null,null,null,null,null,null,null,null,null,null,null,null,null,null,null,null,null,null,null,null,null,null,null,null,null,null,null,null,null,null,null,null,null,null,null,null,null,null,null,null,null,null,null,null,null,null,null,null,null,null,null,null,null,null,null,null,null,null,null,null,null,null,null,null,null,null,null,null,null,null,null,null,null,null,null,null,null,null,null,null,null,null,null,null,null,null,null,null,null,null,null,null,null,null,null,null,null,null,null,null,null,null,null,null,null,null,null,null,null,null,null,null,null,null,null,null,null,null,null,null,null,null,null,null,null,null,null,null,null,null,null,null,null,null,null,null,null,null,null,null,null,null,null,null,null,null,null,null,null,null,null,null,null,null,null,null,null,null,null,null,null,null,null,null,null,null,null,null,null,null,null,null,null,null,null,null,null,null,null,null,null,null,null,null,null,null,null,null,null,null,null,null,null,null,null,null,null,null,null,null,null,null,null,null,null,null,null,null,null,null,null,null,null,null,null,null,null,null,null,null,null,null,null,null,null,null,null,null,null,null,null,null,null,null,null,null,null,null,null,null,null,null,null,null,null,null,null,null,null,null,null,null,null,null,null,null,null,null,null,null,null,null,null,null,null,null,null,null,null,null,null,null,null,null,null,null,null,null,null,null,null,null,null,null,null,null,null,null,null,null,null,null,null,null,null,null,null,null,null,null,null,null,null,null,null,null,null,null,null,null,null,null,null,null,null,null,null,null,null,null,null,null,null,null,null,null,null,null,null,null,null,null,null,null,null,null,null,null,null,null,null,null,null,null,null,null,null,null,null,null,null,null,null,null,null,null,null,null,null,null,null,null,null,null,null,null,null,null,null,null,null,null,null,null,null,null,null,null,null,null,null,null,null,null,null,null,null,null,null,null,null,null,null,null,null,null,null,null,null,null,null,null,null,null,null,null,null,null,null,null,null,null,null,null,null,null,null,null,null,null,null,null,null,null,null,null,null,null,null,null,null,null,null,null,null,null,null,null,null,null,null,null,null,null,null,null,null,null,null,null,null,null,null,null,null,null,null,null,null,null,null,null,null,null,null,null,null,null,null,null,null,null,null,null,null,null,null,null,null,null,null,null,null,null,null,null,null,null,null,null,null,null,null,null,null,null,null,null,null,null,null,null,null,null,null,null,null,null,null,null,null,null,null,null,null,null,null,null,null,null,null,null,null,null,null,null,null,null,null,null,null,null,null,null,null,null,null,null,null,null,null,null,null,null,null,null,null,null,null,null,null,null,null,null,null,null,null,null,null,null,null,null,null,null,null,null,null,null,null,null,null,null,null,null,null,null,null,null,null,null,null,null,null,null,null,null,null,null,null,null,null,null,null,null,null,null,null,null,null,null,null,null,null,null,null,null,null,null,null,null,null,null,null,null,null,null,null,null,null,null,null,null,null,null,null,null,null,null,null,null,null,null,null,null,null,null,null,null,null,null,null,null,null,null,null,null,null,null,null,null,null,null,null,null,null,null,null,null,null,null,null,null,null,null,null,null,null,null,null,null,null,null,null,null,null,null,null,null,null,null,null,null,null,null,null,null,null,null,null,null,null,null,null,null,null,null,null,null,null,null,null,null,null,null,null,null,null,null,null,null,null,null,null,null,null,null,null,null,null,null,null,null,null,null,null,null,null,null,null,null,null,null,null,null,null,null,null,null,null,null,null,null,null,null,null,null,null,null,null,null,null,null,null,null,null,null,null,null,null,null,null,null,null,null,null,null,null,null,null,null,null,null,null,null,null,null,null,null,null,null,null,null,null,null,null,null,null,null,null,null,null,null,null,null,null,null,null,null,null,null,null,null,null,null,null,null,null,null,null,null,null,null,null,null,null,null,null,null,null,null,null,null,null,null,null,null,null,null,null,null,null,null,null,null,null,null,null,null,null,null,null,null,null,null,null,null,null,null,null,null,null,null,null,null,null,null,null,null,null,null,null,null,null,null,null,null,null,null,null,null,null,null,null,null,null,null,null,null,null,null,null,null,null,null,null,null,null,null,null,null,null,null,null,null,null,null,null,null,null,null,null,null,null,null,null,null,null,null,null,null,null,null,null,null,null,null,null,null,null,null,null,null,null,null,null,null,null,null,null,null,null,null,null,null,null,null,null,null,null,null,null,null,null,null,null,null,null,null,null,null,null,null,null,null,null,null,null,null,null,null,null,null,null,null,null,null,null,null,null,null,null,null,null,null,null,null,null,null,null,null,null,null,null,null,null,null,null,null,null,null,null,null,null,null,null,null,null,null,null,null,null,null,null,null,null,null,null,null,null,null,null,null,null,null,null,null,null,null,null,null,null,null,null,null,null,null,null,null,null,null,null,null,null,null,null,null,null,null,null,null,null,null,null,null,null,null,null,null,null,null,null,null,null,null,null,null,null,null,null,null,null,null,null,null,null,null,null,null,null,null,null,null,null,null,null,null,null,null,null,null,null,null,null,null,null,null,null,null,null,null,null,null,null,null,null,null,null,null,null,null,null,null,null,null,null,null,null,null,null,null,null,null,null,null,null,null,null,null,null,null,null,null,null,null,null,null,null,null,null,null,null,null,null,null,null,null,null,null,null,null,null,null,null,null,null,null,null,null,null,null,null,null,null,null,null,null,null,null,null,null,null,null,null,null,null,null,null,null,null,null,null,null,null,null,null,null,null,null,null,null,null,null,null,null,null,null,null,null,null,null,null,null,null,null,null,null,null,null,null,null,null,null,null,null,null,null,null,null,null,null,null,null,null,null,null,null,null,null,null,null,null,null,null,null,null,null,null,null,null,null,null,null,null,null,null,null,null,null,null,null,null,null,null,null,null,null,null,null,null,null,null,null,null,null,null,null,null,null,null,null,null,null,null,null,null,null,null,null,null,null,null,null,null,null,null,null,null,null,null,null,null,null,null,null,null,null,null,null,null,null,null,null,null,null,null,null,null,null,null,null,null,null,null,null,null,null,null,null,null,null,null,null,null,null,null,null,null,null,null,null,null,null,null,null,null,null,null,null,null,null,null,null,null,null,null,null,null,null,null,null,null,null,null,null,null,null,null,null,null,null,null,null,null,null,null,null,null,null,null,null,null,null,null,null,null,null,null,null,null,null,null,null,null,null,null,null,null,null,null,null,null,null,null,null,null,null,null,null,null,null,null,null,null,null,null,null,null,null,null,null,null,null,null,null,null,null,null,null,null,null,null,null,null,null,null,null,null,null,null,null,null,null,null,null,null,null,null,null,null,null,null,null,null,null,null,null,null,null,null,null,null,null,null,null,null,null,null,null,null,null,null,null,null,null,null,null,null,null,null,null,null,null,null,null,null,null,null,null,null,null,null,null,null,null,null,null,null,null,null,null,null,null,null,null,null,null,null,null,null,null,null,null,null,null,null,null,null,null,null,null,null,null,null,null,null,null,null,null,null,null,null,null,null,null,null,null,null,null,null,null,null,null,null,null,null,null,null,null,null,null,null,null,null,null,null,null,null,null,null,null,null,null,null,null,null,null,null,null,null,null,null,null,null,null,null,null,null,null,null,null,null,null,null,null,null,null,null,null,null,null,null,null,null,null,null,null,null,null,null,null,null,null,null,null,null,null,null,null,null,null,null,null,null,null,null,null,null,null,null,null,null,null,null,null,null,null,null,null,null,null,null,null,null,null,null,null,null,null,null,null,null,null,null,null,null,null,null,null,null,null,null,null,null,null,null,null,null,null,null,null,null,null,null,null,null,null,null,null,null,null,null,null,null,null,null,null,null,null,null,null,null,null,null,null,null,null,null,null,null,null,null,null,null,null,null,null,null,null,null,null,null,null,null,null,null,null,null,null,null,null,null,null,null,null,null,null,null,null,null,null,null,null,null,null,null,null,null,null,null,null,null,null,null,null,null,null,null,null,null,null,null,null,null,null,null,null,null,null,null,null,null,null,null,null,null,null,null,null,null,null,null,null,null,null,null,null,null,null,null,null,null,null,null,null,null,null,null,null,null,null,null,null,null,null,null,null,null,null,null,null,null,null,null,null,null,null,null,null,null,null,null,null,null,null,null,null,null,null,null,null,null,null,null,null,null,null,null,null,null,null,null,null,null,null,null,null,null,null,null,null,null,null,null,null,null,null,null,null,null,null,null,null,null,null,null,null,null,null,null,null,null,null,null,null,null,null,null,null,null,null,null,null,null,null,null,null,null,null,null,null,null,null,null,null,null,null,null,null,null,null,null,null,null,null,null,null,null,null,null,null,null,null,null,null,null,null,null,null,null,null,null,null,null,null,null,null,null,null,null,null,null,null,null,null,null,null,null,null,null,null,null,null,null,null,null,null,null,null,null,null,null,null,null,null,null,null,null,null,null,null,null,null,null,null,null,null,null,null,null,null,null,null,null,null,null,null,null,null,null,null,null,null,null,null,null,null,null,null,null,null,null,null,null,null,null,null,null,null,null,null,null,null,null,null,null,null,null,null,null,null,null,null,null,null,null,null,null,null,null,null,null,null,null,null,null,null,null,null,null,null,null,null,null,null,null,null,null,null,null,null,null,null,null,null,null,null,null,null,null,null,null,null,null,null,null,null,null,null,null,null,null,null,null,null,null,null,null,null,null,null,null,null,null,null,null,null,null,null,null,null,null,null,null,null,null,null,null,null,null,null,null,null,null,null,null,null,null,null,null,null,null,null,null,null,null,null,null,null,null,null,null,null,null,null,null,null,null,null,null,null,null,null,null,null,null,null,null,null,null,null,null,null,null,null,null,null,null,null,null,null,null,null,null,null,null,null,null,null,null,null,null,null,null,null,null,null,null,null,null,null,null,null,null,null,null,null,null,null,null,null,null,null,null,null,null,null,null,null,null,null,null,null,null,null,null,null,null,null,null,null,null,null,null,null,null,null,null,null,null,null,null,null,null,null,null,null,null,null,null,null,null,null,null,null,null,null,null,null,null,null,null,null,null,null,null,null,null,null,null,null,null,null,null,null,null,null,null,null,null,null,null,null,null,null,null,null,null,null,null,null,null,null,null,null,null,null,null,null,null,null,null,null,null,null,null,null,null,null,null,null,null,null,null,null,null,null,null,null,null,null,null,null,null,null,null,null,null,null,null,null,null,null,null,null,null,null,null,null,null,null,null,null,null,null,null,null,null,null,null,null,null,null,null,null,null,null,null,null,null,null,null,null,null,null,null,null,null,null,null,null,null,null,null,null,null,null,null,null,null,null,null,null,null,null,null,null,null,null,null,null,null,null,null,null,null,null,null,null,null,null,null,null,null,null,null,null,null,null,null,null,null,null,null,null,null,null,null,null,null,null,null,null,null,null,null,null,null,null,null,null,null,null,null,null,null,null,null,null,null,null,null,null,null,null,null,null,null,null,null,null,null,null,null,null,null,null,null,null,null,null,null,null,null,null,null,null,null,null,null,null,null,null,null,null,null,null,null,null,null,null,null,null,null,null,null,null,null,null,null,null,null,null,null,null,null,null,null,null,null,null,null,null,null,null,null,null,null,null,null,null,null,null,null,null,null,null,null,null,null,null,null,null,null,null,null,null,null,null,null,null,null,null,null,null,null,null,null,null,null,null,null,null,null,null,null,null,null,null,null,null,null,null,null,null,null,null,null,null,null,null,null,null,null,null,null,null,null,null,null,null,null,null,null,null,null,4,180000,"Vestuario","Tenis deportivos"]
[]
[null,null,null,null,null,null,null,null,null,null,null,null,null,null,null,null,null,null,null,null,null,null,null,null,null,null,null,null,null,null,null,null,null,null,null,null,null,null,null,null,null,null,null,null,null,null,null,null,null,null,null,null,null,null,null,null,null,null,null,null,null,null,null,null,null,null,null,null,null,null,null,null,null,null,null,null,null,null,null,null,null,null,null,null,null,null,null,null,null,null,null,null,null,null,null,null,null,null,null,null,null,null,null,null,null,null,null,null,null,null,null,null,null,null,null,null,null,null,null,null,null,null,null,null,null,null,null,null,null,null,null,null,null,null,null,null,null,null,null,null,null,null,null,null,null,null,null,null,null,null,null,null,null,null,null,null,null,null,null,null,null,null,null,null,null,null,null,null,null,null,null,null,null,null,null,null,null,null,null,null,null,null,null,null,null,null,null,null,null,null,null,null,null,null,null,null,null,null,null,null,null,null,null,null,null,null,null,null,null,null,null,null,null,null,null,null,null,null,null,null,null,null,null,null,null,null,null,null,null,null,null,null,null,null,null,null,null,null,null,null,null,null,null,null,null,null,null,null,null,null,null,null,null,null,null,null,null,null,null,null,null,null,null,null,null,null,null,null,null,null,null,null,null,null,null,null,null,null,null,null,null,null,null,null,null,null,null,null,null,null,null,null,null,null,null,null,null,null,null,null,null,null,null,null,null,null,null,null,null,null,null,null,null,null,null,null,null,null,null,null,null,null,null,null,null,null,null,null,null,null,null,null,null,null,null,null,null,null,null,null,null,null,null,null,null,null,null,null,null,null,null,null,null,null,null,null,null,null,null,null,null,null,null,null,null,null,null,null,null,null,null,null,null,null,null,null,null,null,null,null,null,null,null,null,null,null,null,null,null,null,null,null,null,null,null,null,null,null,null,null,null,null,null,null,null,null,null,null,null,null,null,null,null,null,null,null,null,null,null,null,null,null,null,null,null,null,null,null,null,null,null,null,null,null,null,null,null,null,null,null,null,null,null,null,null,null,null,null,null,null,null,null,null,null,null,null,null,null,null,null,null,null,null,null,null,null,null,null,null,null,null,null,null,null,null,null,null,null,null,null,null,null,null,null,null,null,null,null,null,null,null,null,null,null,null,null,null,null,null,null,null,null,null,null,null,null,null,null,null,null,null,null,null,null,null,null,null,null,null,null,null,null,null,null,null,null,null,null,null,null,null,null,null,null,null,null,null,null,null,null,null,null,null,null,null,null,null,null,null,null,null,null,null,null,null,null,null,null,null,null,null,null,null,null,null,null,null,null,null,null,null,null,null,null,null,null,null,null,null,null,null,null,null,null,null,null,null,null,null,null,null,null,null,null,null,null,null,null,null,null,null,null,null,null,null,null,null,null,null,null,null,null,null,null,null,null,null,null,null,null,null,null,null,null,null,null,null,null,null,null,null,null,null,null,null,null,null,null,null,null,null,null,null,null,null,null,null,null,null,null,null,null,null,null,null,null,null,null,null,null,null,null,null,null,null,null,null,null,null,null,null,null,null,null,null,null,null,null,null,null,null,null,null,null,null,null,null,null,null,null,null,null,null,null,null,null,null,null,null,null,null,null,null,null,null,null,null,null,null,null,null,null,null,null,null,null,null,null,null,null,null,null,null,null,null,null,null,null,null,null,null,null,null,null,null,null,null,null,null,null,null,null,null,null,null,null,null,null,null,null,null,null,null,null,null,null,null,null,null,null,null,null,null,null,null,null,null,null,null,null,null,null,null,null,null,null,null,null,null,null,null,null,null,null,null,null,null,null,null,null,null,null,null,null,null,null,null,null,null,null,null,null,null,null,null,null,null,null,null,null,null,null,null,null,null,null,null,null,null,null,null,null,null,null,null,null,null,null,null,null,null,null,null,null,null,null,null,null,null,null,null,null,null,null,null,null,null,null,null,null,null,null,null,null,null,null,null,null,null,null,null,null,null,null,null,null,null,null,null,null,null,null,null,null,null,null,null,null,null,null,null,null,null,null,null,null,null,null,null,null,null,null,null,null,null,null,null,null,null,null,null,null,null,null,null,null,null,null,null,null,null,null,null,null,null,null,null,null,null,null,null,null,null,null,null,null,null,null,null,null,null,null,null,null,null,null,null,null,null,null,null,null,null,null,null,null,null,null,null,null,null,null,null,null,null,null,null,null,null,null,null,null,null,null,null,null,null,null,null,null,null,null,null,null,null,null,null,null,null,null,null,null,null,null,null,null,null,null,null,null,null,null,null,null,null,null,null,null,null,null,null,null,null,null,null,null,null,null,null,null,null,null,null,null,null,null,null,null,null,null,null,null,null,null,null,null,null,null,null,null,null,null,null,null,null,null,null,null,null,null,null,null,null,null,null,null,null,null,null,null,null,null,null,null,null,null,null,null,null,null,null,null,null,null,null,null,null,null,null,null,null,null,null,null,null,null,null,null,null,null,null,null,null,null,null,null,null,null,null,null,null,null,null,null,null,null,null,null,null,null,null,null,null,null,null,null,null,null,null,null,null,null,null,null,null,null,null,null,null,null,null,null,null,null,null,null,null,null,null,null,null,null,null,null,null,null,null,null,null,null,null,null,null,null,null,null,null,null,null,null,null,null,null,null,null,null,null,null,null,null,null,null,null,null,null,null,null,null,null,null,null,null,null,null,null,null,null,null,null,null,null,null,null,null,null,null,null,null,null,null,null,null,null,null,null,null,null,null,null,null,null,null,null,null,null,null,null,null,null,null,null,null,null,null,null,null,null,null,null,null,null,null,null,null,null,null,null,null,null,null,null,null,null,null,null,null,null,null,null,null,null,null,null,null,null,null,null,null,null,null,null,null,null,null,null,null,null,null,null,null,null,null,null,null,null,null,null,null,null,null,null,null,null,null,null,null,null,null,null,null,null,null,null,null,null,null,null,null,null,null,null,null,null,null,null,null,null,null,null,null,null,null,null,null,null,null,null,null,null,null,null,null,null,null,null,null,null,null,null,null,null,null,null,null,null,null,null,null,null,null,null,null,null,null,null,null,null,null,null,null,null,null,null,null,null,null,null,null,null,null,null,null,null,null,null,null,null,null,null,null,null,null,null,null,null,null,null,null,null,null,null,null,null,null,null,null,null,null,null,null,null,null,null,null,null,null,null,null,null,null,null,null,null,null,null,null,null,null,null,null,null,null,null,null,null,null,null,null,null,null,null,null,null,null,null,null,null,null,null,null,null,null,null,null,null,null,null,null,null,null,null,null,null,null,null,null,null,null,null,null,null,null,null,null,null,null,null,null,null,null,null,null,null,null,null,null,null,null,null,null,null,null,null,null,null,null,null,null,null,null,null,null,null,null,null,null,null,null,null,null,null,null,null,null,null,null,null,null,null,null,null,null,null,null,null,null,null,null,null,null,null,null,null,null,null,null,null,null,null,null,null,null,null,null,null,null,null,null,null,null,null,null,null,null,null,null,null,null,null,null,null,null,null,null,null,null,null,null,null,null,null,null,null,null,null,null,null,null,null,null,null,null,null,null,null,null,null,null,null,null,null,null,null,null,null,null,null,null,null,null,null,null,null,null,null,null,null,null,null,null,null,null,null,null,null,null,null,null,null,null,null,null,null,null,null,null,null,null,null,null,null,null,null,null,null,null,null,null,null,null,null,null,null,null,null,null,null,null,null,null,null,null,null,null,null,null,null,null,null,null,null,null,null,null,null,null,null,null,null,null,null,null,null,null,null,null,null,null,null,null,null,null,null,null,null,null,null,null,null,null,null,null,null,null,null,null,null,null,null,null,null,null,null,null,null,null,null,null,null,null,null,null,null,null,null,null,null,null,null,null,null,null,null,null,null,null,null,null,null,null,null,null,null,null,null,null,null,null,null,null,null,null,null,null,null,null,null,null,null,null,null,null,null,null,null,null,null,null,null,null,null,null,null,null,null,null,null,null,null,null,null,null,null,null,null,null,null,null,null,null,null,null,null,null,null,null,null,null,null,null,null,null,null,null,null,null,null,null,null,null,null,null,null,null,null,null,null,null,null,null,null,null,null,null,null,null,null,null,null,null,null,null,null,null,null,null,null,null,null,null,null,null,null,null,null,null,null,null,null,null,null,null,null,null,null,null,null,null,null,null,null,null,null,null,null,null,null,null,null,null,null,null,null,null,null,null,null,null,null,null,null,null,null,null,null,null,null,null,null,null,null,null,null,null,null,null,null,null,null,null,null,null,null,null,null,null,null,null,null,null,null,null,null,null,null,null,null,null,null,null,null,null,null,null,null,null,null,null,null,null,null,null,null,null,null,null,null,null,null,null,null,null,null,null,null,null,null,null,null,null,null,null,null,null,null,null,null,null,null,null,null,null,null,null,null,null,null,null,null,null,null,null,null,null,null,null,null,null,null,null,null,null,null,null,null,null,null,null,null,null,null,null,null,null,null,null,null,null,null,null,null,null,null,null,null,null,null,null,null,null,null,null,null,null,null,null,null,null,null,null,null,null,null,null,null,null,null,null,null,null,null,null,null,null,null,null,null,null,null,null,null,null,null,null,null,null,null,null,null,null,null,null,null,null,null,null,null,null,null,null,null,null,null,null,null,null,null,null,null,null,null,null,null,null,null,null,null,null,null,null,null,null,null,null,null,null,null,null,null,null,null,null,null,null,null,null,null,null,null,null,null,null,null,null,null,null,null,null,null,null,null,null,null,null,null,null,null,null,null,null,null,null,null,null,null,null,null,null,null,null,null,null,null,null,null,null,null,null,null,null,null,null,null,null,null,null,null,null,null,null,null,null,null,null,null,null,null,null,null,null,null,null,null,null,null,null,null,null,null,null,null,null,null,null,null,null,null,null,null,null,null,null,null,null,null,null,null,null,null,null,null,null,null,null,null,null,null,null,null,null,null,null,null,null,null,null,null,null,null,null,null,null,null,null,null,null,null,null,null,null,null,null,null,null,null,null,null,null,null,null,null,null,null,null,null,null,null,null,null,null,null,null,null,null,null,null,null,null,null,null,null,null,null,null,null,null,null,null,null,null,null,null,null,null,null,null,null,null,null,null,null,null,null,null,null,null,null,null,null,null,null,null,null,null,null,null,null,null,null,null,null,null,null,null,null,null,null,null,null,null,null,null,null,null,null,null,null,null,null,null,null,null,null,null,null,null,null,null,null,null,null,null,null,null,null,null,null,null,null,null,null,null,null,null,null,null,null,null,null,null,null,null,null,null,null,null,null,null,null,null,null,null,null,null,null,null,null,null,null,null,null,null,null,null,null,null,null,null,null,null,null,null,null,null,null,null,null,null,null,null,null,null,null,null,null,null,null,null,null,null,null,null,null,null,null,null,null,null,null,null,null,null,null,null,null,null,null,null,null,null,null,null,null,null,null,null,null,null,null,null,null,null,null,null,null,null,null,null,null,null,null,null,null,null,null,null,null,null,null,null,null,null,null,null,null,null,null,null,null,null,null,null,null,null,null,null,null,null,null,null,null,null,null,null,null,null,null,null,null,null,null,null,null,null,null,null,null,null,null,null,null,null,null,null,null,null,null,null,null,null,null,null,null,null,null,null,null,null,null,null,null,null,null,null,null,null,null,null,null,null,null,null,null,null,null,null,null,null,null,null,null,null,null,null,null,null,null,null,null,null,null,null,null,null,null,null,null,null,null,null,null,null,null,null,null,null,null,null,null,null,null,null,null,null,null,null,null,null,null,null,null,null,null,null,null,null,null,null,null,null,null,null,null,null,null,null,null,null,null,null,null,null,null,null,null,null,null,null,null,null,null,null,null,null,null,null,null,null,null,null,null,null,null,null,null,null,null,null,null,null,null,null,null,null,null,null,null,null,null,null,null,null,null,null,null,null,null,null,null,null,null,null,null,null,null,null,null,null,null,null,null,null,null,null,null,null,null,null,null,null,null,null,null,null,null,null,null,null,null,null,null,null,null,null,null,null,null,null,null,null,null,null,null,null,null,null,null,null,null,null,null,null,null,null,null,null,null,null,null,null,null,null,null,null,null,null,null,null,null,null,null,null,null,null,null,null,null,null,null,null,null,null,null,null,null,null,null,null,null,null,null,null,null,null,null,null,null,null,null,null,null,null,null,null,null,null,null,null,null,null,null,null,null,null,null,null,null,null,null,null,null,null,null,null,null,null,null,null,null,null,null,null,null,null,null,null,null,null,null,null,null,null,null,null,null,null,null,null,null,null,null,null,null,null,null,null,null,null,null,null,null,null,null,null,null,null,null,null,null,null,null,null,null,null,null,null,null,null,null,null,null,null,null,null,null,null,null,null,null,null,null,null,null,null,null,null,null,null,null,null,null,null,null,null,null,null,null,null,null,null,null,null,null,null,null,null,null,null,null,null,null,null,null,null,null,null,null,null,null,null,null,null,null,null,null,null,null,null,null,null,null,null,null,null,null,null,null,null,null,null,null,null,null,null,null,null,null,null,null,null,null,null,null,null,null,null,null,null,null,null,null,null,null,null,null,null,null,null,null,null,null,null,null,null,null,null,null,null,null,null,null,null,null,null,null,null,null,null,null,null,null,null,null,null,null,null,null,null,null,null,null,null,null,null,null,null,null,null,null,null,null,null,null,null,null,null,null,null,null,null,null,null,null,null,null,null,null,null,null,null,null,null,null,null,null,null,null,null,null,null,null,null,null,null,null,null,null,null,null,null,null,null,null,null,null,null,null,null,null,null,null,null,null,null,null,null,null,null,null,null,null,null,null,null,null,null,null,null,null,null,null,null,null,null,null,null,null,null,null,null,null,null,null,null,null,null,null,null,null,null,null,null,null,null,null,null,null,null,null,null,null,null,null,null,null,null,null,null,null,null,null,null,null,null,null,null,null,null,null,null,null,null,null,null,null,null,null,null,null,null,null,null,null,null,null,null,null,null,null,null,null,null,null,null,null,null,null,null,null,null,null,null,null,null,null,null,null,null,null,null,null,null,null,null,null,null,null,null,null,null,null,null,null,null,null,null,null,null,null,null,null,null,null,null,null,null,null,null,null,null,null,null,null,null,null,null,null,null,null,null,null,null,null,null,null,null,null,null,null,null,null,null,null,null,null,null,null,null,null,null,null,null,null,null,null,null,null,null,null,null,null,null,null,null,null,null,null,null,null,null,null,null,null,null,null,null,null,null,null,null,null,null,null,null,null,null,null,null,null,null,null,null,null,null,null,null,null,null,null,null,null,null,null,null,null,null,null,null,null,null,null,null,null,null,null,null,null,null,null,null,null,null,null,null,null,null,null,null,null,null,null,null,null,null,null,null,null,null,null,null,null,null,null,null,null,null,null,null,null,null,null,null,null,null,null,null,null,null,null,null,null,null,null,null,null,null,null,null,null,null,null,null,null,null,null,null,null,null,null,null,null,null,null,null,null,null,null,null,null,null,null,null,null,null,null,null,null,null,null,null,null,null,null,null,null,null,null,null,null,null,null,null,null,null,null,null,null,null,null,null,null,null,null,null,null,null,null,null,null,null,null,null,null,null,null,null,null,null,null,null,null,null,null,null,null,null,null,null,null,null,null,null,null,null,null,null,null,null,null,null,null,null,null,null,null,null,null,null,null,null,null,null,null,null,null,null,null,null,null,null,null,null,null,null,null,null,null,null,null,null,null,null,null,null,null,null,null,null,null,null,null,null,null,null,null,null,null,null,null,null,null,null,null,null,null,null,null,null,null,null,null,null,null,null,null,null,null,null,null,null,null,null,null,null,null,null,null,null,null,null,null,null,null,null,null,null,null,null,null,null,null,null,null,null,null,null,null,null,null,null,null,null,null,null,null,null,null,null,null,null,null,null,null,null,null,null,null,null,null,null,null,null,null,null,null,null,null,null,null,null,null,null,null,null,null,null,null,null,null,null,null,null,null,null,null,null,null,null,null,null,null,null,null,null,null,null,null,null,null,null,null,null,null,null,null,null,null,null,null,null,null,null,null,null,null,null,null,null,null,null,null,null,null,null,null,null,null,null,null,null,null,null,null,null,null,null,null,null,null,null,null,null,null,null,null,null,null,null,null,null,null,null,null,null,null,null,null,null,null,null,null,null,null,null,null,null,null,null,null,null,null,null,null,null,null,null,null,null,null,null,null,null,null,null,null,null,null,null,null,null,null,null,null,null,null,null,null,null,null,null,null,null,null,null,null,null,null,null,null,null,null,null,null,null,null,null,null,null,null,null,null,null,null,null,null,null,null,null,null,null,null,null,null,null,null,null,null,null,null,null,null,null,null,null,null,null,null,null,null,null,null,null,null,null,null,null,null,null,null,null,null,null,null,null,null,null,null,null,null,null,null,null,null,null,null,null,null,null,null,null,null,null,null,null,null,null,null,null,null,null,null,null,null,null,null,null,null,null,null,null,null,null,null,null,null,null,null,null,null,null,null,null,null,null,null,null,null,null,null,null,null,null,null,null,null,null,null,null,null,null,null,null,null,null,null,null,null,null,null,null,null,null,null,null,null,null,null,null,null,null,null,null,null,null,null,null,null,null,null,null,null,null,null,null,null,null,null,null,null,null,null,null,null,null,null,null,null,null,null,null,null,null,null,null,null,null,null,null,null,null,null,null,null,null,null,null,null,null,null,null,null,null,null,null,null,null,null,null,null,null,null,null,null,null,null,null,null,null,null,null,null,null,null,null,null,null,null,null,null,null,null,null,null,null,null,null,null,null,null,null,null,null,null,null,null,null,null,null,null,null,null,null,null,null,null,null,null,null,null,null,null,null,null,null,null,null,null,null,null,null,null,null,null,null,null,null,null,null,null,null,null,null,null,null,null,null,null,null,null,null,null,null,null,null,null,null,null,null,null,null,null,null,null,null,null,null,null,null,null,null,null,null,null,null,null,null,null,null,null,null,null,null,null,null,null,null,null,null,null,null,null,null,null,null,null,null,null,null,null,null,null,null,null,null,null,null,null,null,null,null,null,null,null,null,null,null,null,null,null,null,null,null,null,null,null,null,null,null,null,null,null,null,null,null,null,null,null,null,null,null,null,null,null,null,null,null,null,null,null,null,null,null,null,null,null,null,null,null,null,null,null,null,null,null,null,null,null,null,null,null,null,null,null,null,null,null,null,null,null,null,null,null,null,null,null,null,null,null,null,null,null,null,null,null,null,null,null,null,null,null,null,null,null,null,null,null,null,null,null,null,null,null,null,null,null,null,null,null,null,null,null,null,null,null,null,null,null,null,null,null,null,null,null,null,null,null,null,null,null,null,null,null,null,null,null,null,null,null,null,null,null,null,null,null,null,null,null,null,null,null,null,null,null,null,null,null,null,null,null,null,null,null,null,null,null,null,null,null,null,null,null,null,null,null,null,null,null,null,null,null,null,null,null,null,null,null,null,null,null,null,null,null,null,null,null,null,null,null,null,null,null,null,null,null,null,null,null,null,null,null,null,null,null,null,null,null,null,null,null,null,null,null,null,null,null,null,null,null,null,null,null,null,null,null,null,null,null,null,null,null,null,null,null,null,null,null,null,null,null,null,null,null,null,null,null,null,null,null,null,null,null,null,null,null,null,null,null,null,null,null,null,null,null,null,null,null,null,null,null,null,null,null,null,null,null,null,null,null,null,null,null,null,null,null,null,null,null,null,null,null,null,null,null,null,null,null,null,null,null,null,null,null,null,null,null,null,null,null,null,null,null,null,null,null,null,null,null,null,null,null,null,null,null,null,null,null,null,null,null,null,null,null,null,null,null,null,null,null,null,null,null,null,null,null,null,null,null,null,null,null,null,null,null,null,null,null,null,null,null,null,null,null,null,null,null,null,null,null,null,null,null,null,null,null,null,null,null,null,null,null,null,null,null,null,null,null,null,null,null,null,null,null,null,null,null,null,null,null,null,null,null,null,null,null,null,null,null,null,null,null,null,null,null,null,null,null,null,null,null,null,null,null,null,null,null,null,null,null,null,null,null,null,null,null,null,null,null,null,null,null,null,null,null,null,null,null,null,null,null,null,null,null,null,null,null,null,null,null,null,null,null,null,null,null,null,null,null,null,null,null,null,null,null,null,null,null,null,null,null,null,null,null,null,null,null,null,null,null,null,null,null,null,null,null,null,null,null,null,null,null,null,null,null,null,null,null,null,null,null,null,null,null,null,null,null,null,null,null,null,null,null,null,null,null,null,null,null,null,null,null,null,null,null,null,null,null,null,null,null,null,null,null,null,null,null,null,null,null,null,null,null,null,null,null,null,null,null,null,null,null,null,null,null,null,null,null,null,null,null,null,null,null,null,null,null,null,null,null,null,null,null,null,null,null,null,null,null,null,null,null,null,null,null,null,null,null,null,null,null,null,null,null,null,null,null,null,null,null,null,null,null,null,null,null,null,null,null,null,null,null,null,null,null,null,null,null,null,null,null,null,null,null,null,null,null,null,null,null,null,null,null,null,null,null,null,null,null,null,null,null,null,null,null,null,null,null,null,null,null,null,null,null,null,null,null,null,null,null,null,null,null,null,null,null,null,null,null,null,null,null,null,null,null,null,null,null,null,null,null,null,null,null,null,null,null,null,null,null,null,null,null,null,null,null,null,null,null,null,null,null,null,null,null,null,null,null,null,null,null,null,null,null,null,null,null,null,null,null,null,null,null,null,null,null,null,null,null,null,null,null,null,null,null,null,null,null,null,null,null,null,null,null,null,null,null,null,null,null,null,null,null,null,null,null,null,null,null,null,null,null,null,null,null,null,null,null,null,null,null,null,null,null,null,null,null,null,null,null,null,null,null,null,null,null,null,null,null,null,null,null,null,null,null,null,null,null,null,null,null,null,null,null,null,null,null,null,null,null,null,null,null,null,null,null,null,null,null,null,null,null,null,null,null,null,null,null,null,null,null,null,null,null,null,null,null,null,null,null,null,null,null,null,null,null,null,null,null,null,null,null,null,null,null,null,null,null,null,null,null,null,null,null,null,null,null,null,null,null,null,null,null,null,null,null,null,null,null,null,null,null,null,null,null,null,null,null,null,null,null,null,null,null,null,null,null,null,null,null,null,null,null,null,null,null,null,null,null,null,null,null,null,null,null,null,null,null,null,null,null,null,null,null,null,null,null,null,null,null,null,null,null,null,null,null,null,null,null,null,null,null,null,null,null,null,null,null,null,null,null,null,null,null,null,null,null,null,null,null,null,null,null,null,null,null,null,null,null,null,null,null,null,null,null,null,null,null,null,null,null,null,null,null,null,null,null,null,null,null,null,null,null,null,null,null,null,null,null,null,null,null,null,null,null,null,null,null,null,null,null,null,null,null,null,null,null,null,null,null,null,null,null,null,null,null,null,null,null,null,null,null,null,null,null,null,null,null,null,null,null,null,null,null,null,null,null,null,null,null,null,null,null,null,null,null,null,null,null,null,null,null,null,null,null,null,null,null,null,null,null,null,null,null,null,null,null,null,null,null,null,null,null,null,null,null,null,null,null,null,null,null,null,null,null,null,null,null,null,null,null,null,null,null,null,null,null,null,null,null,null,null,null,null,null,null,null,null,null,null,null,null,null,null,null,null,null,null,null,null,null,null,null,null,null,null,null,null,null,null,null,null,null,null,null,null,null,null,null,null,null,null,null,null,null,null,null,null,null,null,null,null,null,null,null,null,null,null,null,null,null,null,null,null,null,null,null,null,null,null,null,null,null,null,null,null,null,null,null,null,null,null,null,null,null,null,null,null,null,null,null,null,null,null,null,null,null,null,null,null,null,null,null,null,null,null,null,null,null,null,null,null,null,null,null,null,null,null,null,null,null,null,null,null,null,null,null,null,null,null,null,null,null,null,null,null,null,null,null,null,null,null,null,null,null,null,null,null,null,null,null,null,null,null,null,null,null,null,null,null,null,null,null,null,null,null,null,null,null,null,null,null,null,null,null,null,null,null,null,null,null,null,null,null,null,null,null,null,null,null,null,null,null,null,null,null,null,null,null,null,null,null,null,null,null,null,null,null,null,null,null,null,null,null,null,null,null,null,null,null,null,null,null,null,null,null,null,null,null,null,null,null,null,null,null,null,null,null,null,null,null,null,null,null,null,null,null,null,null,null,null,null,null,null,null,null,null,null,null,null,null,null,null,null,null,null,null,null,null,null,null,null,null,null,null,null,null,null,null,null,null,null,null,null,null,null,null,null,null,null,null,null,null,null,null,null,null,null,null,null,null,null,null,null,null,null,null,null,null,null,null,null,null,null,null,null,null,null,null,null,null,null,null,null,null,null,null,null,null,null,null,null,null,null,null,null,null,null,null,null,null,null,null,null,null,null,null,null,null,null,null,null,null,null,null,null,null,null,null,null,null,null,null,null,null,null,null,null,null,null,null,null,null,null,null,null,null,null,null,null,null,null,null,null,null,null,null,null,null,null,null,null,null,null,null,null,null,null,null,null,null,null,null,null,null,null,null,null,null,null,null,null,null,null,null,null,null,null,null,null,null,null,null,null,null,null,null,null,null,null,null,null,null,null,null,null,null,null,null,null,null,null,null,null,null,null,null,null,null,null,null,null,null,null,null,null,null,null,null,null,null,null,null,null,null,null,null,null,null,null,null,null,null,null,null,null,null,null,null,null,null,null,null,null,null,null,null,null,null,null,null,null,null,null,null,null,null,null,null,null,null,null,null,null,null,null,null,null,null,null,null,null,null,null,null,null,null,null,null,null,null,null,null,null,null,null,null,null,null,null,null,null,null,null,null,null,null,null,null,null,null,null,null,null,null,null,null,null,null,null,null,null,null,null,null,null,null,null,null,null,null,null,null,null,null,null,null,null,null,null,null,null,null,null,null,null,null,null,null,null,null,null,null,null,null,null,null,null,null,null,null,null,null,null,null,null,null,null,null,null,null,null,null,null,null,null,null,null,null,null,null,null,null,null,null,null,null,null,null,null,null,null,null,null,null,null,null,null,null,null,null,null,null,null,null,null,null,null,null,null,null,null,null,null,null,null,null,null,null,null,null,null,null,null,null,null,null,null,null,null,null,null,null,null,null,null,null,null,null,null,null,null,null,null,null,null,null,null,null,null,null,null,null,null,null,null,null,null,null,null,null,null,null,null,null,null,null,null,null,null,null,null,null,null,null,null,null,null,null,null,null,null,null,null,null,null,null,null,null,null,null,null,null,null,null,null,null,null,null,null,null,null,null,null,null,null,null,null,null,null,null,null,null,null,null,null,null,null,null,null,null,null,null,null,null,null,null,null,null,null,null,null,null,null,null,null,null,null,null,null,null,null,null,null,null,null,null,null,null,null,null,null,null,null,null,null,null,null,null,null,null,null,null,null,null,null,null,null,null,null,null,null,null,null,null,null,null,null,null,null,null,null,null,null,null,null,null,null,null,null,null,null,null,null,null,null,null,null,null,null,null,null,null,null,null,null,null,null,null,null,null,null,null,null,null,null,null,null,null,null,null,null,null,null,null,null,null,null,null,null,null,null,null,null,null,null,null,null,null,null,null,null,null,null,null,null,null,null,null,null,null,null,null,null,null,null,null,null,null,null,null,null,null,null,null,null,null,null,null,null,null,null,null,null,null,null,null,null,null,null,null,null,null,null,null,null,null,null,null,null,null,null,null,null,null,null,null,null,null,null,null,null,null,null,null,null,null,null,null,null,null,null,null,null,null,null,null,null,null,null,null,null,null,null,null,null,null,null,null,null,null,null,null,null,null,null,null,null,null,null,null,null,null,null,null,null,null,null,null,null,null,null,null,null,null,null,null,null,null,null,null,null,null,null,null,null,null,null,null,null,null,null,null,null,null,null,null,null,null,null,null,null,null,null,null,null,null,null,null,null,null,null,null,null,null,null,null,null,null,null,null,null,null,null,null,null,null,null,null,null,null,null,null,null,null,null,null,null,null,null,null,null,null,null,null,null,null,null,null,null,null,null,null,null,null,null,null,null,null,null,null,null,null,null,null,null,null,null,null,null,null,null,null,null,null,null,null,null,null,null,null,null,null,null,null,null,null,null,null,null,null,null,null,null,null,null,null,null,null,null,null,null,null,null,null,null,null,null,null,null,null,null,null,null,null,null,null,null,null,null,null,null,null,null,null,null,null,null,null,null,null,null,null,null,null,null,null,null,null,null,null,null,null,null,null,null,null,null,null,null,null,null,null,null,null,null,null,null,null,null,null,null,null,null,null,null,null,null,null,null,null,null,null,null,null,null,null,null,null,null,null,null,null,null,null,null,null,null,null,null,null,null,null,null,null,null,null,null,null,null,null,null,null,null,null,null,null,null,null,null,null,null,null,null,null,null,null,null,null,null,null,null,null,null,null,null,null,null,null,null,null,null,null,null,null,null,null,null,null,null,null,null,null,null,null,null,null,null,null,null,null,null,null,null,null,null,null,null,null,null,null,null,null,null,null,null,null,null,null,null,null,null,null,null,null,null,null,null,null,null,null,null,null,null,null,null,null,null,null,null,null,null,null,null,null,null,null,null,null,null,null,null,null,null,null,null,null,null,null,null,null,null,null,null,null,null,null,null,null,null,null,null,null,null,null,null,null,null,null,null,null,null,null,null,null,null,null,null,null,null,null,null,null,null,null,null,null,null,null,null,null,null,null,null,null,null,null,null,null,null,null,null,null,null,null,null,null,null,null,null,null,null,null,null,null,null,null,null,null,null,null,null,null,null,null,null,null,null,null,null,null,null,null,null,null,null,null,null,null,null,null,null,null,null,null,null,null,null,null,null,null,null,null,null,null,null,null,null,null,null,null,null,null,null,null,null,null,null,null,null,null,null,null,null,null,null,null,null,null,null,null,null,null,null,null,null,null,null,null,null,null,null,null,null,null,null,null,null,null,null,null,null,null,null,null,null,null,null,null,null,null,null,null,null,null,null,null,null,null,null,null,null,null,null,null,null,null,null,null,null,null,null,null,null,null,null,null,null,null,null,null,null,null,null,null,null,null,null,null,null,null,null,null,null,null,null,null,null,null,null,null,null,null,null,null,null,null,null,null,null,null,null,null,null,null,null,null,null,null,null,null,null,null,null,null,null,null,null,null,null,null,null,null,null,null,null,null,null,null,null,null,null,null,null,null,null,null,null,null,null,null,null,null,null,null,null,null,null,null,null,null,null,null,null,null,null,null,null,null,null,null,null,null,null,null,null,null,null,null,null,null,null,null,null,null,null,null,null,null,null,null,null,null,null,null,null,null,null,null,null,null,null,null,null,null,null,null,null,null,null,null,null,null,null,null,null,null,null,null,null,null,null,null,null,null,null,null,null,null,null,null,null,null,null,null,null,null,null,null,null,null,null,null,null,null,null,null,null,null,null,null,null,null,null,null,null,null,null,null,null,null,null,null,null,null,null,null,null,null,null,null,null,null,null,null,null,null,null,null,null,null,null,null,null,null,null,null,null,null,null,null,null,null,null,null,null,null,null,null,null,null,null,null,null,null,null,null,null,null,null,null,null,null,null,null,null,null,null,null,null,null,null,null,null,null,null,null,null,null,null,null,null,null,null,null,null,null,null,null,null,null,null,null,null,null,null,null,null,null,null,null,null,null,null,null,null,null,null,null,null,null,null,null,null,null,null,null,null,null,null,null,null,null,null,null,null,null,null,null,null,null,null,null,null,null,null,null,null,null,null,null,null,null,null,null,null,null,null,null,null,null,null,null,null,null,null,null,null,null,null,null,null,null,null,null,null,null,null,null,null,null,null,null,null,null,null,null,null,null,null,null,null,null,null,null,null,null,null,null,null,null,null,null,null,null,null,null,null,null,null,null,null,null,null,null,null,null,null,null,null,null,null,null,null,null,null,null,null,null,null,null,null,null,null,null,null,null,null,null,null,null,null,null,null,null,null,null,null,null,null,null,null,null,null,null,null,null,null,null,null,null,null,null,null,null,null,null,null,null,null,null,null,null,null,null,null,null,null,null,null,null,null,null,null,null,null,null,null,null,null,null,null,null,null,null,null,null,null,null,null,null,null,null,null,null,null,null,null,null,null,null,null,null,null,null,null,null,null,null,null,null,null,null,null,null,null,null,null,null,null,null,null,null,null,null,null,null,null,null,null,null,null,null,null,null,null,null,null,null,null,null,null,null,null,null,null,null,null,null,null,null,null,null,null,null,null,null,null,null,null,null,null,null,null,null,null,null,null,null,null,null,null,null,null,null,null,null,null,null,null,null,null,null,null,null,null,null,null,null,null,null,null,null,null,null,null,null,null,null,null,null,null,null,null,null,null,null,null,null,null,null,null,null,null,null,null,null,null,null,null,null,null,null,null,null,null,null,null,null,null,null,null,null,null,null,null,null,null,null,null,null,null,null,null,null,null,null,null,null,null,null,null,null,null,null,null,null,null,null,null,null,null,null,null,null,null,null,null,null,null,null,null,null,null,null,null,null,null,null,null,null,null,null,null,null,null,null,null,null,null,null,null,null,null,null,null,null,null,null,null,null,null,null,null,null,null,null,null,null,null,null,null,null,null,null,null,null,null,null,null,null,null,null,null,null,null,null,null,null,null,null,null,null,null,null,null,null,null,null,null,null,null,null,null,null,null,null,null,null,null,null,null,null,null,null,null,null,null,null,null,null,null,null,null,null,null,null,null,null,null,null,null,null,null,null,null,null,null,null,null,null,null,null,null,null,null,null,null,null,null,null,null,null,null,null,null,null,null,null,null,null,null,null,null,null,null,null,null,null,null,null,null,null,null,null,null,null,null,null,null,null,null,null,null,null,null,null,null,null,null,null,null,null,null,null,null,null,null,null,null,null,null,null,null,null,null,null,null,null,null,null,null,null,null,null,null,null,null,null,null,null,null,null,null,null,null,null,null,null,null,null,null,null,null,null,null,null,null,null,null,null,null,null,null,null,null,null,null,null,null,null,null,null,null,null,null,null,null,null,null,null,null,null,null,null,null,null,null,null,null,null,null,null,null,null,null,null,null,null,null,null,null,null,null,null,null,null,null,null,null,null,null,null,null,null,null,null,null,null,null,null,null,null,null,null,null,null,null,null,null,null,null,null,null,null,null,null,null,null,null,null,null,null,null,null,null,null,null,null,null,null,null,null,null,null,null,null,null,null,null,null,null,null,null,null,null,null,null,null,null,null,null,null,null,null,null,null,null,null,null,null,null,null,null,null,null,null,null,null,null,null,null,null,null,null,null,null,null,null,null,null,null,null,null,null,null,null,null,null,null,null,null,null,null,null,null,null,null,null,null,null,null,null,null,null,null,null,null,null,null,null,null,null,null,null,null,null,null,null,null,null,null,null,null,null,null,null,null,null,null,null,null,null,null,null,null,null,null,null,null,null,null,null,null,null,null,null,null,null,null,null,null,null,null,null,null,null,null,null,null,null,null,null,null,null,null,null,null,null,null,null,null,null,null,null,null,null,null,null,null,null,null,null,null,null,null,null,null,null,null,null,null,null,null,null,null,null,null,null,null,null,null,null,null,null,null,null,null,null,null,null,null,null,null,null,null,null,null,null,null,null,null,null,null,null,null,null,null,null,null,null,null,null,null,null,null,null,null,null,null,null,null,null,null,null,null,null,null,null,null,null,null,null,null,null,null,null,null,null,null,null,null,null,null,null,null,null,null,null,null,null,null,null,null,null,null,null,null,null,null,null,null,null,null,null,null,null,null,null,null,null,null,null,null,null,null,null,null,null,null,null,null,null,null,null,null,null,null,null,null,null,null,null,null,null,null,null,null,null,null,null,null,null,null,null,null,null,null,null,null,null,null,null,null,null,null,null,null,null,null,null,null,null,null,null,null,null,null,null,null,null,null,null,null,null,null,null,null,null,null,null,null,null,null,null,null,null,null,null,null,null,null,null,null,null,null,null,null,null,null,null,null,null,null,null,null,null,null,null,null,null,null,null,null,null,null,null,null,null,null,null,null,null,null,null,null,null,null,null,null,null,null,null,null,null,null,null,null,null,null,null,null,null,null,null,null,null,null,null,null,null,null,null,null,null,null,null,null,null,null,null,null,null,null,null,null,null,null,null,null,null,null,null,null,null,null,null,null,null,null,null,null,null,null,null,null,null,null,null,null,null,null,null,null,null,null,null,null,null,null,null,null,null,null,null,null,null,null,null,null,null,null,null,null,null,null,null,null,null,null,null,null,null,null,null,null,null,null,null,null,null,null,null,null,null,null,null,null,null,null,null,null,null,null,null,null,null,null,null,null,null,null,null,null,null,null,null,null,null,null,null,null,null,null,null,null,null,null,null,null,null,null,null,null,null,null,null,null,null,null,null,null,null,null,null,null,null,null,null,null,null,null,null,null,null,null,null,null,null,null,null,null,null,null,null,null,null,null,null,null,null,null,null,null,null,null,null,null,null,null,null,null,null,null,null,null,null,null,null,null,null,null,null,null,null,null,null,null,null,null,null,null,null,null,null,null,null,null,null,null,null,null,null,null,null,null,null,null,null,null,null,null,null,null,null,null,null,null,null,null,null,null,null,null,null,null,null,null,null,null,null,null,null,null,null,null,null,null,null,null,null,null,null,null,null,null,null,null,null,null,null,null,null,null,null,null,null,null,null,null,null,null,null,null,null,null,null,null,null,null,null,null,null,null,null,null,null,null,null,null,null,null,null,null,null,null,null,null,null,null,null,null,null,null,null,null,null,null,null,null,null,null,null,null,null,null,null,null,null,null,null,null,null,null,null,null,null,null,null,null,null,null,null,null,null,null,null,null,null,null,null,null,null,null,null,null,null,null,null,null,null,null,null,null,null,null,null,null,null,null,null,null,null,null,null,null,null,null,null,null,null,null,null,null,null,null,null,null,null,null,null,null,null,null,null,null,null,null,null,null,null,null,null,null,null,null,null,null,null,null,null,null,null,null,null,null,null,null,null,null,null,null,null,null,null,null,null,null,null,null,null,null,null,null,null,null,null,null,null,null,null,null,null,null,null,null,null,null,null,null,null,null,null,null,null,null,null,null,null,null,null,null,null,null,null,null,null,null,null,null,null,null,null,null,null,null,null,null,null,null,null,null,null,null,null,null,null,null,null,null,null,null,null,null,null,null,null,null,null,null,null,null,null,null,null,null,null,null,null,null,null,null,null,null,null,null,null,null,null,null,null,null,null,null,null,null,null,null,null,null,null,null,null,null,null,null,null,null,null,null,null,null,null,null,null,null,null,null,null,null,null,null,null,null,null,null,null,null,null,null,null,null,null,null,null,null,null,null,null,null,null,null,null,null,null,null,null,null,null,null,null,null,null,null,null,null,null,null,null,null,null,null,null,null,null,null,null,null,null,null,null,null,null,null,null,null,null,null,null,null,null,null,null,null,null,null,null,null,null,null,null,null,null,null,null,null,null,null,null,null,null,null,null,null,null,null,null,null,null,null,null,null,null,null,null,null,null,null,null,null,null,null,null,null,null,null,null,null,null,null,null,null,null,null,null,null,null,null,null,null,null,null,null,null,null,null,null,null,null,null,null,null,null,null,null,null,null,null,null,null,null,null,null,null,null,null,null,null,null,null,null,null,null,null,null,null,null,null,null,null,null,null,null,null,null,null,null,null,null,null,null,null,null,null,null,null,null,null,null,null,null,null,null,null,null,null,null,null,null,null,null,null,null,null,null,null,null,null,null,null,null,null,null,null,null,null,null,null,null,null,null,null,null,null,null,null,null,null,null,null,null,null,null,null,null,null,null,null,null,null,null,null,null,null,null,null,null,null,null,null,null,null,null,null,null,null,null,null,null,null,null,null,null,null,null,null,null,null,null,null,null,null,null,null,null,null,null,null,null,null,null,null,null,null,null,null,null,null,null,null,null,null,null,null,null,null,null,null,null,null,null,null,null,null,null,null,null,null,null,null,null,null,null,null,null,null,null,null,null,null,null,null,null,null,null,null,null,null,null,null,null,null,null,null,null,null,null,null,null,null,null,null,null,null,null,null,null,null,null,null,null,null,null,null,null,null,null,null,null,null,null,null,null,null,null,null,null,null,null,null,null,null,null,null,null,null,null,null,null,null,null,null,null,null,null,null,null,null,null,null,null,null,null,null,null,null,null,null,null,null,null,null,null,null,null,null,null,null,null,null,null,null,null,null,null,null,null,null,null,null,null,null,null,null,null,null,null,null,null,null,null,null,null,null,null,null,null,null,null,null,null,null,null,null,null,null,null,null,null,null,null,null,null,null,null,null,null,null,null,null,null,null,null,null,null,null,null,null,null,null,null,null,null,null,null,null,null,null,null,null,null,null,null,null,null,null,null,null,null,null,null,null,null,null,null,null,null,null,null,null,null,null,null,null,null,null,null,null,null,null,null,null,null,null,null,null,null,null,null,null,null,null,null,null,null,null,null,null,null,null,null,null,null,null,null,null,null,null,null,null,null,null,null,null,null,null,null,null,null,null,null,null,null,null,null,null,null,null,null,null,null,null,null,null,null,null,null,null,null,null,null,null,null,null,null,null,null,null,null,null,null,null,null,null,null,null,null,null,null,null,null,null,null,null,null,null,null,null,null,null,null,null,null,null,null,null,null,null,null,null,null,null,null,null,null,null,null,null,null,null,null,null,null,null,null,null,null,null,null,null,null,null,null,null,null,null,null,null,null,null,null,null,null,null,null,null,null,null,null,null,null,null,null,null,null,null,null,null,null,null,null,null,null,null,null,null,null,null,null,null,null,null,null,null,null,null,null,null,null,null,null,null,null,null,null,null,null,null,null,null,null,null,null,null,null,null,null,null,null,null,null,null,null,null,null,null,null,null,null,null,null,null,null,null,null,null,null,null,null,null,null,null,null,null,null,null,null,null,null,null,null,null,null,null,null,null,null,null,null,null,null,null,null,null,null,null,null,null,null,null,null,null,null,null,null,null,null,null,null,null,null,null,null,null,null,null,null,null,null,null,null,null,null,null,null,null,null,null,null,null,null,null,null,null,null,null,null,null,null,null,null,null,null,null,null,null,null,null,null,null,null,null,null,null,null,null,null,null,null,null,null,null,null,null,null,null,null,null,null,null,null,null,null,null,null,null,null,null,null,null,null,null,null,null,null,null,null,null,null,null,null,null,null,null,null,null,null,null,null,null,null,null,null,null,null,null,null,null,null,null,null,null,null,null,null,null,null,null,null,null,null,null,null,null,null,null,null,null,null,null,null,null,null,null,null,null,null,null,null,null,null,null,null,null,null,null,null,null,null,null,null,null,null,null,null,null,null,null,null,null,null,null,null,null,null,null,null,null,null,null,null,null,null,null,null,null,null,null,null,null,null,null,null,null,null,null,null,null,null,null,null,null,null,null,null,null,null,null,null,null,null,null,null,null,null,null,null,null,null,null,null,null,null,null,null,null,null,null,null,null,null,null,null,null,null,null,null,null,null,null,null,null,null,null,null,null,null,null,null,null,null,null,null,null,null,null,null,null,null,null,null,null,null,null,null,null,null,null,null,null,null,null,null,null,null,null,null,null,null,null,null,null,null,null,null,null,null,null,null,null,null,null,null,null,null,null,null,null,null,null,null,null,null,null,null,null,null,null,null,null,null,null,null,null,null,null,null,null,null,null,null,null,null,null,null,null,null,null,null,null,null,null,null,null,null,null,null,null,null,null,null,null,null,null,null,null,null,null,null,null,null,null,null,null,null,null,null,null,null,null,null,null,null,null,null,null,null,null,null,null,null,null,null,null,null,null,null,null,null,null,null,null,null,null,null,null,null,null,null,null,null,null,null,null,null,null,null,null,null,null,null,null,null,null,null,null,null,null,null,null,null,null,null,null,null,null,null,null,null,null,null,null,null,null,null,null,null,null,null,null,null,null,null,null,null,null,null,null,null,null,null,null,null,null,null,null,null,null,null,null,null,null,null,null,null,null,null,null,null,null,null,null,null,null,null,null,null,null,null,null,null,null,null,null,null,null,null,null,null,null,null,null,null,null,null,null,null,null,null,null,null,null,null,null,null,null,null,null,null,null,null,null,null,null,null,null,null,null,null,null,null,null,null,null,null,null,null,null,null,null,null,null,null,null,null,null,null,null,null,null,null,null,null,null,null,null,null,null,null,null,null,null,null,null,null,null,null,null,null,null,null,null,null,null,null,null,null,null,null,null,null,null,null,null,null,null,null,null,null,null,null,null,null,null,null,null,null,null,null,null,null,null,null,null,null,null,null,null,null,null,null,null,null,null,null,null,null,null,null,null,null,null,null,null,null,null,null,null,null,null,null,null,null,null,null,null,null,null,null,null,null,null,null,null,null,null,null,null,null,null,null,null,null,null,null,null,null,null,null,null,null,null,null,null,null,null,null,null,null,null,null,null,null,null,null,null,null,null,null,null,null,null,null,null,null,null,null,null,null,null,null,null,null,null,null,null,null,null,null,null,null,null,null,null,null,null,null,null,null,null,null,null,null,null,null,null,null,null,null,null,null,null,null,null,null,null,null,null,null,null,null,null,null,null,null,null,null,null,null,null,null,null,null,null,null,null,null,null,null,null,null,null,null,null,null,null,null,null,null,null,null,null,null,null,null,null,null,null,null,null,null,null,null,null,null,null,null,null,null,null,null,null,null,null,null,null,null,null,null,null,null,null,null,null,null,null,null,null,null,null,null,null,null,null,null,null,null,null,null,null,null,null,null,null,null,null,null,null,null,null,null,null,null,null,null,null,null,null,null,null,null,null,null,null,null,null,null,null,null,null,null,null,null,null,null,null,null,null,null,null,null,null,null,null,null,null,null,null,null,null,null,null,null,null,null,null,null,null,null,null,null,null,null,null,null,null,null,null,null,null,null,null,null,null,null,null,null,null,null,null,null,null,null,null,null,null,null,null,null,null,null,null,null,null,null,null,null,null,null,null,null,null,null,null,null,null,null,null,null,null,null,null,null,null,null,null,null,null,null,null,null,null,null,null,null,null,null,null,null,null,null,null,null,null,null,null,null,null,null,null,null,null,null,null,null,null,null,null,null,null,null,null,null,null,null,null,null,null,null,null,null,null,null,null,null,null,null,null,null,null,null,null,null,null,null,null,null,null,null,null,null,null,null,null,null,null,null,null,null,null,null,null,null,null,null,null,null,null,null,null,null,null,null,null,null,null,null,null,null,null,null,null,null,null,null,null,null,null,null,null,null,null,null,null,null,null,null,null,null,null,null,null,null,null,null,null,null,null,null,null,null,null,null,null,null,null,null,null,null,null,null,null,null,null,null,null,null,null,null,null,null,null,null,null,null,null,null,null,null,null,null,null,null,null,null,null,null,null,null,null,null,null,null,null,null,null,null,null,null,null,null,null,null,null,null,null,null,null,null,null,null,null,null,null,null,null,null,null,null,null,null,null,null,null,null,null,null,null,null,null,null,null,null,null,null,null,null,null,null,null,null,null,null,null,null,null,null,null,null,null,null,null,null,null,null,null,null,null,null,null,null,null,null,null,null,null,null,null,null,null,null,null,null,null,null,null,null,null,null,null,null,null,null,null,null,null,null,null,null,null,null,null,null,null,null,null,null,null,null,null,null,null,null,null,null,null,null,null,null,null,null,null,null,null,null,null,null,null,null,null,null,null,null,null,null,null,null,null,null,null,null,null,null,null,null,null,null,null,null,null,null,null,null,null,null,null,null,null,null,null,null,null,null,null,null,null,null,null,null,null,null,null,null,null,null,null,null,null,null,null,null,null,null,null,null,null,null,null,null,null,null,null,null,null,null,null,null,null,null,null,null,null,null,null,null,null,null,null,null,null,null,null,null,null,null,null,null,null,null,null,null,null,null,null,null,null,null,null,null,null,null,null,null,null,null,null,null,null,null,null,null,null,null,null,null,null,null,null,null,null,null,null,null,null,null,null,null,null,null,null,null,null,null,null,null,null,null,null,null,null,null,null,null,null,null,null,null,null,null,null,null,null,null,null,null,null,null,null,null,null,null,null,null,null,null,null,null,null,null,null,null,null,null,null,null,null,null,null,null,null,null,null,null,null,null,null,null,null,null,null,null,null,null,null,null,null,null,null,null,null,null,null,null,null,null,null,null,null,null,null,null,null,null,null,null,null,null,null,null,null,null,null,null,null,null,null,null,null,null,null,null,null,null,null,null,null,null,null,null,null,null,null,null,null,null,null,null,null,null,null,null,null,null,null,null,null,null,null,null,null,null,null,null,null,null,null,null,null,null,null,null,null,null,null,null,null,null,null,null,null,null,null,null,null,null,null,null,null,null,null,null,null,null,null,null,null,null,null,null,null,null,null,null,null,null,null,null,null,null,null,null,null,null,null,null,null,null,null,null,null,null,null,null,null,null,null,null,null,null,null,null,null,null,null,null,null,null,null,null,null,null,null,null,null,null,null,null,null,null,null,null,null,null,null,null,null,null,null,null,null,null,null,null,null,null,null,null,null,null,null,null,null,null,null,null,null,null,null,null,null,null,null,null,null,null,null,null,null,null,null,null,null,null,null,null,null,null,null,null,null,null,null,null,null,null,null,null,null,null,null,null,null,null,null,null,null,null,null,null,null,null,null,null,null,null,null,null,null,null,null,null,null,null,null,null,null,null,null,null,null,null,null,null,null,null,null,null,null,null,null,null,null,null,null,null,null,null,null,null,null,null,null,null,null,null,null,null,null,null,null,null,null,null,null,null,null,null,null,null,null,null,null,null,null,null,null,null,null,null,null,null,null,null,null,null,null,null,null,null,null,null,null,null,null,null,null,null,null,null,null,null,null,null,null,null,null,null,null,null,null,null,null,null,null,null,null,null,null,null,null,null,null,null,null,null,null,null,null,null,null,null,null,null,null,null,null,null,null,null,null,null,null,null,null,null,null,null,null,null,null,null,null,null,null,null,null,null,null,null,null,null,null,null,null,null,null,null,null,null,null,null,null,null,null,null,null,null,null,null,null,null,null,null,null,null,null,null,null,null,null,null,null,null,null,null,null,null,null,null,null,null,null,null,null,null,null,null,null,null,null,null,null,null,null,null,null,null,null,null,null,null,null,null,null,null,null,null,null,null,null,null,null,null,null,null,null,null,null,null,null,null,null,null,null,null,null,null,null,null,null,null,null,null,null,null,null,null,null,null,null,null,null,null,null,null,null,null,null,null,null,null,null,null,null,null,null,null,null,null,null,null,null,null,null,null,null,null,null,null,null,null,null,null,null,null,null,null,null,null,null,null,null,null,null,null,null,null,null,null,null,null,null,null,null,null,null,null,null,null,null,null,null,null,null,null,null,null,null,null,null,null,null,null,null,null,null,null,null,null,null,null,null,null,null,null,null,null,null,null,null,null,null,null,null,null,null,null,null,null,null,null,null,null,null,null,null,null,null,null,null,null,null,null,null,null,null,null,null,null,null,null,null,null,null,null,null,null,null,null,null,null,null,null,null,null,null,null,null,null,null,null,null,null,null,null,null,null,null,null,null,null,null,null,null,null,null,null,null,null,null,null,null,null,null,null,null,null,null,null,null,null,null,null,null,null,null,null,null,null,null,null,null,null,null,null,null,null,null,null,null,null,null,null,null,null,null,null,null,null,null,null,null,null,null,null,null,null,null,null,null,null,null,null,null,null,null,null,null,null,null,null,null,null,null,null,null,null,null,null,null,null,null,null,null,null,null,null,null,null,null,null,null,null,null,null,null,null,null,null,null,null,null,null,null,null,null,null,null,null,null,null,null,null,null,null,null,null,null,null,null,null,null,null,null,null,null,null,null,null,null,null,null,null,null,null,null,null,null,null,null,null,null,null,null,null,null,null,null,null,null,null,null,null,null,null,null,null,null,null,null,null,null,null,null,null,null,null,null,null,null,null,null,null,null,null,null,null,null,null,null,null,null,null,null,null,null,null,null,null,null,null,null,null,null,null,null,null,null,null,null,null,null,null,null,null,null,null,null,null,null,null,null,null,null,null,null,null,null,null,null,null,null,null,null,null,null,null,null,null,null,null,null,null,null,null,null,null,null,null,null,null,null,null,null,null,null,null,null,null,null,null,null,null,null,null,null,null,null,null,null,null,null,null,null,null,null,null,null,null,null,null,null,null,null,null,null,null,null,null,null,null,null,null,null,null,null,null,null,null,null,null,null,null,null,null,null,null,null,null,null,null,null,null,null,null,null,null,null,null,null,null,null,null,null,null,null,null,null,null,null,null,null,null,null,null,null,null,null,null,null,null,null,null,null,null,null,null,null,null,null,null,null,null,null,null,null,null,null,null,null,null,null,null,null,null,null,null,null,null,null,null,null,null,null,null,null,null,null,null,null,null,null,null,null,null,null,null,null,null,null,null,null,null,null,null,null,null,null,null,null,null,null,null,null,null,null,null,null,null,null,null,null,null,null,null,null,null,null,null,null,null,null,null,null,null,null,null,null,null,null,null,null,null,null,null,null,null,null,null,null,null,null,null,null,null,null,null,null,null,null,null,null,null,null,null,null,null,null,null,null,null,null,null,null,null,null,null,null,null,null,null,null,null,null,null,null,null,null,null,null,null,null,null,null,null,null,null,null,null,null,null,null,null,null,null,null,null,null,null,null,null,null,null,null,null,null,null,null,null,null,null,null,null,null,null,null,null,null,null,null,null,null,null,null,null,null,null,null,null,null,null,null,null,null,null,null,null,null,null,null,null,null,null,null,null,null,null,null,null,null,null,null,null,null,null,null,null,null,null,null,null,null,null,null,null,null,null,null,null,null,null,null,null,null,null,null,null,null,null,null,null,null,null,null,null,null,null,null,null,null,null,null,null,null,null,null,null,null,null,null,null,null,null,null,null,null,null,null,null,null,null,null,null,null,null,null,null,null,null,null,null,null,null,null,null,null,null,null,null,null,null,null,null,null,null,null,null,null,null,null,null,null,null,null,null,null,null,null,null,null,null,null,null,null,null,null,null,null,null,null,null,null,null,null,null,null,null,null,null,null,null,null,null,null,null,null,null,null,null,null,null,null,null,null,null,null,null,null,null,null,null,null,null,null,null,null,null,null,null,null,null,null,null,null,null,null,null,null,null,null,null,null,null,null,null,null,null,null,null,null,null,null,null,null,null,null,null,null,null,null,null,null,null,null,null,null,null,null,null,null,null,null,null,null,null,null,null,null,null,null,null,null,null,null,null,null,null,null,null,null,null,null,null,null,null,null,null,null,null,null,null,null,null,null,null,null,null,null,null,null,null,null,null,null,null,null,null,null,null,null,null,null,null,null,null,null,null,null,null,null,null,null,null,null,null,null,null,null,null,null,null,null,null,null,null,null,null,null,null,null,null,null,null,null,null,null,null,null,null,null,null,null,null,null,null,null,null,null,null,null,null,null,null,null,null,null,null,null,null,null,null,null,null,null,null,null,null,null,null,null,null,null,null,null,null,null,null,null,null,null,null,null,null,null,null,null,null,null,null,null,null,null,null,null,null,null,null,null,null,null,null,null,null,null,null,null,null,null,null,null,null,null,null,null,null,null,null,null,null,null,null,null,null,null,null,null,null,null,null,null,null,null,null,null,null,null,null,null,null,null,null,null,null,null,null,null,null,null,null,null,null,null,null,null,null,null,null,null,null,null,null,null,null,null,null,null,null,null,null,null,null,null,null,null,null,null,null,null,null,null,null,null,null,null,null,null,null,null,null,null,null,null,null,null,null,null,null,null,null,null,null,null,null,null,null,null,null,null,null,null,null,null,null,null,null,null,null,null,null,null,null,null,null,null,null,null,null,null,null,null,null,null,null,null,null,null,null,null,null,null,null,null,null,null,null,null,null,null,null,null,null,null,null,null,null,null,null,null,null,null,null,null,null,null,null,null,null,null,null,null,null,null,null,null,null,null,null,null,null,null,null,null,null,null,null,null,null,null,null,null,null,null,null,null,null,null,null,null,null,null,null,null,null,null,null,null,null,null,null,null,null,null,null,null,null,null,null,null,null,null,null,null,null,null,null,null,null,null,null,null,null,null,null,null,null,null,null,null,null,null,null,null,null,null,null,null,null,null,null,null,null,null,null,null,null,null,null,null,null,null,null,null,null,null,null,null,null,null,null,null,null,null,null,null,null,null,null,null,null,null,null,null,null,null,null,null,null,null,null,null,null,null,null,null,null,null,null,null,null,null,null,null,null,null,null,null,null,null,null,null,null,null,null,null,null,null,null,null,null,null,null,null,null,null,null,null,null,null,null,null,null,null,null,null,null,null,null,null,null,null,null,null,null,null,null,null,null,null,null,null,null,null,null,null,null,null,null,null,null,null,null,null,null,null,null,null,null,null,null,null,null,null,null,null,null,null,null,null,null,null,null,null,null,null,null,null,null,null,null,null,null,null,null,null,null,null,null,null,null,null,null,null,null,null,null,null,null,null,null,null,null,null,null,null,null,null,null,null,null,null,null,null,null,null,null,null,null,null,null,null,null,null,null,null,null,null,null,null,null,null,null,null,null,null,null,null,null,null,null,null,null,null,null,null,null,null,null,null,null,null,null,null,null,null,null,null,null,null,null,null,null,null,null,null,null,null,null,null,null,null,null,null,null,null,null,null,null,null,null,null,null,null,null,null,null,null,null,null,null,null,null,null,null,null,null,null,null,null,null,null,null,null,null,null,null,null,null,null,null,null,null,null,null,null,null,null,null,null,null,null,null,null,null,null,null,null,null,null,null,null,null,null,null,null,null,null,null,null,null,null,null,null,null,null,null,null,null,null,null,null,null,null,null,null,null,null,null,null,null,null,null,null,null,null,null,null,null,null,null,null,null,null,null,null,null,null,null,null,null,null,null,null,null,null,null,null,null,null,null,null,null,null,null,null,null,null,null,null,null,null,null,null,null,null,null,null,null,null,null,null,null,null,null,null,null,null,null,null,null,null,null,null,null,null,null,null,null,null,null,null,null,null,null,null,null,null,null,null,null,null,null,null,null,null,null,null,null,null,null,null,null,null,null,null,null,null,null,null,null,null,null,null,null,null,null,null,null,null,null,null,null,null,null,null,null,null,null,null,null,null,null,null,null,null,null,null,null,null,null,null,null,null,null,null,null,null,null,null,null,null,null,null,null,null,null,null,null,null,null,null,null,null,null,null,null,null,null,null,null,null,null,null,null,null,null,null,null,null,null,null,null,null,null,null,null,null,null,null,null,null,null,null,null,null,null,null,null,null,null,null,null,null,null,null,null,null,null,null,null,null,null,null,null,null,null,null,null,null,null,null,null,null,null,null,null,null,null,null,null,null,null,null,null,null,null,null,null,null,null,null,null,null,null,null,null,null,null,null,null,null,null,null,null,null,null,null,null,null,null,null,null,null,null,null,null,null,null,null,null,null,null,null,null,null,null,null,null,null,null,null,null,null,null,null,null,null,null,null,null,null,null,null,null,null,null,null,null,null,null,null,null,null,null,null,null,null,null,null,null,null,null,null,null,null,null,null,null,null,null,null,null,null,null,null,null,null,null,null,null,null,null,null,null,null,null,null,null,null,null,null,null,null,null,null,null,null,null,null,null,null,null,null,null,null,null,null,null,null,null,null,null,null,null,null,null,null,null,null,null,null,null,null,null,null,null,null,null,null,null,null,null,null,null,null,null,null,null,null,null,null,null,null,null,null,null,null,null,null,null,null,null,null,null,null,null,null,null,null,null,null,null,null,null,null,null,null,null,null,null,null,null,null,null,null,null,null,null,null,null,null,null,null,null,null,null,null,null,null,null,null,null,null,null,null,null,null,null,null,null,null,null,null,null,null,null,null,null,null,null,null,null,null,null,null,null,null,null,null,null,null,null,null,null,null,null,null,null,null,null,null,null,null,null,null,null,null,null,null,null,null,null,null,null,null,null,null,null,null,null,null,null,null,null,null,null,null,null,null,null,null,null,null,null,null,null,null,null,null,null,null,null,null,null,null,null,null,null,null,null,null,null,null,null,null,null,null,null,null,null,null,null,null,null,null,null,null,null,null,null,null,null,null,null,null,null,null,null,null,null,null,null,null,null,null,null,null,null,null,null,null,null,null,null,null,null,null,null,null,null,null,null,null,null,null,null,null,null,null,null,null,null,null,null,null,null,null,null,null,null,null,null,null,null,null,null,null,null,null,null,null,null,null,null,null,null,null,null,null,null,null,null,null,null,null,null,null,null,null,null,null,null,null,null,null,null,null,null,null,null,null,null,null,null,null,null,null,null,null,null,null,null,null,null,null,null,null,null,null,null,null,null,null,null,null,null,null,null,null,null,null,null,null,null,null,null,null,null,null,null,null,null,null,null,null,null,null,null,null,null,null,null,null,null,null,null,null,null,null,null,null,null,null,null,null,null,null,null,null,null,null,null,null,null,null,null,null,null,null,null,null,null,null,null,null,null,null,null,null,null,null,null,null,null,null,null,null,null,null,null,null,null,null,null,null,null,null,null,null,null,null,null,null,null,null,null,null,null,null,null,null,null,null,null,null,null,null,null,null,null,null,null,null,null,null,null,null,null,null,null,null,null,null,null,null,null,null,null,null,null,null,null,null,null,null,null,null,null,null,null,null,null,null,null,null,null,null,null,null,null,null,null,null,null,null,null,null,null,null,null,null,null,null,null,null,null,null,null,null,null,null,null,null,null,null,null,null,null,null,null,null,null,null,null,null,null,null,null,null,null,null,null,null,null,null,null,null,null,null,null,null,null,null,null,null,null,null,null,null,null,null,null,null,null,null,null,null,null,null,null,null,null,null,null,null,null,null,null,null,null,null,null,null,null,null,null,null,null,null,null,null,null,null,null,null,null,null,null,null,null,null,null,null,null,null,null,null,null,null,null,null,null,null,null,null,null,null,null,null,null,null,null,null,null,null,null,null,null,null,null,null,null,null,null,null,null,null,null,null,null,null,null,null,null,null,null,null,null,null,null,null,null,null,null,null,null,null,null,null,null,null,null,null,null,null,null,null,null,null,null,null,null,null,null,null,null,null,null,null,null,null,null,null,null,null,null,null,null,null,null,null,null,null,null,null,null,null,null,null,null,null,null,null,null,null,null,null,null,null,null,null,null,null,null,null,null,null,null,null,null,null,null,null,null,null,null,null,null,null,null,null,null,null,null,null,null,null,null,null,null,null,null,null,null,null,null,null,null,null,null,null,null,null,null,null,null,null,null,null,null,null,null,null,null,null,null,null,null,null,null,null,null,null,null,null,null,null,null,null,null,null,null,null,null,null,null,null,null,null,null,null,null,null,null,null,null,null,null,null,null,null,null,null,null,null,null,null,null,null,null,null,null,null,null,null,null,null,null,null,null,null,null,null,null,null,null,null,null,null,null,null,null,null,null,null,null,null,null,null,null,null,null,null,null,null,null,null,null,null,null,null,null,null,null,null,null,null,null,null,null,null,null,null,null,null,null,null,null,null,null,null,null,null,null,null,null,null,null,null,null,null,null,null,null,null,null,null,null,null,null,null,null,null,null,null,null,null,null,null,null,null,null,null,null,null,null,null,null,null,null,null,null,null,null,null,null,null,null,null,null,null,null,null,null,null,null,null,null,null,null,null,null,null,null,null,null,null,null,null,null,null,null,null,null,null,null,null,null,null,null,null,null,null,null,null,null,null,null,null,null,null,null,null,null,null,null,null,null,null,null,null,null,null,null,null,null,null,null,null,null,null,null,null,null,null,null,null,null,null,null,null,null,null,null,null,null,null,null,null,null,null,null,null,null,null,null,null,null,null,null,null,null,null,null,null,null,null,null,null,null,null,null,null,null,null,null,null,null,null,null,null,null,null,null,null,null,null,null,null,null,null,null,null,null,null,null,null,null,null,null,null,null,null,null,null,null,null,null,null,null,null,null,null,null,null,null,null,null,null,null,null,null,null,null,null,null,null,null,null,null,null,null,null,null,null,null,null,null,null,null,null,null,null,null,null,null,null,null,null,null,null,null,null,null,null,null,null,null,null,null,null,null,null,null,null,null,null,null,null,null,null,null,null,null,null,null,null,null,null,null,null,null,null,null,null,null,null,null,null,null,null,null,null,null,null,null,null,null,null,null,null,null,null,null,null,null,null,null,null,null,null,null,null,null,null,null,null,null,null,null,null,null,null,null,null,null,null,null,null,null,null,null,null,null,null,null,null,null,null,null,null,null,null,null,null,null,null,null,null,null,null,null,null,null,null,null,null,null,null,null,null,null,null,null,null,null,null,null,null,null,null,null,null,null,null,null,null,null,null,null,null,null,null,null,null,null,null,null,null,null,null,null,null,null,null,null,null,null,null,null,null,null,null,null,null,null,null,null,null,null,null,null,null,null,null,null,null,null,null,null,null,null,null,null,null,null,null,null,null,null,null,null,null,null,null,null,null,null,null,null,null,null,null,null,null,null,null,null,null,null,null,null,null,null,null,null,null,null,null,null,null,null,null,null,null,null,null,null,null,null,null,null,null,null,null,null,null,null,null,null,null,null,null,null,null,null,null,null,null,null,null,null,null,null,null,null,null,null,null,null,null,null,null,null,null,null,null,null,null,null,null,null,null,null,null,null,null,null,null,null,null,null,null,null,null,null,null,null,null,null,null,null,null,null,null,null,null,null,null,null,null,null,null,null,null,null,null,null,null,null,null,null,null,null,null,null,null,null,null,null,null,null,null,null,null,null,null,null,null,null,null,null,null,null,null,null,null,null,null,null,null,null,null,null,null,null,null,null,null,null,null,null,null,null,null,null,null,null,null,null,null,null,null,null,null,null,null,null,null,null,null,null,null,null,null,null,null,null,null,null,null,null,null,null,null,null,null,null,null,null,null,null,null,null,null,null,null,null,null,null,null,null,null,null,null,null,null,null,null,null,null,null,null,null,null,null,null,null,null,null,null,null,null,null,null,null,null,null,null,null,null,null,null,null,null,null,null,null,null,null,null,null,null,null,null,null,null,null,null,null,null,null,null,null,null,null,null,null,null,null,null,null,null,null,null,null,null,null,null,null,null,null,null,null,null,null,null,null,null,null,null,null,null,null,null,null,null,null,null,null,null,null,null,null,null,null,null,null,null,null,null,null,null,null,null,null,null,null,null,null,null,null,null,null,null,null,null,null,null,null,null,null,null,null,null,null,null,null,null,null,null,null,null,null,null,null,null,null,null,null,null,null,null,null,null,null,null,null,null,null,null,null,null,null,null,null,null,null,null,null,null,null,null,null,null,null,null,null,null,null,null,null,null,null,null,null,null,null,null,null,null,null,null,null,null,null,null,null,null,null,null,null,null,null,null,null,null,null,null,null,null,null,null,null,null,null,null,null,null,null,null,null,null,null,null,null,null,null,null,null,null,null,null,null,null,null,null,null,null,null,null,null,null,null,null,null,null,null,null,null,null,null,null,null,null,null,null,null,null,null,null,null,null,null,null,null,null,null,null,null,null,null,null,null,null,null,null,null,null,null,null,null,null,null,null,null,null,null,null,null,null,null,null,null,null,null,null,null,null,null,null,null,null,null,null,null,null,null,null,null,null,null,null,null,null,null,null,null,null,null,null,null,null,null,null,null,null,null,null,null,null,null,null,null,null,null,null,null,null,null,null,null,null,null,null,null,null,null,null,null,null,null,null,null,null,null,null,null,null,null,null,null,null,null,null,null,null,null,null,null,null,null,null,null,null,null,null,null,null,null,null,null,null,null,null,null,null,null,null,null,null,null,null,null,null,null,null,null,null,null,null,null,null,null,null,null,null,null,null,null,null,null,null,null,null,null,null,null,null,null,null,null,null,null,null,null,null,null,null,null,null,null,null,null,null,null,null,null,null,null,null,null,null,null,null,null,null,null,null,null,null,null,null,null,null,null,null,null,null,null,null,null,null,null,null,null,null,null,null,null,null,null,null,null,null,null,null,null,null,null,null,null,null,null,null,null,null,null,null,null,null,null,null,null,null,null,null,null,null,null,null,null,null,null,null,null,null,null,null,null,null,null,null,null,null,null,null,null,null,null,null,null,null,null,null,null,null,null,null,null,null,null,null,null,null,null,null,null,null,null,null,null,null,null,null,null,null,null,null,null,null,null,null,null,null,null,null,null,null,null,null,null,null,null,null,null,null,null,null,null,null,null,null,null,null,null,null,null,null,null,null,null,null,null,null,null,null,null,null,null,null,null,null,null,null,null,null,null,null,null,null,null,null,null,null,null,null,null,null,null,null,null,null,null,null,null,null,null,null,null,null,null,null,null,null,null,null,null,null,null,null,null,null,null,null,null,null,null,null,null,null,null,null,null,null,null,null,null,null,null,null,null,null,null,null,null,null,null,null,null,null,null,null,null,null,null,null,null,null,null,null,null,null,null,null,null,null,null,null,null,null,null,null,null,null,null,null,null,null,null,null,null,null,null,null,null,null,null,null,null,null,null,null,null,null,null,null,null,null,null,null,null,null,null,null,null,null,null,null,null,null,null,null,null,null,null,null,null,null,null,null,null,null,null,null,null,null,null,null,null,null,null,null,null,null,null,null,null,null,null,null,null,null,null,null,null,null,null,null,null,null,null,null,null,null,null,null,null,null,null,null,null,null,null,null,null,null,null,null,null,null,null,null,null,null,null,null,null,null,null,null,null,null,null,null,null,null,null,null,null,null,null,null,null,null,null,null,null,null,null,null,null,null,null,null,null,null,null,null,null,null,null,null,null,null,null,null,null,null,null,null,null,null,null,null,null,null,null,null,null,null,null,null,null,null,null,null,null,null,null,null,null,null,null,null,null,null,null,null,null,null,null,null,null,null,null,null,null,null,null,null,null,null,null,null,null,null,null,null,null,null,null,null,null,null,null,null,null,null,null,null,null,null,null,null,null,null,null,null,null,null,null,null,null,null,null,null,null,null,null,null,null,null,null,null,null,null,null,null,null,null,null,null,null,null,null,null,null,null,null,null,null,null,null,null,null,null,null,null,null,null,null,null,null,null,null,null,null,null,null,null,null,null,null,null,null,null,null,null,null,null,null,null,null,null,null,null,null,null,null,null,null,null,null,null,null,null,null,null,null,null,null,null,null,null,null,null,null,null,null,null,null,null,null,null,null,null,null,null,null,null,null,null,null,null,null,null,null,null,null,null,null,null,null,null,null,null,null,null,null,null,null,null,null,null,null,null,null,null,null,null,null,null,null,null,null,null,null,null,null,null,null,null,null,null,null,null,null,null,null,null,null,null,null,null,null,null,null,null,null,null,null,null,null,null,null,null,null,null,null,null,null,null,null,null,null,null,null,null,null,null,null,null,null,null,null,null,null,null,null,null,null,null,null,null,null,null,null,null,null,null,null,null,null,null,null,null,null,null,null,null,null,null,null,null,null,null,null,null,null,null,null,null,null,null,null,null,null,null,null,null,null,null,null,null,null,null,null,null,null,null,null,null,null,null,null,null,null,null,null,null,null,null,null,null,null,null,null,null,null,null,null,null,null,null,null,null,null,null,null,null,null,null,null,null,null,null,null,null,null,null,null,null,null,null,null,null,null,null,null,null,null,null,null,null,null,null,null,null,null,null,null,null,null,null,null,null,null,null,null,null,null,null,null,null,null,null,null,null,null,null,null,null,null,null,null,null,null,null,null,null,null,null,null,null,null,null,null,null,null,null,null,null,null,null,null,null,null,null,null,null,null,null,null,null,null,null,null,null,null,null,null,null,null,null,null,null,null,null,null,null,null,null,null,null,null,null,null,null,null,null,null,null,null,null,null,null,null,null,null,null,null,null,null,null,null,null,null,null,null,null,null,null,null,null,null,null,null,null,null,null,null,null,null,null,null,null,null,null,null,null,null,null,null,null,null,null,null,null,null,null,null,null,null,null,null,null,null,null,null,null,null,null,null,null,null,null,null,null,null,null,null,null,null,null,null,null,null,null,null,null,null,null,null,null,null,null,null,null,null,null,null,null,null,null,null,null,null,null,null,null,null,null,null,null,null,null,null,null,null,null,null,null,null,null,null,null,null,null,null,null,null,null,null,null,null,null,null,null,null,null,null,null,null,null,null,null,null,null,null,null,null,null,null,null,null,null,null,null,null,null,null,null,null,null,null,null,null,null,null,null,null,null,null,null,null,null,null,null,null,null,null,null,null,null,null,null,null,null,null,null,null,null,null,null,null,null,null,null,null,null,null,null,null,null,null,null,null,null,null,null,null,null,null,null,null,null,null,null,null,null,null,null,null,null,null,null,null,null,null,null,null,null,null,null,null,null,null,null,null,null,null,null,null,null,null,null,null,null,null,null,null,null,null,null,null,null,null,null,null,null,null,null,null,null,null,null,null,null,null,null,null,null,null,null,null,null,null,null,null,null,null,null,null,null,null,null,null,null,null,null,null,null,null,null,null,null,null,null,null,null,null,null,null,null,null,null,null,null,null,null,null,null,null,null,null,null,null,null,null,null,null,null,null,null,null,null,null,null,null,null,null,null,null,null,null,null,null,null,null,null,null,null,null,null,null,null,null,null,null,null,null,null,null,null,null,null,null,null,null,null,null,null,null,null,null,null,null,null,null,null,null,null,null,null,null,null,null,null,null,null,null,null,null,null,null,null,null,null,null,null,null,null,null,null,null,null,null,null,null,null,null,null,null,null,null,null,null,null,null,null,null,null,null,null,null,null,null,null,null,null,null,null,null,null,null,null,null,null,null,null,null,null,null,null,null,null,null,null,null,null,null,null,null,null,null,null,null,null,null,null,null,null,null,null,null,null,null,null,null,null,null,null,null,null,null,null,null,null,null,null,null,null,null,null,null,null,null,null,null,null,null,null,null,null,null,null,null,null,null,null,null,null,null,null,null,null,null,null,null,null,null,null,null,null,null,null,null,null,null,null,null,null,null,null,null,null,null,null,null,null,null,null,null,null,null,null,null,null,null,null,null,null,null,null,null,null,null,null,null,null,null,null,null,null,null,null,null,null,null,null,null,null,null,null,null,null,null,null,null,null,null,null,null,null,null,null,null,null,null,null,null,null,null,null,null,null,null,null,null,null,null,null,null,null,null,null,null,null,null,null,null,null,null,null,null,null,null,null,null,null,null,null,null,null,null,null,null,null,null,null,null,null,null,null,null,null,null,null,null,null,null,null,null,null,null,null,null,null,null,null,null,null,null,null,null,null,null,null,null,null,null,null,null,null,null,null,null,null,0,"Donaciones"]
[]
[null,null,null,null,null,null,null,null,null,null,null,null,null,null,0,{"$f":"+IF(XER50=\"\",\"\",XER50)","v":""}]
[null,null,null,null,null,null,null,null,null,null,null,null,null,"Día","Valor","Concepto","Detalle"]
[null,null,null,null,null,null,null,null,null,null,null,null,null,null,null,"Ahorro"]
[null,null,null,null,null,null,null,null,null,null,null,null,null,null,null,"Ahorro"]
[null,null,null,null,null,null,null,null,null,null,null,null,null,null,null,"Ahorro"]
[null,null,null,null,null,null,null,null,null,null,null,null,null,null,null,"Ahorro"]
[null,null,null,null,null,null,null,null,null,null,null,null,null,null,null,"Ahorro"]
[]
[null,null,null,null,null,null,null,null,null,null,null,null,null,null,null,null,null,null,null,null,null,null,null,null,null,null,null,null,null,null,null,null,{"$f":"+SUMIF($O$164:$O$258,AH279,$P$164:$P$258)","v":0},"Transporte",null,null,null,null,{"$f":"+SUMIF($O$164:$O$258,AN279,$P$164:$P$258)","v":0},"Transporte"]
[null,null,null,null,null,null,null,null,null,null,null,null,null,null,null,null,null,null,null,null,null,null,null,null,null,null,null,null,null,null,null,null,{"$f":"+SUMIF($O$164:$O$258,AH280,$P$164:$P$258)","v":0},"Otros",null,null,null,null,{"$f":"+SUMIF($O$164:$O$258,AN280,$P$164:$P$258)","v":0},"Otros"]
[null,null,null,null,null,null,null,null,null,null,null,null,null,null,null,null,null,null,null,null,null,null,null,null,null,null,null,null,null,null,null,null,{"$f":"SUM(AG264:AG280)","v":0},null,null,null,null,null,{"$f":"SUM(AM264:AM280)","v":0}]

{"sheet":"Resumen","index":5,"n_rows":5,"n_cols":3,"rows_kept":5,"cut":false,"hidden":false,"merged":[]}
[null,null,1]
[null,null,1]
[null,null,1]
[null,null,1]
[null,null,1]

{"sheet":"Resumen Año  (4)","index":6,"n_rows":181,"n_cols":6,"rows_kept":181,"cut":false,"hidden":true,"merged":[[165,3,165,4]]}
[null,null,null,1]
[null,null,null,1]
[null,null,null,1]
[null,null,null,1]
[null,null,null,1]
[null,null,"Resumen","Concepto","%","Año"]
[null,null,null,1]
[null,null,"Resumen",1]
[null,null,"Resumen","SALDO INICIAL",null,0]
[null,null,"Resumen",1,"% del Ingreso"]
[null,null,null,1]
[null,null,1,{"$f":"+IFERROR(+IF(Inputs!D12=\"\",\"\",Inputs!D12),0)","v":"Salario Luisa (ejemplo)"},{"$f":"+IFERROR(F12/$F$24,0)","v":0},{"$f":"+Proyección!F12+Proyección!G12+Proyección!H12+Proyección!I12+Proyección!J12+Proyección!K12+Proyección!L12+Proyección!M12+Proyección!N12+Proyección!O12+Proyección!P12+Proyección!Q12","v":0}]
[null,null,2,{"$f":"+IFERROR(+IF(Inputs!D13=\"\",\"\",Inputs!D13),0)","v":"Salario Tomás  (ejemplo)"},{"$f":"+IFERROR(F13/$F$24,0)","v":0},{"$f":"+Proyección!F13+Proyección!G13+Proyección!H13+Proyección!I13+Proyección!J13+Proyección!K13+Proyección!L13+Proyección!M13+Proyección!N13+Proyección!O13+Proyección!P13+Proyección!Q13","v":0}]
[null,null,3,{"$f":"+IFERROR(+IF(Inputs!D14=\"\",\"\",Inputs!D14),0)","v":""},0,{"$f":"+Proyección!F14+Proyección!G14+Proyección!H14+Proyección!I14+Proyección!J14+Proyección!K14+Proyección!L14+Proyección!M14+Proyección!N14+Proyección!O14+Proyección!P14+Proyección!Q14","v":0}]
[null,null,4,{"$f":"+IFERROR(+IF(Inputs!D15=\"\",\"\",Inputs!D15),0)","v":""},0,{"$f":"+Proyección!F15+Proyección!G15+Proyección!H15+Proyección!I15+Proyección!J15+Proyección!K15+Proyección!L15+Proyección!M15+Proyección!N15+Proyección!O15+Proyección!P15+Proyección!Q15","v":0}]
[null,null,5,{"$f":"+IFERROR(+IF(Inputs!D16=\"\",\"\",Inputs!D16),0)","v":""},0,{"$f":"+Proyección!F16+Proyección!G16+Proyección!H16+Proyección!I16+Proyección!J16+Proyección!K16+Proyección!L16+Proyección!M16+Proyección!N16+Proyección!O16+Proyección!P16+Proyección!Q16","v":0}]
[null,null,6,{"$f":"+IFERROR(+IF(Inputs!D17=\"\",\"\",Inputs!D17),0)","v":""},0,{"$f":"+Proyección!F17+Proyección!G17+Proyección!H17+Proyección!I17+Proyección!J17+Proyección!K17+Proyección!L17+Proyección!M17+Proyección!N17+Proyección!O17+Proyección!P17+Proyección!Q17","v":0}]
[null,null,7,{"$f":"+IFERROR(+IF(Inputs!I12=\"\",\"\",Inputs!I12),0)","v":"Prima Luisa  (ejemplo)"},0,{"$f":"+Proyección!F18+Proyección!G18+Proyección!H18+Proyección!I18+Proyección!J18+Proyección!K18+Proyección!L18+Proyección!M18+Proyección!N18+Proyección!O18+Proyección!P18+Proyección!Q18","v":0}]
[null,null,8,{"$f":"+IFERROR(+IF(Inputs!I13=\"\",\"\",Inputs!I13),0)","v":"Prima Tomás  (ejemplo)"},0,{"$f":"+Proyección!F19+Proyección!G19+Proyección!H19+Proyección!I19+Proyección!J19+Proyección!K19+Proyección!L19+Proyección!M19+Proyección!N19+Proyección!O19+Proyección!P19+Proyección!Q19","v":0}]
[null,null,9,{"$f":"+IFERROR(+IF(Inputs!I14=\"\",\"\",Inputs!I14),0)","v":"Intereses cesantías (ejemplo)"},0,{"$f":"+Proyección!F20+Proyección!G20+Proyección!H20+Proyección!I20+Proyección!J20+Proyección!K20+Proyección!L20+Proyección!M20+Proyección!N20+Proyección!O20+Proyección!P20+Proyección!Q20","v":0}]
[null,null,10,{"$f":"+IFERROR(+IF(Inputs!I15=\"\",\"\",Inputs!I15),0)","v":""},0,{"$f":"+Proyección!F21+Proyección!G21+Proyección!H21+Proyección!I21+Proyección!J21+Proyección!K21+Proyección!L21+Proyección!M21+Proyección!N21+Proyección!O21+Proyección!P21+Proyección!Q21","v":0}]
[null,null,11,{"$f":"+IFERROR(+IF(Inputs!I16=\"\",\"\",Inputs!I16),0)","v":""},0,{"$f":"+Proyección!F22+Proyección!G22+Proyección!H22+Proyección!I22+Proyección!J22+Proyección!K22+Proyección!L22+Proyección!M22+Proyección!N22+Proyección!O22+Proyección!P22+Proyección!Q22","v":0}]
[null,null,12,{"$f":"+IFERROR(+IF(Inputs!I17=\"\",\"\",Inputs!I17),0)","v":""},0,{"$f":"+Proyección!F23+Proyección!G23+Proyección!H23+Proyección!I23+Proyección!J23+Proyección!K23+Proyección!L23+Proyección!M23+Proyección!N23+Proyección!O23+Proyección!P23+Proyección!Q23","v":0}]
[null,null,"Resumen","TOTAL INGRESO",{"$f":"+SUM(F24:F24)","v":0},{"$f":"+SUM(F12:F23)","v":0}]
[null,null,"Resumen",1]
[null,null,null,1]
[null,null,1,{"$f":"+IFERROR(+IF(Inputs!D22=\"\",\"\",Inputs!D22),0)","v":"Para comprar casa propia  (ejemplo)"},{"$f":"+IFERROR((+SUM(F27:F27)/+SUM($F$24:$F$24)),0)","v":0},{"$f":"+Proyección!F27+Proyección!G27+Proyección!H27+Proyección!I27+Proyección!J27+Proyección!K27+Proyección!L27+Proyección!M27+Proyección!N27+Proyección!O27+Proyección!P27+Proyección!Q27","v":0}]
[null,null,2,{"$f":"+IFERROR(+IF(Inputs!D23=\"\",\"\",Inputs!D23),0)","v":"Postgrado Luisa  (ejemplo)"},0,{"$f":"+Proyección!F28+Proyección!G28+Proyección!H28+Proyección!I28+Proyección!J28+Proyección!K28+Proyección!L28+Proyección!M28+Proyección!N28+Proyección!O28+Proyección!P28+Proyección!Q28","v":0}]
[null,null,3,{"$f":"+IFERROR(+IF(Inputs!D24=\"\",\"\",Inputs!D24),0)","v":"Jubilación  (ejemplo)"},0,{"$f":"+Proyección!F29+Proyección!G29+Proyección!H29+Proyección!I29+Proyección!J29+Proyección!K29+Proyección!L29+Proyección!M29+Proyección!N29+Proyección!O29+Proyección!P29+Proyección!Q29","v":0}]
[null,null,4,{"$f":"+IFERROR(+IF(Inputs!D25=\"\",\"\",Inputs!D25),0)","v":""},0,{"$f":"+Proyección!F30+Proyección!G30+Proyección!H30+Proyección!I30+Proyección!J30+Proyección!K30+Proyección!L30+Proyección!M30+Proyección!N30+Proyección!O30+Proyección!P30+Proyección!Q30","v":0}]
[null,null,5,{"$f":"+IFERROR(+IF(Inputs!D26=\"\",\"\",Inputs!D26),0)","v":""},0,{"$f":"+Proyección!F31+Proyección!G31+Proyección!H31+Proyección!I31+Proyección!J31+Proyección!K31+Proyección!L31+Proyección!M31+Proyección!N31+Proyección!O31+Proyección!P31+Proyección!Q31","v":0}]
[null,null,6,{"$f":"+IFERROR(+IF(Inputs!I22=\"\",\"\",Inputs!I22),0)","v":"Abono extra a casa propia (ejemplo)"},0,{"$f":"+Proyección!F32+Proyección!G32+Proyección!H32+Proyección!I32+Proyección!J32+Proyección!K32+Proyección!L32+Proyección!M32+Proyección!N32+Proyección!O32+Proyección!P32+Proyección!Q32","v":0}]
[null,null,7,{"$f":"+IFERROR(+IF(Inputs!I23=\"\",\"\",Inputs!I23),0)","v":""},0,{"$f":"+Proyección!F33+Proyección!G33+Proyección!H33+Proyección!I33+Proyección!J33+Proyección!K33+Proyección!L33+Proyección!M33+Proyección!N33+Proyección!O33+Proyección!P33+Proyección!Q33","v":0}]
[null,null,8,{"$f":"+IFERROR(+IF(Inputs!I24=\"\",\"\",Inputs!I24),0)","v":""},0,{"$f":"+Proyección!F34+Proyección!G34+Proyección!H34+Proyección!I34+Proyección!J34+Proyección!K34+Proyección!L34+Proyección!M34+Proyección!N34+Proyección!O34+Proyección!P34+Proyección!Q34","v":0}]
[null,null,9,{"$f":"+IFERROR(+IF(Inputs!I25=\"\",\"\",Inputs!I25),0)","v":""},0,{"$f":"+Proyección!F35+Proyección!G35+Proyección!H35+Proyección!I35+Proyección!J35+Proyección!K35+Proyección!L35+Proyección!M35+Proyección!N35+Proyección!O35+Proyección!P35+Proyección!Q35","v":0}]
[null,null,10,{"$f":"+IFERROR(+IF(Inputs!I26=\"\",\"\",Inputs!I26),0)","v":""},0,{"$f":"+Proyección!F36+Proyección!G36+Proyección!H36+Proyección!I36+Proyección!J36+Proyección!K36+Proyección!L36+Proyección!M36+Proyección!N36+Proyección!O36+Proyección!P36+Proyección!Q36","v":0}]
[null,null,"Resumen","TOTAL AHORRO",0,{"$f":"+SUM(F27:F36)","v":0}]
[null,null,null,1]
[null,null,null,1]
[null,null,1,{"$f":"+IFERROR(+IF(Inputs!D31=\"\",\"\",Inputs!D31),0)","v":"Crédito de vehículo (ejemplo)"},{"$f":"+IFERROR((+SUM(F40:F40)/+SUM($F$24:$F$24)),0)","v":0},{"$f":"+Proyección!F40+Proyección!G40+Proyección!H40+Proyección!I40+Proyección!J40+Proyección!K40+Proyección!L40+Proyección!M40+Proyección!N40+Proyección!O40+Proyección!P40+Proyección!Q40","v":0}]
[null,null,2,{"$f":"+IFERROR(+IF(Inputs!D32=\"\",\"\",Inputs!D32),0)","v":"Tarjeta de crédito 1 (ejemplo)"},0,{"$f":"+Proyección!F41+Proyección!G41+Proyección!H41+Proyección!I41+Proyección!J41+Proyección!K41+Proyección!L41+Proyección!M41+Proyección!N41+Proyección!O41+Proyección!P41+Proyección!Q41","v":0}]
[null,null,3,{"$f":"+IFERROR(+IF(Inputs!D33=\"\",\"\",Inputs!D33),0)","v":""},0,{"$f":"+Proyección!F42+Proyección!G42+Proyección!H42+Proyección!I42+Proyección!J42+Proyección!K42+Proyección!L42+Proyección!M42+Proyección!N42+Proyección!O42+Proyección!P42+Proyección!Q42","v":0}]
[null,null,4,{"$f":"+IFERROR(+IF(Inputs!D34=\"\",\"\",Inputs!D34),0)","v":""},0,{"$f":"+Proyección!F43+Proyección!G43+Proyección!H43+Proyección!I43+Proyección!J43+Proyección!K43+Proyección!L43+Proyección!M43+Proyección!N43+Proyección!O43+Proyección!P43+Proyección!Q43","v":0}]
[null,null,5,{"$f":"+IFERROR(+IF(Inputs!D35=\"\",\"\",Inputs!D35),0)","v":""},0,{"$f":"+Proyección!F44+Proyección!G44+Proyección!H44+Proyección!I44+Proyección!J44+Proyección!K44+Proyección!L44+Proyección!M44+Proyección!N44+Proyección!O44+Proyección!P44+Proyección!Q44","v":0}]
[null,null,6,{"$f":"+IFERROR(+IF(Inputs!D36=\"\",\"\",Inputs!D36),0)","v":""},0,{"$f":"+Proyección!F45+Proyección!G45+Proyección!H45+Proyección!I45+Proyección!J45+Proyección!K45+Proyección!L45+Proyección!M45+Proyección!N45+Proyección!O45+Proyección!P45+Proyección!Q45","v":0}]
[null,null,7,{"$f":"+IFERROR(+IF(Inputs!I31=\"\",\"\",Inputs!I31),0)","v":"Abono trimestral préstamo (ejemplo)"},0,{"$f":"+Proyección!F46+Proyección!G46+Proyección!H46+Proyección!I46+Proyección!J46+Proyección!K46+Proyección!L46+Proyección!M46+Proyección!N46+Proyección!O46+Proyección!P46+Proyección!Q46","v":0}]
[null,null,8,{"$f":"+IFERROR(+IF(Inputs!I32=\"\",\"\",Inputs!I32),0)","v":""},0,{"$f":"+Proyección!F47+Proyección!G47+Proyección!H47+Proyección!I47+Proyección!J47+Proyección!K47+Proyección!L47+Proyección!M47+Proyección!N47+Proyección!O47+Proyección!P47+Proyección!Q47","v":0}]
[null,null,9,{"$f":"+IFERROR(+IF(Inputs!I33=\"\",\"\",Inputs!I33),0)","v":""},0,{"$f":"+Proyección!F48+Proyección!G48+Proyección!H48+Proyección!I48+Proyección!J48+Proyección!K48+Proyección!L48+Proyección!M48+Proyección!N48+Proyección!O48+Proyección!P48+Proyección!Q48","v":0}]
[null,null,10,{"$f":"+IFERROR(+IF(Inputs!I34=\"\",\"\",Inputs!I34),0)","v":""},0,{"$f":"+Proyección!F49+Proyección!G49+Proyección!H49+Proyección!I49+Proyección!J49+Proyección!K49+Proyección!L49+Proyección!M49+Proyección!N49+Proyección!O49+Proyección!P49+Proyección!Q49","v":0}]
[null,null,11,{"$f":"+IFERROR(+IF(Inputs!I35=\"\",\"\",Inputs!I35),0)","v":""},0,{"$f":"+Proyección!F50+Proyección!G50+Proyección!H50+Proyección!I50+Proyección!J50+Proyección!K50+Proyección!L50+Proyección!M50+Proyección!N50+Proyección!O50+Proyección!P50+Proyección!Q50","v":0}]
[null,null,12,{"$f":"+IFERROR(+IF(Inputs!I36=\"\",\"\",Inputs!I36),0)","v":""},0,{"$f":"+Proyección!F51+Proyección!G51+Proyección!H51+Proyección!I51+Proyección!J51+Proyección!K51+Proyección!L51+Proyección!M51+Proyección!N51+Proyección!O51+Proyección!P51+Proyección!Q51","v":0}]
[null,null,"Resumen","TOTAL OBLIGACIONES FINANCIERAS",0,{"$f":"+SUM(F40:F51)","v":0}]
[null,null,null,1]
[null,null,null,1]
[null,null,1,{"$f":"+IFERROR(+IF(Inputs!D41=\"\",\"\",Inputs!D41),0)","v":""},{"$f":"+IFERROR((+SUM(F55:F55)/+SUM($F$24:$F$24)),0)","v":0},{"$f":"+Proyección!F55+Proyección!G55+Proyección!H55+Proyección!I55+Proyección!J55+Proyección!K55+Proyección!L55+Proyección!M55+Proyección!N55+Proyección!O55+Proyección!P55+Proyección!Q55","v":0}]
[null,null,2,{"$f":"+IFERROR(+IF(Inputs!D42=\"\",\"\",Inputs!D42),0)","v":""},0,{"$f":"+Proyección!F56+Proyección!G56+Proyección!H56+Proyección!I56+Proyección!J56+Proyección!K56+Proyección!L56+Proyección!M56+Proyección!N56+Proyección!O56+Proyección!P56+Proyección!Q56","v":0}]
[null,null,3,{"$f":"+IFERROR(+IF(Inputs!D43=\"\",\"\",Inputs!D43),0)","v":""},0,{"$f":"+Proyección!F57+Proyección!G57+Proyección!H57+Proyección!I57+Proyección!J57+Proyección!K57+Proyección!L57+Proyección!M57+Proyección!N57+Proyección!O57+Proyección!P57+Proyección!Q57","v":0}]
[null,null,4,{"$f":"+IFERROR(+IF(Inputs!D44=\"\",\"\",Inputs!D44),0)","v":""},0,{"$f":"+Proyección!F58+Proyección!G58+Proyección!H58+Proyección!I58+Proyección!J58+Proyección!K58+Proyección!L58+Proyección!M58+Proyección!N58+Proyección!O58+Proyección!P58+Proyección!Q58","v":0}]
[null,null,5,{"$f":"+IFERROR(+IF(Inputs!I41=\"\",\"\",Inputs!I41),0)","v":"Impuesto de renta (ejemplo)"},0,{"$f":"+Proyección!F59+Proyección!G59+Proyección!H59+Proyección!I59+Proyección!J59+Proyección!K59+Proyección!L59+Proyección!M59+Proyección!N59+Proyección!O59+Proyección!P59+Proyección!Q59","v":0}]
[null,null,6,{"$f":"+IFERROR(+IF(Inputs!I42=\"\",\"\",Inputs!I42),0)","v":"Impuesto vehicular (ejemplo)"},0,{"$f":"+Proyección!F60+Proyección!G60+Proyección!H60+Proyección!I60+Proyección!J60+Proyección!K60+Proyección!L60+Proyección!M60+Proyección!N60+Proyección!O60+Proyección!P60+Proyección!Q60","v":0}]
[null,null,7,{"$f":"+IFERROR(+IF(Inputs!I43=\"\",\"\",Inputs!I43),0)","v":"Impuesto predial (ejemplo)"},0,{"$f":"+Proyección!F61+Proyección!G61+Proyección!H61+Proyección!I61+Proyección!J61+Proyección!K61+Proyección!L61+Proyección!M61+Proyección!N61+Proyección!O61+Proyección!P61+Proyección!Q61","v":0}]
[null,null,8,{"$f":"+IFERROR(+IF(Inputs!I44=\"\",\"\",Inputs!I44),0)","v":""},0,{"$f":"+Proyección!F62+Proyección!G62+Proyección!H62+Proyección!I62+Proyección!J62+Proyección!K62+Proyección!L62+Proyección!M62+Proyección!N62+Proyección!O62+Proyección!P62+Proyección!Q62","v":0}]
[null,null,"Resumen","TOTAL IMPUESTOS Y CONTRIBUCIONES",0,{"$f":"+SUM(F55:F62)","v":0}]
[null,null,null,1]
[null,null,null,1]
[null,null,1,{"$f":"+IFERROR(+IF(Inputs!D68=\"\",\"\",Inputs!D68),0)","v":"Fondo de Emergencia (ejemplo)"},{"$f":"+IFERROR((+SUM(F66:F66)/+SUM($F$24:$F$24)),0)","v":0},{"$f":"+Proyección!F66+Proyección!G66+Proyección!H66+Proyección!I66+Proyección!J66+Proyección!K66+Proyección!L66+Proyección!M66+Proyección!N66+Proyección!O66+Proyección!P66+Proyección!Q66","v":0}]
[null,null,2,{"$f":"+IFERROR(+IF(Inputs!D69=\"\",\"\",Inputs!D69),0)","v":"Alimentación (ejemplo)"},0,{"$f":"+Proyección!F67+Proyección!G67+Proyección!H67+Proyección!I67+Proyección!J67+Proyección!K67+Proyección!L67+Proyección!M67+Proyección!N67+Proyección!O67+Proyección!P67+Proyección!Q67","v":0}]
[null,null,3,{"$f":"+IFERROR(+IF(Inputs!D51=\"\",\"\",Inputs!D51),0)","v":""},0,{"$f":"+Proyección!F68+Proyección!G68+Proyección!H68+Proyección!I68+Proyección!J68+Proyección!K68+Proyección!L68+Proyección!M68+Proyección!N68+Proyección!O68+Proyección!P68+Proyección!Q68","v":0}]
[null,null,4,{"$f":"+IFERROR(+IF(Inputs!D70=\"\",\"\",Inputs!D70),0)","v":"Servicios públicos (ejemplo)"},0,{"$f":"+Proyección!F69+Proyección!G69+Proyección!H69+Proyección!I69+Proyección!J69+Proyección!K69+Proyección!L69+Proyección!M69+Proyección!N69+Proyección!O69+Proyección!P69+Proyección!Q69","v":0}]
[null,null,5,{"$f":"+IFERROR(+IF(Inputs!D71=\"\",\"\",Inputs!D71),0)","v":"Gasolina (ejemplo)"},0,{"$f":"+Proyección!F70+Proyección!G70+Proyección!H70+Proyección!I70+Proyección!J70+Proyección!K70+Proyección!L70+Proyección!M70+Proyección!N70+Proyección!O70+Proyección!P70+Proyección!Q70","v":0}]
[null,null,6,{"$f":"+IFERROR(+IF(Inputs!D72=\"\",\"\",Inputs!D72),0)","v":""},0,{"$f":"+Proyección!F71+Proyección!G71+Proyección!H71+Proyección!I71+Proyección!J71+Proyección!K71+Proyección!L71+Proyección!M71+Proyección!N71+Proyección!O71+Proyección!P71+Proyección!Q71","v":0}]
[null,null,7,{"$f":"+IFERROR(+IF(Inputs!D73=\"\",\"\",Inputs!D73),0)","v":""},0,{"$f":"+Proyección!F72+Proyección!G72+Proyección!H72+Proyección!I72+Proyección!J72+Proyección!K72+Proyección!L72+Proyección!M72+Proyección!N72+Proyección!O72+Proyección!P72+Proyección!Q72","v":0}]
[null,null,8,{"$f":"+IFERROR(+IF(Inputs!D87=\"\",\"\",Inputs!D87),0)","v":"Suscripción Netflix (ejemplo)"},0,{"$f":"+Proyección!F73+Proyección!G73+Proyección!H73+Proyección!I73+Proyección!J73+Proyección!K73+Proyección!L73+Proyección!M73+Proyección!N73+Proyección!O73+Proyección!P73+Proyección!Q73","v":0}]
[null,null,9,{"$f":"+IFERROR(+IF(Inputs!D57=\"\",\"\",Inputs!D57),0)","v":""},0,{"$f":"+Proyección!F74+Proyección!G74+Proyección!H74+Proyección!I74+Proyección!J74+Proyección!K74+Proyección!L74+Proyección!M74+Proyección!N74+Proyección!O74+Proyección!P74+Proyección!Q74","v":0}]
[null,null,10,{"$f":"+IFERROR(+IF(Inputs!D58=\"\",\"\",Inputs!D58),0)","v":""},0,{"$f":"+Proyección!F75+Proyección!G75+Proyección!H75+Proyección!I75+Proyección!J75+Proyección!K75+Proyección!L75+Proyección!M75+Proyección!N75+Proyección!O75+Proyección!P75+Proyección!Q75","v":0}]
[null,null,11,{"$f":"+IFERROR(+IF(Inputs!D59=\"\",\"\",Inputs!D59),0)","v":""},0,{"$f":"+Proyección!F76+Proyección!G76+Proyección!H76+Proyección!I76+Proyección!J76+Proyección!K76+Proyección!L76+Proyección!M76+Proyección!N76+Proyección!O76+Proyección!P76+Proyección!Q76","v":0}]
[null,null,12,{"$f":"+IFERROR(+IF(Inputs!D60=\"\",\"\",Inputs!D60),0)","v":""},0,{"$f":"+Proyección!F77+Proyección!G77+Proyección!H77+Proyección!I77+Proyección!J77+Proyección!K77+Proyección!L77+Proyección!M77+Proyección!N77+Proyección!O77+Proyección!P77+Proyección!Q77","v":0}]
[null,null,13,{"$f":"+IFERROR(+IF(Inputs!D61=\"\",\"\",Inputs!D61),0)","v":""},0,{"$f":"+Proyección!F78+Proyección!G78+Proyección!H78+Proyección!I78+Proyección!J78+Proyección!K78+Proyección!L78+Proyección!M78+Proyección!N78+Proyección!O78+Proyección!P78+Proyección!Q78","v":0}]
[null,null,14,{"$f":"+IFERROR(+IF(Inputs!D62=\"\",\"\",Inputs!D62),0)","v":""},0,{"$f":"+Proyección!F79+Proyección!G79+Proyección!H79+Proyección!I79+Proyección!J79+Proyección!K79+Proyección!L79+Proyección!M79+Proyección!N79+Proyección!O79+Proyección!P79+Proyección!Q79","v":0}]
[null,null,15,{"$f":"+IFERROR(+IF(Inputs!D63=\"\",\"\",Inputs!D63),0)","v":""},0,{"$f":"+Proyección!F80+Proyección!G80+Proyección!H80+Proyección!I80+Proyección!J80+Proyección!K80+Proyección!L80+Proyección!M80+Proyección!N80+Proyección!O80+Proyección!P80+Proyección!Q80","v":0}]
[null,null,16,{"$f":"+IFERROR(+IF(Inputs!I49=\"\",\"\",Inputs!I49),0)","v":"Matrícula universidad (ejemplo)"},0,{"$f":"+Proyección!F81+Proyección!G81+Proyección!H81+Proyección!I81+Proyección!J81+Proyección!K81+Proyección!L81+Proyección!M81+Proyección!N81+Proyección!O81+Proyección!P81+Proyección!Q81","v":0}]
[null,null,17,{"$f":"+IFERROR(+IF(Inputs!I50=\"\",\"\",Inputs!I50),0)","v":""},0,{"$f":"+Proyección!F82+Proyección!G82+Proyección!H82+Proyección!I82+Proyección!J82+Proyección!K82+Proyección!L82+Proyección!M82+Proyección!N82+Proyección!O82+Proyección!P82+Proyección!Q82","v":0}]
[null,null,18,{"$f":"+IFERROR(+IF(Inputs!I51=\"\",\"\",Inputs!I51),0)","v":""},0,{"$f":"+Proyección!F83+Proyección!G83+Proyección!H83+Proyección!I83+Proyección!J83+Proyección!K83+Proyección!L83+Proyección!M83+Proyección!N83+Proyección!O83+Proyección!P83+Proyección!Q83","v":0}]
[null,null,19,{"$f":"+IFERROR(+IF(Inputs!I52=\"\",\"\",Inputs!I52),0)","v":""},0,{"$f":"+Proyección!F84+Proyección!G84+Proyección!H84+Proyección!I84+Proyección!J84+Proyección!K84+Proyección!L84+Proyección!M84+Proyección!N84+Proyección!O84+Proyección!P84+Proyección!Q84","v":0}]
[null,null,20,{"$f":"+IFERROR(+IF(Inputs!I53=\"\",\"\",Inputs!I53),0)","v":""},0,{"$f":"+Proyección!F85+Proyección!G85+Proyección!H85+Proyección!I85+Proyección!J85+Proyección!K85+Proyección!L85+Proyección!M85+Proyección!N85+Proyección!O85+Proyección!P85+Proyección!Q85","v":0}]
[null,null,21,{"$f":"+IFERROR(+IF(Inputs!I54=\"\",\"\",Inputs!I54),0)","v":""},0,{"$f":"+Proyección!F86+Proyección!G86+Proyección!H86+Proyección!I86+Proyección!J86+Proyección!K86+Proyección!L86+Proyección!M86+Proyección!N86+Proyección!O86+Proyección!P86+Proyección!Q86","v":0}]
[null,null,22,{"$f":"+IFERROR(+IF(Inputs!I55=\"\",\"\",Inputs!I55),0)","v":""},0,{"$f":"+Proyección!F87+Proyección!G87+Proyección!H87+Proyección!I87+Proyección!J87+Proyección!K87+Proyección!L87+Proyección!M87+Proyección!N87+Proyección!O87+Proyección!P87+Proyección!Q87","v":0}]
[null,null,23,{"$f":"+IFERROR(+IF(Inputs!I56=\"\",\"\",Inputs!I56),0)","v":""},0,{"$f":"+Proyección!F88+Proyección!G88+Proyección!H88+Proyección!I88+Proyección!J88+Proyección!K88+Proyección!L88+Proyección!M88+Proyección!N88+Proyección!O88+Proyección!P88+Proyección!Q88","v":0}]
[null,null,24,{"$f":"+IFERROR(+IF(Inputs!I57=\"\",\"\",Inputs!I57),0)","v":""},0,{"$f":"+Proyección!F89+Proyección!G89+Proyección!H89+Proyección!I89+Proyección!J89+Proyección!K89+Proyección!L89+Proyección!M89+Proyección!N89+Proyección!O89+Proyección!P89+Proyección!Q89","v":0}]
[null,null,25,{"$f":"+IFERROR(+IF(Inputs!I58=\"\",\"\",Inputs!I58),0)","v":""},0,{"$f":"+Proyección!F90+Proyección!G90+Proyección!H90+Proyección!I90+Proyección!J90+Proyección!K90+Proyección!L90+Proyección!M90+Proyección!N90+Proyección!O90+Proyección!P90+Proyección!Q90","v":0}]
[null,null,26,{"$f":"+IFERROR(+IF(Inputs!I59=\"\",\"\",Inputs!I59),0)","v":""},0,{"$f":"+Proyección!F91+Proyección!G91+Proyección!H91+Proyección!I91+Proyección!J91+Proyección!K91+Proyección!L91+Proyección!M91+Proyección!N91+Proyección!O91+Proyección!P91+Proyección!Q91","v":0}]
[null,null,27,{"$f":"+IFERROR(+IF(Inputs!I60=\"\",\"\",Inputs!I60),0)","v":""},0,{"$f":"+Proyección!F92+Proyección!G92+Proyección!H92+Proyección!I92+Proyección!J92+Proyección!K92+Proyección!L92+Proyección!M92+Proyección!N92+Proyección!O92+Proyección!P92+Proyección!Q92","v":0}]
[null,null,28,{"$f":"+IFERROR(+IF(Inputs!I61=\"\",\"\",Inputs!I61),0)","v":""},0,{"$f":"+Proyección!F93+Proyección!G93+Proyección!H93+Proyección!I93+Proyección!J93+Proyección!K93+Proyección!L93+Proyección!M93+Proyección!N93+Proyección!O93+Proyección!P93+Proyección!Q93","v":0}]
[null,null,29,{"$f":"+IFERROR(+IF(Inputs!I62=\"\",\"\",Inputs!I62),0)","v":""},0,{"$f":"+Proyección!F94+Proyección!G94+Proyección!H94+Proyección!I94+Proyección!J94+Proyección!K94+Proyección!L94+Proyección!M94+Proyección!N94+Proyección!O94+Proyección!P94+Proyección!Q94","v":0}]
[null,null,30,{"$f":"+IFERROR(+IF(Inputs!I63=\"\",\"\",Inputs!I63),0)","v":""},0,{"$f":"+Proyección!F95+Proyección!G95+Proyección!H95+Proyección!I95+Proyección!J95+Proyección!K95+Proyección!L95+Proyección!M95+Proyección!N95+Proyección!O95+Proyección!P95+Proyección!Q95","v":0}]
[null,null,"Resumen","GASTOS OBLIGATORIOS",0,{"$f":"+SUM(F66:F95)","v":0}]
[null,null,null,0]
[null,null,null,1]
[null,null,1,{"$f":"+IFERROR(+IF(Inputs!#REF!=\"\",\"\",Inputs!#REF!),0)","v":0},{"$f":"+IFERROR((+SUM(F99:F99)/+SUM($F$24:$F$24)),0)","v":0},{"$f":"+Proyección!F99+Proyección!G99+Proyección!H99+Proyección!I99+Proyección!J99+Proyección!K99+Proyección!L99+Proyección!M99+Proyección!N99+Proyección!O99+Proyección!P99+Proyección!Q99","v":0}]
[null,null,2,{"$f":"+IFERROR(+IF(Inputs!#REF!=\"\",\"\",Inputs!#REF!),0)","v":0},0,{"$f":"+Proyección!F100+Proyección!G100+Proyección!H100+Proyección!I100+Proyección!J100+Proyección!K100+Proyección!L100+Proyección!M100+Proyección!N100+Proyección!O100+Proyección!P100+Proyección!Q100","v":0}]
[null,null,3,{"$f":"+IFERROR(+IF(Inputs!#REF!=\"\",\"\",Inputs!#REF!),0)","v":0},0,{"$f":"+Proyección!F101+Proyección!G101+Proyección!H101+Proyección!I101+Proyección!J101+Proyección!K101+Proyección!L101+Proyección!M101+Proyección!N101+Proyección!O101+Proyección!P101+Proyección!Q101","v":0}]
[null,null,4,{"$f":"+IFERROR(+IF(Inputs!#REF!=\"\",\"\",Inputs!#REF!),0)","v":0},0,{"$f":"+Proyección!F102+Proyección!G102+Proyección!H102+Proyección!I102+Proyección!J102+Proyección!K102+Proyección!L102+Proyección!M102+Proyección!N102+Proyección!O102+Proyección!P102+Proyección!Q102","v":0}]
[null,null,5,{"$f":"+IFERROR(+IF(Inputs!#REF!=\"\",\"\",Inputs!#REF!),0)","v":0},0,{"$f":"+Proyección!F103+Proyección!G103+Proyección!H103+Proyección!I103+Proyección!J103+Proyección!K103+Proyección!L103+Proyección!M103+Proyección!N103+Proyección!O103+Proyección!P103+Proyección!Q103","v":0}]
[null,null,6,{"$f":"+IFERROR(+IF(Inputs!#REF!=\"\",\"\",Inputs!#REF!),0)","v":0},0,{"$f":"+Proyección!F104+Proyección!G104+Proyección!H104+Proyección!I104+Proyección!J104+Proyección!K104+Proyección!L104+Proyección!M104+Proyección!N104+Proyección!O104+Proyección!P104+Proyección!Q104","v":0}]
[null,null,7,{"$f":"+IFERROR(+IF(Inputs!D74=\"\",\"\",Inputs!D74),0)","v":""},0,{"$f":"+Proyección!F105+Proyección!G105+Proyección!H105+Proyección!I105+Proyección!J105+Proyección!K105+Proyección!L105+Proyección!M105+Proyección!N105+Proyección!O105+Proyección!P105+Proyección!Q105","v":0}]
[null,null,8,{"$f":"+IFERROR(+IF(Inputs!D75=\"\",\"\",Inputs!D75),0)","v":""},0,{"$f":"+Proyección!F106+Proyección!G106+Proyección!H106+Proyección!I106+Proyección!J106+Proyección!K106+Proyección!L106+Proyección!M106+Proyección!N106+Proyección!O106+Proyección!P106+Proyección!Q106","v":0}]
[null,null,9,{"$f":"+IFERROR(+IF(Inputs!D76=\"\",\"\",Inputs!D76),0)","v":""},0,{"$f":"+Proyección!F107+Proyección!G107+Proyección!H107+Proyección!I107+Proyección!J107+Proyección!K107+Proyección!L107+Proyección!M107+Proyección!N107+Proyección!O107+Proyección!P107+Proyección!Q107","v":0}]
[null,null,10,{"$f":"+IFERROR(+IF(Inputs!D77=\"\",\"\",Inputs!D77),0)","v":""},0,{"$f":"+Proyección!F108+Proyección!G108+Proyección!H108+Proyección!I108+Proyección!J108+Proyección!K108+Proyección!L108+Proyección!M108+Proyección!N108+Proyección!O108+Proyección!P108+Proyección!Q108","v":0}]
[null,null,11,{"$f":"+IFERROR(+IF(Inputs!D78=\"\",\"\",Inputs!D78),0)","v":""},0,{"$f":"+Proyección!F109+Proyección!G109+Proyección!H109+Proyección!I109+Proyección!J109+Proyección!K109+Proyección!L109+Proyección!M109+Proyección!N109+Proyección!O109+Proyección!P109+Proyección!Q109","v":0}]
[null,null,12,{"$f":"+IFERROR(+IF(Inputs!D79=\"\",\"\",Inputs!D79),0)","v":""},0,{"$f":"+Proyección!F110+Proyección!G110+Proyección!H110+Proyección!I110+Proyección!J110+Proyección!K110+Proyección!L110+Proyección!M110+Proyección!N110+Proyección!O110+Proyección!P110+Proyección!Q110","v":0}]
[null,null,13,{"$f":"+IFERROR(+IF(Inputs!D80=\"\",\"\",Inputs!D80),0)","v":""},0,{"$f":"+Proyección!F111+Proyección!G111+Proyección!H111+Proyección!I111+Proyección!J111+Proyección!K111+Proyección!L111+Proyección!M111+Proyección!N111+Proyección!O111+Proyección!P111+Proyección!Q111","v":0}]
[null,null,14,{"$f":"+IFERROR(+IF(Inputs!D81=\"\",\"\",Inputs!D81),0)","v":""},0,{"$f":"+Proyección!F112+Proyección!G112+Proyección!H112+Proyección!I112+Proyección!J112+Proyección!K112+Proyección!L112+Proyección!M112+Proyección!N112+Proyección!O112+Proyección!P112+Proyección!Q112","v":0}]
[null,null,15,{"$f":"+IFERROR(+IF(Inputs!D82=\"\",\"\",Inputs!D82),0)","v":""},0,{"$f":"+Proyección!F113+Proyección!G113+Proyección!H113+Proyección!I113+Proyección!J113+Proyección!K113+Proyección!L113+Proyección!M113+Proyección!N113+Proyección!O113+Proyección!P113+Proyección!Q113","v":0}]
[null,null,16,{"$f":"+IFERROR(+IF(Inputs!I68=\"\",\"\",Inputs!I68),0)","v":"Abono extra Fondo de Emerg. (ejemplo)"},0,{"$f":"+Proyección!F114+Proyección!G114+Proyección!H114+Proyección!I114+Proyección!J114+Proyección!K114+Proyección!L114+Proyección!M114+Proyección!N114+Proyección!O114+Proyección!P114+Proyección!Q114","v":0}]
[null,null,17,{"$f":"+IFERROR(+IF(Inputs!I69=\"\",\"\",Inputs!I69),0)","v":"Seguro del vehículo (ejemplo)"},0,{"$f":"+Proyección!F115+Proyección!G115+Proyección!H115+Proyección!I115+Proyección!J115+Proyección!K115+Proyección!L115+Proyección!M115+Proyección!N115+Proyección!O115+Proyección!P115+Proyección!Q115","v":0}]
[null,null,18,{"$f":"+IFERROR(+IF(Inputs!I70=\"\",\"\",Inputs!I70),0)","v":""},0,{"$f":"+Proyección!F116+Proyección!G116+Proyección!H116+Proyección!I116+Proyección!J116+Proyección!K116+Proyección!L116+Proyección!M116+Proyección!N116+Proyección!O116+Proyección!P116+Proyección!Q116","v":0}]
[null,null,19,{"$f":"+IFERROR(+IF(Inputs!I71=\"\",\"\",Inputs!I71),0)","v":""},0,{"$f":"+Proyección!F117+Proyección!G117+Proyección!H117+Proyección!I117+Proyección!J117+Proyección!K117+Proyección!L117+Proyección!M117+Proyección!N117+Proyección!O117+Proyección!P117+Proyección!Q117","v":0}]
[null,null,20,{"$f":"+IFERROR(+IF(Inputs!I72=\"\",\"\",Inputs!I72),0)","v":""},0,{"$f":"+Proyección!F118+Proyección!G118+Proyección!H118+Proyección!I118+Proyección!J118+Proyección!K118+Proyección!L118+Proyección!M118+Proyección!N118+Proyección!O118+Proyección!P118+Proyección!Q118","v":0}]
[null,null,21,{"$f":"+IFERROR(+IF(Inputs!I73=\"\",\"\",Inputs!I73),0)","v":""},0,{"$f":"+Proyección!F119+Proyección!G119+Proyección!H119+Proyección!I119+Proyección!J119+Proyección!K119+Proyección!L119+Proyección!M119+Proyección!N119+Proyección!O119+Proyección!P119+Proyección!Q119","v":0}]
[null,null,22,{"$f":"+IFERROR(+IF(Inputs!I74=\"\",\"\",Inputs!I74),0)","v":""},0,{"$f":"+Proyección!F120+Proyección!G120+Proyección!H120+Proyección!I120+Proyección!J120+Proyección!K120+Proyección!L120+Proyección!M120+Proyección!N120+Proyección!O120+Proyección!P120+Proyección!Q120","v":0}]
[null,null,23,{"$f":"+IFERROR(+IF(Inputs!I75=\"\",\"\",Inputs!I75),0)","v":""},0,{"$f":"+Proyección!F121+Proyección!G121+Proyección!H121+Proyección!I121+Proyección!J121+Proyección!K121+Proyección!L121+Proyección!M121+Proyección!N121+Proyección!O121+Proyección!P121+Proyección!Q121","v":0}]
[null,null,24,{"$f":"+IFERROR(+IF(Inputs!I76=\"\",\"\",Inputs!I76),0)","v":""},0,{"$f":"+Proyección!F122+Proyección!G122+Proyección!H122+Proyección!I122+Proyección!J122+Proyección!K122+Proyección!L122+Proyección!M122+Proyección!N122+Proyección!O122+Proyección!P122+Proyección!Q122","v":0}]
[null,null,25,{"$f":"+IFERROR(+IF(Inputs!I77=\"\",\"\",Inputs!I77),0)","v":""},0,{"$f":"+Proyección!F123+Proyección!G123+Proyección!H123+Proyección!I123+Proyección!J123+Proyección!K123+Proyección!L123+Proyección!M123+Proyección!N123+Proyección!O123+Proyección!P123+Proyección!Q123","v":0}]
[null,null,26,{"$f":"+IFERROR(+IF(Inputs!I78=\"\",\"\",Inputs!I78),0)","v":""},0,{"$f":"+Proyección!F124+Proyección!G124+Proyección!H124+Proyección!I124+Proyección!J124+Proyección!K124+Proyección!L124+Proyección!M124+Proyección!N124+Proyección!O124+Proyección!P124+Proyección!Q124","v":0}]
[null,null,27,{"$f":"+IFERROR(+IF(Inputs!I79=\"\",\"\",Inputs!I79),0)","v":""},0,{"$f":"+Proyección!F125+Proyección!G125+Proyección!H125+Proyección!I125+Proyección!J125+Proyección!K125+Proyección!L125+Proyección!M125+Proyección!N125+Proyección!O125+Proyección!P125+Proyección!Q125","v":0}]
[null,null,28,{"$f":"+IFERROR(+IF(Inputs!I80=\"\",\"\",Inputs!I80),0)","v":""},0,{"$f":"+Proyección!F126+Proyección!G126+Proyección!H126+Proyección!I126+Proyección!J126+Proyección!K126+Proyección!L126+Proyección!M126+Proyección!N126+Proyección!O126+Proyección!P126+Proyección!Q126","v":0}]
[null,null,29,{"$f":"+IFERROR(+IF(Inputs!I81=\"\",\"\",Inputs!I81),0)","v":""},0,{"$f":"+Proyección!F127+Proyección!G127+Proyección!H127+Proyección!I127+Proyección!J127+Proyección!K127+Proyección!L127+Proyección!M127+Proyección!N127+Proyección!O127+Proyección!P127+Proyección!Q127","v":0}]
[null,null,30,{"$f":"+IFERROR(+IF(Inputs!I82=\"\",\"\",Inputs!I82),0)","v":""},0,{"$f":"+Proyección!F128+Proyección!G128+Proyección!H128+Proyección!I128+Proyección!J128+Proyección!K128+Proyección!L128+Proyección!M128+Proyección!N128+Proyección!O128+Proyección!P128+Proyección!Q128","v":0}]
[null,null,"Resumen","GASTOS NECESARIOS",0,{"$f":"+SUM(F99:F128)","v":0}]
[null,null,null,1]
[null,null,1,{"$f":"+IFERROR(+IF(Inputs!#REF!=\"\",\"\",Inputs!#REF!),0)","v":0},{"$f":"+IFERROR((+SUM(F131:F131)/+SUM($F$24:$F$24)),0)","v":0},{"$f":"+Proyección!F131+Proyección!G131+Proyección!H131+Proyección!I131+Proyección!J131+Proyección!K131+Proyección!L131+Proyección!M131+Proyección!N131+Proyección!O131+Proyección!P131+Proyección!Q131","v":0}]
[null,null,2,{"$f":"+IFERROR(+IF(Inputs!D88=\"\",\"\",Inputs!D88),0)","v":"Diversión  (ejemplo)"},0,{"$f":"+Proyección!F132+Proyección!G132+Proyección!H132+Proyección!I132+Proyección!J132+Proyección!K132+Proyección!L132+Proyección!M132+Proyección!N132+Proyección!O132+Proyección!P132+Proyección!Q132","v":0}]
[null,null,3,{"$f":"+IFERROR(+IF(Inputs!D89=\"\",\"\",Inputs!D89),0)","v":"Domicilios  (ejemplo)"},0,{"$f":"+Proyección!F133+Proyección!G133+Proyección!H133+Proyección!I133+Proyección!J133+Proyección!K133+Proyección!L133+Proyección!M133+Proyección!N133+Proyección!O133+Proyección!P133+Proyección!Q133","v":0}]
[null,null,4,{"$f":"+IFERROR(+IF(Inputs!D90=\"\",\"\",Inputs!D90),0)","v":""},0,{"$f":"+Proyección!F134+Proyección!G134+Proyección!H134+Proyección!I134+Proyección!J134+Proyección!K134+Proyección!L134+Proyección!M134+Proyección!N134+Proyección!O134+Proyección!P134+Proyección!Q134","v":0}]
[null,null,5,{"$f":"+IFERROR(+IF(Inputs!D91=\"\",\"\",Inputs!D91),0)","v":""},0,{"$f":"+Proyección!F135+Proyección!G135+Proyección!H135+Proyección!I135+Proyección!J135+Proyección!K135+Proyección!L135+Proyección!M135+Proyección!N135+Proyección!O135+Proyección!P135+Proyección!Q135","v":0}]
[null,null,6,{"$f":"+IFERROR(+IF(Inputs!D92=\"\",\"\",Inputs!D92),0)","v":""},0,{"$f":"+Proyección!F136+Proyección!G136+Proyección!H136+Proyección!I136+Proyección!J136+Proyección!K136+Proyección!L136+Proyección!M136+Proyección!N136+Proyección!O136+Proyección!P136+Proyección!Q136","v":0}]
[null,null,7,{"$f":"+IFERROR(+IF(Inputs!D93=\"\",\"\",Inputs!D93),0)","v":""},0,{"$f":"+Proyección!F137+Proyección!G137+Proyección!H137+Proyección!I137+Proyección!J137+Proyección!K137+Proyección!L137+Proyección!M137+Proyección!N137+Proyección!O137+Proyección!P137+Proyección!Q137","v":0}]
[null,null,8,{"$f":"+IFERROR(+IF(Inputs!D94=\"\",\"\",Inputs!D94),0)","v":""},0,{"$f":"+Proyección!F138+Proyección!G138+Proyección!H138+Proyección!I138+Proyección!J138+Proyección!K138+Proyección!L138+Proyección!M138+Proyección!N138+Proyección!O138+Proyección!P138+Proyección!Q138","v":0}]
[null,null,9,{"$f":"+IFERROR(+IF(Inputs!D95=\"\",\"\",Inputs!D95),0)","v":""},0,{"$f":"+Proyección!F139+Proyección!G139+Proyección!H139+Proyección!I139+Proyección!J139+Proyección!K139+Proyección!L139+Proyección!M139+Proyección!N139+Proyección!O139+Proyección!P139+Proyección!Q139","v":0}]
[null,null,10,{"$f":"+IFERROR(+IF(Inputs!D96=\"\",\"\",Inputs!D96),0)","v":""},0,{"$f":"+Proyección!F140+Proyección!G140+Proyección!H140+Proyección!I140+Proyección!J140+Proyección!K140+Proyección!L140+Proyección!M140+Proyección!N140+Proyección!O140+Proyección!P140+Proyección!Q140","v":0}]
[null,null,11,{"$f":"+IFERROR(+IF(Inputs!D97=\"\",\"\",Inputs!D97),0)","v":""},0,{"$f":"+Proyección!F141+Proyección!G141+Proyección!H141+Proyección!I141+Proyección!J141+Proyección!K141+Proyección!L141+Proyección!M141+Proyección!N141+Proyección!O141+Proyección!P141+Proyección!Q141","v":0}]
[null,null,12,{"$f":"+IFERROR(+IF(Inputs!D98=\"\",\"\",Inputs!D98),0)","v":""},0,{"$f":"+Proyección!F142+Proyección!G142+Proyección!H142+Proyección!I142+Proyección!J142+Proyección!K142+Proyección!L142+Proyección!M142+Proyección!N142+Proyección!O142+Proyección!P142+Proyección!Q142","v":0}]
[null,null,13,{"$f":"+IFERROR(+IF(Inputs!D99=\"\",\"\",Inputs!D99),0)","v":""},0,{"$f":"+Proyección!F143+Proyección!G143+Proyección!H143+Proyección!I143+Proyección!J143+Proyección!K143+Proyección!L143+Proyección!M143+Proyección!N143+Proyección!O143+Proyección!P143+Proyección!Q143","v":0}]
[null,null,14,{"$f":"+IFERROR(+IF(Inputs!D100=\"\",\"\",Inputs!D100),0)","v":""},0,{"$f":"+Proyección!F144+Proyección!G144+Proyección!H144+Proyección!I144+Proyección!J144+Proyección!K144+Proyección!L144+Proyección!M144+Proyección!N144+Proyección!O144+Proyección!P144+Proyección!Q144","v":0}]
[null,null,15,{"$f":"+IFERROR(+IF(Inputs!D101=\"\",\"\",Inputs!D101),0)","v":""},0,{"$f":"+Proyección!F145+Proyección!G145+Proyección!H145+Proyección!I145+Proyección!J145+Proyección!K145+Proyección!L145+Proyección!M145+Proyección!N145+Proyección!O145+Proyección!P145+Proyección!Q145","v":0}]
[null,null,16,{"$f":"+IFERROR(+IF(Inputs!I87=\"\",\"\",Inputs!I87),0)","v":"Vacaciones  (ejemplo)"},0,{"$f":"+Proyección!F146+Proyección!G146+Proyección!H146+Proyección!I146+Proyección!J146+Proyección!K146+Proyección!L146+Proyección!M146+Proyección!N146+Proyección!O146+Proyección!P146+Proyección!Q146","v":0}]
[null,null,17,{"$f":"+IFERROR(+IF(Inputs!I88=\"\",\"\",Inputs!I88),0)","v":"Regalos de navidad  (ejemplo)"},0,{"$f":"+Proyección!F147+Proyección!G147+Proyección!H147+Proyección!I147+Proyección!J147+Proyección!K147+Proyección!L147+Proyección!M147+Proyección!N147+Proyección!O147+Proyección!P147+Proyección!Q147","v":0}]
[null,null,18,{"$f":"+IFERROR(+IF(Inputs!I89=\"\",\"\",Inputs!I89),0)","v":""},0,{"$f":"+Proyección!F148+Proyección!G148+Proyección!H148+Proyección!I148+Proyección!J148+Proyección!K148+Proyección!L148+Proyección!M148+Proyección!N148+Proyección!O148+Proyección!P148+Proyección!Q148","v":0}]
[null,null,19,{"$f":"+IFERROR(+IF(Inputs!I90=\"\",\"\",Inputs!I90),0)","v":""},0,{"$f":"+Proyección!F149+Proyección!G149+Proyección!H149+Proyección!I149+Proyección!J149+Proyección!K149+Proyección!L149+Proyección!M149+Proyección!N149+Proyección!O149+Proyección!P149+Proyección!Q149","v":0}]
[null,null,20,{"$f":"+IFERROR(+IF(Inputs!I91=\"\",\"\",Inputs!I91),0)","v":""},0,{"$f":"+Proyección!F150+Proyección!G150+Proyección!H150+Proyección!I150+Proyección!J150+Proyección!K150+Proyección!L150+Proyección!M150+Proyección!N150+Proyección!O150+Proyección!P150+Proyección!Q150","v":0}]
[null,null,21,{"$f":"+IFERROR(+IF(Inputs!I92=\"\",\"\",Inputs!I92),0)","v":""},0,{"$f":"+Proyección!F151+Proyección!G151+Proyección!H151+Proyección!I151+Proyección!J151+Proyección!K151+Proyección!L151+Proyección!M151+Proyección!N151+Proyección!O151+Proyección!P151+Proyección!Q151","v":0}]
[null,null,22,{"$f":"+IFERROR(+IF(Inputs!I93=\"\",\"\",Inputs!I93),0)","v":""},0,{"$f":"+Proyección!F152+Proyección!G152+Proyección!H152+Proyección!I152+Proyección!J152+Proyección!K152+Proyección!L152+Proyección!M152+Proyección!N152+Proyección!O152+Proyección!P152+Proyección!Q152","v":0}]
[null,null,23,{"$f":"+IFERROR(+IF(Inputs!I94=\"\",\"\",Inputs!I94),0)","v":""},0,{"$f":"+Proyección!F153+Proyección!G153+Proyección!H153+Proyección!I153+Proyección!J153+Proyección!K153+Proyección!L153+Proyección!M153+Proyección!N153+Proyección!O153+Proyección!P153+Proyección!Q153","v":0}]
[null,null,24,{"$f":"+IFERROR(+IF(Inputs!I95=\"\",\"\",Inputs!I95),0)","v":""},0,{"$f":"+Proyección!F154+Proyección!G154+Proyección!H154+Proyección!I154+Proyección!J154+Proyección!K154+Proyección!L154+Proyección!M154+Proyección!N154+Proyección!O154+Proyección!P154+Proyección!Q154","v":0}]
[null,null,25,{"$f":"+IFERROR(+IF(Inputs!I96=\"\",\"\",Inputs!I96),0)","v":""},0,{"$f":"+Proyección!F155+Proyección!G155+Proyección!H155+Proyección!I155+Proyección!J155+Proyección!K155+Proyección!L155+Proyección!M155+Proyección!N155+Proyección!O155+Proyección!P155+Proyección!Q155","v":0}]
[null,null,26,{"$f":"+IFERROR(+IF(Inputs!I97=\"\",\"\",Inputs!I97),0)","v":""},0,{"$f":"+Proyección!F156+Proyección!G156+Proyección!H156+Proyección!I156+Proyección!J156+Proyección!K156+Proyección!L156+Proyección!M156+Proyección!N156+Proyección!O156+Proyección!P156+Proyección!Q156","v":0}]
[null,null,27,{"$f":"+IFERROR(+IF(Inputs!I98=\"\",\"\",Inputs!I98),0)","v":""},0,{"$f":"+Proyección!F157+Proyección!G157+Proyección!H157+Proyección!I157+Proyección!J157+Proyección!K157+Proyección!L157+Proyección!M157+Proyección!N157+Proyección!O157+Proyección!P157+Proyección!Q157","v":0}]
[null,null,28,{"$f":"+IFERROR(+IF(Inputs!I99=\"\",\"\",Inputs!I99),0)","v":""},0,{"$f":"+Proyección!F158+Proyección!G158+Proyección!H158+Proyección!I158+Proyección!J158+Proyección!K158+Proyección!L158+Proyección!M158+Proyección!N158+Proyección!O158+Proyección!P158+Proyección!Q158","v":0}]
[null,null,29,{"$f":"+IFERROR(+IF(Inputs!I100=\"\",\"\",Inputs!I100),0)","v":""},0,{"$f":"+Proyección!F159+Proyección!G159+Proyección!H159+Proyección!I159+Proyección!J159+Proyección!K159+Proyección!L159+Proyección!M159+Proyección!N159+Proyección!O159+Proyección!P159+Proyección!Q159","v":0}]
[null,null,30,{"$f":"+IFERROR(+IF(Inputs!I101=\"\",\"\",Inputs!I101),0)","v":""},0,{"$f":"+Proyección!F160+Proyección!G160+Proyección!H160+Proyección!I160+Proyección!J160+Proyección!K160+Proyección!L160+Proyección!M160+Proyección!N160+Proyección!O160+Proyección!P160+Proyección!Q160","v":0}]
[null,null,"Resumen","GASTOS PRESCINDIBLES/DISFRUTE",0,{"$f":"+SUM(F131:F160)","v":0}]
[null,null,"Resumen",1]
[null,null,"Resumen","TOTAL SALIDAS (AHORRO + GASTOS)",null,{"$f":"+F37+F52+F63+F96+F129+F161","v":0}]
[null,null,"Resumen",1]
[null,null,"Resumen",1]
[null,null,"Resumen","     SALDO FINAL / FLUJO DE CAJA",null,{"$f":"+F9+F24-F163","v":0}]
[null,null,"Resumen",1]
[null,null,"Resumen",1]
[null,null,"Resumen",1,"Saldo año anterior"]
[null,null,"Resumen","RESERVAS"]
[null,null,"Resumen","Ahorro",{"$f":"+Proyección!E171","v":0},{"$f":"+E171+F37","v":0}]
[null,null,"Resumen","Fondo de Emergencia",{"$f":"+Proyección!E172","v":0},{"$f":"+E172+VLOOKUP($D$172,$D$12:$F$160,3,0)","v":{"$error":"#N/A"}}]
[null,null,"Resumen","Provisiones",{"$f":"+Proyección!E173","v":0},0]
[null,null,"Resumen",1]
[null,null,"Resumen","INDICADORES"]
[null,null,"Resumen","Nivel de endeudamiento","-",{"$f":"+IFERROR(F52/F24,0)","v":0}]
[null,null,"Resumen","Capacidad de endeudamiento","-",{"$f":"+IFERROR(IF(F166<=0,0,(F166*35%)),0)","v":0}]
[null,null,null,"Variación  real vs presupuestado","-","-"]
[null,null,"Resumen",1]
[null,null,"Resumen",1]
[null,null,"Resumen",1]

{"sheet":"Resumen Sem  (3)","index":7,"n_rows":179,"n_cols":7,"rows_kept":179,"cut":false,"hidden":true,"merged":[[165,3,165,4]]}
[null,null,null,1]
[null,null,null,1]
[null,null,null,1]
[null,null,null,1]
[null,null,null,1]
[null,null,"Resumen","Concepto","%","Semestre I","Semestre II"]
[null,null,null,1]
[null,null,"Resumen",1]
[null,null,"Resumen","SALDO INICIAL",null,0,{"$f":"+F166","v":0}]
[null,null,"Resumen",1,"% del Ingreso"]
[null,null,null,1]
[null,null,1,{"$f":"+IFERROR(+IF(Inputs!D12=\"\",\"\",Inputs!D12),0)","v":"Salario Luisa (ejemplo)"},{"$f":"+IFERROR(F12/$F$24,0)","v":0},{"$f":"+Proyección!F12+Proyección!G12+Proyección!H12+Proyección!I12+Proyección!J12+Proyección!K12","v":0},{"$f":"+Proyección!L12+Proyección!M12+Proyección!N12+Proyección!O12+Proyección!P12+Proyección!Q12","v":0}]
[null,null,2,{"$f":"+IFERROR(+IF(Inputs!D13=\"\",\"\",Inputs!D13),0)","v":"Salario Tomás  (ejemplo)"},{"$f":"+IFERROR(F13/$F$24,0)","v":0},{"$f":"+Proyección!F13+Proyección!G13+Proyección!H13+Proyección!I13+Proyección!J13+Proyección!K13","v":0},{"$f":"+Proyección!L13+Proyección!M13+Proyección!N13+Proyección!O13+Proyección!P13+Proyección!Q13","v":0}]
[null,null,3,{"$f":"+IFERROR(+IF(Inputs!D14=\"\",\"\",Inputs!D14),0)","v":""},0,{"$f":"+Proyección!F14+Proyección!G14+Proyección!H14+Proyección!I14+Proyección!J14+Proyección!K14","v":0},{"$f":"+Proyección!L14+Proyección!M14+Proyección!N14+Proyección!O14+Proyección!P14+Proyección!Q14","v":0}]
[null,null,4,{"$f":"+IFERROR(+IF(Inputs!D15=\"\",\"\",Inputs!D15),0)","v":""},0,{"$f":"+Proyección!F15+Proyección!G15+Proyección!H15+Proyección!I15+Proyección!J15+Proyección!K15","v":0},{"$f":"+Proyección!L15+Proyección!M15+Proyección!N15+Proyección!O15+Proyección!P15+Proyección!Q15","v":0}]
[null,null,5,{"$f":"+IFERROR(+IF(Inputs!D16=\"\",\"\",Inputs!D16),0)","v":""},0,{"$f":"+Proyección!F16+Proyección!G16+Proyección!H16+Proyección!I16+Proyección!J16+Proyección!K16","v":0},{"$f":"+Proyección!L16+Proyección!M16+Proyección!N16+Proyección!O16+Proyección!P16+Proyección!Q16","v":0}]
[null,null,6,{"$f":"+IFERROR(+IF(Inputs!D17=\"\",\"\",Inputs!D17),0)","v":""},0,{"$f":"+Proyección!F17+Proyección!G17+Proyección!H17+Proyección!I17+Proyección!J17+Proyección!K17","v":0},{"$f":"+Proyección!L17+Proyección!M17+Proyección!N17+Proyección!O17+Proyección!P17+Proyección!Q17","v":0}]
[null,null,7,{"$f":"+IFERROR(+IF(Inputs!I12=\"\",\"\",Inputs!I12),0)","v":"Prima Luisa  (ejemplo)"},0,{"$f":"+Proyección!F18+Proyección!G18+Proyección!H18+Proyección!I18+Proyección!J18+Proyección!K18","v":0},{"$f":"+Proyección!L18+Proyección!M18+Proyección!N18+Proyección!O18+Proyección!P18+Proyección!Q18","v":0}]
[null,null,8,{"$f":"+IFERROR(+IF(Inputs!I13=\"\",\"\",Inputs!I13),0)","v":"Prima Tomás  (ejemplo)"},0,{"$f":"+Proyección!F19+Proyección!G19+Proyección!H19+Proyección!I19+Proyección!J19+Proyección!K19","v":0},{"$f":"+Proyección!L19+Proyección!M19+Proyección!N19+Proyección!O19+Proyección!P19+Proyección!Q19","v":0}]
[null,null,9,{"$f":"+IFERROR(+IF(Inputs!I14=\"\",\"\",Inputs!I14),0)","v":"Intereses cesantías (ejemplo)"},0,{"$f":"+Proyección!F20+Proyección!G20+Proyección!H20+Proyección!I20+Proyección!J20+Proyección!K20","v":0},{"$f":"+Proyección!L20+Proyección!M20+Proyección!N20+Proyección!O20+Proyección!P20+Proyección!Q20","v":0}]
[null,null,10,{"$f":"+IFERROR(+IF(Inputs!I15=\"\",\"\",Inputs!I15),0)","v":""},0,{"$f":"+Proyección!F21+Proyección!G21+Proyección!H21+Proyección!I21+Proyección!J21+Proyección!K21","v":0},{"$f":"+Proyección!L21+Proyección!M21+Proyección!N21+Proyección!O21+Proyección!P21+Proyección!Q21","v":0}]
[null,null,11,{"$f":"+IFERROR(+IF(Inputs!I16=\"\",\"\",Inputs!I16),0)","v":""},0,{"$f":"+Proyección!F22+Proyección!G22+Proyección!H22+Proyección!I22+Proyección!J22+Proyección!K22","v":0},{"$f":"+Proyección!L22+Proyección!M22+Proyección!N22+Proyección!O22+Proyección!P22+Proyección!Q22","v":0}]
[null,null,12,{"$f":"+IFERROR(+IF(Inputs!I17=\"\",\"\",Inputs!I17),0)","v":""},0,{"$f":"+Proyección!F23+Proyección!G23+Proyección!H23+Proyección!I23+Proyección!J23+Proyección!K23","v":0},{"$f":"+Proyección!L23+Proyección!M23+Proyección!N23+Proyección!O23+Proyección!P23+Proyección!Q23","v":0}]
[null,null,"Resumen","TOTAL INGRESO",{"$f":"+SUM(F24:G24)","v":0},{"$f":"+SUM(F12:F23)","v":0},{"$f":"+SUM(G12:G23)","v":0}]
[null,null,"Resumen",1]
[null,null,null,1]
[null,null,1,{"$f":"+IFERROR(+IF(Inputs!D22=\"\",\"\",Inputs!D22),0)","v":"Para comprar casa propia  (ejemplo)"},{"$f":"+IFERROR((+SUM(F27:G27)/+SUM($F$24:$G$24)),0)","v":0},{"$f":"+Proyección!F27+Proyección!G27+Proyección!H27+Proyección!I27+Proyección!J27+Proyección!K27","v":0},{"$f":"+Proyección!L27+Proyección!M27+Proyección!N27+Proyección!O27+Proyección!P27+Proyección!Q27","v":0}]
[null,null,2,{"$f":"+IFERROR(+IF(Inputs!D23=\"\",\"\",Inputs!D23),0)","v":"Postgrado Luisa  (ejemplo)"},0,{"$f":"+Proyección!F28+Proyección!G28+Proyección!H28+Proyección!I28+Proyección!J28+Proyección!K28","v":0},{"$f":"+Proyección!L28+Proyección!M28+Proyección!N28+Proyección!O28+Proyección!P28+Proyección!Q28","v":0}]
[null,null,3,{"$f":"+IFERROR(+IF(Inputs!D24=\"\",\"\",Inputs!D24),0)","v":"Jubilación  (ejemplo)"},0,{"$f":"+Proyección!F29+Proyección!G29+Proyección!H29+Proyección!I29+Proyección!J29+Proyección!K29","v":0},{"$f":"+Proyección!L29+Proyección!M29+Proyección!N29+Proyección!O29+Proyección!P29+Proyección!Q29","v":0}]
[null,null,4,{"$f":"+IFERROR(+IF(Inputs!D25=\"\",\"\",Inputs!D25),0)","v":""},0,{"$f":"+Proyección!F30+Proyección!G30+Proyección!H30+Proyección!I30+Proyección!J30+Proyección!K30","v":0},{"$f":"+Proyección!L30+Proyección!M30+Proyección!N30+Proyección!O30+Proyección!P30+Proyección!Q30","v":0}]
[null,null,5,{"$f":"+IFERROR(+IF(Inputs!D26=\"\",\"\",Inputs!D26),0)","v":""},0,{"$f":"+Proyección!F31+Proyección!G31+Proyección!H31+Proyección!I31+Proyección!J31+Proyección!K31","v":0},{"$f":"+Proyección!L31+Proyección!M31+Proyección!N31+Proyección!O31+Proyección!P31+Proyección!Q31","v":0}]
[null,null,6,{"$f":"+IFERROR(+IF(Inputs!I22=\"\",\"\",Inputs!I22),0)","v":"Abono extra a casa propia (ejemplo)"},0,{"$f":"+Proyección!F32+Proyección!G32+Proyección!H32+Proyección!I32+Proyección!J32+Proyección!K32","v":0},{"$f":"+Proyección!L32+Proyección!M32+Proyección!N32+Proyección!O32+Proyección!P32+Proyección!Q32","v":0}]
[null,null,7,{"$f":"+IFERROR(+IF(Inputs!I23=\"\",\"\",Inputs!I23),0)","v":""},0,{"$f":"+Proyección!F33+Proyección!G33+Proyección!H33+Proyección!I33+Proyección!J33+Proyección!K33","v":0},{"$f":"+Proyección!L33+Proyección!M33+Proyección!N33+Proyección!O33+Proyección!P33+Proyección!Q33","v":0}]
[null,null,8,{"$f":"+IFERROR(+IF(Inputs!I24=\"\",\"\",Inputs!I24),0)","v":""},0,{"$f":"+Proyección!F34+Proyección!G34+Proyección!H34+Proyección!I34+Proyección!J34+Proyección!K34","v":0},{"$f":"+Proyección!L34+Proyección!M34+Proyección!N34+Proyección!O34+Proyección!P34+Proyección!Q34","v":0}]
[null,null,9,{"$f":"+IFERROR(+IF(Inputs!I25=\"\",\"\",Inputs!I25),0)","v":""},0,{"$f":"+Proyección!F35+Proyección!G35+Proyección!H35+Proyección!I35+Proyección!J35+Proyección!K35","v":0},{"$f":"+Proyección!L35+Proyección!M35+Proyección!N35+Proyección!O35+Proyección!P35+Proyección!Q35","v":0}]
[null,null,10,{"$f":"+IFERROR(+IF(Inputs!I26=\"\",\"\",Inputs!I26),0)","v":""},0,{"$f":"+Proyección!F36+Proyección!G36+Proyección!H36+Proyección!I36+Proyección!J36+Proyección!K36","v":0},{"$f":"+Proyección!L36+Proyección!M36+Proyección!N36+Proyección!O36+Proyección!P36+Proyección!Q36","v":0}]
[null,null,"Resumen","TOTAL AHORRO",0,{"$f":"+SUM(F27:F36)","v":0},{"$f":"+SUM(G27:G36)","v":0}]
[null,null,null,1]
[null,null,null,1]
[null,null,1,{"$f":"+IFERROR(+IF(Inputs!D31=\"\",\"\",Inputs!D31),0)","v":"Crédito de vehículo (ejemplo)"},{"$f":"+IFERROR((+SUM(F40:G40)/+SUM($F$24:$G$24)),0)","v":0},{"$f":"+Proyección!F40+Proyección!G40+Proyección!H40+Proyección!I40+Proyección!J40+Proyección!K40","v":0},{"$f":"+Proyección!L40+Proyección!M40+Proyección!N40+Proyección!O40+Proyección!P40+Proyección!Q40","v":0}]
[null,null,2,{"$f":"+IFERROR(+IF(Inputs!D32=\"\",\"\",Inputs!D32),0)","v":"Tarjeta de crédito 1 (ejemplo)"},0,{"$f":"+Proyección!F41+Proyección!G41+Proyección!H41+Proyección!I41+Proyección!J41+Proyección!K41","v":0},{"$f":"+Proyección!L41+Proyección!M41+Proyección!N41+Proyección!O41+Proyección!P41+Proyección!Q41","v":0}]
[null,null,3,{"$f":"+IFERROR(+IF(Inputs!D33=\"\",\"\",Inputs!D33),0)","v":""},0,{"$f":"+Proyección!F42+Proyección!G42+Proyección!H42+Proyección!I42+Proyección!J42+Proyección!K42","v":0},{"$f":"+Proyección!L42+Proyección!M42+Proyección!N42+Proyección!O42+Proyección!P42+Proyección!Q42","v":0}]
[null,null,4,{"$f":"+IFERROR(+IF(Inputs!D34=\"\",\"\",Inputs!D34),0)","v":""},0,{"$f":"+Proyección!F43+Proyección!G43+Proyección!H43+Proyección!I43+Proyección!J43+Proyección!K43","v":0},{"$f":"+Proyección!L43+Proyección!M43+Proyección!N43+Proyección!O43+Proyección!P43+Proyección!Q43","v":0}]
[null,null,5,{"$f":"+IFERROR(+IF(Inputs!D35=\"\",\"\",Inputs!D35),0)","v":""},0,{"$f":"+Proyección!F44+Proyección!G44+Proyección!H44+Proyección!I44+Proyección!J44+Proyección!K44","v":0},{"$f":"+Proyección!L44+Proyección!M44+Proyección!N44+Proyección!O44+Proyección!P44+Proyección!Q44","v":0}]
[null,null,6,{"$f":"+IFERROR(+IF(Inputs!D36=\"\",\"\",Inputs!D36),0)","v":""},0,{"$f":"+Proyección!F45+Proyección!G45+Proyección!H45+Proyección!I45+Proyección!J45+Proyección!K45","v":0},{"$f":"+Proyección!L45+Proyección!M45+Proyección!N45+Proyección!O45+Proyección!P45+Proyección!Q45","v":0}]
[null,null,7,{"$f":"+IFERROR(+IF(Inputs!I31=\"\",\"\",Inputs!I31),0)","v":"Abono trimestral préstamo (ejemplo)"},0,{"$f":"+Proyección!F46+Proyección!G46+Proyección!H46+Proyección!I46+Proyección!J46+Proyección!K46","v":0},{"$f":"+Proyección!L46+Proyección!M46+Proyección!N46+Proyección!O46+Proyección!P46+Proyección!Q46","v":0}]
[null,null,8,{"$f":"+IFERROR(+IF(Inputs!I32=\"\",\"\",Inputs!I32),0)","v":""},0,{"$f":"+Proyección!F47+Proyección!G47+Proyección!H47+Proyección!I47+Proyección!J47+Proyección!K47","v":0},{"$f":"+Proyección!L47+Proyección!M47+Proyección!N47+Proyección!O47+Proyección!P47+Proyección!Q47","v":0}]
[null,null,9,{"$f":"+IFERROR(+IF(Inputs!I33=\"\",\"\",Inputs!I33),0)","v":""},0,{"$f":"+Proyección!F48+Proyección!G48+Proyección!H48+Proyección!I48+Proyección!J48+Proyección!K48","v":0},{"$f":"+Proyección!L48+Proyección!M48+Proyección!N48+Proyección!O48+Proyección!P48+Proyección!Q48","v":0}]
[null,null,10,{"$f":"+IFERROR(+IF(Inputs!I34=\"\",\"\",Inputs!I34),0)","v":""},0,{"$f":"+Proyección!F49+Proyección!G49+Proyección!H49+Proyección!I49+Proyección!J49+Proyección!K49","v":0},{"$f":"+Proyección!L49+Proyección!M49+Proyección!N49+Proyección!O49+Proyección!P49+Proyección!Q49","v":0}]
[null,null,11,{"$f":"+IFERROR(+IF(Inputs!I35=\"\",\"\",Inputs!I35),0)","v":""},0,{"$f":"+Proyección!F50+Proyección!G50+Proyección!H50+Proyección!I50+Proyección!J50+Proyección!K50","v":0},{"$f":"+Proyección!L50+Proyección!M50+Proyección!N50+Proyección!O50+Proyección!P50+Proyección!Q50","v":0}]
[null,null,12,{"$f":"+IFERROR(+IF(Inputs!I36=\"\",\"\",Inputs!I36),0)","v":""},0,{"$f":"+Proyección!F51+Proyección!G51+Proyección!H51+Proyección!I51+Proyección!J51+Proyección!K51","v":0},{"$f":"+Proyección!L51+Proyección!M51+Proyección!N51+Proyección!O51+Proyección!P51+Proyección!Q51","v":0}]
[null,null,"Resumen","TOTAL OBLIGACIONES FINANCIERAS",0,{"$f":"+SUM(F40:F51)","v":0},{"$f":"+SUM(G40:G51)","v":0}]
[null,null,null,1]
[null,null,null,1]
[null,null,1,{"$f":"+IFERROR(+IF(Inputs!D41=\"\",\"\",Inputs!D41),0)","v":""},{"$f":"+IFERROR((+SUM(F55:G55)/+SUM($F$24:$G$24)),0)","v":0},{"$f":"+Proyección!F55+Proyección!G55+Proyección!H55+Proyección!I55+Proyección!J55+Proyección!K55","v":0},{"$f":"+Proyección!L55+Proyección!M55+Proyección!N55+Proyección!O55+Proyección!P55+Proyección!Q55","v":0}]
[null,null,2,{"$f":"+IFERROR(+IF(Inputs!D42=\"\",\"\",Inputs!D42),0)","v":""},0,{"$f":"+Proyección!F56+Proyección!G56+Proyección!H56+Proyección!I56+Proyección!J56+Proyección!K56","v":0},{"$f":"+Proyección!L56+Proyección!M56+Proyección!N56+Proyección!O56+Proyección!P56+Proyección!Q56","v":0}]
[null,null,3,{"$f":"+IFERROR(+IF(Inputs!D43=\"\",\"\",Inputs!D43),0)","v":""},0,{"$f":"+Proyección!F57+Proyección!G57+Proyección!H57+Proyección!I57+Proyección!J57+Proyección!K57","v":0},{"$f":"+Proyección!L57+Proyección!M57+Proyección!N57+Proyección!O57+Proyección!P57+Proyección!Q57","v":0}]
[null,null,4,{"$f":"+IFERROR(+IF(Inputs!D44=\"\",\"\",Inputs!D44),0)","v":""},0,{"$f":"+Proyección!F58+Proyección!G58+Proyección!H58+Proyección!I58+Proyección!J58+Proyección!K58","v":0},{"$f":"+Proyección!L58+Proyección!M58+Proyección!N58+Proyección!O58+Proyección!P58+Proyección!Q58","v":0}]
[null,null,5,{"$f":"+IFERROR(+IF(Inputs!I41=\"\",\"\",Inputs!I41),0)","v":"Impuesto de renta (ejemplo)"},0,{"$f":"+Proyección!F59+Proyección!G59+Proyección!H59+Proyección!I59+Proyección!J59+Proyección!K59","v":0},{"$f":"+Proyección!L59+Proyección!M59+Proyección!N59+Proyección!O59+Proyección!P59+Proyección!Q59","v":0}]
[null,null,6,{"$f":"+IFERROR(+IF(Inputs!I42=\"\",\"\",Inputs!I42),0)","v":"Impuesto vehicular (ejemplo)"},0,{"$f":"+Proyección!F60+Proyección!G60+Proyección!H60+Proyección!I60+Proyección!J60+Proyección!K60","v":0},{"$f":"+Proyección!L60+Proyección!M60+Proyección!N60+Proyección!O60+Proyección!P60+Proyección!Q60","v":0}]
[null,null,7,{"$f":"+IFERROR(+IF(Inputs!I43=\"\",\"\",Inputs!I43),0)","v":"Impuesto predial (ejemplo)"},0,{"$f":"+Proyección!F61+Proyección!G61+Proyección!H61+Proyección!I61+Proyección!J61+Proyección!K61","v":0},{"$f":"+Proyección!L61+Proyección!M61+Proyección!N61+Proyección!O61+Proyección!P61+Proyección!Q61","v":0}]
[null,null,8,{"$f":"+IFERROR(+IF(Inputs!I44=\"\",\"\",Inputs!I44),0)","v":""},0,{"$f":"+Proyección!F62+Proyección!G62+Proyección!H62+Proyección!I62+Proyección!J62+Proyección!K62","v":0},{"$f":"+Proyección!L62+Proyección!M62+Proyección!N62+Proyección!O62+Proyección!P62+Proyección!Q62","v":0}]
[null,null,"Resumen","TOTAL IMPUESTOS Y CONTRIBUCIONES",0,{"$f":"+SUM(F55:F62)","v":0},{"$f":"+SUM(G55:G62)","v":0}]
[null,null,null,1]
[null,null,null,1]
[null,null,1,{"$f":"+IFERROR(+IF(Inputs!D68=\"\",\"\",Inputs!D68),0)","v":"Fondo de Emergencia (ejemplo)"},{"$f":"+IFERROR((+SUM(F66:G66)/+SUM($F$24:$G$24)),0)","v":0},{"$f":"+Proyección!F66+Proyección!G66+Proyección!H66+Proyección!I66+Proyección!J66+Proyección!K66","v":0},{"$f":"+Proyección!L66+Proyección!M66+Proyección!N66+Proyección!O66+Proyección!P66+Proyección!Q66","v":0}]
[null,null,2,{"$f":"+IFERROR(+IF(Inputs!D69=\"\",\"\",Inputs!D69),0)","v":"Alimentación (ejemplo)"},0,{"$f":"+Proyección!F67+Proyección!G67+Proyección!H67+Proyección!I67+Proyección!J67+Proyección!K67","v":0},{"$f":"+Proyección!L67+Proyección!M67+Proyección!N67+Proyección!O67+Proyección!P67+Proyección!Q67","v":0}]
[null,null,3,{"$f":"+IFERROR(+IF(Inputs!D51=\"\",\"\",Inputs!D51),0)","v":""},0,{"$f":"+Proyección!F68+Proyección!G68+Proyección!H68+Proyección!I68+Proyección!J68+Proyección!K68","v":0},{"$f":"+Proyección!L68+Proyección!M68+Proyección!N68+Proyección!O68+Proyección!P68+Proyección!Q68","v":0}]
[null,null,4,{"$f":"+IFERROR(+IF(Inputs!D70=\"\",\"\",Inputs!D70),0)","v":"Servicios públicos (ejemplo)"},0,{"$f":"+Proyección!F69+Proyección!G69+Proyección!H69+Proyección!I69+Proyección!J69+Proyección!K69","v":0},{"$f":"+Proyección!L69+Proyección!M69+Proyección!N69+Proyección!O69+Proyección!P69+Proyección!Q69","v":0}]
[null,null,5,{"$f":"+IFERROR(+IF(Inputs!D71=\"\",\"\",Inputs!D71),0)","v":"Gasolina (ejemplo)"},0,{"$f":"+Proyección!F70+Proyección!G70+Proyección!H70+Proyección!I70+Proyección!J70+Proyección!K70","v":0},{"$f":"+Proyección!L70+Proyección!M70+Proyección!N70+Proyección!O70+Proyección!P70+Proyección!Q70","v":0}]
[null,null,6,{"$f":"+IFERROR(+IF(Inputs!D72=\"\",\"\",Inputs!D72),0)","v":""},0,{"$f":"+Proyección!F71+Proyección!G71+Proyección!H71+Proyección!I71+Proyección!J71+Proyección!K71","v":0},{"$f":"+Proyección!L71+Proyección!M71+Proyección!N71+Proyección!O71+Proyección!P71+Proyección!Q71","v":0}]
[null,null,7,{"$f":"+IFERROR(+IF(Inputs!D73=\"\",\"\",Inputs!D73),0)","v":""},0,{"$f":"+Proyección!F72+Proyección!G72+Proyección!H72+Proyección!I72+Proyección!J72+Proyección!K72","v":0},{"$f":"+Proyección!L72+Proyección!M72+Proyección!N72+Proyección!O72+Proyección!P72+Proyección!Q72","v":0}]
[null,null,8,{"$f":"+IFERROR(+IF(Inputs!D87=\"\",\"\",Inputs!D87),0)","v":"Suscripción Netflix (ejemplo)"},0,{"$f":"+Proyección!F73+Proyección!G73+Proyección!H73+Proyección!I73+Proyección!J73+Proyección!K73","v":0},{"$f":"+Proyección!L73+Proyección!M73+Proyección!N73+Proyección!O73+Proyección!P73+Proyección!Q73","v":0}]
[null,null,9,{"$f":"+IFERROR(+IF(Inputs!D57=\"\",\"\",Inputs!D57),0)","v":""},0,{"$f":"+Proyección!F74+Proyección!G74+Proyección!H74+Proyección!I74+Proyección!J74+Proyección!K74","v":0},{"$f":"+Proyección!L74+Proyección!M74+Proyección!N74+Proyección!O74+Proyección!P74+Proyección!Q74","v":0}]
[null,null,10,{"$f":"+IFERROR(+IF(Inputs!D58=\"\",\"\",Inputs!D58),0)","v":""},0,{"$f":"+Proyección!F75+Proyección!G75+Proyección!H75+Proyección!I75+Proyección!J75+Proyección!K75","v":0},{"$f":"+Proyección!L75+Proyección!M75+Proyección!N75+Proyección!O75+Proyección!P75+Proyección!Q75","v":0}]
[null,null,11,{"$f":"+IFERROR(+IF(Inputs!D59=\"\",\"\",Inputs!D59),0)","v":""},0,{"$f":"+Proyección!F76+Proyección!G76+Proyección!H76+Proyección!I76+Proyección!J76+Proyección!K76","v":0},{"$f":"+Proyección!L76+Proyección!M76+Proyección!N76+Proyección!O76+Proyección!P76+Proyección!Q76","v":0}]
[null,null,12,{"$f":"+IFERROR(+IF(Inputs!D60=\"\",\"\",Inputs!D60),0)","v":""},0,{"$f":"+Proyección!F77+Proyección!G77+Proyección!H77+Proyección!I77+Proyección!J77+Proyección!K77","v":0},{"$f":"+Proyección!L77+Proyección!M77+Proyección!N77+Proyección!O77+Proyección!P77+Proyección!Q77","v":0}]
[null,null,13,{"$f":"+IFERROR(+IF(Inputs!D61=\"\",\"\",Inputs!D61),0)","v":""},0,{"$f":"+Proyección!F78+Proyección!G78+Proyección!H78+Proyección!I78+Proyección!J78+Proyección!K78","v":0},{"$f":"+Proyección!L78+Proyección!M78+Proyección!N78+Proyección!O78+Proyección!P78+Proyección!Q78","v":0}]
[null,null,14,{"$f":"+IFERROR(+IF(Inputs!D62=\"\",\"\",Inputs!D62),0)","v":""},0,{"$f":"+Proyección!F79+Proyección!G79+Proyección!H79+Proyección!I79+Proyección!J79+Proyección!K79","v":0},{"$f":"+Proyección!L79+Proyección!M79+Proyección!N79+Proyección!O79+Proyección!P79+Proyección!Q79","v":0}]
[null,null,15,{"$f":"+IFERROR(+IF(Inputs!D63=\"\",\"\",Inputs!D63),0)","v":""},0,{"$f":"+Proyección!F80+Proyección!G80+Proyección!H80+Proyección!I80+Proyección!J80+Proyección!K80","v":0},{"$f":"+Proyección!L80+Proyección!M80+Proyección!N80+Proyección!O80+Proyección!P80+Proyección!Q80","v":0}]
[null,null,16,{"$f":"+IFERROR(+IF(Inputs!I49=\"\",\"\",Inputs!I49),0)","v":"Matrícula universidad (ejemplo)"},0,{"$f":"+Proyección!F81+Proyección!G81+Proyección!H81+Proyección!I81+Proyección!J81+Proyección!K81","v":0},{"$f":"+Proyección!L81+Proyección!M81+Proyección!N81+Proyección!O81+Proyección!P81+Proyección!Q81","v":0}]
[null,null,17,{"$f":"+IFERROR(+IF(Inputs!I50=\"\",\"\",Inputs!I50),0)","v":""},0,{"$f":"+Proyección!F82+Proyección!G82+Proyección!H82+Proyección!I82+Proyección!J82+Proyección!K82","v":0},{"$f":"+Proyección!L82+Proyección!M82+Proyección!N82+Proyección!O82+Proyección!P82+Proyección!Q82","v":0}]
[null,null,18,{"$f":"+IFERROR(+IF(Inputs!I51=\"\",\"\",Inputs!I51),0)","v":""},0,{"$f":"+Proyección!F83+Proyección!G83+Proyección!H83+Proyección!I83+Proyección!J83+Proyección!K83","v":0},{"$f":"+Proyección!L83+Proyección!M83+Proyección!N83+Proyección!O83+Proyección!P83+Proyección!Q83","v":0}]
[null,null,19,{"$f":"+IFERROR(+IF(Inputs!I52=\"\",\"\",Inputs!I52),0)","v":""},0,{"$f":"+Proyección!F84+Proyección!G84+Proyección!H84+Proyección!I84+Proyección!J84+Proyección!K84","v":0},{"$f":"+Proyección!L84+Proyección!M84+Proyección!N84+Proyección!O84+Proyección!P84+Proyección!Q84","v":0}]
[null,null,20,{"$f":"+IFERROR(+IF(Inputs!I53=\"\",\"\",Inputs!I53),0)","v":""},0,{"$f":"+Proyección!F85+Proyección!G85+Proyección!H85+Proyección!I85+Proyección!J85+Proyección!K85","v":0},{"$f":"+Proyección!L85+Proyección!M85+Proyección!N85+Proyección!O85+Proyección!P85+Proyección!Q85","v":0}]
[null,null,21,{"$f":"+IFERROR(+IF(Inputs!I54=\"\",\"\",Inputs!I54),0)","v":""},0,{"$f":"+Proyección!F86+Proyección!G86+Proyección!H86+Proyección!I86+Proyección!J86+Proyección!K86","v":0},{"$f":"+Proyección!L86+Proyección!M86+Proyección!N86+Proyección!O86+Proyección!P86+Proyección!Q86","v":0}]
[null,null,22,{"$f":"+IFERROR(+IF(Inputs!I55=\"\",\"\",Inputs!I55),0)","v":""},0,{"$f":"+Proyección!F87+Proyección!G87+Proyección!H87+Proyección!I87+Proyección!J87+Proyección!K87","v":0},{"$f":"+Proyección!L87+Proyección!M87+Proyección!N87+Proyección!O87+Proyección!P87+Proyección!Q87","v":0}]
[null,null,23,{"$f":"+IFERROR(+IF(Inputs!I56=\"\",\"\",Inputs!I56),0)","v":""},0,{"$f":"+Proyección!F88+Proyección!G88+Proyección!H88+Proyección!I88+Proyección!J88+Proyección!K88","v":0},{"$f":"+Proyección!L88+Proyección!M88+Proyección!N88+Proyección!O88+Proyección!P88+Proyección!Q88","v":0}]
[null,null,24,{"$f":"+IFERROR(+IF(Inputs!I57=\"\",\"\",Inputs!I57),0)","v":""},0,{"$f":"+Proyección!F89+Proyección!G89+Proyección!H89+Proyección!I89+Proyección!J89+Proyección!K89","v":0},{"$f":"+Proyección!L89+Proyección!M89+Proyección!N89+Proyección!O89+Proyección!P89+Proyección!Q89","v":0}]
[null,null,25,{"$f":"+IFERROR(+IF(Inputs!I58=\"\",\"\",Inputs!I58),0)","v":""},0,{"$f":"+Proyección!F90+Proyección!G90+Proyección!H90+Proyección!I90+Proyección!J90+Proyección!K90","v":0},{"$f":"+Proyección!L90+Proyección!M90+Proyección!N90+Proyección!O90+Proyección!P90+Proyección!Q90","v":0}]
[null,null,26,{"$f":"+IFERROR(+IF(Inputs!I59=\"\",\"\",Inputs!I59),0)","v":""},0,{"$f":"+Proyección!F91+Proyección!G91+Proyección!H91+Proyección!I91+Proyección!J91+Proyección!K91","v":0},{"$f":"+Proyección!L91+Proyección!M91+Proyección!N91+Proyección!O91+Proyección!P91+Proyección!Q91","v":0}]
[null,null,27,{"$f":"+IFERROR(+IF(Inputs!I60=\"\",\"\",Inputs!I60),0)","v":""},0,{"$f":"+Proyección!F92+Proyección!G92+Proyección!H92+Proyección!I92+Proyección!J92+Proyección!K92","v":0},{"$f":"+Proyección!L92+Proyección!M92+Proyección!N92+Proyección!O92+Proyección!P92+Proyección!Q92","v":0}]
[null,null,28,{"$f":"+IFERROR(+IF(Inputs!I61=\"\",\"\",Inputs!I61),0)","v":""},0,{"$f":"+Proyección!F93+Proyección!G93+Proyección!H93+Proyección!I93+Proyección!J93+Proyección!K93","v":0},{"$f":"+Proyección!L93+Proyección!M93+Proyección!N93+Proyección!O93+Proyección!P93+Proyección!Q93","v":0}]
[null,null,29,{"$f":"+IFERROR(+IF(Inputs!I62=\"\",\"\",Inputs!I62),0)","v":""},0,{"$f":"+Proyección!F94+Proyección!G94+Proyección!H94+Proyección!I94+Proyección!J94+Proyección!K94","v":0},{"$f":"+Proyección!L94+Proyección!M94+Proyección!N94+Proyección!O94+Proyección!P94+Proyección!Q94","v":0}]
[null,null,30,{"$f":"+IFERROR(+IF(Inputs!I63=\"\",\"\",Inputs!I63),0)","v":""},0,{"$f":"+Proyección!F95+Proyección!G95+Proyección!H95+Proyección!I95+Proyección!J95+Proyección!K95","v":0},{"$f":"+Proyección!L95+Proyección!M95+Proyección!N95+Proyección!O95+Proyección!P95+Proyección!Q95","v":0}]
[null,null,"Resumen","GASTOS OBLIGATORIOS",0,{"$f":"+SUM(F66:F95)","v":0},{"$f":"+SUM(G66:G95)","v":0}]
[null,null,null,0]
[null,null,null,1]
[null,null,1,{"$f":"+IFERROR(+IF(Inputs!#REF!=\"\",\"\",Inputs!#REF!),0)","v":0},{"$f":"+IFERROR((+SUM(F99:G99)/+SUM($F$24:$G$24)),0)","v":0},{"$f":"+Proyección!F99+Proyección!G99+Proyección!H99+Proyección!I99+Proyección!J99+Proyección!K99","v":0},{"$f":"+Proyección!L99+Proyección!M99+Proyección!N99+Proyección!O99+Proyección!P99+Proyección!Q99","v":0}]
[null,null,2,{"$f":"+IFERROR(+IF(Inputs!#REF!=\"\",\"\",Inputs!#REF!),0)","v":0},0,{"$f":"+Proyección!F100+Proyección!G100+Proyección!H100+Proyección!I100+Proyección!J100+Proyección!K100","v":0},{"$f":"+Proyección!L100+Proyección!M100+Proyección!N100+Proyección!O100+Proyección!P100+Proyección!Q100","v":0}]
[null,null,3,{"$f":"+IFERROR(+IF(Inputs!#REF!=\"\",\"\",Inputs!#REF!),0)","v":0},0,{"$f":"+Proyección!F101+Proyección!G101+Proyección!H101+Proyección!I101+Proyección!J101+Proyección!K101","v":0},{"$f":"+Proyección!L101+Proyección!M101+Proyección!N101+Proyección!O101+Proyección!P101+Proyección!Q101","v":0}]
[null,null,4,{"$f":"+IFERROR(+IF(Inputs!#REF!=\"\",\"\",Inputs!#REF!),0)","v":0},0,{"$f":"+Proyección!F102+Proyección!G102+Proyección!H102+Proyección!I102+Proyección!J102+Proyección!K102","v":0},{"$f":"+Proyección!L102+Proyección!M102+Proyección!N102+Proyección!O102+Proyección!P102+Proyección!Q102","v":0}]
[null,null,5,{"$f":"+IFERROR(+IF(Inputs!#REF!=\"\",\"\",Inputs!#REF!),0)","v":0},0,{"$f":"+Proyección!F103+Proyección!G103+Proyección!H103+Proyección!I103+Proyección!J103+Proyección!K103","v":0},{"$f":"+Proyección!L103+Proyección!M103+Proyección!N103+Proyección!O103+Proyección!P103+Proyección!Q103","v":0}]
[null,null,6,{"$f":"+IFERROR(+IF(Inputs!#REF!=\"\",\"\",Inputs!#REF!),0)","v":0},0,{"$f":"+Proyección!F104+Proyección!G104+Proyección!H104+Proyección!I104+Proyección!J104+Proyección!K104","v":0},{"$f":"+Proyección!L104+Proyección!M104+Proyección!N104+Proyección!O104+Proyección!P104+Proyección!Q104","v":0}]
[null,null,7,{"$f":"+IFERROR(+IF(Inputs!D74=\"\",\"\",Inputs!D74),0)","v":""},0,{"$f":"+Proyección!F105+Proyección!G105+Proyección!H105+Proyección!I105+Proyección!J105+Proyección!K105","v":0},{"$f":"+Proyección!L105+Proyección!M105+Proyección!N105+Proyección!O105+Proyección!P105+Proyección!Q105","v":0}]
[null,null,8,{"$f":"+IFERROR(+IF(Inputs!D75=\"\",\"\",Inputs!D75),0)","v":""},0,{"$f":"+Proyección!F106+Proyección!G106+Proyección!H106+Proyección!I106+Proyección!J106+Proyección!K106","v":0},{"$f":"+Proyección!L106+Proyección!M106+Proyección!N106+Proyección!O106+Proyección!P106+Proyección!Q106","v":0}]
[null,null,9,{"$f":"+IFERROR(+IF(Inputs!D76=\"\",\"\",Inputs!D76),0)","v":""},0,{"$f":"+Proyección!F107+Proyección!G107+Proyección!H107+Proyección!I107+Proyección!J107+Proyección!K107","v":0},{"$f":"+Proyección!L107+Proyección!M107+Proyección!N107+Proyección!O107+Proyección!P107+Proyección!Q107","v":0}]
[null,null,10,{"$f":"+IFERROR(+IF(Inputs!D77=\"\",\"\",Inputs!D77),0)","v":""},0,{"$f":"+Proyección!F108+Proyección!G108+Proyección!H108+Proyección!I108+Proyección!J108+Proyección!K108","v":0},{"$f":"+Proyección!L108+Proyección!M108+Proyección!N108+Proyección!O108+Proyección!P108+Proyección!Q108","v":0}]
[null,null,11,{"$f":"+IFERROR(+IF(Inputs!D78=\"\",\"\",Inputs!D78),0)","v":""},0,{"$f":"+Proyección!F109+Proyección!G109+Proyección!H109+Proyección!I109+Proyección!J109+Proyección!K109","v":0},{"$f":"+Proyección!L109+Proyección!M109+Proyección!N109+Proyección!O109+Proyección!P109+Proyección!Q109","v":0}]
[null,null,12,{"$f":"+IFERROR(+IF(Inputs!D79=\"\",\"\",Inputs!D79),0)","v":""},0,{"$f":"+Proyección!F110+Proyección!G110+Proyección!H110+Proyección!I110+Proyección!J110+Proyección!K110","v":0},{"$f":"+Proyección!L110+Proyección!M110+Proyección!N110+Proyección!O110+Proyección!P110+Proyección!Q110","v":0}]
[null,null,13,{"$f":"+IFERROR(+IF(Inputs!D80=\"\",\"\",Inputs!D80),0)","v":""},0,{"$f":"+Proyección!F111+Proyección!G111+Proyección!H111+Proyección!I111+Proyección!J111+Proyección!K111","v":0},{"$f":"+Proyección!L111+Proyección!M111+Proyección!N111+Proyección!O111+Proyección!P111+Proyección!Q111","v":0}]
[null,null,14,{"$f":"+IFERROR(+IF(Inputs!D81=\"\",\"\",Inputs!D81),0)","v":""},0,{"$f":"+Proyección!F112+Proyección!G112+Proyección!H112+Proyección!I112+Proyección!J112+Proyección!K112","v":0},{"$f":"+Proyección!L112+Proyección!M112+Proyección!N112+Proyección!O112+Proyección!P112+Proyección!Q112","v":0}]
[null,null,15,{"$f":"+IFERROR(+IF(Inputs!D82=\"\",\"\",Inputs!D82),0)","v":""},0,{"$f":"+Proyección!F113+Proyección!G113+Proyección!H113+Proyección!I113+Proyección!J113+Proyección!K113","v":0},{"$f":"+Proyección!L113+Proyección!M113+Proyección!N113+Proyección!O113+Proyección!P113+Proyección!Q113","v":0}]
[null,null,16,{"$f":"+IFERROR(+IF(Inputs!I68=\"\",\"\",Inputs!I68),0)","v":"Abono extra Fondo de Emerg. (ejemplo)"},0,{"$f":"+Proyección!F114+Proyección!G114+Proyección!H114+Proyección!I114+Proyección!J114+Proyección!K114","v":0},{"$f":"+Proyección!L114+Proyección!M114+Proyección!N114+Proyección!O114+Proyección!P114+Proyección!Q114","v":0}]
[null,null,17,{"$f":"+IFERROR(+IF(Inputs!I69=\"\",\"\",Inputs!I69),0)","v":"Seguro del vehículo (ejemplo)"},0,{"$f":"+Proyección!F115+Proyección!G115+Proyección!H115+Proyección!I115+Proyección!J115+Proyección!K115","v":0},{"$f":"+Proyección!L115+Proyección!M115+Proyección!N115+Proyección!O115+Proyección!P115+Proyección!Q115","v":0}]
[null,null,18,{"$f":"+IFERROR(+IF(Inputs!I70=\"\",\"\",Inputs!I70),0)","v":""},0,{"$f":"+Proyección!F116+Proyección!G116+Proyección!H116+Proyección!I116+Proyección!J116+Proyección!K116","v":0},{"$f":"+Proyección!L116+Proyección!M116+Proyección!N116+Proyección!O116+Proyección!P116+Proyección!Q116","v":0}]
[null,null,19,{"$f":"+IFERROR(+IF(Inputs!I71=\"\",\"\",Inputs!I71),0)","v":""},0,{"$f":"+Proyección!F117+Proyección!G117+Proyección!H117+Proyección!I117+Proyección!J117+Proyección!K117","v":0},{"$f":"+Proyección!L117+Proyección!M117+Proyección!N117+Proyección!O117+Proyección!P117+Proyección!Q117","v":0}]
[null,null,20,{"$f":"+IFERROR(+IF(Inputs!I72=\"\",\"\",Inputs!I72),0)","v":""},0,{"$f":"+Proyección!F118+Proyección!G118+Proyección!H118+Proyección!I118+Proyección!J118+Proyección!K118","v":0},{"$f":"+Proyección!L118+Proyección!M118+Proyección!N118+Proyección!O118+Proyección!P118+Proyección!Q118","v":0}]
[null,null,21,{"$f":"+IFERROR(+IF(Inputs!I73=\"\",\"\",Inputs!I73),0)","v":""},0,{"$f":"+Proyección!F119+Proyección!G119+Proyección!H119+Proyección!I119+Proyección!J119+Proyección!K119","v":0},{"$f":"+Proyección!L119+Proyección!M119+Proyección!N119+Proyección!O119+Proyección!P119+Proyección!Q119","v":0}]
[null,null,22,{"$f":"+IFERROR(+IF(Inputs!I74=\"\",\"\",Inputs!I74),0)","v":""},0,{"$f":"+Proyección!F120+Proyección!G120+Proyección!H120+Proyección!I120+Proyección!J120+Proyección!K120","v":0},{"$f":"+Proyección!L120+Proyección!M120+Proyección!N120+Proyección!O120+Proyección!P120+Proyección!Q120","v":0}]
[null,null,23,{"$f":"+IFERROR(+IF(Inputs!I75=\"\",\"\",Inputs!I75),0)","v":""},0,{"$f":"+Proyección!F121+Proyección!G121+Proyección!H121+Proyección!I121+Proyección!J121+Proyección!K121","v":0},{"$f":"+Proyección!L121+Proyección!M121+Proyección!N121+Proyección!O121+Proyección!P121+Proyección!Q121","v":0}]
[null,null,24,{"$f":"+IFERROR(+IF(Inputs!I76=\"\",\"\",Inputs!I76),0)","v":""},0,{"$f":"+Proyección!F122+Proyección!G122+Proyección!H122+Proyección!I122+Proyección!J122+Proyección!K122","v":0},{"$f":"+Proyección!L122+Proyección!M122+Proyección!N122+Proyección!O122+Proyección!P122+Proyección!Q122","v":0}]
[null,null,25,{"$f":"+IFERROR(+IF(Inputs!I77=\"\",\"\",Inputs!I77),0)","v":""},0,{"$f":"+Proyección!F123+Proyección!G123+Proyección!H123+Proyección!I123+Proyección!J123+Proyección!K123","v":0},{"$f":"+Proyección!L123+Proyección!M123+Proyección!N123+Proyección!O123+Proyección!P123+Proyección!Q123","v":0}]
[null,null,26,{"$f":"+IFERROR(+IF(Inputs!I78=\"\",\"\",Inputs!I78),0)","v":""},0,{"$f":"+Proyección!F124+Proyección!G124+Proyección!H124+Proyección!I124+Proyección!J124+Proyección!K124","v":0},{"$f":"+Proyección!L124+Proyección!M124+Proyección!N124+Proyección!O124+Proyección!P124+Proyección!Q124","v":0}]
[null,null,27,{"$f":"+IFERROR(+IF(Inputs!I79=\"\",\"\",Inputs!I79),0)","v":""},0,{"$f":"+Proyección!F125+Proyección!G125+Proyección!H125+Proyección!I125+Proyección!J125+Proyección!K125","v":0},{"$f":"+Proyección!L125+Proyección!M125+Proyección!N125+Proyección!O125+Proyección!P125+Proyección!Q125","v":0}]
[null,null,28,{"$f":"+IFERROR(+IF(Inputs!I80=\"\",\"\",Inputs!I80),0)","v":""},0,{"$f":"+Proyección!F126+Proyección!G126+Proyección!H126+Proyección!I126+Proyección!J126+Proyección!K126","v":0},{"$f":"+Proyección!L126+Proyección!M126+Proyección!N126+Proyección!O126+Proyección!P126+Proyección!Q126","v":0}]
[null,null,29,{"$f":"+IFERROR(+IF(Inputs!I81=\"\",\"\",Inputs!I81),0)","v":""},0,{"$f":"+Proyección!F127+Proyección!G127+Proyección!H127+Proyección!I127+Proyección!J127+Proyección!K127","v":0},{"$f":"+Proyección!L127+Proyección!M127+Proyección!N127+Proyección!O127+Proyección!P127+Proyección!Q127","v":0}]
[null,null,30,{"$f":"+IFERROR(+IF(Inputs!I82=\"\",\"\",Inputs!I82),0)","v":""},0,{"$f":"+Proyección!F128+Proyección!G128+Proyección!H128+Proyección!I128+Proyección!J128+Proyección!K128","v":0},{"$f":"+Proyección!L128+Proyección!M128+Proyección!N128+Proyección!O128+Proyección!P128+Proyección!Q128","v":0}]
[null,null,"Resumen","GASTOS NECESARIOS",0,{"$f":"+SUM(F99:F128)","v":0},{"$f":"+SUM(G99:G128)","v":0}]
[null,null,null,1]
[null,null,1,{"$f":"+IFERROR(+IF(Inputs!#REF!=\"\",\"\",Inputs!#REF!),0)","v":0},{"$f":"+IFERROR((+SUM(F131:G131)/+SUM($F$24:$G$24)),0)","v":0},{"$f":"+Proyección!F131+Proyección!G131+Proyección!H131+Proyección!I131+Proyección!J131+Proyección!K131","v":0},{"$f":"+Proyección!L131+Proyección!M131+Proyección!N131+Proyección!O131+Proyección!P131+Proyección!Q131","v":0}]
[null,null,2,{"$f":"+IFERROR(+IF(Inputs!D88=\"\",\"\",Inputs!D88),0)","v":"Diversión  (ejemplo)"},0,{"$f":"+Proyección!F132+Proyección!G132+Proyección!H132+Proyección!I132+Proyección!J132+Proyección!K132","v":0},{"$f":"+Proyección!L132+Proyección!M132+Proyección!N132+Proyección!O132+Proyección!P132+Proyección!Q132","v":0}]
[null,null,3,{"$f":"+IFERROR(+IF(Inputs!D89=\"\",\"\",Inputs!D89),0)","v":"Domicilios  (ejemplo)"},0,{"$f":"+Proyección!F133+Proyección!G133+Proyección!H133+Proyección!I133+Proyección!J133+Proyección!K133","v":0},{"$f":"+Proyección!L133+Proyección!M133+Proyección!N133+Proyección!O133+Proyección!P133+Proyección!Q133","v":0}]
[null,null,4,{"$f":"+IFERROR(+IF(Inputs!D90=\"\",\"\",Inputs!D90),0)","v":""},0,{"$f":"+Proyección!F134+Proyección!G134+Proyección!H134+Proyección!I134+Proyección!J134+Proyección!K134","v":0},{"$f":"+Proyección!L134+Proyección!M134+Proyección!N134+Proyección!O134+Proyección!P134+Proyección!Q134","v":0}]
[null,null,5,{"$f":"+IFERROR(+IF(Inputs!D91=\"\",\"\",Inputs!D91),0)","v":""},0,{"$f":"+Proyección!F135+Proyección!G135+Proyección!H135+Proyección!I135+Proyección!J135+Proyección!K135","v":0},{"$f":"+Proyección!L135+Proyección!M135+Proyección!N135+Proyección!O135+Proyección!P135+Proyección!Q135","v":0}]
[null,null,6,{"$f":"+IFERROR(+IF(Inputs!D92=\"\",\"\",Inputs!D92),0)","v":""},0,{"$f":"+Proyección!F136+Proyección!G136+Proyección!H136+Proyección!I136+Proyección!J136+Proyección!K136","v":0},{"$f":"+Proyección!L136+Proyección!M136+Proyección!N136+Proyección!O136+Proyección!P136+Proyección!Q136","v":0}]
[null,null,7,{"$f":"+IFERROR(+IF(Inputs!D93=\"\",\"\",Inputs!D93),0)","v":""},0,{"$f":"+Proyección!F137+Proyección!G137+Proyección!H137+Proyección!I137+Proyección!J137+Proyección!K137","v":0},{"$f":"+Proyección!L137+Proyección!M137+Proyección!N137+Proyección!O137+Proyección!P137+Proyección!Q137","v":0}]
[null,null,8,{"$f":"+IFERROR(+IF(Inputs!D94=\"\",\"\",Inputs!D94),0)","v":""},0,{"$f":"+Proyección!F138+Proyección!G138+Proyección!H138+Proyección!I138+Proyección!J138+Proyección!K138","v":0},{"$f":"+Proyección!L138+Proyección!M138+Proyección!N138+Proyección!O138+Proyección!P138+Proyección!Q138","v":0}]
[null,null,9,{"$f":"+IFERROR(+IF(Inputs!D95=\"\",\"\",Inputs!D95),0)","v":""},0,{"$f":"+Proyección!F139+Proyección!G139+Proyección!H139+Proyección!I139+Proyección!J139+Proyección!K139","v":0},{"$f":"+Proyección!L139+Proyección!M139+Proyección!N139+Proyección!O139+Proyección!P139+Proyección!Q139","v":0}]
[null,null,10,{"$f":"+IFERROR(+IF(Inputs!D96=\"\",\"\",Inputs!D96),0)","v":""},0,{"$f":"+Proyección!F140+Proyección!G140+Proyección!H140+Proyección!I140+Proyección!J140+Proyección!K140","v":0},{"$f":"+Proyección!L140+Proyección!M140+Proyección!N140+Proyección!O140+Proyección!P140+Proyección!Q140","v":0}]
[null,null,11,{"$f":"+IFERROR(+IF(Inputs!D97=\"\",\"\",Inputs!D97),0)","v":""},0,{"$f":"+Proyección!F141+Proyección!G141+Proyección!H141+Proyección!I141+Proyección!J141+Proyección!K141","v":0},{"$f":"+Proyección!L141+Proyección!M141+Proyección!N141+Proyección!O141+Proyección!P141+Proyección!Q141","v":0}]
[null,null,12,{"$f":"+IFERROR(+IF(Inputs!D98=\"\",\"\",Inputs!D98),0)","v":""},0,{"$f":"+Proyección!F142+Proyección!G142+Proyección!H142+Proyección!I142+Proyección!J142+Proyección!K142","v":0},{"$f":"+Proyección!L142+Proyección!M142+Proyección!N142+Proyección!O142+Proyección!P142+Proyección!Q142","v":0}]
[null,null,13,{"$f":"+IFERROR(+IF(Inputs!D99=\"\",\"\",Inputs!D99),0)","v":""},0,{"$f":"+Proyección!F143+Proyección!G143+Proyección!H143+Proyección!I143+Proyección!J143+Proyección!K143","v":0},{"$f":"+Proyección!L143+Proyección!M143+Proyección!N143+Proyección!O143+Proyección!P143+Proyección!Q143","v":0}]
[null,null,14,{"$f":"+IFERROR(+IF(Inputs!D100=\"\",\"\",Inputs!D100),0)","v":""},0,{"$f":"+Proyección!F144+Proyección!G144+Proyección!H144+Proyección!I144+Proyección!J144+Proyección!K144","v":0},{"$f":"+Proyección!L144+Proyección!M144+Proyección!N144+Proyección!O144+Proyección!P144+Proyección!Q144","v":0}]
[null,null,15,{"$f":"+IFERROR(+IF(Inputs!D101=\"\",\"\",Inputs!D101),0)","v":""},0,{"$f":"+Proyección!F145+Proyección!G145+Proyección!H145+Proyección!I145+Proyección!J145+Proyección!K145","v":0},{"$f":"+Proyección!L145+Proyección!M145+Proyección!N145+Proyección!O145+Proyección!P145+Proyección!Q145","v":0}]
[null,null,16,{"$f":"+IFERROR(+IF(Inputs!I87=\"\",\"\",Inputs!I87),0)","v":"Vacaciones  (ejemplo)"},0,{"$f":"+Proyección!F146+Proyección!G146+Proyección!H146+Proyección!I146+Proyección!J146+Proyección!K146","v":0},{"$f":"+Proyección!L146+Proyección!M146+Proyección!N146+Proyección!O146+Proyección!P146+Proyección!Q146","v":0}]
[null,null,17,{"$f":"+IFERROR(+IF(Inputs!I88=\"\",\"\",Inputs!I88),0)","v":"Regalos de navidad  (ejemplo)"},0,{"$f":"+Proyección!F147+Proyección!G147+Proyección!H147+Proyección!I147+Proyección!J147+Proyección!K147","v":0},{"$f":"+Proyección!L147+Proyección!M147+Proyección!N147+Proyección!O147+Proyección!P147+Proyección!Q147","v":0}]
[null,null,18,{"$f":"+IFERROR(+IF(Inputs!I89=\"\",\"\",Inputs!I89),0)","v":""},0,{"$f":"+Proyección!F148+Proyección!G148+Proyección!H148+Proyección!I148+Proyección!J148+Proyección!K148","v":0},{"$f":"+Proyección!L148+Proyección!M148+Proyección!N148+Proyección!O148+Proyección!P148+Proyección!Q148","v":0}]
[null,null,19,{"$f":"+IFERROR(+IF(Inputs!I90=\"\",\"\",Inputs!I90),0)","v":""},0,{"$f":"+Proyección!F149+Proyección!G149+Proyección!H149+Proyección!I149+Proyección!J149+Proyección!K149","v":0},{"$f":"+Proyección!L149+Proyección!M149+Proyección!N149+Proyección!O149+Proyección!P149+Proyección!Q149","v":0}]
[null,null,20,{"$f":"+IFERROR(+IF(Inputs!I91=\"\",\"\",Inputs!I91),0)","v":""},0,{"$f":"+Proyección!F150+Proyección!G150+Proyección!H150+Proyección!I150+Proyección!J150+Proyección!K150","v":0},{"$f":"+Proyección!L150+Proyección!M150+Proyección!N150+Proyección!O150+Proyección!P150+Proyección!Q150","v":0}]
[null,null,21,{"$f":"+IFERROR(+IF(Inputs!I92=\"\",\"\",Inputs!I92),0)","v":""},0,{"$f":"+Proyección!F151+Proyección!G151+Proyección!H151+Proyección!I151+Proyección!J151+Proyección!K151","v":0},{"$f":"+Proyección!L151+Proyección!M151+Proyección!N151+Proyección!O151+Proyección!P151+Proyección!Q151","v":0}]
[null,null,22,{"$f":"+IFERROR(+IF(Inputs!I93=\"\",\"\",Inputs!I93),0)","v":""},0,{"$f":"+Proyección!F152+Proyección!G152+Proyección!H152+Proyección!I152+Proyección!J152+Proyección!K152","v":0},{"$f":"+Proyección!L152+Proyección!M152+Proyección!N152+Proyección!O152+Proyección!P152+Proyección!Q152","v":0}]
[null,null,23,{"$f":"+IFERROR(+IF(Inputs!I94=\"\",\"\",Inputs!I94),0)","v":""},0,{"$f":"+Proyección!F153+Proyección!G153+Proyección!H153+Proyección!I153+Proyección!J153+Proyección!K153","v":0},{"$f":"+Proyección!L153+Proyección!M153+Proyección!N153+Proyección!O153+Proyección!P153+Proyección!Q153","v":0}]
[null,null,24,{"$f":"+IFERROR(+IF(Inputs!I95=\"\",\"\",Inputs!I95),0)","v":""},0,{"$f":"+Proyección!F154+Proyección!G154+Proyección!H154+Proyección!I154+Proyección!J154+Proyección!K154","v":0},{"$f":"+Proyección!L154+Proyección!M154+Proyección!N154+Proyección!O154+Proyección!P154+Proyección!Q154","v":0}]
[null,null,25,{"$f":"+IFERROR(+IF(Inputs!I96=\"\",\"\",Inputs!I96),0)","v":""},0,{"$f":"+Proyección!F155+Proyección!G155+Proyección!H155+Proyección!I155+Proyección!J155+Proyección!K155","v":0},{"$f":"+Proyección!L155+Proyección!M155+Proyección!N155+Proyección!O155+Proyección!P155+Proyección!Q155","v":0}]
[null,null,26,{"$f":"+IFERROR(+IF(Inputs!I97=\"\",\"\",Inputs!I97),0)","v":""},0,{"$f":"+Proyección!F156+Proyección!G156+Proyección!H156+Proyección!I156+Proyección!J156+Proyección!K156","v":0},{"$f":"+Proyección!L156+Proyección!M156+Proyección!N156+Proyección!O156+Proyección!P156+Proyección!Q156","v":0}]
[null,null,27,{"$f":"+IFERROR(+IF(Inputs!I98=\"\",\"\",Inputs!I98),0)","v":""},0,{"$f":"+Proyección!F157+Proyección!G157+Proyección!H157+Proyección!I157+Proyección!J157+Proyección!K157","v":0},{"$f":"+Proyección!L157+Proyección!M157+Proyección!N157+Proyección!O157+Proyección!P157+Proyección!Q157","v":0}]
[null,null,28,{"$f":"+IFERROR(+IF(Inputs!I99=\"\",\"\",Inputs!I99),0)","v":""},0,{"$f":"+Proyección!F158+Proyección!G158+Proyección!H158+Proyección!I158+Proyección!J158+Proyección!K158","v":0},{"$f":"+Proyección!L158+Proyección!M158+Proyección!N158+Proyección!O158+Proyección!P158+Proyección!Q158","v":0}]
[null,null,29,{"$f":"+IFERROR(+IF(Inputs!I100=\"\",\"\",Inputs!I100),0)","v":""},0,{"$f":"+Proyección!F159+Proyección!G159+Proyección!H159+Proyección!I159+Proyección!J159+Proyección!K159","v":0},{"$f":"+Proyección!L159+Proyección!M159+Proyección!N159+Proyección!O159+Proyección!P159+Proyección!Q159","v":0}]
[null,null,30,{"$f":"+IFERROR(+IF(Inputs!I101=\"\",\"\",Inputs!I101),0)","v":""},0,{"$f":"+Proyección!F160+Proyección!G160+Proyección!H160+Proyección!I160+Proyección!J160+Proyección!K160","v":0},{"$f":"+Proyección!L160+Proyección!M160+Proyección!N160+Proyección!O160+Proyección!P160+Proyección!Q160","v":0}]
[null,null,"Resumen","GASTOS PRESCINDIBLES/DISFRUTE",0,{"$f":"+SUM(F131:F160)","v":0},{"$f":"+SUM(G131:G160)","v":0}]
[null,null,"Resumen",1]
[null,null,"Resumen","TOTAL SALIDAS (AHORRO + GASTOS)",null,{"$f":"+F37+F63+F96+F129+F161+F52","v":0},{"$f":"+G37+G63+G96+G129+G161+G52","v":0}]
[null,null,"Resumen",1]
[null,null,"Resumen",1]
[null,null,"Resumen","     SALDO FINAL / FLUJO DE CAJA",null,{"$f":"+F9+F24-F163","v":0},{"$f":"+G9+G24-G163","v":0}]
[null,null,"Resumen",1]
[null,null,"Resumen",1]
[null,null,"Resumen",1,"Saldo año anterior"]
[null,null,"Resumen","RESERVAS"]
[null,null,"Resumen","Ahorro",{"$f":"+Proyección!E171","v":0},{"$f":"+E171+F37","v":0},{"$f":"+F171+G37","v":0}]
[null,null,"Resumen","Fondo de Emergencia",{"$f":"+Proyección!E172","v":0},{"$f":"+E172+VLOOKUP($D$172,$D$12:$G$160,3,0)","v":{"$error":"#N/A"}},{"$f":"+F172+VLOOKUP($D$172,$D$12:$G$160,4,0)","v":{"$error":"#N/A"}}]
[null,null,"Resumen",1]
[null,null,"Resumen","INDICADORES"]
[null,null,"Resumen","Nivel de endeudamiento","-",{"$f":"+IFERROR(F52/F24,0)","v":0},{"$f":"+IFERROR(G52/G24,0)","v":0}]
[null,null,"Resumen","Capacidad de endeudamiento","-",{"$f":"+IFERROR(IF(F166<=0,0,(F166*35%)),0)","v":0},{"$f":"+IFERROR(IF(G166<=0,0,(G166*35%)),0)","v":0}]
[null,null,"Resumen",1]
[null,null,"Resumen",1]
[null,null,"Resumen",1]

{"sheet":"Resumen Año E","index":8,"n_rows":181,"n_cols":8,"rows_kept":181,"cut":false,"hidden":false,"merged":[[165,3,165,4]]}
[null,null,null,1]
[null,null,null,1]
[null,null,null,1]
[null,null,null,1]
[null,null,null,1]
[null,null,"Resumen","Concepto","% del Ingreso Ejecución Real","Año Presupuesto","Año Real","Diferencia Año"]
[null,null,null,1]
[null,null,"Resumen",1]
[null,null,"Resumen","SALDO INICIAL",null,0,0,{"$f":"IFERROR((IF(G9>0,(F9+G9),(G9-F9))),0)","v":0}]
[null,null,"Resumen",1]
[null,null,null,1]
[null,null,1,{"$f":"+IFERROR(+IF(Inputs!D12=\"\",\"\",Inputs!D12),0)","v":"Salario Luisa (ejemplo)"},{"$f":"+IFERROR((G12)/($G$24),0)","v":0},{"$f":"+Proyección!F12+Proyección!G12+Proyección!H12+Proyección!I12+Proyección!J12+Proyección!K12+Proyección!L12+Proyección!M12+Proyección!N12+Proyección!O12+Proyección!P12+Proyección!Q12","v":0},{"$f":"+Ejecución!G12+Ejecución!J12+Ejecución!M12+Ejecución!P12+Ejecución!S12+Ejecución!V12+Ejecución!Y12+Ejecución!AB12+Ejecución!AE12+Ejecución!AH12+Ejecución!AK12+Ejecución!AN12","v":0},{"$f":"+IFERROR(-(F12-G12),0)","v":0}]
[null,null,2,{"$f":"+IFERROR(+IF(Inputs!D13=\"\",\"\",Inputs!D13),0)","v":"Salario Tomás  (ejemplo)"},{"$f":"+IFERROR((G13)/($G$24),0)","v":0},{"$f":"+Proyección!F13+Proyección!G13+Proyección!H13+Proyección!I13+Proyección!J13+Proyección!K13+Proyección!L13+Proyección!M13+Proyección!N13+Proyección!O13+Proyección!P13+Proyección!Q13","v":0},{"$f":"+Ejecución!G13+Ejecución!J13+Ejecución!M13+Ejecución!P13+Ejecución!S13+Ejecución!V13+Ejecución!Y13+Ejecución!AB13+Ejecución!AE13+Ejecución!AH13+Ejecución!AK13+Ejecución!AN13","v":0},{"$f":"+IFERROR(-(F13-G13),0)","v":0}]
[null,null,3,{"$f":"+IFERROR(+IF(Inputs!D14=\"\",\"\",Inputs!D14),0)","v":""},0,{"$f":"+Proyección!F14+Proyección!G14+Proyección!H14+Proyección!I14+Proyección!J14+Proyección!K14+Proyección!L14+Proyección!M14+Proyección!N14+Proyección!O14+Proyección!P14+Proyección!Q14","v":0},{"$f":"+Ejecución!G14+Ejecución!J14+Ejecución!M14+Ejecución!P14+Ejecución!S14+Ejecución!V14+Ejecución!Y14+Ejecución!AB14+Ejecución!AE14+Ejecución!AH14+Ejecución!AK14+Ejecución!AN14","v":0},0]
[null,null,4,{"$f":"+IFERROR(+IF(Inputs!D15=\"\",\"\",Inputs!D15),0)","v":""},0,{"$f":"+Proyección!F15+Proyección!G15+Proyección!H15+Proyección!I15+Proyección!J15+Proyección!K15+Proyección!L15+Proyección!M15+Proyección!N15+Proyección!O15+Proyección!P15+Proyección!Q15","v":0},{"$f":"+Ejecución!G15+Ejecución!J15+Ejecución!M15+Ejecución!P15+Ejecución!S15+Ejecución!V15+Ejecución!Y15+Ejecución!AB15+Ejecución!AE15+Ejecución!AH15+Ejecución!AK15+Ejecución!AN15","v":0},0]
[null,null,5,{"$f":"+IFERROR(+IF(Inputs!D16=\"\",\"\",Inputs!D16),0)","v":""},0,{"$f":"+Proyección!F16+Proyección!G16+Proyección!H16+Proyección!I16+Proyección!J16+Proyección!K16+Proyección!L16+Proyección!M16+Proyección!N16+Proyección!O16+Proyección!P16+Proyección!Q16","v":0},{"$f":"+Ejecución!G16+Ejecución!J16+Ejecución!M16+Ejecución!P16+Ejecución!S16+Ejecución!V16+Ejecución!Y16+Ejecución!AB16+Ejecución!AE16+Ejecución!AH16+Ejecución!AK16+Ejecución!AN16","v":0},0]
[null,null,6,{"$f":"+IFERROR(+IF(Inputs!D17=\"\",\"\",Inputs!D17),0)","v":""},0,{"$f":"+Proyección!F17+Proyección!G17+Proyección!H17+Proyección!I17+Proyección!J17+Proyección!K17+Proyección!L17+Proyección!M17+Proyección!N17+Proyección!O17+Proyección!P17+Proyección!Q17","v":0},{"$f":"+Ejecución!G17+Ejecución!J17+Ejecución!M17+Ejecución!P17+Ejecución!S17+Ejecución!V17+Ejecución!Y17+Ejecución!AB17+Ejecución!AE17+Ejecución!AH17+Ejecución!AK17+Ejecución!AN17","v":0},0]
[null,null,7,{"$f":"+IFERROR(+IF(Inputs!I12=\"\",\"\",Inputs!I12),0)","v":"Prima Luisa  (ejemplo)"},0,{"$f":"+Proyección!F18+Proyección!G18+Proyección!H18+Proyección!I18+Proyección!J18+Proyección!K18+Proyección!L18+Proyección!M18+Proyección!N18+Proyección!O18+Proyección!P18+Proyección!Q18","v":0},{"$f":"+Ejecución!G18+Ejecución!J18+Ejecución!M18+Ejecución!P18+Ejecución!S18+Ejecución!V18+Ejecución!Y18+Ejecución!AB18+Ejecución!AE18+Ejecución!AH18+Ejecución!AK18+Ejecución!AN18","v":0},0]
[null,null,8,{"$f":"+IFERROR(+IF(Inputs!I13=\"\",\"\",Inputs!I13),0)","v":"Prima Tomás  (ejemplo)"},0,{"$f":"+Proyección!F19+Proyección!G19+Proyección!H19+Proyección!I19+Proyección!J19+Proyección!K19+Proyección!L19+Proyección!M19+Proyección!N19+Proyección!O19+Proyección!P19+Proyección!Q19","v":0},{"$f":"+Ejecución!G19+Ejecución!J19+Ejecución!M19+Ejecución!P19+Ejecución!S19+Ejecución!V19+Ejecución!Y19+Ejecución!AB19+Ejecución!AE19+Ejecución!AH19+Ejecución!AK19+Ejecución!AN19","v":0},0]
[null,null,9,{"$f":"+IFERROR(+IF(Inputs!I14=\"\",\"\",Inputs!I14),0)","v":"Intereses cesantías (ejemplo)"},0,{"$f":"+Proyección!F20+Proyección!G20+Proyección!H20+Proyección!I20+Proyección!J20+Proyección!K20+Proyección!L20+Proyección!M20+Proyección!N20+Proyección!O20+Proyección!P20+Proyección!Q20","v":0},{"$f":"+Ejecución!G20+Ejecución!J20+Ejecución!M20+Ejecución!P20+Ejecución!S20+Ejecución!V20+Ejecución!Y20+Ejecución!AB20+Ejecución!AE20+Ejecución!AH20+Ejecución!AK20+Ejecución!AN20","v":0},0]
[null,null,10,{"$f":"+IFERROR(+IF(Inputs!I15=\"\",\"\",Inputs!I15),0)","v":""},0,{"$f":"+Proyección!F21+Proyección!G21+Proyección!H21+Proyección!I21+Proyección!J21+Proyección!K21+Proyección!L21+Proyección!M21+Proyección!N21+Proyección!O21+Proyección!P21+Proyección!Q21","v":0},{"$f":"+Ejecución!G21+Ejecución!J21+Ejecución!M21+Ejecución!P21+Ejecución!S21+Ejecución!V21+Ejecución!Y21+Ejecución!AB21+Ejecución!AE21+Ejecución!AH21+Ejecución!AK21+Ejecución!AN21","v":0},0]
[null,null,11,{"$f":"+IFERROR(+IF(Inputs!I16=\"\",\"\",Inputs!I16),0)","v":""},0,{"$f":"+Proyección!F22+Proyección!G22+Proyección!H22+Proyección!I22+Proyección!J22+Proyección!K22+Proyección!L22+Proyección!M22+Proyección!N22+Proyección!O22+Proyección!P22+Proyección!Q22","v":0},{"$f":"+Ejecución!G22+Ejecución!J22+Ejecución!M22+Ejecución!P22+Ejecución!S22+Ejecución!V22+Ejecución!Y22+Ejecución!AB22+Ejecución!AE22+Ejecución!AH22+Ejecución!AK22+Ejecución!AN22","v":0},0]
[null,null,12,{"$f":"+IFERROR(+IF(Inputs!I17=\"\",\"\",Inputs!I17),0)","v":""},0,{"$f":"+Proyección!F23+Proyección!G23+Proyección!H23+Proyección!I23+Proyección!J23+Proyección!K23+Proyección!L23+Proyección!M23+Proyección!N23+Proyección!O23+Proyección!P23+Proyección!Q23","v":0},{"$f":"+Ejecución!G23+Ejecución!J23+Ejecución!M23+Ejecución!P23+Ejecución!S23+Ejecución!V23+Ejecución!Y23+Ejecución!AB23+Ejecución!AE23+Ejecución!AH23+Ejecución!AK23+Ejecución!AN23","v":0},0]
[null,null,"Resumen","TOTAL INGRESO",null,{"$f":"+SUM(F12:F23)","v":0},{"$f":"+SUM(G12:G23)","v":0},{"$f":"+IFERROR(+(F24-G24),0)","v":0}]
[null,null,"Resumen",1]
[null,null,null,1]
[null,null,1,{"$f":"+IFERROR(+IF(Inputs!D22=\"\",\"\",Inputs!D22),0)","v":"Para comprar casa propia  (ejemplo)"},{"$f":"+IFERROR((G27)/($G$24),0)","v":0},{"$f":"+Proyección!F27+Proyección!G27+Proyección!H27+Proyección!I27+Proyección!J27+Proyección!K27+Proyección!L27+Proyección!M27+Proyección!N27+Proyección!O27+Proyección!P27+Proyección!Q27","v":0},{"$f":"+Ejecución!G27+Ejecución!J27+Ejecución!M27+Ejecución!P27+Ejecución!S27+Ejecución!V27+Ejecución!Y27+Ejecución!AB27+Ejecución!AE27+Ejecución!AH27+Ejecución!AK27+Ejecución!AN27","v":0},{"$f":"+IFERROR(+(F27-G27),0)","v":0}]
[null,null,2,{"$f":"+IFERROR(+IF(Inputs!D23=\"\",\"\",Inputs!D23),0)","v":"Postgrado Luisa  (ejemplo)"},0,{"$f":"+Proyección!F28+Proyección!G28+Proyección!H28+Proyección!I28+Proyección!J28+Proyección!K28+Proyección!L28+Proyección!M28+Proyección!N28+Proyección!O28+Proyección!P28+Proyección!Q28","v":0},{"$f":"+Ejecución!G28+Ejecución!J28+Ejecución!M28+Ejecución!P28+Ejecución!S28+Ejecución!V28+Ejecución!Y28+Ejecución!AB28+Ejecución!AE28+Ejecución!AH28+Ejecución!AK28+Ejecución!AN28","v":0},0]
[null,null,3,{"$f":"+IFERROR(+IF(Inputs!D24=\"\",\"\",Inputs!D24),0)","v":"Jubilación  (ejemplo)"},0,{"$f":"+Proyección!F29+Proyección!G29+Proyección!H29+Proyección!I29+Proyección!J29+Proyección!K29+Proyección!L29+Proyección!M29+Proyección!N29+Proyección!O29+Proyección!P29+Proyección!Q29","v":0},{"$f":"+Ejecución!G29+Ejecución!J29+Ejecución!M29+Ejecución!P29+Ejecución!S29+Ejecución!V29+Ejecución!Y29+Ejecución!AB29+Ejecución!AE29+Ejecución!AH29+Ejecución!AK29+Ejecución!AN29","v":0},0]
[null,null,4,{"$f":"+IFERROR(+IF(Inputs!D25=\"\",\"\",Inputs!D25),0)","v":""},0,{"$f":"+Proyección!F30+Proyección!G30+Proyección!H30+Proyección!I30+Proyección!J30+Proyección!K30+Proyección!L30+Proyección!M30+Proyección!N30+Proyección!O30+Proyección!P30+Proyección!Q30","v":0},{"$f":"+Ejecución!G30+Ejecución!J30+Ejecución!M30+Ejecución!P30+Ejecución!S30+Ejecución!V30+Ejecución!Y30+Ejecución!AB30+Ejecución!AE30+Ejecución!AH30+Ejecución!AK30+Ejecución!AN30","v":0},0]
[null,null,5,{"$f":"+IFERROR(+IF(Inputs!D26=\"\",\"\",Inputs!D26),0)","v":""},0,{"$f":"+Proyección!F31+Proyección!G31+Proyección!H31+Proyección!I31+Proyección!J31+Proyección!K31+Proyección!L31+Proyección!M31+Proyección!N31+Proyección!O31+Proyección!P31+Proyección!Q31","v":0},{"$f":"+Ejecución!G31+Ejecución!J31+Ejecución!M31+Ejecución!P31+Ejecución!S31+Ejecución!V31+Ejecución!Y31+Ejecución!AB31+Ejecución!AE31+Ejecución!AH31+Ejecución!AK31+Ejecución!AN31","v":0},0]
[null,null,6,{"$f":"+IFERROR(+IF(Inputs!I22=\"\",\"\",Inputs!I22),0)","v":"Abono extra a casa propia (ejemplo)"},0,{"$f":"+Proyección!F32+Proyección!G32+Proyección!H32+Proyección!I32+Proyección!J32+Proyección!K32+Proyección!L32+Proyección!M32+Proyección!N32+Proyección!O32+Proyección!P32+Proyección!Q32","v":0},{"$f":"+Ejecución!G32+Ejecución!J32+Ejecución!M32+Ejecución!P32+Ejecución!S32+Ejecución!V32+Ejecución!Y32+Ejecución!AB32+Ejecución!AE32+Ejecución!AH32+Ejecución!AK32+Ejecución!AN32","v":0},0]
[null,null,7,{"$f":"+IFERROR(+IF(Inputs!I23=\"\",\"\",Inputs!I23),0)","v":""},0,{"$f":"+Proyección!F33+Proyección!G33+Proyección!H33+Proyección!I33+Proyección!J33+Proyección!K33+Proyección!L33+Proyección!M33+Proyección!N33+Proyección!O33+Proyección!P33+Proyección!Q33","v":0},{"$f":"+Ejecución!G33+Ejecución!J33+Ejecución!M33+Ejecución!P33+Ejecución!S33+Ejecución!V33+Ejecución!Y33+Ejecución!AB33+Ejecución!AE33+Ejecución!AH33+Ejecución!AK33+Ejecución!AN33","v":0},0]
[null,null,8,{"$f":"+IFERROR(+IF(Inputs!I24=\"\",\"\",Inputs!I24),0)","v":""},0,{"$f":"+Proyección!F34+Proyección!G34+Proyección!H34+Proyección!I34+Proyección!J34+Proyección!K34+Proyección!L34+Proyección!M34+Proyección!N34+Proyección!O34+Proyección!P34+Proyección!Q34","v":0},{"$f":"+Ejecución!G34+Ejecución!J34+Ejecución!M34+Ejecución!P34+Ejecución!S34+Ejecución!V34+Ejecución!Y34+Ejecución!AB34+Ejecución!AE34+Ejecución!AH34+Ejecución!AK34+Ejecución!AN34","v":0},0]
[null,null,9,{"$f":"+IFERROR(+IF(Inputs!I25=\"\",\"\",Inputs!I25),0)","v":""},0,{"$f":"+Proyección!F35+Proyección!G35+Proyección!H35+Proyección!I35+Proyección!J35+Proyección!K35+Proyección!L35+Proyección!M35+Proyección!N35+Proyección!O35+Proyección!P35+Proyección!Q35","v":0},{"$f":"+Ejecución!G35+Ejecución!J35+Ejecución!M35+Ejecución!P35+Ejecución!S35+Ejecución!V35+Ejecución!Y35+Ejecución!AB35+Ejecución!AE35+Ejecución!AH35+Ejecución!AK35+Ejecución!AN35","v":0},0]
[null,null,10,{"$f":"+IFERROR(+IF(Inputs!I26=\"\",\"\",Inputs!I26),0)","v":""},0,{"$f":"+Proyección!F36+Proyección!G36+Proyección!H36+Proyección!I36+Proyección!J36+Proyección!K36+Proyección!L36+Proyección!M36+Proyección!N36+Proyección!O36+Proyección!P36+Proyección!Q36","v":0},{"$f":"+Ejecución!G36+Ejecución!J36+Ejecución!M36+Ejecución!P36+Ejecución!S36+Ejecución!V36+Ejecución!Y36+Ejecución!AB36+Ejecución!AE36+Ejecución!AH36+Ejecución!AK36+Ejecución!AN36","v":0},0]
[null,null,"Resumen","TOTAL AHORRO",0,{"$f":"+SUM(F27:F36)","v":0},{"$f":"+SUM(G27:G36)","v":0},0]
[null,null,null,1]
[null,null,null,1]
[null,null,1,{"$f":"+IFERROR(+IF(Inputs!D31=\"\",\"\",Inputs!D31),0)","v":"Crédito de vehículo (ejemplo)"},{"$f":"+IFERROR((G40)/($G$24),0)","v":0},{"$f":"+Proyección!F40+Proyección!G40+Proyección!H40+Proyección!I40+Proyección!J40+Proyección!K40+Proyección!L40+Proyección!M40+Proyección!N40+Proyección!O40+Proyección!P40+Proyección!Q40","v":0},{"$f":"+Ejecución!G40+Ejecución!J40+Ejecución!M40+Ejecución!P40+Ejecución!S40+Ejecución!V40+Ejecución!Y40+Ejecución!AB40+Ejecución!AE40+Ejecución!AH40+Ejecución!AK40+Ejecución!AN40","v":0},{"$f":"+IFERROR(+(F40-G40),0)","v":0}]
[null,null,2,{"$f":"+IFERROR(+IF(Inputs!D32=\"\",\"\",Inputs!D32),0)","v":"Tarjeta de crédito 1 (ejemplo)"},0,{"$f":"+Proyección!F41+Proyección!G41+Proyección!H41+Proyección!I41+Proyección!J41+Proyección!K41+Proyección!L41+Proyección!M41+Proyección!N41+Proyección!O41+Proyección!P41+Proyección!Q41","v":0},{"$f":"+Ejecución!G41+Ejecución!J41+Ejecución!M41+Ejecución!P41+Ejecución!S41+Ejecución!V41+Ejecución!Y41+Ejecución!AB41+Ejecución!AE41+Ejecución!AH41+Ejecución!AK41+Ejecución!AN41","v":0},0]
[null,null,3,{"$f":"+IFERROR(+IF(Inputs!D33=\"\",\"\",Inputs!D33),0)","v":""},0,{"$f":"+Proyección!F42+Proyección!G42+Proyección!H42+Proyección!I42+Proyección!J42+Proyección!K42+Proyección!L42+Proyección!M42+Proyección!N42+Proyección!O42+Proyección!P42+Proyección!Q42","v":0},{"$f":"+Ejecución!G42+Ejecución!J42+Ejecución!M42+Ejecución!P42+Ejecución!S42+Ejecución!V42+Ejecución!Y42+Ejecución!AB42+Ejecución!AE42+Ejecución!AH42+Ejecución!AK42+Ejecución!AN42","v":0},0]
[null,null,4,{"$f":"+IFERROR(+IF(Inputs!D34=\"\",\"\",Inputs!D34),0)","v":""},0,{"$f":"+Proyección!F43+Proyección!G43+Proyección!H43+Proyección!I43+Proyección!J43+Proyección!K43+Proyección!L43+Proyección!M43+Proyección!N43+Proyección!O43+Proyección!P43+Proyección!Q43","v":0},{"$f":"+Ejecución!G43+Ejecución!J43+Ejecución!M43+Ejecución!P43+Ejecución!S43+Ejecución!V43+Ejecución!Y43+Ejecución!AB43+Ejecución!AE43+Ejecución!AH43+Ejecución!AK43+Ejecución!AN43","v":0},0]
[null,null,5,{"$f":"+IFERROR(+IF(Inputs!D35=\"\",\"\",Inputs!D35),0)","v":""},0,{"$f":"+Proyección!F44+Proyección!G44+Proyección!H44+Proyección!I44+Proyección!J44+Proyección!K44+Proyección!L44+Proyección!M44+Proyección!N44+Proyección!O44+Proyección!P44+Proyección!Q44","v":0},{"$f":"+Ejecución!G44+Ejecución!J44+Ejecución!M44+Ejecución!P44+Ejecución!S44+Ejecución!V44+Ejecución!Y44+Ejecución!AB44+Ejecución!AE44+Ejecución!AH44+Ejecución!AK44+Ejecución!AN44","v":0},0]
[null,null,6,{"$f":"+IFERROR(+IF(Inputs!D36=\"\",\"\",Inputs!D36),0)","v":""},0,{"$f":"+Proyección!F45+Proyección!G45+Proyección!H45+Proyección!I45+Proyección!J45+Proyección!K45+Proyección!L45+Proyección!M45+Proyección!N45+Proyección!O45+Proyección!P45+Proyección!Q45","v":0},{"$f":"+Ejecución!G45+Ejecución!J45+Ejecución!M45+Ejecución!P45+Ejecución!S45+Ejecución!V45+Ejecución!Y45+Ejecución!AB45+Ejecución!AE45+Ejecución!AH45+Ejecución!AK45+Ejecución!AN45","v":0},0]
[null,null,7,{"$f":"+IFERROR(+IF(Inputs!I31=\"\",\"\",Inputs!I31),0)","v":"Abono trimestral préstamo (ejemplo)"},0,{"$f":"+Proyección!F46+Proyección!G46+Proyección!H46+Proyección!I46+Proyección!J46+Proyección!K46+Proyección!L46+Proyección!M46+Proyección!N46+Proyección!O46+Proyección!P46+Proyección!Q46","v":0},{"$f":"+Ejecución!G46+Ejecución!J46+Ejecución!M46+Ejecución!P46+Ejecución!S46+Ejecución!V46+Ejecución!Y46+Ejecución!AB46+Ejecución!AE46+Ejecución!AH46+Ejecución!AK46+Ejecución!AN46","v":0},0]
[null,null,8,{"$f":"+IFERROR(+IF(Inputs!I32=\"\",\"\",Inputs!I32),0)","v":""},0,{"$f":"+Proyección!F47+Proyección!G47+Proyección!H47+Proyección!I47+Proyección!J47+Proyección!K47+Proyección!L47+Proyección!M47+Proyección!N47+Proyección!O47+Proyección!P47+Proyección!Q47","v":0},{"$f":"+Ejecución!G47+Ejecución!J47+Ejecución!M47+Ejecución!P47+Ejecución!S47+Ejecución!V47+Ejecución!Y47+Ejecución!AB47+Ejecución!AE47+Ejecución!AH47+Ejecución!AK47+Ejecución!AN47","v":0},0]
[null,null,9,{"$f":"+IFERROR(+IF(Inputs!I33=\"\",\"\",Inputs!I33),0)","v":""},0,{"$f":"+Proyección!F48+Proyección!G48+Proyección!H48+Proyección!I48+Proyección!J48+Proyección!K48+Proyección!L48+Proyección!M48+Proyección!N48+Proyección!O48+Proyección!P48+Proyección!Q48","v":0},{"$f":"+Ejecución!G48+Ejecución!J48+Ejecución!M48+Ejecución!P48+Ejecución!S48+Ejecución!V48+Ejecución!Y48+Ejecución!AB48+Ejecución!AE48+Ejecución!AH48+Ejecución!AK48+Ejecución!AN48","v":0},0]
[null,null,10,{"$f":"+IFERROR(+IF(Inputs!I34=\"\",\"\",Inputs!I34),0)","v":""},0,{"$f":"+Proyección!F49+Proyección!G49+Proyección!H49+Proyección!I49+Proyección!J49+Proyección!K49+Proyección!L49+Proyección!M49+Proyección!N49+Proyección!O49+Proyección!P49+Proyección!Q49","v":0},{"$f":"+Ejecución!G49+Ejecución!J49+Ejecución!M49+Ejecución!P49+Ejecución!S49+Ejecución!V49+Ejecución!Y49+Ejecución!AB49+Ejecución!AE49+Ejecución!AH49+Ejecución!AK49+Ejecución!AN49","v":0},0]
[null,null,11,{"$f":"+IFERROR(+IF(Inputs!I35=\"\",\"\",Inputs!I35),0)","v":""},0,{"$f":"+Proyección!F50+Proyección!G50+Proyección!H50+Proyección!I50+Proyección!J50+Proyección!K50+Proyección!L50+Proyección!M50+Proyección!N50+Proyección!O50+Proyección!P50+Proyección!Q50","v":0},{"$f":"+Ejecución!G50+Ejecución!J50+Ejecución!M50+Ejecución!P50+Ejecución!S50+Ejecución!V50+Ejecución!Y50+Ejecución!AB50+Ejecución!AE50+Ejecución!AH50+Ejecución!AK50+Ejecución!AN50","v":0},0]
[null,null,12,{"$f":"+IFERROR(+IF(Inputs!I36=\"\",\"\",Inputs!I36),0)","v":""},0,{"$f":"+Proyección!F51+Proyección!G51+Proyección!H51+Proyección!I51+Proyección!J51+Proyección!K51+Proyección!L51+Proyección!M51+Proyección!N51+Proyección!O51+Proyección!P51+Proyección!Q51","v":0},{"$f":"+Ejecución!G51+Ejecución!J51+Ejecución!M51+Ejecución!P51+Ejecución!S51+Ejecución!V51+Ejecución!Y51+Ejecución!AB51+Ejecución!AE51+Ejecución!AH51+Ejecución!AK51+Ejecución!AN51","v":0},0]
[null,null,"Resumen","TOTAL OBLIGACIONES FINANCIERAS",0,{"$f":"+SUM(F40:F51)","v":0},{"$f":"+SUM(G40:G51)","v":0},0]
[null,null,null,1]
[null,null,null,1]
[null,null,1,{"$f":"+IFERROR(+IF(Inputs!D41=\"\",\"\",Inputs!D41),0)","v":""},{"$f":"+IFERROR((G55)/($G$24),0)","v":0},{"$f":"+Proyección!F55+Proyección!G55+Proyección!H55+Proyección!I55+Proyección!J55+Proyección!K55+Proyección!L55+Proyección!M55+Proyección!N55+Proyección!O55+Proyección!P55+Proyección!Q55","v":0},{"$f":"+Ejecución!G55+Ejecución!J55+Ejecución!M55+Ejecución!P55+Ejecución!S55+Ejecución!V55+Ejecución!Y55+Ejecución!AB55+Ejecución!AE55+Ejecución!AH55+Ejecución!AK55+Ejecución!AN55","v":0},{"$f":"+IFERROR(+(F55-G55),0)","v":0}]
[null,null,2,{"$f":"+IFERROR(+IF(Inputs!D42=\"\",\"\",Inputs!D42),0)","v":""},0,{"$f":"+Proyección!F56+Proyección!G56+Proyección!H56+Proyección!I56+Proyección!J56+Proyección!K56+Proyección!L56+Proyección!M56+Proyección!N56+Proyección!O56+Proyección!P56+Proyección!Q56","v":0},{"$f":"+Ejecución!G56+Ejecución!J56+Ejecución!M56+Ejecución!P56+Ejecución!S56+Ejecución!V56+Ejecución!Y56+Ejecución!AB56+Ejecución!AE56+Ejecución!AH56+Ejecución!AK56+Ejecución!AN56","v":0},0]
[null,null,3,{"$f":"+IFERROR(+IF(Inputs!D43=\"\",\"\",Inputs!D43),0)","v":""},0,{"$f":"+Proyección!F57+Proyección!G57+Proyección!H57+Proyección!I57+Proyección!J57+Proyección!K57+Proyección!L57+Proyección!M57+Proyección!N57+Proyección!O57+Proyección!P57+Proyección!Q57","v":0},{"$f":"+Ejecución!G57+Ejecución!J57+Ejecución!M57+Ejecución!P57+Ejecución!S57+Ejecución!V57+Ejecución!Y57+Ejecución!AB57+Ejecución!AE57+Ejecución!AH57+Ejecución!AK57+Ejecución!AN57","v":0},0]
[null,null,4,{"$f":"+IFERROR(+IF(Inputs!D44=\"\",\"\",Inputs!D44),0)","v":""},0,{"$f":"+Proyección!F58+Proyección!G58+Proyección!H58+Proyección!I58+Proyección!J58+Proyección!K58+Proyección!L58+Proyección!M58+Proyección!N58+Proyección!O58+Proyección!P58+Proyección!Q58","v":0},{"$f":"+Ejecución!G58+Ejecución!J58+Ejecución!M58+Ejecución!P58+Ejecución!S58+Ejecución!V58+Ejecución!Y58+Ejecución!AB58+Ejecución!AE58+Ejecución!AH58+Ejecución!AK58+Ejecución!AN58","v":0},0]
[null,null,5,{"$f":"+IFERROR(+IF(Inputs!I41=\"\",\"\",Inputs!I41),0)","v":"Impuesto de renta (ejemplo)"},0,{"$f":"+Proyección!F59+Proyección!G59+Proyección!H59+Proyección!I59+Proyección!J59+Proyección!K59+Proyección!L59+Proyección!M59+Proyección!N59+Proyección!O59+Proyección!P59+Proyección!Q59","v":0},{"$f":"+Ejecución!G59+Ejecución!J59+Ejecución!M59+Ejecución!P59+Ejecución!S59+Ejecución!V59+Ejecución!Y59+Ejecución!AB59+Ejecución!AE59+Ejecución!AH59+Ejecución!AK59+Ejecución!AN59","v":0},0]
[null,null,6,{"$f":"+IFERROR(+IF(Inputs!I42=\"\",\"\",Inputs!I42),0)","v":"Impuesto vehicular (ejemplo)"},0,{"$f":"+Proyección!F60+Proyección!G60+Proyección!H60+Proyección!I60+Proyección!J60+Proyección!K60+Proyección!L60+Proyección!M60+Proyección!N60+Proyección!O60+Proyección!P60+Proyección!Q60","v":0},{"$f":"+Ejecución!G60+Ejecución!J60+Ejecución!M60+Ejecución!P60+Ejecución!S60+Ejecución!V60+Ejecución!Y60+Ejecución!AB60+Ejecución!AE60+Ejecución!AH60+Ejecución!AK60+Ejecución!AN60","v":0},0]
[null,null,7,{"$f":"+IFERROR(+IF(Inputs!I43=\"\",\"\",Inputs!I43),0)","v":"Impuesto predial (ejemplo)"},0,{"$f":"+Proyección!F61+Proyección!G61+Proyección!H61+Proyección!I61+Proyección!J61+Proyección!K61+Proyección!L61+Proyección!M61+Proyección!N61+Proyección!O61+Proyección!P61+Proyección!Q61","v":0},{"$f":"+Ejecución!G61+Ejecución!J61+Ejecución!M61+Ejecución!P61+Ejecución!S61+Ejecución!V61+Ejecución!Y61+Ejecución!AB61+Ejecución!AE61+Ejecución!AH61+Ejecución!AK61+Ejecución!AN61","v":0},0]
[null,null,8,{"$f":"+IFERROR(+IF(Inputs!I44=\"\",\"\",Inputs!I44),0)","v":""},0,{"$f":"+Proyección!F62+Proyección!G62+Proyección!H62+Proyección!I62+Proyección!J62+Proyección!K62+Proyección!L62+Proyección!M62+Proyección!N62+Proyección!O62+Proyección!P62+Proyección!Q62","v":0},{"$f":"+Ejecución!G62+Ejecución!J62+Ejecución!M62+Ejecución!P62+Ejecución!S62+Ejecución!V62+Ejecución!Y62+Ejecución!AB62+Ejecución!AE62+Ejecución!AH62+Ejecución!AK62+Ejecución!AN62","v":0},0]
[null,null,"Resumen","TOTAL IMPUESTOS Y CONTRIBUCIONES",0,{"$f":"+SUM(F55:F62)","v":0},{"$f":"+SUM(G55:G62)","v":0},0]
[null,null,null,1]
[null,null,null,1]
[null,null,1,{"$f":"+IFERROR(+IF(Inputs!D68=\"\",\"\",Inputs!D68),0)","v":"Fondo de Emergencia (ejemplo)"},{"$f":"+IFERROR((G66)/($G$24),0)","v":0},{"$f":"+Proyección!F66+Proyección!G66+Proyección!H66+Proyección!I66+Proyección!J66+Proyección!K66+Proyección!L66+Proyección!M66+Proyección!N66+Proyección!O66+Proyección!P66+Proyección!Q66","v":0},{"$f":"+Ejecución!G66+Ejecución!J66+Ejecución!M66+Ejecución!P66+Ejecución!S66+Ejecución!V66+Ejecución!Y66+Ejecución!AB66+Ejecución!AE66+Ejecución!AH66+Ejecución!AK66+Ejecución!AN66","v":0},{"$f":"+IFERROR(+(F66-G66),0)","v":0}]
[null,null,2,{"$f":"+IFERROR(+IF(Inputs!D69=\"\",\"\",Inputs!D69),0)","v":"Alimentación (ejemplo)"},0,{"$f":"+Proyección!F67+Proyección!G67+Proyección!H67+Proyección!I67+Proyección!J67+Proyección!K67+Proyección!L67+Proyección!M67+Proyección!N67+Proyección!O67+Proyección!P67+Proyección!Q67","v":0},{"$f":"+Ejecución!G67+Ejecución!J67+Ejecución!M67+Ejecución!P67+Ejecución!S67+Ejecución!V67+Ejecución!Y67+Ejecución!AB67+Ejecución!AE67+Ejecución!AH67+Ejecución!AK67+Ejecución!AN67","v":0},0]
[null,null,3,{"$f":"+IFERROR(+IF(Inputs!D51=\"\",\"\",Inputs!D51),0)","v":""},0,{"$f":"+Proyección!F68+Proyección!G68+Proyección!H68+Proyección!I68+Proyección!J68+Proyección!K68+Proyección!L68+Proyección!M68+Proyección!N68+Proyección!O68+Proyección!P68+Proyección!Q68","v":0},{"$f":"+Ejecución!G68+Ejecución!J68+Ejecución!M68+Ejecución!P68+Ejecución!S68+Ejecución!V68+Ejecución!Y68+Ejecución!AB68+Ejecución!AE68+Ejecución!AH68+Ejecución!AK68+Ejecución!AN68","v":0},0]
[null,null,4,{"$f":"+IFERROR(+IF(Inputs!D70=\"\",\"\",Inputs!D70),0)","v":"Servicios públicos (ejemplo)"},0,{"$f":"+Proyección!F69+Proyección!G69+Proyección!H69+Proyección!I69+Proyección!J69+Proyección!K69+Proyección!L69+Proyección!M69+Proyección!N69+Proyección!O69+Proyección!P69+Proyección!Q69","v":0},{"$f":"+Ejecución!G69+Ejecución!J69+Ejecución!M69+Ejecución!P69+Ejecución!S69+Ejecución!V69+Ejecución!Y69+Ejecución!AB69+Ejecución!AE69+Ejecución!AH69+Ejecución!AK69+Ejecución!AN69","v":0},0]
[null,null,5,{"$f":"+IFERROR(+IF(Inputs!D71=\"\",\"\",Inputs!D71),0)","v":"Gasolina (ejemplo)"},0,{"$f":"+Proyección!F70+Proyección!G70+Proyección!H70+Proyección!I70+Proyección!J70+Proyección!K70+Proyección!L70+Proyección!M70+Proyección!N70+Proyección!O70+Proyección!P70+Proyección!Q70","v":0},{"$f":"+Ejecución!G70+Ejecución!J70+Ejecución!M70+Ejecución!P70+Ejecución!S70+Ejecución!V70+Ejecución!Y70+Ejecución!AB70+Ejecución!AE70+Ejecución!AH70+Ejecución!AK70+Ejecución!AN70","v":0},0]
[null,null,6,{"$f":"+IFERROR(+IF(Inputs!D72=\"\",\"\",Inputs!D72),0)","v":""},0,{"$f":"+Proyección!F71+Proyección!G71+Proyección!H71+Proyección!I71+Proyección!J71+Proyección!K71+Proyección!L71+Proyección!M71+Proyección!N71+Proyección!O71+Proyección!P71+Proyección!Q71","v":0},{"$f":"+Ejecución!G71+Ejecución!J71+Ejecución!M71+Ejecución!P71+Ejecución!S71+Ejecución!V71+Ejecución!Y71+Ejecución!AB71+Ejecución!AE71+Ejecución!AH71+Ejecución!AK71+Ejecución!AN71","v":0},0]
[null,null,7,{"$f":"+IFERROR(+IF(Inputs!D73=\"\",\"\",Inputs!D73),0)","v":""},0,{"$f":"+Proyección!F72+Proyección!G72+Proyección!H72+Proyección!I72+Proyección!J72+Proyección!K72+Proyección!L72+Proyección!M72+Proyección!N72+Proyección!O72+Proyección!P72+Proyección!Q72","v":0},{"$f":"+Ejecución!G72+Ejecución!J72+Ejecución!M72+Ejecución!P72+Ejecución!S72+Ejecución!V72+Ejecución!Y72+Ejecución!AB72+Ejecución!AE72+Ejecución!AH72+Ejecución!AK72+Ejecución!AN72","v":0},0]
[null,null,8,{"$f":"+IFERROR(+IF(Inputs!D87=\"\",\"\",Inputs!D87),0)","v":"Suscripción Netflix (ejemplo)"},0,{"$f":"+Proyección!F73+Proyección!G73+Proyección!H73+Proyección!I73+Proyección!J73+Proyección!K73+Proyección!L73+Proyección!M73+Proyección!N73+Proyección!O73+Proyección!P73+Proyección!Q73","v":0},{"$f":"+Ejecución!G73+Ejecución!J73+Ejecución!M73+Ejecución!P73+Ejecución!S73+Ejecución!V73+Ejecución!Y73+Ejecución!AB73+Ejecución!AE73+Ejecución!AH73+Ejecución!AK73+Ejecución!AN73","v":0},0]
[null,null,9,{"$f":"+IFERROR(+IF(Inputs!D57=\"\",\"\",Inputs!D57),0)","v":""},0,{"$f":"+Proyección!F74+Proyección!G74+Proyección!H74+Proyección!I74+Proyección!J74+Proyección!K74+Proyección!L74+Proyección!M74+Proyección!N74+Proyección!O74+Proyección!P74+Proyección!Q74","v":0},{"$f":"+Ejecución!G74+Ejecución!J74+Ejecución!M74+Ejecución!P74+Ejecución!S74+Ejecución!V74+Ejecución!Y74+Ejecución!AB74+Ejecución!AE74+Ejecución!AH74+Ejecución!AK74+Ejecución!AN74","v":0},0]
[null,null,10,{"$f":"+IFERROR(+IF(Inputs!D58=\"\",\"\",Inputs!D58),0)","v":""},0,{"$f":"+Proyección!F75+Proyección!G75+Proyección!H75+Proyección!I75+Proyección!J75+Proyección!K75+Proyección!L75+Proyección!M75+Proyección!N75+Proyección!O75+Proyección!P75+Proyección!Q75","v":0},{"$f":"+Ejecución!G75+Ejecución!J75+Ejecución!M75+Ejecución!P75+Ejecución!S75+Ejecución!V75+Ejecución!Y75+Ejecución!AB75+Ejecución!AE75+Ejecución!AH75+Ejecución!AK75+Ejecución!AN75","v":0},0]
[null,null,11,{"$f":"+IFERROR(+IF(Inputs!D59=\"\",\"\",Inputs!D59),0)","v":""},0,{"$f":"+Proyección!F76+Proyección!G76+Proyección!H76+Proyección!I76+Proyección!J76+Proyección!K76+Proyección!L76+Proyección!M76+Proyección!N76+Proyección!O76+Proyección!P76+Proyección!Q76","v":0},{"$f":"+Ejecución!G76+Ejecución!J76+Ejecución!M76+Ejecución!P76+Ejecución!S76+Ejecución!V76+Ejecución!Y76+Ejecución!AB76+Ejecución!AE76+Ejecución!AH76+Ejecución!AK76+Ejecución!AN76","v":0},0]
[null,null,12,{"$f":"+IFERROR(+IF(Inputs!D60=\"\",\"\",Inputs!D60),0)","v":""},0,{"$f":"+Proyección!F77+Proyección!G77+Proyección!H77+Proyección!I77+Proyección!J77+Proyección!K77+Proyección!L77+Proyección!M77+Proyección!N77+Proyección!O77+Proyección!P77+Proyección!Q77","v":0},{"$f":"+Ejecución!G77+Ejecución!J77+Ejecución!M77+Ejecución!P77+Ejecución!S77+Ejecución!V77+Ejecución!Y77+Ejecución!AB77+Ejecución!AE77+Ejecución!AH77+Ejecución!AK77+Ejecución!AN77","v":0},0]
[null,null,13,{"$f":"+IFERROR(+IF(Inputs!D61=\"\",\"\",Inputs!D61),0)","v":""},0,{"$f":"+Proyección!F78+Proyección!G78+Proyección!H78+Proyección!I78+Proyección!J78+Proyección!K78+Proyección!L78+Proyección!M78+Proyección!N78+Proyección!O78+Proyección!P78+Proyección!Q78","v":0},{"$f":"+Ejecución!G78+Ejecución!J78+Ejecución!M78+Ejecución!P78+Ejecución!S78+Ejecución!V78+Ejecución!Y78+Ejecución!AB78+Ejecución!AE78+Ejecución!AH78+Ejecución!AK78+Ejecución!AN78","v":0},0]
[null,null,14,{"$f":"+IFERROR(+IF(Inputs!D62=\"\",\"\",Inputs!D62),0)","v":""},0,{"$f":"+Proyección!F79+Proyección!G79+Proyección!H79+Proyección!I79+Proyección!J79+Proyección!K79+Proyección!L79+Proyección!M79+Proyección!N79+Proyección!O79+Proyección!P79+Proyección!Q79","v":0},{"$f":"+Ejecución!G79+Ejecución!J79+Ejecución!M79+Ejecución!P79+Ejecución!S79+Ejecución!V79+Ejecución!Y79+Ejecución!AB79+Ejecución!AE79+Ejecución!AH79+Ejecución!AK79+Ejecución!AN79","v":0},0]
[null,null,15,{"$f":"+IFERROR(+IF(Inputs!D63=\"\",\"\",Inputs!D63),0)","v":""},0,{"$f":"+Proyección!F80+Proyección!G80+Proyección!H80+Proyección!I80+Proyección!J80+Proyección!K80+Proyección!L80+Proyección!M80+Proyección!N80+Proyección!O80+Proyección!P80+Proyección!Q80","v":0},{"$f":"+Ejecución!G80+Ejecución!J80+Ejecución!M80+Ejecución!P80+Ejecución!S80+Ejecución!V80+Ejecución!Y80+Ejecución!AB80+Ejecución!AE80+Ejecución!AH80+Ejecución!AK80+Ejecución!AN80","v":0},0]
[null,null,16,{"$f":"+IFERROR(+IF(Inputs!I49=\"\",\"\",Inputs!I49),0)","v":"Matrícula universidad (ejemplo)"},0,{"$f":"+Proyección!F81+Proyección!G81+Proyección!H81+Proyección!I81+Proyección!J81+Proyección!K81+Proyección!L81+Proyección!M81+Proyección!N81+Proyección!O81+Proyección!P81+Proyección!Q81","v":0},{"$f":"+Ejecución!G81+Ejecución!J81+Ejecución!M81+Ejecución!P81+Ejecución!S81+Ejecución!V81+Ejecución!Y81+Ejecución!AB81+Ejecución!AE81+Ejecución!AH81+Ejecución!AK81+Ejecución!AN81","v":0},0]
[null,null,17,{"$f":"+IFERROR(+IF(Inputs!I50=\"\",\"\",Inputs!I50),0)","v":""},0,{"$f":"+Proyección!F82+Proyección!G82+Proyección!H82+Proyección!I82+Proyección!J82+Proyección!K82+Proyección!L82+Proyección!M82+Proyección!N82+Proyección!O82+Proyección!P82+Proyección!Q82","v":0},{"$f":"+Ejecución!G82+Ejecución!J82+Ejecución!M82+Ejecución!P82+Ejecución!S82+Ejecución!V82+Ejecución!Y82+Ejecución!AB82+Ejecución!AE82+Ejecución!AH82+Ejecución!AK82+Ejecución!AN82","v":0},0]
[null,null,18,{"$f":"+IFERROR(+IF(Inputs!I51=\"\",\"\",Inputs!I51),0)","v":""},0,{"$f":"+Proyección!F83+Proyección!G83+Proyección!H83+Proyección!I83+Proyección!J83+Proyección!K83+Proyección!L83+Proyección!M83+Proyección!N83+Proyección!O83+Proyección!P83+Proyección!Q83","v":0},{"$f":"+Ejecución!G83+Ejecución!J83+Ejecución!M83+Ejecución!P83+Ejecución!S83+Ejecución!V83+Ejecución!Y83+Ejecución!AB83+Ejecución!AE83+Ejecución!AH83+Ejecución!AK83+Ejecución!AN83","v":0},0]
[null,null,19,{"$f":"+IFERROR(+IF(Inputs!I52=\"\",\"\",Inputs!I52),0)","v":""},0,{"$f":"+Proyección!F84+Proyección!G84+Proyección!H84+Proyección!I84+Proyección!J84+Proyección!K84+Proyección!L84+Proyección!M84+Proyección!N84+Proyección!O84+Proyección!P84+Proyección!Q84","v":0},{"$f":"+Ejecución!G84+Ejecución!J84+Ejecución!M84+Ejecución!P84+Ejecución!S84+Ejecución!V84+Ejecución!Y84+Ejecución!AB84+Ejecución!AE84+Ejecución!AH84+Ejecución!AK84+Ejecución!AN84","v":0},0]
[null,null,20,{"$f":"+IFERROR(+IF(Inputs!I53=\"\",\"\",Inputs!I53),0)","v":""},0,{"$f":"+Proyección!F85+Proyección!G85+Proyección!H85+Proyección!I85+Proyección!J85+Proyección!K85+Proyección!L85+Proyección!M85+Proyección!N85+Proyección!O85+Proyección!P85+Proyección!Q85","v":0},{"$f":"+Ejecución!G85+Ejecución!J85+Ejecución!M85+Ejecución!P85+Ejecución!S85+Ejecución!V85+Ejecución!Y85+Ejecución!AB85+Ejecución!AE85+Ejecución!AH85+Ejecución!AK85+Ejecución!AN85","v":0},0]
[null,null,21,{"$f":"+IFERROR(+IF(Inputs!I54=\"\",\"\",Inputs!I54),0)","v":""},0,{"$f":"+Proyección!F86+Proyección!G86+Proyección!H86+Proyección!I86+Proyección!J86+Proyección!K86+Proyección!L86+Proyección!M86+Proyección!N86+Proyección!O86+Proyección!P86+Proyección!Q86","v":0},{"$f":"+Ejecución!G86+Ejecución!J86+Ejecución!M86+Ejecución!P86+Ejecución!S86+Ejecución!V86+Ejecución!Y86+Ejecución!AB86+Ejecución!AE86+Ejecución!AH86+Ejecución!AK86+Ejecución!AN86","v":0},0]
[null,null,22,{"$f":"+IFERROR(+IF(Inputs!I55=\"\",\"\",Inputs!I55),0)","v":""},0,{"$f":"+Proyección!F87+Proyección!G87+Proyección!H87+Proyección!I87+Proyección!J87+Proyección!K87+Proyección!L87+Proyección!M87+Proyección!N87+Proyección!O87+Proyección!P87+Proyección!Q87","v":0},{"$f":"+Ejecución!G87+Ejecución!J87+Ejecución!M87+Ejecución!P87+Ejecución!S87+Ejecución!V87+Ejecución!Y87+Ejecución!AB87+Ejecución!AE87+Ejecución!AH87+Ejecución!AK87+Ejecución!AN87","v":0},0]
[null,null,23,{"$f":"+IFERROR(+IF(Inputs!I56=\"\",\"\",Inputs!I56),0)","v":""},0,{"$f":"+Proyección!F88+Proyección!G88+Proyección!H88+Proyección!I88+Proyección!J88+Proyección!K88+Proyección!L88+Proyección!M88+Proyección!N88+Proyección!O88+Proyección!P88+Proyección!Q88","v":0},{"$f":"+Ejecución!G88+Ejecución!J88+Ejecución!M88+Ejecución!P88+Ejecución!S88+Ejecución!V88+Ejecución!Y88+Ejecución!AB88+Ejecución!AE88+Ejecución!AH88+Ejecución!AK88+Ejecución!AN88","v":0},0]
[null,null,24,{"$f":"+IFERROR(+IF(Inputs!I57=\"\",\"\",Inputs!I57),0)","v":""},0,{"$f":"+Proyección!F89+Proyección!G89+Proyección!H89+Proyección!I89+Proyección!J89+Proyección!K89+Proyección!L89+Proyección!M89+Proyección!N89+Proyección!O89+Proyección!P89+Proyección!Q89","v":0},{"$f":"+Ejecución!G89+Ejecución!J89+Ejecución!M89+Ejecución!P89+Ejecución!S89+Ejecución!V89+Ejecución!Y89+Ejecución!AB89+Ejecución!AE89+Ejecución!AH89+Ejecución!AK89+Ejecución!AN89","v":0},0]
[null,null,25,{"$f":"+IFERROR(+IF(Inputs!I58=\"\",\"\",Inputs!I58),0)","v":""},0,{"$f":"+Proyección!F90+Proyección!G90+Proyección!H90+Proyección!I90+Proyección!J90+Proyección!K90+Proyección!L90+Proyección!M90+Proyección!N90+Proyección!O90+Proyección!P90+Proyección!Q90","v":0},{"$f":"+Ejecución!G90+Ejecución!J90+Ejecución!M90+Ejecución!P90+Ejecución!S90+Ejecución!V90+Ejecución!Y90+Ejecución!AB90+Ejecución!AE90+Ejecución!AH90+Ejecución!AK90+Ejecución!AN90","v":0},0]
[null,null,26,{"$f":"+IFERROR(+IF(Inputs!I59=\"\",\"\",Inputs!I59),0)","v":""},0,{"$f":"+Proyección!F91+Proyección!G91+Proyección!H91+Proyección!I91+Proyección!J91+Proyección!K91+Proyección!L91+Proyección!M91+Proyección!N91+Proyección!O91+Proyección!P91+Proyección!Q91","v":0},{"$f":"+Ejecución!G91+Ejecución!J91+Ejecución!M91+Ejecución!P91+Ejecución!S91+Ejecución!V91+Ejecución!Y91+Ejecución!AB91+Ejecución!AE91+Ejecución!AH91+Ejecución!AK91+Ejecución!AN91","v":0},0]
[null,null,27,{"$f":"+IFERROR(+IF(Inputs!I60=\"\",\"\",Inputs!I60),0)","v":""},0,{"$f":"+Proyección!F92+Proyección!G92+Proyección!H92+Proyección!I92+Proyección!J92+Proyección!K92+Proyección!L92+Proyección!M92+Proyección!N92+Proyección!O92+Proyección!P92+Proyección!Q92","v":0},{"$f":"+Ejecución!G92+Ejecución!J92+Ejecución!M92+Ejecución!P92+Ejecución!S92+Ejecución!V92+Ejecución!Y92+Ejecución!AB92+Ejecución!AE92+Ejecución!AH92+Ejecución!AK92+Ejecución!AN92","v":0},0]
[null,null,28,{"$f":"+IFERROR(+IF(Inputs!I61=\"\",\"\",Inputs!I61),0)","v":""},0,{"$f":"+Proyección!F93+Proyección!G93+Proyección!H93+Proyección!I93+Proyección!J93+Proyección!K93+Proyección!L93+Proyección!M93+Proyección!N93+Proyección!O93+Proyección!P93+Proyección!Q93","v":0},{"$f":"+Ejecución!G93+Ejecución!J93+Ejecución!M93+Ejecución!P93+Ejecución!S93+Ejecución!V93+Ejecución!Y93+Ejecución!AB93+Ejecución!AE93+Ejecución!AH93+Ejecución!AK93+Ejecución!AN93","v":0},0]
[null,null,29,{"$f":"+IFERROR(+IF(Inputs!I62=\"\",\"\",Inputs!I62),0)","v":""},0,{"$f":"+Proyección!F94+Proyección!G94+Proyección!H94+Proyección!I94+Proyección!J94+Proyección!K94+Proyección!L94+Proyección!M94+Proyección!N94+Proyección!O94+Proyección!P94+Proyección!Q94","v":0},{"$f":"+Ejecución!G94+Ejecución!J94+Ejecución!M94+Ejecución!P94+Ejecución!S94+Ejecución!V94+Ejecución!Y94+Ejecución!AB94+Ejecución!AE94+Ejecución!AH94+Ejecución!AK94+Ejecución!AN94","v":0},0]
[null,null,30,{"$f":"+IFERROR(+IF(Inputs!I63=\"\",\"\",Inputs!I63),0)","v":""},0,{"$f":"+Proyección!F95+Proyección!G95+Proyección!H95+Proyección!I95+Proyección!J95+Proyección!K95+Proyección!L95+Proyección!M95+Proyección!N95+Proyección!O95+Proyección!P95+Proyección!Q95","v":0},{"$f":"+Ejecución!G95+Ejecución!J95+Ejecución!M95+Ejecución!P95+Ejecución!S95+Ejecución!V95+Ejecución!Y95+Ejecución!AB95+Ejecución!AE95+Ejecución!AH95+Ejecución!AK95+Ejecución!AN95","v":0},0]
[null,null,"Resumen","GASTOS OBLIGATORIOS",0,{"$f":"+SUM(F66:F95)","v":0},{"$f":"+SUM(G66:G95)","v":0},0]
[null,null,null,0]
[null,null,null,1]
[null,null,1,{"$f":"+IFERROR(+IF(Inputs!#REF!=\"\",\"\",Inputs!#REF!),0)","v":0},{"$f":"+IFERROR((G99)/($G$24),0)","v":0},{"$f":"+Proyección!F99+Proyección!G99+Proyección!H99+Proyección!I99+Proyección!J99+Proyección!K99+Proyección!L99+Proyección!M99+Proyección!N99+Proyección!O99+Proyección!P99+Proyección!Q99","v":0},{"$f":"+Ejecución!G99+Ejecución!J99+Ejecución!M99+Ejecución!P99+Ejecución!S99+Ejecución!V99+Ejecución!Y99+Ejecución!AB99+Ejecución!AE99+Ejecución!AH99+Ejecución!AK99+Ejecución!AN99","v":0},{"$f":"+IFERROR(+(F99-G99),0)","v":0}]
[null,null,2,{"$f":"+IFERROR(+IF(Inputs!#REF!=\"\",\"\",Inputs!#REF!),0)","v":0},0,{"$f":"+Proyección!F100+Proyección!G100+Proyección!H100+Proyección!I100+Proyección!J100+Proyección!K100+Proyección!L100+Proyección!M100+Proyección!N100+Proyección!O100+Proyección!P100+Proyección!Q100","v":0},{"$f":"+Ejecución!G100+Ejecución!J100+Ejecución!M100+Ejecución!P100+Ejecución!S100+Ejecución!V100+Ejecución!Y100+Ejecución!AB100+Ejecución!AE100+Ejecución!AH100+Ejecución!AK100+Ejecución!AN100","v":0},0]
[null,null,3,{"$f":"+IFERROR(+IF(Inputs!#REF!=\"\",\"\",Inputs!#REF!),0)","v":0},0,{"$f":"+Proyección!F101+Proyección!G101+Proyección!H101+Proyección!I101+Proyección!J101+Proyección!K101+Proyección!L101+Proyección!M101+Proyección!N101+Proyección!O101+Proyección!P101+Proyección!Q101","v":0},{"$f":"+Ejecución!G101+Ejecución!J101+Ejecución!M101+Ejecución!P101+Ejecución!S101+Ejecución!V101+Ejecución!Y101+Ejecución!AB101+Ejecución!AE101+Ejecución!AH101+Ejecución!AK101+Ejecución!AN101","v":0},0]
[null,null,4,{"$f":"+IFERROR(+IF(Inputs!#REF!=\"\",\"\",Inputs!#REF!),0)","v":0},0,{"$f":"+Proyección!F102+Proyección!G102+Proyección!H102+Proyección!I102+Proyección!J102+Proyección!K102+Proyección!L102+Proyección!M102+Proyección!N102+Proyección!O102+Proyección!P102+Proyección!Q102","v":0},{"$f":"+Ejecución!G102+Ejecución!J102+Ejecución!M102+Ejecución!P102+Ejecución!S102+Ejecución!V102+Ejecución!Y102+Ejecución!AB102+Ejecución!AE102+Ejecución!AH102+Ejecución!AK102+Ejecución!AN102","v":0},0]
[null,null,5,{"$f":"+IFERROR(+IF(Inputs!#REF!=\"\",\"\",Inputs!#REF!),0)","v":0},0,{"$f":"+Proyección!F103+Proyección!G103+Proyección!H103+Proyección!I103+Proyección!J103+Proyección!K103+Proyección!L103+Proyección!M103+Proyección!N103+Proyección!O103+Proyección!P103+Proyección!Q103","v":0},{"$f":"+Ejecución!G103+Ejecución!J103+Ejecución!M103+Ejecución!P103+Ejecución!S103+Ejecución!V103+Ejecución!Y103+Ejecución!AB103+Ejecución!AE103+Ejecución!AH103+Ejecución!AK103+Ejecución!AN103","v":0},0]
[null,null,6,{"$f":"+IFERROR(+IF(Inputs!#REF!=\"\",\"\",Inputs!#REF!),0)","v":0},0,{"$f":"+Proyección!F104+Proyección!G104+Proyección!H104+Proyección!I104+Proyección!J104+Proyección!K104+Proyección!L104+Proyección!M104+Proyección!N104+Proyección!O104+Proyección!P104+Proyección!Q104","v":0},{"$f":"+Ejecución!G104+Ejecución!J104+Ejecución!M104+Ejecución!P104+Ejecución!S104+Ejecución!V104+Ejecución!Y104+Ejecución!AB104+Ejecución!AE104+Ejecución!AH104+Ejecución!AK104+Ejecución!AN104","v":0},0]
[null,null,7,{"$f":"+IFERROR(+IF(Inputs!D74=\"\",\"\",Inputs!D74),0)","v":""},0,{"$f":"+Proyección!F105+Proyección!G105+Proyección!H105+Proyección!I105+Proyección!J105+Proyección!K105+Proyección!L105+Proyección!M105+Proyección!N105+Proyección!O105+Proyección!P105+Proyección!Q105","v":0},{"$f":"+Ejecución!G105+Ejecución!J105+Ejecución!M105+Ejecución!P105+Ejecución!S105+Ejecución!V105+Ejecución!Y105+Ejecución!AB105+Ejecución!AE105+Ejecución!AH105+Ejecución!AK105+Ejecución!AN105","v":0},0]
[null,null,8,{"$f":"+IFERROR(+IF(Inputs!D75=\"\",\"\",Inputs!D75),0)","v":""},0,{"$f":"+Proyección!F106+Proyección!G106+Proyección!H106+Proyección!I106+Proyección!J106+Proyección!K106+Proyección!L106+Proyección!M106+Proyección!N106+Proyección!O106+Proyección!P106+Proyección!Q106","v":0},{"$f":"+Ejecución!G106+Ejecución!J106+Ejecución!M106+Ejecución!P106+Ejecución!S106+Ejecución!V106+Ejecución!Y106+Ejecución!AB106+Ejecución!AE106+Ejecución!AH106+Ejecución!AK106+Ejecución!AN106","v":0},0]
[null,null,9,{"$f":"+IFERROR(+IF(Inputs!D76=\"\",\"\",Inputs!D76),0)","v":""},0,{"$f":"+Proyección!F107+Proyección!G107+Proyección!H107+Proyección!I107+Proyección!J107+Proyección!K107+Proyección!L107+Proyección!M107+Proyección!N107+Proyección!O107+Proyección!P107+Proyección!Q107","v":0},{"$f":"+Ejecución!G107+Ejecución!J107+Ejecución!M107+Ejecución!P107+Ejecución!S107+Ejecución!V107+Ejecución!Y107+Ejecución!AB107+Ejecución!AE107+Ejecución!AH107+Ejecución!AK107+Ejecución!AN107","v":0},0]
[null,null,10,{"$f":"+IFERROR(+IF(Inputs!D77=\"\",\"\",Inputs!D77),0)","v":""},0,{"$f":"+Proyección!F108+Proyección!G108+Proyección!H108+Proyección!I108+Proyección!J108+Proyección!K108+Proyección!L108+Proyección!M108+Proyección!N108+Proyección!O108+Proyección!P108+Proyección!Q108","v":0},{"$f":"+Ejecución!G108+Ejecución!J108+Ejecución!M108+Ejecución!P108+Ejecución!S108+Ejecución!V108+Ejecución!Y108+Ejecución!AB108+Ejecución!AE108+Ejecución!AH108+Ejecución!AK108+Ejecución!AN108","v":0},0]
[null,null,11,{"$f":"+IFERROR(+IF(Inputs!D78=\"\",\"\",Inputs!D78),0)","v":""},0,{"$f":"+Proyección!F109+Proyección!G109+Proyección!H109+Proyección!I109+Proyección!J109+Proyección!K109+Proyección!L109+Proyección!M109+Proyección!N109+Proyección!O109+Proyección!P109+Proyección!Q109","v":0},{"$f":"+Ejecución!G109+Ejecución!J109+Ejecución!M109+Ejecución!P109+Ejecución!S109+Ejecución!V109+Ejecución!Y109+Ejecución!AB109+Ejecución!AE109+Ejecución!AH109+Ejecución!AK109+Ejecución!AN109","v":0},0]
[null,null,12,{"$f":"+IFERROR(+IF(Inputs!D79=\"\",\"\",Inputs!D79),0)","v":""},0,{"$f":"+Proyección!F110+Proyección!G110+Proyección!H110+Proyección!I110+Proyección!J110+Proyección!K110+Proyección!L110+Proyección!M110+Proyección!N110+Proyección!O110+Proyección!P110+Proyección!Q110","v":0},{"$f":"+Ejecución!G110+Ejecución!J110+Ejecución!M110+Ejecución!P110+Ejecución!S110+Ejecución!V110+Ejecución!Y110+Ejecución!AB110+Ejecución!AE110+Ejecución!AH110+Ejecución!AK110+Ejecución!AN110","v":0},0]
[null,null,13,{"$f":"+IFERROR(+IF(Inputs!D80=\"\",\"\",Inputs!D80),0)","v":""},0,{"$f":"+Proyección!F111+Proyección!G111+Proyección!H111+Proyección!I111+Proyección!J111+Proyección!K111+Proyección!L111+Proyección!M111+Proyección!N111+Proyección!O111+Proyección!P111+Proyección!Q111","v":0},{"$f":"+Ejecución!G111+Ejecución!J111+Ejecución!M111+Ejecución!P111+Ejecución!S111+Ejecución!V111+Ejecución!Y111+Ejecución!AB111+Ejecución!AE111+Ejecución!AH111+Ejecución!AK111+Ejecución!AN111","v":0},0]
[null,null,14,{"$f":"+IFERROR(+IF(Inputs!D81=\"\",\"\",Inputs!D81),0)","v":""},0,{"$f":"+Proyección!F112+Proyección!G112+Proyección!H112+Proyección!I112+Proyección!J112+Proyección!K112+Proyección!L112+Proyección!M112+Proyección!N112+Proyección!O112+Proyección!P112+Proyección!Q112","v":0},{"$f":"+Ejecución!G112+Ejecución!J112+Ejecución!M112+Ejecución!P112+Ejecución!S112+Ejecución!V112+Ejecución!Y112+Ejecución!AB112+Ejecución!AE112+Ejecución!AH112+Ejecución!AK112+Ejecución!AN112","v":0},0]
[null,null,15,{"$f":"+IFERROR(+IF(Inputs!D82=\"\",\"\",Inputs!D82),0)","v":""},0,{"$f":"+Proyección!F113+Proyección!G113+Proyección!H113+Proyección!I113+Proyección!J113+Proyección!K113+Proyección!L113+Proyección!M113+Proyección!N113+Proyección!O113+Proyección!P113+Proyección!Q113","v":0},{"$f":"+Ejecución!G113+Ejecución!J113+Ejecución!M113+Ejecución!P113+Ejecución!S113+Ejecución!V113+Ejecución!Y113+Ejecución!AB113+Ejecución!AE113+Ejecución!AH113+Ejecución!AK113+Ejecución!AN113","v":0},0]
[null,null,16,{"$f":"+IFERROR(+IF(Inputs!I68=\"\",\"\",Inputs!I68),0)","v":"Abono extra Fondo de Emerg. (ejemplo)"},0,{"$f":"+Proyección!F114+Proyección!G114+Proyección!H114+Proyección!I114+Proyección!J114+Proyección!K114+Proyección!L114+Proyección!M114+Proyección!N114+Proyección!O114+Proyección!P114+Proyección!Q114","v":0},{"$f":"+Ejecución!G114+Ejecución!J114+Ejecución!M114+Ejecución!P114+Ejecución!S114+Ejecución!V114+Ejecución!Y114+Ejecución!AB114+Ejecución!AE114+Ejecución!AH114+Ejecución!AK114+Ejecución!AN114","v":0},0]
[null,null,17,{"$f":"+IFERROR(+IF(Inputs!I69=\"\",\"\",Inputs!I69),0)","v":"Seguro del vehículo (ejemplo)"},0,{"$f":"+Proyección!F115+Proyección!G115+Proyección!H115+Proyección!I115+Proyección!J115+Proyección!K115+Proyección!L115+Proyección!M115+Proyección!N115+Proyección!O115+Proyección!P115+Proyección!Q115","v":0},{"$f":"+Ejecución!G115+Ejecución!J115+Ejecución!M115+Ejecución!P115+Ejecución!S115+Ejecución!V115+Ejecución!Y115+Ejecución!AB115+Ejecución!AE115+Ejecución!AH115+Ejecución!AK115+Ejecución!AN115","v":0},0]
[null,null,18,{"$f":"+IFERROR(+IF(Inputs!I70=\"\",\"\",Inputs!I70),0)","v":""},0,{"$f":"+Proyección!F116+Proyección!G116+Proyección!H116+Proyección!I116+Proyección!J116+Proyección!K116+Proyección!L116+Proyección!M116+Proyección!N116+Proyección!O116+Proyección!P116+Proyección!Q116","v":0},{"$f":"+Ejecución!G116+Ejecución!J116+Ejecución!M116+Ejecución!P116+Ejecución!S116+Ejecución!V116+Ejecución!Y116+Ejecución!AB116+Ejecución!AE116+Ejecución!AH116+Ejecución!AK116+Ejecución!AN116","v":0},0]
[null,null,19,{"$f":"+IFERROR(+IF(Inputs!I71=\"\",\"\",Inputs!I71),0)","v":""},0,{"$f":"+Proyección!F117+Proyección!G117+Proyección!H117+Proyección!I117+Proyección!J117+Proyección!K117+Proyección!L117+Proyección!M117+Proyección!N117+Proyección!O117+Proyección!P117+Proyección!Q117","v":0},{"$f":"+Ejecución!G117+Ejecución!J117+Ejecución!M117+Ejecución!P117+Ejecución!S117+Ejecución!V117+Ejecución!Y117+Ejecución!AB117+Ejecución!AE117+Ejecución!AH117+Ejecución!AK117+Ejecución!AN117","v":0},0]
[null,null,20,{"$f":"+IFERROR(+IF(Inputs!I72=\"\",\"\",Inputs!I72),0)","v":""},0,{"$f":"+Proyección!F118+Proyección!G118+Proyección!H118+Proyección!I118+Proyección!J118+Proyección!K118+Proyección!L118+Proyección!M118+Proyección!N118+Proyección!O118+Proyección!P118+Proyección!Q118","v":0},{"$f":"+Ejecución!G118+Ejecución!J118+Ejecución!M118+Ejecución!P118+Ejecución!S118+Ejecución!V118+Ejecución!Y118+Ejecución!AB118+Ejecución!AE118+Ejecución!AH118+Ejecución!AK118+Ejecución!AN118","v":0},0]
[null,null,21,{"$f":"+IFERROR(+IF(Inputs!I73=\"\",\"\",Inputs!I73),0)","v":""},0,{"$f":"+Proyección!F119+Proyección!G119+Proyección!H119+Proyección!I119+Proyección!J119+Proyección!K119+Proyección!L119+Proyección!M119+Proyección!N119+Proyección!O119+Proyección!P119+Proyección!Q119","v":0},{"$f":"+Ejecución!G119+Ejecución!J119+Ejecución!M119+Ejecución!P119+Ejecución!S119+Ejecución!V119+Ejecución!Y119+Ejecución!AB119+Ejecución!AE119+Ejecución!AH119+Ejecución!AK119+Ejecución!AN119","v":0},0]
[null,null,22,{"$f":"+IFERROR(+IF(Inputs!I74=\"\",\"\",Inputs!I74),0)","v":""},0,{"$f":"+Proyección!F120+Proyección!G120+Proyección!H120+Proyección!I120+Proyección!J120+Proyección!K120+Proyección!L120+Proyección!M120+Proyección!N120+Proyección!O120+Proyección!P120+Proyección!Q120","v":0},{"$f":"+Ejecución!G120+Ejecución!J120+Ejecución!M120+Ejecución!P120+Ejecución!S120+Ejecución!V120+Ejecución!Y120+Ejecución!AB120+Ejecución!AE120+Ejecución!AH120+Ejecución!AK120+Ejecución!AN120","v":0},0]
[null,null,23,{"$f":"+IFERROR(+IF(Inputs!I75=\"\",\"\",Inputs!I75),0)","v":""},0,{"$f":"+Proyección!F121+Proyección!G121+Proyección!H121+Proyección!I121+Proyección!J121+Proyección!K121+Proyección!L121+Proyección!M121+Proyección!N121+Proyección!O121+Proyección!P121+Proyección!Q121","v":0},{"$f":"+Ejecución!G121+Ejecución!J121+Ejecución!M121+Ejecución!P121+Ejecución!S121+Ejecución!V121+Ejecución!Y121+Ejecución!AB121+Ejecución!AE121+Ejecución!AH121+Ejecución!AK121+Ejecución!AN121","v":0},0]
[null,null,24,{"$f":"+IFERROR(+IF(Inputs!I76=\"\",\"\",Inputs!I76),0)","v":""},0,{"$f":"+Proyección!F122+Proyección!G122+Proyección!H122+Proyección!I122+Proyección!J122+Proyección!K122+Proyección!L122+Proyección!M122+Proyección!N122+Proyección!O122+Proyección!P122+Proyección!Q122","v":0},{"$f":"+Ejecución!G122+Ejecución!J122+Ejecución!M122+Ejecución!P122+Ejecución!S122+Ejecución!V122+Ejecución!Y122+Ejecución!AB122+Ejecución!AE122+Ejecución!AH122+Ejecución!AK122+Ejecución!AN122","v":0},0]
[null,null,25,{"$f":"+IFERROR(+IF(Inputs!I77=\"\",\"\",Inputs!I77),0)","v":""},0,{"$f":"+Proyección!F123+Proyección!G123+Proyección!H123+Proyección!I123+Proyección!J123+Proyección!K123+Proyección!L123+Proyección!M123+Proyección!N123+Proyección!O123+Proyección!P123+Proyección!Q123","v":0},{"$f":"+Ejecución!G123+Ejecución!J123+Ejecución!M123+Ejecución!P123+Ejecución!S123+Ejecución!V123+Ejecución!Y123+Ejecución!AB123+Ejecución!AE123+Ejecución!AH123+Ejecución!AK123+Ejecución!AN123","v":0},0]
[null,null,26,{"$f":"+IFERROR(+IF(Inputs!I78=\"\",\"\",Inputs!I78),0)","v":""},0,{"$f":"+Proyección!F124+Proyección!G124+Proyección!H124+Proyección!I124+Proyección!J124+Proyección!K124+Proyección!L124+Proyección!M124+Proyección!N124+Proyección!O124+Proyección!P124+Proyección!Q124","v":0},{"$f":"+Ejecución!G124+Ejecución!J124+Ejecución!M124+Ejecución!P124+Ejecución!S124+Ejecución!V124+Ejecución!Y124+Ejecución!AB124+Ejecución!AE124+Ejecución!AH124+Ejecución!AK124+Ejecución!AN124","v":0},0]
[null,null,27,{"$f":"+IFERROR(+IF(Inputs!I79=\"\",\"\",Inputs!I79),0)","v":""},0,{"$f":"+Proyección!F125+Proyección!G125+Proyección!H125+Proyección!I125+Proyección!J125+Proyección!K125+Proyección!L125+Proyección!M125+Proyección!N125+Proyección!O125+Proyección!P125+Proyección!Q125","v":0},{"$f":"+Ejecución!G125+Ejecución!J125+Ejecución!M125+Ejecución!P125+Ejecución!S125+Ejecución!V125+Ejecución!Y125+Ejecución!AB125+Ejecución!AE125+Ejecución!AH125+Ejecución!AK125+Ejecución!AN125","v":0},0]
[null,null,28,{"$f":"+IFERROR(+IF(Inputs!I80=\"\",\"\",Inputs!I80),0)","v":""},0,{"$f":"+Proyección!F126+Proyección!G126+Proyección!H126+Proyección!I126+Proyección!J126+Proyección!K126+Proyección!L126+Proyección!M126+Proyección!N126+Proyección!O126+Proyección!P126+Proyección!Q126","v":0},{"$f":"+Ejecución!G126+Ejecución!J126+Ejecución!M126+Ejecución!P126+Ejecución!S126+Ejecución!V126+Ejecución!Y126+Ejecución!AB126+Ejecución!AE126+Ejecución!AH126+Ejecución!AK126+Ejecución!AN126","v":0},0]
[null,null,29,{"$f":"+IFERROR(+IF(Inputs!I81=\"\",\"\",Inputs!I81),0)","v":""},0,{"$f":"+Proyección!F127+Proyección!G127+Proyección!H127+Proyección!I127+Proyección!J127+Proyección!K127+Proyección!L127+Proyección!M127+Proyección!N127+Proyección!O127+Proyección!P127+Proyección!Q127","v":0},{"$f":"+Ejecución!G127+Ejecución!J127+Ejecución!M127+Ejecución!P127+Ejecución!S127+Ejecución!V127+Ejecución!Y127+Ejecución!AB127+Ejecución!AE127+Ejecución!AH127+Ejecución!AK127+Ejecución!AN127","v":0},0]
[null,null,30,{"$f":"+IFERROR(+IF(Inputs!I82=\"\",\"\",Inputs!I82),0)","v":""},0,{"$f":"+Proyección!F128+Proyección!G128+Proyección!H128+Proyección!I128+Proyección!J128+Proyección!K128+Proyección!L128+Proyección!M128+Proyección!N128+Proyección!O128+Proyección!P128+Proyección!Q128","v":0},{"$f":"+Ejecución!G128+Ejecución!J128+Ejecución!M128+Ejecución!P128+Ejecución!S128+Ejecución!V128+Ejecución!Y128+Ejecución!AB128+Ejecución!AE128+Ejecución!AH128+Ejecución!AK128+Ejecución!AN128","v":0},0]
[null,null,"Resumen","GASTOS NECESARIOS",0,{"$f":"+SUM(F99:F128)","v":0},{"$f":"+SUM(G99:G128)","v":0},{"$f":"+IFERROR(+(F129-G129),0)","v":0}]
[null,null,null,1]
[null,null,1,{"$f":"+IFERROR(+IF(Inputs!#REF!=\"\",\"\",Inputs!#REF!),0)","v":0},0,{"$f":"+Proyección!F131+Proyección!G131+Proyección!H131+Proyección!I131+Proyección!J131+Proyección!K131+Proyección!L131+Proyección!M131+Proyección!N131+Proyección!O131+Proyección!P131+Proyección!Q131","v":0},{"$f":"+Ejecución!G131+Ejecución!J131+Ejecución!M131+Ejecución!P131+Ejecución!S131+Ejecución!V131+Ejecución!Y131+Ejecución!AB131+Ejecución!AE131+Ejecución!AH131+Ejecución!AK131+Ejecución!AN131","v":0},{"$f":"+IFERROR(+(F131-G131),0)","v":0}]
[null,null,2,{"$f":"+IFERROR(+IF(Inputs!D88=\"\",\"\",Inputs!D88),0)","v":"Diversión  (ejemplo)"},0,{"$f":"+Proyección!F132+Proyección!G132+Proyección!H132+Proyección!I132+Proyección!J132+Proyección!K132+Proyección!L132+Proyección!M132+Proyección!N132+Proyección!O132+Proyección!P132+Proyección!Q132","v":0},{"$f":"+Ejecución!G132+Ejecución!J132+Ejecución!M132+Ejecución!P132+Ejecución!S132+Ejecución!V132+Ejecución!Y132+Ejecución!AB132+Ejecución!AE132+Ejecución!AH132+Ejecución!AK132+Ejecución!AN132","v":0},0]
[null,null,3,{"$f":"+IFERROR(+IF(Inputs!D89=\"\",\"\",Inputs!D89),0)","v":"Domicilios  (ejemplo)"},0,{"$f":"+Proyección!F133+Proyección!G133+Proyección!H133+Proyección!I133+Proyección!J133+Proyección!K133+Proyección!L133+Proyección!M133+Proyección!N133+Proyección!O133+Proyección!P133+Proyección!Q133","v":0},{"$f":"+Ejecución!G133+Ejecución!J133+Ejecución!M133+Ejecución!P133+Ejecución!S133+Ejecución!V133+Ejecución!Y133+Ejecución!AB133+Ejecución!AE133+Ejecución!AH133+Ejecución!AK133+Ejecución!AN133","v":0},0]
[null,null,4,{"$f":"+IFERROR(+IF(Inputs!D90=\"\",\"\",Inputs!D90),0)","v":""},0,{"$f":"+Proyección!F134+Proyección!G134+Proyección!H134+Proyección!I134+Proyección!J134+Proyección!K134+Proyección!L134+Proyección!M134+Proyección!N134+Proyección!O134+Proyección!P134+Proyección!Q134","v":0},{"$f":"+Ejecución!G134+Ejecución!J134+Ejecución!M134+Ejecución!P134+Ejecución!S134+Ejecución!V134+Ejecución!Y134+Ejecución!AB134+Ejecución!AE134+Ejecución!AH134+Ejecución!AK134+Ejecución!AN134","v":0},0]
[null,null,5,{"$f":"+IFERROR(+IF(Inputs!D91=\"\",\"\",Inputs!D91),0)","v":""},0,{"$f":"+Proyección!F135+Proyección!G135+Proyección!H135+Proyección!I135+Proyección!J135+Proyección!K135+Proyección!L135+Proyección!M135+Proyección!N135+Proyección!O135+Proyección!P135+Proyección!Q135","v":0},{"$f":"+Ejecución!G135+Ejecución!J135+Ejecución!M135+Ejecución!P135+Ejecución!S135+Ejecución!V135+Ejecución!Y135+Ejecución!AB135+Ejecución!AE135+Ejecución!AH135+Ejecución!AK135+Ejecución!AN135","v":0},0]
[null,null,6,{"$f":"+IFERROR(+IF(Inputs!D92=\"\",\"\",Inputs!D92),0)","v":""},0,{"$f":"+Proyección!F136+Proyección!G136+Proyección!H136+Proyección!I136+Proyección!J136+Proyección!K136+Proyección!L136+Proyección!M136+Proyección!N136+Proyección!O136+Proyección!P136+Proyección!Q136","v":0},{"$f":"+Ejecución!G136+Ejecución!J136+Ejecución!M136+Ejecución!P136+Ejecución!S136+Ejecución!V136+Ejecución!Y136+Ejecución!AB136+Ejecución!AE136+Ejecución!AH136+Ejecución!AK136+Ejecución!AN136","v":0},0]
[null,null,7,{"$f":"+IFERROR(+IF(Inputs!D93=\"\",\"\",Inputs!D93),0)","v":""},0,{"$f":"+Proyección!F137+Proyección!G137+Proyección!H137+Proyección!I137+Proyección!J137+Proyección!K137+Proyección!L137+Proyección!M137+Proyección!N137+Proyección!O137+Proyección!P137+Proyección!Q137","v":0},{"$f":"+Ejecución!G137+Ejecución!J137+Ejecución!M137+Ejecución!P137+Ejecución!S137+Ejecución!V137+Ejecución!Y137+Ejecución!AB137+Ejecución!AE137+Ejecución!AH137+Ejecución!AK137+Ejecución!AN137","v":0},0]
[null,null,8,{"$f":"+IFERROR(+IF(Inputs!D94=\"\",\"\",Inputs!D94),0)","v":""},0,{"$f":"+Proyección!F138+Proyección!G138+Proyección!H138+Proyección!I138+Proyección!J138+Proyección!K138+Proyección!L138+Proyección!M138+Proyección!N138+Proyección!O138+Proyección!P138+Proyección!Q138","v":0},{"$f":"+Ejecución!G138+Ejecución!J138+Ejecución!M138+Ejecución!P138+Ejecución!S138+Ejecución!V138+Ejecución!Y138+Ejecución!AB138+Ejecución!AE138+Ejecución!AH138+Ejecución!AK138+Ejecución!AN138","v":0},0]
[null,null,9,{"$f":"+IFERROR(+IF(Inputs!D95=\"\",\"\",Inputs!D95),0)","v":""},0,{"$f":"+Proyección!F139+Proyección!G139+Proyección!H139+Proyección!I139+Proyección!J139+Proyección!K139+Proyección!L139+Proyección!M139+Proyección!N139+Proyección!O139+Proyección!P139+Proyección!Q139","v":0},{"$f":"+Ejecución!G139+Ejecución!J139+Ejecución!M139+Ejecución!P139+Ejecución!S139+Ejecución!V139+Ejecución!Y139+Ejecución!AB139+Ejecución!AE139+Ejecución!AH139+Ejecución!AK139+Ejecución!AN139","v":0},0]
[null,null,10,{"$f":"+IFERROR(+IF(Inputs!D96=\"\",\"\",Inputs!D96),0)","v":""},0,{"$f":"+Proyección!F140+Proyección!G140+Proyección!H140+Proyección!I140+Proyección!J140+Proyección!K140+Proyección!L140+Proyección!M140+Proyección!N140+Proyección!O140+Proyección!P140+Proyección!Q140","v":0},{"$f":"+Ejecución!G140+Ejecución!J140+Ejecución!M140+Ejecución!P140+Ejecución!S140+Ejecución!V140+Ejecución!Y140+Ejecución!AB140+Ejecución!AE140+Ejecución!AH140+Ejecución!AK140+Ejecución!AN140","v":0},0]
[null,null,11,{"$f":"+IFERROR(+IF(Inputs!D97=\"\",\"\",Inputs!D97),0)","v":""},0,{"$f":"+Proyección!F141+Proyección!G141+Proyección!H141+Proyección!I141+Proyección!J141+Proyección!K141+Proyección!L141+Proyección!M141+Proyección!N141+Proyección!O141+Proyección!P141+Proyección!Q141","v":0},{"$f":"+Ejecución!G141+Ejecución!J141+Ejecución!M141+Ejecución!P141+Ejecución!S141+Ejecución!V141+Ejecución!Y141+Ejecución!AB141+Ejecución!AE141+Ejecución!AH141+Ejecución!AK141+Ejecución!AN141","v":0},0]
[null,null,12,{"$f":"+IFERROR(+IF(Inputs!D98=\"\",\"\",Inputs!D98),0)","v":""},0,{"$f":"+Proyección!F142+Proyección!G142+Proyección!H142+Proyección!I142+Proyección!J142+Proyección!K142+Proyección!L142+Proyección!M142+Proyección!N142+Proyección!O142+Proyección!P142+Proyección!Q142","v":0},{"$f":"+Ejecución!G142+Ejecución!J142+Ejecución!M142+Ejecución!P142+Ejecución!S142+Ejecución!V142+Ejecución!Y142+Ejecución!AB142+Ejecución!AE142+Ejecución!AH142+Ejecución!AK142+Ejecución!AN142","v":0},0]
[null,null,13,{"$f":"+IFERROR(+IF(Inputs!D99=\"\",\"\",Inputs!D99),0)","v":""},0,{"$f":"+Proyección!F143+Proyección!G143+Proyección!H143+Proyección!I143+Proyección!J143+Proyección!K143+Proyección!L143+Proyección!M143+Proyección!N143+Proyección!O143+Proyección!P143+Proyección!Q143","v":0},{"$f":"+Ejecución!G143+Ejecución!J143+Ejecución!M143+Ejecución!P143+Ejecución!S143+Ejecución!V143+Ejecución!Y143+Ejecución!AB143+Ejecución!AE143+Ejecución!AH143+Ejecución!AK143+Ejecución!AN143","v":0},0]
[null,null,14,{"$f":"+IFERROR(+IF(Inputs!D100=\"\",\"\",Inputs!D100),0)","v":""},0,{"$f":"+Proyección!F144+Proyección!G144+Proyección!H144+Proyección!I144+Proyección!J144+Proyección!K144+Proyección!L144+Proyección!M144+Proyección!N144+Proyección!O144+Proyección!P144+Proyección!Q144","v":0},{"$f":"+Ejecución!G144+Ejecución!J144+Ejecución!M144+Ejecución!P144+Ejecución!S144+Ejecución!V144+Ejecución!Y144+Ejecución!AB144+Ejecución!AE144+Ejecución!AH144+Ejecución!AK144+Ejecución!AN144","v":0},0]
[null,null,15,{"$f":"+IFERROR(+IF(Inputs!D101=\"\",\"\",Inputs!D101),0)","v":""},0,{"$f":"+Proyección!F145+Proyección!G145+Proyección!H145+Proyección!I145+Proyección!J145+Proyección!K145+Proyección!L145+Proyección!M145+Proyección!N145+Proyección!O145+Proyección!P145+Proyección!Q145","v":0},{"$f":"+Ejecución!G145+Ejecución!J145+Ejecución!M145+Ejecución!P145+Ejecución!S145+Ejecución!V145+Ejecución!Y145+Ejecución!AB145+Ejecución!AE145+Ejecución!AH145+Ejecución!AK145+Ejecución!AN145","v":0},0]
[null,null,16,{"$f":"+IFERROR(+IF(Inputs!I87=\"\",\"\",Inputs!I87),0)","v":"Vacaciones  (ejemplo)"},0,{"$f":"+Proyección!F146+Proyección!G146+Proyección!H146+Proyección!I146+Proyección!J146+Proyección!K146+Proyección!L146+Proyección!M146+Proyección!N146+Proyección!O146+Proyección!P146+Proyección!Q146","v":0},{"$f":"+Ejecución!G146+Ejecución!J146+Ejecución!M146+Ejecución!P146+Ejecución!S146+Ejecución!V146+Ejecución!Y146+Ejecución!AB146+Ejecución!AE146+Ejecución!AH146+Ejecución!AK146+Ejecución!AN146","v":0},0]
[null,null,17,{"$f":"+IFERROR(+IF(Inputs!I88=\"\",\"\",Inputs!I88),0)","v":"Regalos de navidad  (ejemplo)"},0,{"$f":"+Proyección!F147+Proyección!G147+Proyección!H147+Proyección!I147+Proyección!J147+Proyección!K147+Proyección!L147+Proyección!M147+Proyección!N147+Proyección!O147+Proyección!P147+Proyección!Q147","v":0},{"$f":"+Ejecución!G147+Ejecución!J147+Ejecución!M147+Ejecución!P147+Ejecución!S147+Ejecución!V147+Ejecución!Y147+Ejecución!AB147+Ejecución!AE147+Ejecución!AH147+Ejecución!AK147+Ejecución!AN147","v":0},0]
[null,null,18,{"$f":"+IFERROR(+IF(Inputs!I89=\"\",\"\",Inputs!I89),0)","v":""},0,{"$f":"+Proyección!F148+Proyección!G148+Proyección!H148+Proyección!I148+Proyección!J148+Proyección!K148+Proyección!L148+Proyección!M148+Proyección!N148+Proyección!O148+Proyección!P148+Proyección!Q148","v":0},{"$f":"+Ejecución!G148+Ejecución!J148+Ejecución!M148+Ejecución!P148+Ejecución!S148+Ejecución!V148+Ejecución!Y148+Ejecución!AB148+Ejecución!AE148+Ejecución!AH148+Ejecución!AK148+Ejecución!AN148","v":0},0]
[null,null,19,{"$f":"+IFERROR(+IF(Inputs!I90=\"\",\"\",Inputs!I90),0)","v":""},0,{"$f":"+Proyección!F149+Proyección!G149+Proyección!H149+Proyección!I149+Proyección!J149+Proyección!K149+Proyección!L149+Proyección!M149+Proyección!N149+Proyección!O149+Proyección!P149+Proyección!Q149","v":0},{"$f":"+Ejecución!G149+Ejecución!J149+Ejecución!M149+Ejecución!P149+Ejecución!S149+Ejecución!V149+Ejecución!Y149+Ejecución!AB149+Ejecución!AE149+Ejecución!AH149+Ejecución!AK149+Ejecución!AN149","v":0},0]
[null,null,20,{"$f":"+IFERROR(+IF(Inputs!I91=\"\",\"\",Inputs!I91),0)","v":""},0,{"$f":"+Proyección!F150+Proyección!G150+Proyección!H150+Proyección!I150+Proyección!J150+Proyección!K150+Proyección!L150+Proyección!M150+Proyección!N150+Proyección!O150+Proyección!P150+Proyección!Q150","v":0},{"$f":"+Ejecución!G150+Ejecución!J150+Ejecución!M150+Ejecución!P150+Ejecución!S150+Ejecución!V150+Ejecución!Y150+Ejecución!AB150+Ejecución!AE150+Ejecución!AH150+Ejecución!AK150+Ejecución!AN150","v":0},0]
[null,null,21,{"$f":"+IFERROR(+IF(Inputs!I92=\"\",\"\",Inputs!I92),0)","v":""},0,{"$f":"+Proyección!F151+Proyección!G151+Proyección!H151+Proyección!I151+Proyección!J151+Proyección!K151+Proyección!L151+Proyección!M151+Proyección!N151+Proyección!O151+Proyección!P151+Proyección!Q151","v":0},{"$f":"+Ejecución!G151+Ejecución!J151+Ejecución!M151+Ejecución!P151+Ejecución!S151+Ejecución!V151+Ejecución!Y151+Ejecución!AB151+Ejecución!AE151+Ejecución!AH151+Ejecución!AK151+Ejecución!AN151","v":0},0]
[null,null,22,{"$f":"+IFERROR(+IF(Inputs!I93=\"\",\"\",Inputs!I93),0)","v":""},0,{"$f":"+Proyección!F152+Proyección!G152+Proyección!H152+Proyección!I152+Proyección!J152+Proyección!K152+Proyección!L152+Proyección!M152+Proyección!N152+Proyección!O152+Proyección!P152+Proyección!Q152","v":0},{"$f":"+Ejecución!G152+Ejecución!J152+Ejecución!M152+Ejecución!P152+Ejecución!S152+Ejecución!V152+Ejecución!Y152+Ejecución!AB152+Ejecución!AE152+Ejecución!AH152+Ejecución!AK152+Ejecución!AN152","v":0},0]
[null,null,23,{"$f":"+IFERROR(+IF(Inputs!I94=\"\",\"\",Inputs!I94),0)","v":""},0,{"$f":"+Proyección!F153+Proyección!G153+Proyección!H153+Proyección!I153+Proyección!J153+Proyección!K153+Proyección!L153+Proyección!M153+Proyección!N153+Proyección!O153+Proyección!P153+Proyección!Q153","v":0},{"$f":"+Ejecución!G153+Ejecución!J153+Ejecución!M153+Ejecución!P153+Ejecución!S153+Ejecución!V153+Ejecución!Y153+Ejecución!AB153+Ejecución!AE153+Ejecución!AH153+Ejecución!AK153+Ejecución!AN153","v":0},0]
[null,null,24,{"$f":"+IFERROR(+IF(Inputs!I95=\"\",\"\",Inputs!I95),0)","v":""},0,{"$f":"+Proyección!F154+Proyección!G154+Proyección!H154+Proyección!I154+Proyección!J154+Proyección!K154+Proyección!L154+Proyección!M154+Proyección!N154+Proyección!O154+Proyección!P154+Proyección!Q154","v":0},{"$f":"+Ejecución!G154+Ejecución!J154+Ejecución!M154+Ejecución!P154+Ejecución!S154+Ejecución!V154+Ejecución!Y154+Ejecución!AB154+Ejecución!AE154+Ejecución!AH154+Ejecución!AK154+Ejecución!AN154","v":0},0]
[null,null,25,{"$f":"+IFERROR(+IF(Inputs!I96=\"\",\"\",Inputs!I96),0)","v":""},0,{"$f":"+Proyección!F155+Proyección!G155+Proyección!H155+Proyección!I155+Proyección!J155+Proyección!K155+Proyección!L155+Proyección!M155+Proyección!N155+Proyección!O155+Proyección!P155+Proyección!Q155","v":0},{"$f":"+Ejecución!G155+Ejecución!J155+Ejecución!M155+Ejecución!P155+Ejecución!S155+Ejecución!V155+Ejecución!Y155+Ejecución!AB155+Ejecución!AE155+Ejecución!AH155+Ejecución!AK155+Ejecución!AN155","v":0},0]
[null,null,26,{"$f":"+IFERROR(+IF(Inputs!I97=\"\",\"\",Inputs!I97),0)","v":""},0,{"$f":"+Proyección!F156+Proyección!G156+Proyección!H156+Proyección!I156+Proyección!J156+Proyección!K156+Proyección!L156+Proyección!M156+Proyección!N156+Proyección!O156+Proyección!P156+Proyección!Q156","v":0},{"$f":"+Ejecución!G156+Ejecución!J156+Ejecución!M156+Ejecución!P156+Ejecución!S156+Ejecución!V156+Ejecución!Y156+Ejecución!AB156+Ejecución!AE156+Ejecución!AH156+Ejecución!AK156+Ejecución!AN156","v":0},0]
[null,null,27,{"$f":"+IFERROR(+IF(Inputs!I98=\"\",\"\",Inputs!I98),0)","v":""},0,{"$f":"+Proyección!F157+Proyección!G157+Proyección!H157+Proyección!I157+Proyección!J157+Proyección!K157+Proyección!L157+Proyección!M157+Proyección!N157+Proyección!O157+Proyección!P157+Proyección!Q157","v":0},{"$f":"+Ejecución!G157+Ejecución!J157+Ejecución!M157+Ejecución!P157+Ejecución!S157+Ejecución!V157+Ejecución!Y157+Ejecución!AB157+Ejecución!AE157+Ejecución!AH157+Ejecución!AK157+Ejecución!AN157","v":0},0]
[null,null,28,{"$f":"+IFERROR(+IF(Inputs!I99=\"\",\"\",Inputs!I99),0)","v":""},0,{"$f":"+Proyección!F158+Proyección!G158+Proyección!H158+Proyección!I158+Proyección!J158+Proyección!K158+Proyección!L158+Proyección!M158+Proyección!N158+Proyección!O158+Proyección!P158+Proyección!Q158","v":0},{"$f":"+Ejecución!G158+Ejecución!J158+Ejecución!M158+Ejecución!P158+Ejecución!S158+Ejecución!V158+Ejecución!Y158+Ejecución!AB158+Ejecución!AE158+Ejecución!AH158+Ejecución!AK158+Ejecución!AN158","v":0},0]
[null,null,29,{"$f":"+IFERROR(+IF(Inputs!I100=\"\",\"\",Inputs!I100),0)","v":""},0,{"$f":"+Proyección!F159+Proyección!G159+Proyección!H159+Proyección!I159+Proyección!J159+Proyección!K159+Proyección!L159+Proyección!M159+Proyección!N159+Proyección!O159+Proyección!P159+Proyección!Q159","v":0},{"$f":"+Ejecución!G159+Ejecución!J159+Ejecución!M159+Ejecución!P159+Ejecución!S159+Ejecución!V159+Ejecución!Y159+Ejecución!AB159+Ejecución!AE159+Ejecución!AH159+Ejecución!AK159+Ejecución!AN159","v":0},0]
[null,null,30,{"$f":"+IFERROR(+IF(Inputs!I101=\"\",\"\",Inputs!I101),0)","v":""},0,{"$f":"+Proyección!F160+Proyección!G160+Proyección!H160+Proyección!I160+Proyección!J160+Proyección!K160+Proyección!L160+Proyección!M160+Proyección!N160+Proyección!O160+Proyección!P160+Proyección!Q160","v":0},{"$f":"+Ejecución!G160+Ejecución!J160+Ejecución!M160+Ejecución!P160+Ejecución!S160+Ejecución!V160+Ejecución!Y160+Ejecución!AB160+Ejecución!AE160+Ejecución!AH160+Ejecución!AK160+Ejecución!AN160","v":0},0]
[null,null,"Resumen","GASTOS PRESCINDIBLES/DISFRUTE",0,{"$f":"+SUM(F131:F160)","v":0},{"$f":"+SUM(G131:G160)","v":0},{"$f":"+IFERROR(+(F161-G161),0)","v":0}]
[null,null,"Resumen",1]
[null,null,"Resumen","TOTAL SALIDAS (AHORRO + GASTOS)",null,{"$f":"+F37+F52+F63+F96+F129+F161","v":0},{"$f":"+G37+G52+G63+G96+G129+G161","v":0},{"$f":"+IFERROR(+(F163-G163),0)","v":0}]
[null,null,"Resumen",1]
[null,null,"Resumen",1]
[null,null,"Resumen","     SALDO FINAL / FLUJO DE CAJA",null,{"$f":"+F9+F24-F163","v":0},{"$f":"+G9+G24-G163","v":0},{"$f":"IFERROR((IF(G166>0,(F166+G166),(G166-F166))),0)","v":0}]
[null,null,"Resumen",1]
[null,null,"Resumen",1]
[null,null,"Resumen",1,"Saldo año anterior"]
[null,null,"Resumen","RESERVAS"]
[null,null,"Resumen","Ahorro",{"$f":"+Proyección!E171","v":0},{"$f":"+E171+F37","v":0},{"$f":"+E171+G37","v":0},{"$f":"+IFERROR(+(F171-G171),0)","v":0}]
[null,null,null,"Fondo de Emergencia",{"$f":"+Proyección!E172","v":0},{"$f":"+E172+VLOOKUP($D$172,$D$12:$F$160,3,0)","v":{"$error":"#N/A"}},{"$f":"+E172+VLOOKUP($D$172,$D$12:$G$160,4,0)","v":{"$error":"#N/A"}},{"$f":"+IFERROR(+(F172-G172),0)","v":0}]
[null,null,null,"Provisiones",{"$f":"+Proyección!E173","v":0},0,0,{"$f":"+IFERROR(+(F173-G173),0)","v":0}]
[null,null,"Resumen",1]
[null,null,"Resumen","INDICADORES"]
[null,null,"Resumen","Nivel de endeudamiento","-",{"$f":"+IFERROR(F52/F24,0)","v":0},{"$f":"+IFERROR(G52/G24,0)","v":0},"-"]
[null,null,"Resumen","Capacidad de endeudamiento","-",{"$f":"+IFERROR(IF(F166<=0,0,(F166*35%)),0)","v":0},{"$f":"+IFERROR(IF(G166<=0,0,(G166*35%)),0)","v":0},"-"]
[null,null,"Resumen","Variación  real vs presupuestado","-","-","-",{"$f":"+IFERROR((H166-F166)/F166,0)","v":0}]
[null,null,"Resumen",1]
[null,null,"Resumen",1]
[null,null,"Resumen",1]

{"sheet":"Resumen Sem E","index":9,"n_rows":180,"n_cols":11,"rows_kept":180,"cut":false,"hidden":false,"merged":[[165,3,165,4]]}
[null,null,null,1]
[null,null,null,1]
[null,null,null,1]
[null,null,null,1]
[null,null,null,1]
[null,null,"Resumen","Concepto","% del Ingreso Ejecución Real","Semestre I  Presupuesto","Semestre I \nReal","Diferencia\nSemestre I","Semestre II  Presupuesto","Semestre II \nReal","Diferencia\nSemestre II"]
[null,null,null,1]
[null,null,"Resumen",1]
[null,null,"Resumen","SALDO INICIAL",null,0,0,{"$f":"IFERROR((IF(G9>0,(F9+G9),(G9-F9))),0)","v":0},{"$f":"+F166","v":0},{"$f":"+G166","v":0},{"$f":"IFERROR((IF(J9>0,(I9+J9),(J9-I9))),0)","v":0}]
[null,null,"Resumen",1]
[null,null,null,1]
[null,null,1,{"$f":"+IFERROR(+IF(Inputs!D12=\"\",\"\",Inputs!D12),0)","v":"Salario Luisa (ejemplo)"},{"$f":"+IFERROR((G12+J12)/($G$24+$J$24),0)","v":0},{"$f":"+Proyección!F12+Proyección!G12+Proyección!H12+Proyección!I12+Proyección!J12+Proyección!K12","v":0},{"$f":"+Ejecución!G12+Ejecución!J12+Ejecución!M12+Ejecución!P12+Ejecución!S12+Ejecución!V12","v":0},{"$f":"+IFERROR(-(F12-G12),0)","v":0},{"$f":"+Proyección!L12+Proyección!M12+Proyección!N12+Proyección!O12+Proyección!P12+Proyección!Q12","v":0},{"$f":"+Ejecución!Y12+Ejecución!AB12+Ejecución!AE12+Ejecución!AH12+Ejecución!AK12+Ejecución!AN12","v":0},{"$f":"+IFERROR(-(I12-J12),0)","v":0}]
[null,null,2,{"$f":"+IFERROR(+IF(Inputs!D13=\"\",\"\",Inputs!D13),0)","v":"Salario Tomás  (ejemplo)"},{"$f":"+IFERROR((G13+J13)/($G$24+$J$24),0)","v":0},{"$f":"+Proyección!F13+Proyección!G13+Proyección!H13+Proyección!I13+Proyección!J13+Proyección!K13","v":0},{"$f":"+Ejecución!G13+Ejecución!J13+Ejecución!M13+Ejecución!P13+Ejecución!S13+Ejecución!V13","v":0},{"$f":"+IFERROR(-(F13-G13),0)","v":0},{"$f":"+Proyección!L13+Proyección!M13+Proyección!N13+Proyección!O13+Proyección!P13+Proyección!Q13","v":0},{"$f":"+Ejecución!Y13+Ejecución!AB13+Ejecución!AE13+Ejecución!AH13+Ejecución!AK13+Ejecución!AN13","v":0},{"$f":"+IFERROR(-(I13-J13),0)","v":0}]
[null,null,3,{"$f":"+IFERROR(+IF(Inputs!D14=\"\",\"\",Inputs!D14),0)","v":""},0,{"$f":"+Proyección!F14+Proyección!G14+Proyección!H14+Proyección!I14+Proyección!J14+Proyección!K14","v":0},{"$f":"+Ejecución!G14+Ejecución!J14+Ejecución!M14+Ejecución!P14+Ejecución!S14+Ejecución!V14","v":0},0,{"$f":"+Proyección!L14+Proyección!M14+Proyección!N14+Proyección!O14+Proyección!P14+Proyección!Q14","v":0},{"$f":"+Ejecución!Y14+Ejecución!AB14+Ejecución!AE14+Ejecución!AH14+Ejecución!AK14+Ejecución!AN14","v":0},0]
[null,null,4,{"$f":"+IFERROR(+IF(Inputs!D15=\"\",\"\",Inputs!D15),0)","v":""},0,{"$f":"+Proyección!F15+Proyección!G15+Proyección!H15+Proyección!I15+Proyección!J15+Proyección!K15","v":0},{"$f":"+Ejecución!G15+Ejecución!J15+Ejecución!M15+Ejecución!P15+Ejecución!S15+Ejecución!V15","v":0},0,{"$f":"+Proyección!L15+Proyección!M15+Proyección!N15+Proyección!O15+Proyección!P15+Proyección!Q15","v":0},{"$f":"+Ejecución!Y15+Ejecución!AB15+Ejecución!AE15+Ejecución!AH15+Ejecución!AK15+Ejecución!AN15","v":0},0]
[null,null,5,{"$f":"+IFERROR(+IF(Inputs!D16=\"\",\"\",Inputs!D16),0)","v":""},0,{"$f":"+Proyección!F16+Proyección!G16+Proyección!H16+Proyección!I16+Proyección!J16+Proyección!K16","v":0},{"$f":"+Ejecución!G16+Ejecución!J16+Ejecución!M16+Ejecución!P16+Ejecución!S16+Ejecución!V16","v":0},0,{"$f":"+Proyección!L16+Proyección!M16+Proyección!N16+Proyección!O16+Proyección!P16+Proyección!Q16","v":0},{"$f":"+Ejecución!Y16+Ejecución!AB16+Ejecución!AE16+Ejecución!AH16+Ejecución!AK16+Ejecución!AN16","v":0},0]
[null,null,6,{"$f":"+IFERROR(+IF(Inputs!D17=\"\",\"\",Inputs!D17),0)","v":""},0,{"$f":"+Proyección!F17+Proyección!G17+Proyección!H17+Proyección!I17+Proyección!J17+Proyección!K17","v":0},{"$f":"+Ejecución!G17+Ejecución!J17+Ejecución!M17+Ejecución!P17+Ejecución!S17+Ejecución!V17","v":0},0,{"$f":"+Proyección!L17+Proyección!M17+Proyección!N17+Proyección!O17+Proyección!P17+Proyección!Q17","v":0},{"$f":"+Ejecución!Y17+Ejecución!AB17+Ejecución!AE17+Ejecución!AH17+Ejecución!AK17+Ejecución!AN17","v":0},0]
[null,null,7,{"$f":"+IFERROR(+IF(Inputs!I12=\"\",\"\",Inputs!I12),0)","v":"Prima Luisa  (ejemplo)"},0,{"$f":"+Proyección!F18+Proyección!G18+Proyección!H18+Proyección!I18+Proyección!J18+Proyección!K18","v":0},{"$f":"+Ejecución!G18+Ejecución!J18+Ejecución!M18+Ejecución!P18+Ejecución!S18+Ejecución!V18","v":0},0,{"$f":"+Proyección!L18+Proyección!M18+Proyección!N18+Proyección!O18+Proyección!P18+Proyección!Q18","v":0},{"$f":"+Ejecución!Y18+Ejecución!AB18+Ejecución!AE18+Ejecución!AH18+Ejecución!AK18+Ejecución!AN18","v":0},0]
[null,null,8,{"$f":"+IFERROR(+IF(Inputs!I13=\"\",\"\",Inputs!I13),0)","v":"Prima Tomás  (ejemplo)"},0,{"$f":"+Proyección!F19+Proyección!G19+Proyección!H19+Proyección!I19+Proyección!J19+Proyección!K19","v":0},{"$f":"+Ejecución!G19+Ejecución!J19+Ejecución!M19+Ejecución!P19+Ejecución!S19+Ejecución!V19","v":0},0,{"$f":"+Proyección!L19+Proyección!M19+Proyección!N19+Proyección!O19+Proyección!P19+Proyección!Q19","v":0},{"$f":"+Ejecución!Y19+Ejecución!AB19+Ejecución!AE19+Ejecución!AH19+Ejecución!AK19+Ejecución!AN19","v":0},0]
[null,null,9,{"$f":"+IFERROR(+IF(Inputs!I14=\"\",\"\",Inputs!I14),0)","v":"Intereses cesantías (ejemplo)"},0,{"$f":"+Proyección!F20+Proyección!G20+Proyección!H20+Proyección!I20+Proyección!J20+Proyección!K20","v":0},{"$f":"+Ejecución!G20+Ejecución!J20+Ejecución!M20+Ejecución!P20+Ejecución!S20+Ejecución!V20","v":0},0,{"$f":"+Proyección!L20+Proyección!M20+Proyección!N20+Proyección!O20+Proyección!P20+Proyección!Q20","v":0},{"$f":"+Ejecución!Y20+Ejecución!AB20+Ejecución!AE20+Ejecución!AH20+Ejecución!AK20+Ejecución!AN20","v":0},0]
[null,null,10,{"$f":"+IFERROR(+IF(Inputs!I15=\"\",\"\",Inputs!I15),0)","v":""},0,{"$f":"+Proyección!F21+Proyección!G21+Proyección!H21+Proyección!I21+Proyección!J21+Proyección!K21","v":0},{"$f":"+Ejecución!G21+Ejecución!J21+Ejecución!M21+Ejecución!P21+Ejecución!S21+Ejecución!V21","v":0},0,{"$f":"+Proyección!L21+Proyección!M21+Proyección!N21+Proyección!O21+Proyección!P21+Proyección!Q21","v":0},{"$f":"+Ejecución!Y21+Ejecución!AB21+Ejecución!AE21+Ejecución!AH21+Ejecución!AK21+Ejecución!AN21","v":0},0]
[null,null,11,{"$f":"+IFERROR(+IF(Inputs!I16=\"\",\"\",Inputs!I16),0)","v":""},0,{"$f":"+Proyección!F22+Proyección!G22+Proyección!H22+Proyección!I22+Proyección!J22+Proyección!K22","v":0},{"$f":"+Ejecución!G22+Ejecución!J22+Ejecución!M22+Ejecución!P22+Ejecución!S22+Ejecución!V22","v":0},0,{"$f":"+Proyección!L22+Proyección!M22+Proyección!N22+Proyección!O22+Proyección!P22+Proyección!Q22","v":0},{"$f":"+Ejecución!Y22+Ejecución!AB22+Ejecución!AE22+Ejecución!AH22+Ejecución!AK22+Ejecución!AN22","v":0},0]
[null,null,12,{"$f":"+IFERROR(+IF(Inputs!I17=\"\",\"\",Inputs!I17),0)","v":""},0,{"$f":"+Proyección!F23+Proyección!G23+Proyección!H23+Proyección!I23+Proyección!J23+Proyección!K23","v":0},{"$f":"+Ejecución!G23+Ejecución!J23+Ejecución!M23+Ejecución!P23+Ejecución!S23+Ejecución!V23","v":0},0,{"$f":"+Proyección!L23+Proyección!M23+Proyección!N23+Proyección!O23+Proyección!P23+Proyección!Q23","v":0},{"$f":"+Ejecución!Y23+Ejecución!AB23+Ejecución!AE23+Ejecución!AH23+Ejecución!AK23+Ejecución!AN23","v":0},0]
[null,null,"Resumen","TOTAL INGRESO",null,{"$f":"+SUM(F12:F23)","v":0},{"$f":"+SUM(G12:G23)","v":0},{"$f":"+IFERROR(+(F24-G24),0)","v":0},{"$f":"+SUM(I12:I23)","v":0},{"$f":"+SUM(J12:J23)","v":0},{"$f":"+IFERROR(+(I24-J24),0)","v":0}]
[null,null,"Resumen",1]
[null,null,null,1]
[null,null,1,{"$f":"+IFERROR(+IF(Inputs!D22=\"\",\"\",Inputs!D22),0)","v":"Para comprar casa propia  (ejemplo)"},{"$f":"+IFERROR((G27+J27)/($G$24+$J$24),0)","v":0},{"$f":"+Proyección!F27+Proyección!G27+Proyección!H27+Proyección!I27+Proyección!J27+Proyección!K27","v":0},{"$f":"+Ejecución!G27+Ejecución!J27+Ejecución!M27+Ejecución!P27+Ejecución!S27+Ejecución!V27","v":0},{"$f":"+IFERROR(+(F27-G27),0)","v":0},{"$f":"+Proyección!L27+Proyección!M27+Proyección!N27+Proyección!O27+Proyección!P27+Proyección!Q27","v":0},{"$f":"+Ejecución!Y27+Ejecución!AB27+Ejecución!AE27+Ejecución!AH27+Ejecución!AK27+Ejecución!AN27","v":0},{"$f":"+IFERROR(+(I27-J27),0)","v":0}]
[null,null,2,{"$f":"+IFERROR(+IF(Inputs!D23=\"\",\"\",Inputs!D23),0)","v":"Postgrado Luisa  (ejemplo)"},0,{"$f":"+Proyección!F28+Proyección!G28+Proyección!H28+Proyección!I28+Proyección!J28+Proyección!K28","v":0},{"$f":"+Ejecución!G28+Ejecución!J28+Ejecución!M28+Ejecución!P28+Ejecución!S28+Ejecución!V28","v":0},0,{"$f":"+Proyección!L28+Proyección!M28+Proyección!N28+Proyección!O28+Proyección!P28+Proyección!Q28","v":0},{"$f":"+Ejecución!Y28+Ejecución!AB28+Ejecución!AE28+Ejecución!AH28+Ejecución!AK28+Ejecución!AN28","v":0},0]
[null,null,3,{"$f":"+IFERROR(+IF(Inputs!D24=\"\",\"\",Inputs!D24),0)","v":"Jubilación  (ejemplo)"},0,{"$f":"+Proyección!F29+Proyección!G29+Proyección!H29+Proyección!I29+Proyección!J29+Proyección!K29","v":0},{"$f":"+Ejecución!G29+Ejecución!J29+Ejecución!M29+Ejecución!P29+Ejecución!S29+Ejecución!V29","v":0},0,{"$f":"+Proyección!L29+Proyección!M29+Proyección!N29+Proyección!O29+Proyección!P29+Proyección!Q29","v":0},{"$f":"+Ejecución!Y29+Ejecución!AB29+Ejecución!AE29+Ejecución!AH29+Ejecución!AK29+Ejecución!AN29","v":0},0]
[null,null,4,{"$f":"+IFERROR(+IF(Inputs!D25=\"\",\"\",Inputs!D25),0)","v":""},0,{"$f":"+Proyección!F30+Proyección!G30+Proyección!H30+Proyección!I30+Proyección!J30+Proyección!K30","v":0},{"$f":"+Ejecución!G30+Ejecución!J30+Ejecución!M30+Ejecución!P30+Ejecución!S30+Ejecución!V30","v":0},0,{"$f":"+Proyección!L30+Proyección!M30+Proyección!N30+Proyección!O30+Proyección!P30+Proyección!Q30","v":0},{"$f":"+Ejecución!Y30+Ejecución!AB30+Ejecución!AE30+Ejecución!AH30+Ejecución!AK30+Ejecución!AN30","v":0},0]
[null,null,5,{"$f":"+IFERROR(+IF(Inputs!D26=\"\",\"\",Inputs!D26),0)","v":""},0,{"$f":"+Proyección!F31+Proyección!G31+Proyección!H31+Proyección!I31+Proyección!J31+Proyección!K31","v":0},{"$f":"+Ejecución!G31+Ejecución!J31+Ejecución!M31+Ejecución!P31+Ejecución!S31+Ejecución!V31","v":0},0,{"$f":"+Proyección!L31+Proyección!M31+Proyección!N31+Proyección!O31+Proyección!P31+Proyección!Q31","v":0},{"$f":"+Ejecución!Y31+Ejecución!AB31+Ejecución!AE31+Ejecución!AH31+Ejecución!AK31+Ejecución!AN31","v":0},0]
[null,null,6,{"$f":"+IFERROR(+IF(Inputs!I22=\"\",\"\",Inputs!I22),0)","v":"Abono extra a casa propia (ejemplo)"},0,{"$f":"+Proyección!F32+Proyección!G32+Proyección!H32+Proyección!I32+Proyección!J32+Proyección!K32","v":0},{"$f":"+Ejecución!G32+Ejecución!J32+Ejecución!M32+Ejecución!P32+Ejecución!S32+Ejecución!V32","v":0},0,{"$f":"+Proyección!L32+Proyección!M32+Proyección!N32+Proyección!O32+Proyección!P32+Proyección!Q32","v":0},{"$f":"+Ejecución!Y32+Ejecución!AB32+Ejecución!AE32+Ejecución!AH32+Ejecución!AK32+Ejecución!AN32","v":0},0]
[null,null,7,{"$f":"+IFERROR(+IF(Inputs!I23=\"\",\"\",Inputs!I23),0)","v":""},0,{"$f":"+Proyección!F33+Proyección!G33+Proyección!H33+Proyección!I33+Proyección!J33+Proyección!K33","v":0},{"$f":"+Ejecución!G33+Ejecución!J33+Ejecución!M33+Ejecución!P33+Ejecución!S33+Ejecución!V33","v":0},0,{"$f":"+Proyección!L33+Proyección!M33+Proyección!N33+Proyección!O33+Proyección!P33+Proyección!Q33","v":0},{"$f":"+Ejecución!Y33+Ejecución!AB33+Ejecución!AE33+Ejecución!AH33+Ejecución!AK33+Ejecución!AN33","v":0},0]
[null,null,8,{"$f":"+IFERROR(+IF(Inputs!I24=\"\",\"\",Inputs!I24),0)","v":""},0,{"$f":"+Proyección!F34+Proyección!G34+Proyección!H34+Proyección!I34+Proyección!J34+Proyección!K34","v":0},{"$f":"+Ejecución!G34+Ejecución!J34+Ejecución!M34+Ejecución!P34+Ejecución!S34+Ejecución!V34","v":0},0,{"$f":"+Proyección!L34+Proyección!M34+Proyección!N34+Proyección!O34+Proyección!P34+Proyección!Q34","v":0},{"$f":"+Ejecución!Y34+Ejecución!AB34+Ejecución!AE34+Ejecución!AH34+Ejecución!AK34+Ejecución!AN34","v":0},0]
[null,null,9,{"$f":"+IFERROR(+IF(Inputs!I25=\"\",\"\",Inputs!I25),0)","v":""},0,{"$f":"+Proyección!F35+Proyección!G35+Proyección!H35+Proyección!I35+Proyección!J35+Proyección!K35","v":0},{"$f":"+Ejecución!G35+Ejecución!J35+Ejecución!M35+Ejecución!P35+Ejecución!S35+Ejecución!V35","v":0},0,{"$f":"+Proyección!L35+Proyección!M35+Proyección!N35+Proyección!O35+Proyección!P35+Proyección!Q35","v":0},{"$f":"+Ejecución!Y35+Ejecución!AB35+Ejecución!AE35+Ejecución!AH35+Ejecución!AK35+Ejecución!AN35","v":0},0]
[null,null,10,{"$f":"+IFERROR(+IF(Inputs!I26=\"\",\"\",Inputs!I26),0)","v":""},0,{"$f":"+Proyección!F36+Proyección!G36+Proyección!H36+Proyección!I36+Proyección!J36+Proyección!K36","v":0},{"$f":"+Ejecución!G36+Ejecución!J36+Ejecución!M36+Ejecución!P36+Ejecución!S36+Ejecución!V36","v":0},0,{"$f":"+Proyección!L36+Proyección!M36+Proyección!N36+Proyección!O36+Proyección!P36+Proyección!Q36","v":0},{"$f":"+Ejecución!Y36+Ejecución!AB36+Ejecución!AE36+Ejecución!AH36+Ejecución!AK36+Ejecución!AN36","v":0},0]
[null,null,"Resumen","TOTAL AHORRO",0,{"$f":"+SUM(F27:F36)","v":0},{"$f":"+SUM(G27:G36)","v":0},0,{"$f":"+SUM(I27:I36)","v":0},{"$f":"+SUM(J27:J36)","v":0},0]
[null,null,null,1]
[null,null,null,1]
[null,null,1,{"$f":"+IFERROR(+IF(Inputs!D31=\"\",\"\",Inputs!D31),0)","v":"Crédito de vehículo (ejemplo)"},{"$f":"+IFERROR((G40+J40)/($G$24+$J$24),0)","v":0},{"$f":"+Proyección!F40+Proyección!G40+Proyección!H40+Proyección!I40+Proyección!J40+Proyección!K40","v":0},{"$f":"+Ejecución!G40+Ejecución!J40+Ejecución!M40+Ejecución!P40+Ejecución!S40+Ejecución!V40","v":0},{"$f":"+IFERROR(+(F40-G40),0)","v":0},{"$f":"+Proyección!L40+Proyección!M40+Proyección!N40+Proyección!O40+Proyección!P40+Proyección!Q40","v":0},{"$f":"+Ejecución!Y40+Ejecución!AB40+Ejecución!AE40+Ejecución!AH40+Ejecución!AK40+Ejecución!AN40","v":0},{"$f":"+IFERROR(+(I40-J40),0)","v":0}]
[null,null,2,{"$f":"+IFERROR(+IF(Inputs!D32=\"\",\"\",Inputs!D32),0)","v":"Tarjeta de crédito 1 (ejemplo)"},0,{"$f":"+Proyección!F41+Proyección!G41+Proyección!H41+Proyección!I41+Proyección!J41+Proyección!K41","v":0},{"$f":"+Ejecución!G41+Ejecución!J41+Ejecución!M41+Ejecución!P41+Ejecución!S41+Ejecución!V41","v":0},0,{"$f":"+Proyección!L41+Proyección!M41+Proyección!N41+Proyección!O41+Proyección!P41+Proyección!Q41","v":0},{"$f":"+Ejecución!Y41+Ejecución!AB41+Ejecución!AE41+Ejecución!AH41+Ejecución!AK41+Ejecución!AN41","v":0},0]
[null,null,3,{"$f":"+IFERROR(+IF(Inputs!D33=\"\",\"\",Inputs!D33),0)","v":""},0,{"$f":"+Proyección!F42+Proyección!G42+Proyección!H42+Proyección!I42+Proyección!J42+Proyección!K42","v":0},{"$f":"+Ejecución!G42+Ejecución!J42+Ejecución!M42+Ejecución!P42+Ejecución!S42+Ejecución!V42","v":0},0,{"$f":"+Proyección!L42+Proyección!M42+Proyección!N42+Proyección!O42+Proyección!P42+Proyección!Q42","v":0},{"$f":"+Ejecución!Y42+Ejecución!AB42+Ejecución!AE42+Ejecución!AH42+Ejecución!AK42+Ejecución!AN42","v":0},0]
[null,null,4,{"$f":"+IFERROR(+IF(Inputs!D34=\"\",\"\",Inputs!D34),0)","v":""},0,{"$f":"+Proyección!F43+Proyección!G43+Proyección!H43+Proyección!I43+Proyección!J43+Proyección!K43","v":0},{"$f":"+Ejecución!G43+Ejecución!J43+Ejecución!M43+Ejecución!P43+Ejecución!S43+Ejecución!V43","v":0},0,{"$f":"+Proyección!L43+Proyección!M43+Proyección!N43+Proyección!O43+Proyección!P43+Proyección!Q43","v":0},{"$f":"+Ejecución!Y43+Ejecución!AB43+Ejecución!AE43+Ejecución!AH43+Ejecución!AK43+Ejecución!AN43","v":0},0]
[null,null,5,{"$f":"+IFERROR(+IF(Inputs!D35=\"\",\"\",Inputs!D35),0)","v":""},0,{"$f":"+Proyección!F44+Proyección!G44+Proyección!H44+Proyección!I44+Proyección!J44+Proyección!K44","v":0},{"$f":"+Ejecución!G44+Ejecución!J44+Ejecución!M44+Ejecución!P44+Ejecución!S44+Ejecución!V44","v":0},0,{"$f":"+Proyección!L44+Proyección!M44+Proyección!N44+Proyección!O44+Proyección!P44+Proyección!Q44","v":0},{"$f":"+Ejecución!Y44+Ejecución!AB44+Ejecución!AE44+Ejecución!AH44+Ejecución!AK44+Ejecución!AN44","v":0},0]
[null,null,6,{"$f":"+IFERROR(+IF(Inputs!D36=\"\",\"\",Inputs!D36),0)","v":""},0,{"$f":"+Proyección!F45+Proyección!G45+Proyección!H45+Proyección!I45+Proyección!J45+Proyección!K45","v":0},{"$f":"+Ejecución!G45+Ejecución!J45+Ejecución!M45+Ejecución!P45+Ejecución!S45+Ejecución!V45","v":0},0,{"$f":"+Proyección!L45+Proyección!M45+Proyección!N45+Proyección!O45+Proyección!P45+Proyección!Q45","v":0},{"$f":"+Ejecución!Y45+Ejecución!AB45+Ejecución!AE45+Ejecución!AH45+Ejecución!AK45+Ejecución!AN45","v":0},0]
[null,null,7,{"$f":"+IFERROR(+IF(Inputs!I31=\"\",\"\",Inputs!I31),0)","v":"Abono trimestral préstamo (ejemplo)"},0,{"$f":"+Proyección!F46+Proyección!G46+Proyección!H46+Proyección!I46+Proyección!J46+Proyección!K46","v":0},{"$f":"+Ejecución!G46+Ejecución!J46+Ejecución!M46+Ejecución!P46+Ejecución!S46+Ejecución!V46","v":0},0,{"$f":"+Proyección!L46+Proyección!M46+Proyección!N46+Proyección!O46+Proyección!P46+Proyección!Q46","v":0},{"$f":"+Ejecución!Y46+Ejecución!AB46+Ejecución!AE46+Ejecución!AH46+Ejecución!AK46+Ejecución!AN46","v":0},0]
[null,null,8,{"$f":"+IFERROR(+IF(Inputs!I32=\"\",\"\",Inputs!I32),0)","v":""},0,{"$f":"+Proyección!F47+Proyección!G47+Proyección!H47+Proyección!I47+Proyección!J47+Proyección!K47","v":0},{"$f":"+Ejecución!G47+Ejecución!J47+Ejecución!M47+Ejecución!P47+Ejecución!S47+Ejecución!V47","v":0},0,{"$f":"+Proyección!L47+Proyección!M47+Proyección!N47+Proyección!O47+Proyección!P47+Proyección!Q47","v":0},{"$f":"+Ejecución!Y47+Ejecución!AB47+Ejecución!AE47+Ejecución!AH47+Ejecución!AK47+Ejecución!AN47","v":0},0]
[null,null,9,{"$f":"+IFERROR(+IF(Inputs!I33=\"\",\"\",Inputs!I33),0)","v":""},0,{"$f":"+Proyección!F48+Proyección!G48+Proyección!H48+Proyección!I48+Proyección!J48+Proyección!K48","v":0},{"$f":"+Ejecución!G48+Ejecución!J48+Ejecución!M48+Ejecución!P48+Ejecución!S48+Ejecución!V48","v":0},0,{"$f":"+Proyección!L48+Proyección!M48+Proyección!N48+Proyección!O48+Proyección!P48+Proyección!Q48","v":0},{"$f":"+Ejecución!Y48+Ejecución!AB48+Ejecución!AE48+Ejecución!AH48+Ejecución!AK48+Ejecución!AN48","v":0},0]
[null,null,10,{"$f":"+IFERROR(+IF(Inputs!I34=\"\",\"\",Inputs!I34),0)","v":""},0,{"$f":"+Proyección!F49+Proyección!G49+Proyección!H49+Proyección!I49+Proyección!J49+Proyección!K49","v":0},{"$f":"+Ejecución!G49+Ejecución!J49+Ejecución!M49+Ejecución!P49+Ejecución!S49+Ejecución!V49","v":0},0,{"$f":"+Proyección!L49+Proyección!M49+Proyección!N49+Proyección!O49+Proyección!P49+Proyección!Q49","v":0},{"$f":"+Ejecución!Y49+Ejecución!AB49+Ejecución!AE49+Ejecución!AH49+Ejecución!AK49+Ejecución!AN49","v":0},0]
[null,null,11,{"$f":"+IFERROR(+IF(Inputs!I35=\"\",\"\",Inputs!I35),0)","v":""},0,{"$f":"+Proyección!F50+Proyección!G50+Proyección!H50+Proyección!I50+Proyección!J50+Proyección!K50","v":0},{"$f":"+Ejecución!G50+Ejecución!J50+Ejecución!M50+Ejecución!P50+Ejecución!S50+Ejecución!V50","v":0},0,{"$f":"+Proyección!L50+Proyección!M50+Proyección!N50+Proyección!O50+Proyección!P50+Proyección!Q50","v":0},{"$f":"+Ejecución!Y50+Ejecución!AB50+Ejecución!AE50+Ejecución!AH50+Ejecución!AK50+Ejecución!AN50","v":0},0]
[null,null,12,{"$f":"+IFERROR(+IF(Inputs!I36=\"\",\"\",Inputs!I36),0)","v":""},0,{"$f":"+Proyección!F51+Proyección!G51+Proyección!H51+Proyección!I51+Proyección!J51+Proyección!K51","v":0},{"$f":"+Ejecución!G51+Ejecución!J51+Ejecución!M51+Ejecución!P51+Ejecución!S51+Ejecución!V51","v":0},0,{"$f":"+Proyección!L51+Proyección!M51+Proyección!N51+Proyección!O51+Proyección!P51+Proyección!Q51","v":0},{"$f":"+Ejecución!Y51+Ejecución!AB51+Ejecución!AE51+Ejecución!AH51+Ejecución!AK51+Ejecución!AN51","v":0},0]
[null,null,"Resumen","TOTAL OBLIGACIONES FINANCIERAS",0,{"$f":"+SUM(F40:F51)","v":0},{"$f":"+SUM(G40:G51)","v":0},0,{"$f":"+SUM(I40:I51)","v":0},{"$f":"+SUM(J40:J51)","v":0},0]
[null,null,null,1]
[null,null,null,1]
[null,null,1,{"$f":"+IFERROR(+IF(Inputs!D41=\"\",\"\",Inputs!D41),0)","v":""},{"$f":"+IFERROR((G55+J55)/($G$24+$J$24),0)","v":0},{"$f":"+Proyección!F55+Proyección!G55+Proyección!H55+Proyección!I55+Proyección!J55+Proyección!K55","v":0},{"$f":"+Ejecución!G55+Ejecución!J55+Ejecución!M55+Ejecución!P55+Ejecución!S55+Ejecución!V55","v":0},{"$f":"+IFERROR(+(F55-G55),0)","v":0},{"$f":"+Proyección!L55+Proyección!M55+Proyección!N55+Proyección!O55+Proyección!P55+Proyección!Q55","v":0},{"$f":"+Ejecución!Y55+Ejecución!AB55+Ejecución!AE55+Ejecución!AH55+Ejecución!AK55+Ejecución!AN55","v":0},{"$f":"+IFERROR(+(I55-J55),0)","v":0}]
[null,null,2,{"$f":"+IFERROR(+IF(Inputs!D42=\"\",\"\",Inputs!D42),0)","v":""},0,{"$f":"+Proyección!F56+Proyección!G56+Proyección!H56+Proyección!I56+Proyección!J56+Proyección!K56","v":0},{"$f":"+Ejecución!G56+Ejecución!J56+Ejecución!M56+Ejecución!P56+Ejecución!S56+Ejecución!V56","v":0},0,{"$f":"+Proyección!L56+Proyección!M56+Proyección!N56+Proyección!O56+Proyección!P56+Proyección!Q56","v":0},{"$f":"+Ejecución!Y56+Ejecución!AB56+Ejecución!AE56+Ejecución!AH56+Ejecución!AK56+Ejecución!AN56","v":0},0]
[null,null,3,{"$f":"+IFERROR(+IF(Inputs!D43=\"\",\"\",Inputs!D43),0)","v":""},0,{"$f":"+Proyección!F57+Proyección!G57+Proyección!H57+Proyección!I57+Proyección!J57+Proyección!K57","v":0},{"$f":"+Ejecución!G57+Ejecución!J57+Ejecución!M57+Ejecución!P57+Ejecución!S57+Ejecución!V57","v":0},0,{"$f":"+Proyección!L57+Proyección!M57+Proyección!N57+Proyección!O57+Proyección!P57+Proyección!Q57","v":0},{"$f":"+Ejecución!Y57+Ejecución!AB57+Ejecución!AE57+Ejecución!AH57+Ejecución!AK57+Ejecución!AN57","v":0},0]
[null,null,4,{"$f":"+IFERROR(+IF(Inputs!D44=\"\",\"\",Inputs!D44),0)","v":""},0,{"$f":"+Proyección!F58+Proyección!G58+Proyección!H58+Proyección!I58+Proyección!J58+Proyección!K58","v":0},{"$f":"+Ejecución!G58+Ejecución!J58+Ejecución!M58+Ejecución!P58+Ejecución!S58+Ejecución!V58","v":0},0,{"$f":"+Proyección!L58+Proyección!M58+Proyección!N58+Proyección!O58+Proyección!P58+Proyección!Q58","v":0},{"$f":"+Ejecución!Y58+Ejecución!AB58+Ejecución!AE58+Ejecución!AH58+Ejecución!AK58+Ejecución!AN58","v":0},0]
[null,null,5,{"$f":"+IFERROR(+IF(Inputs!I41=\"\",\"\",Inputs!I41),0)","v":"Impuesto de renta (ejemplo)"},0,{"$f":"+Proyección!F59+Proyección!G59+Proyección!H59+Proyección!I59+Proyección!J59+Proyección!K59","v":0},{"$f":"+Ejecución!G59+Ejecución!J59+Ejecución!M59+Ejecución!P59+Ejecución!S59+Ejecución!V59","v":0},0,{"$f":"+Proyección!L59+Proyección!M59+Proyección!N59+Proyección!O59+Proyección!P59+Proyección!Q59","v":0},{"$f":"+Ejecución!Y59+Ejecución!AB59+Ejecución!AE59+Ejecución!AH59+Ejecución!AK59+Ejecución!AN59","v":0},0]
[null,null,6,{"$f":"+IFERROR(+IF(Inputs!I42=\"\",\"\",Inputs!I42),0)","v":"Impuesto vehicular (ejemplo)"},0,{"$f":"+Proyección!F60+Proyección!G60+Proyección!H60+Proyección!I60+Proyección!J60+Proyección!K60","v":0},{"$f":"+Ejecución!G60+Ejecución!J60+Ejecución!M60+Ejecución!P60+Ejecución!S60+Ejecución!V60","v":0},0,{"$f":"+Proyección!L60+Proyección!M60+Proyección!N60+Proyección!O60+Proyección!P60+Proyección!Q60","v":0},{"$f":"+Ejecución!Y60+Ejecución!AB60+Ejecución!AE60+Ejecución!AH60+Ejecución!AK60+Ejecución!AN60","v":0},0]
[null,null,7,{"$f":"+IFERROR(+IF(Inputs!I43=\"\",\"\",Inputs!I43),0)","v":"Impuesto predial (ejemplo)"},0,{"$f":"+Proyección!F61+Proyección!G61+Proyección!H61+Proyección!I61+Proyección!J61+Proyección!K61","v":0},{"$f":"+Ejecución!G61+Ejecución!J61+Ejecución!M61+Ejecución!P61+Ejecución!S61+Ejecución!V61","v":0},0,{"$f":"+Proyección!L61+Proyección!M61+Proyección!N61+Proyección!O61+Proyección!P61+Proyección!Q61","v":0},{"$f":"+Ejecución!Y61+Ejecución!AB61+Ejecución!AE61+Ejecución!AH61+Ejecución!AK61+Ejecución!AN61","v":0},{"$f":"+IFERROR(+(I61-J61),0)","v":0}]
[null,null,8,{"$f":"+IFERROR(+IF(Inputs!I44=\"\",\"\",Inputs!I44),0)","v":""},0,{"$f":"+Proyección!F62+Proyección!G62+Proyección!H62+Proyección!I62+Proyección!J62+Proyección!K62","v":0},{"$f":"+Ejecución!G62+Ejecución!J62+Ejecución!M62+Ejecución!P62+Ejecución!S62+Ejecución!V62","v":0},0,{"$f":"+Proyección!L62+Proyección!M62+Proyección!N62+Proyección!O62+Proyección!P62+Proyección!Q62","v":0},{"$f":"+Ejecución!Y62+Ejecución!AB62+Ejecución!AE62+Ejecución!AH62+Ejecución!AK62+Ejecución!AN62","v":0},0]
[null,null,"Resumen","TOTAL IMPUESTOS Y CONTRIBUCIONES",0,{"$f":"+SUM(F55:F62)","v":0},{"$f":"+SUM(G55:G62)","v":0},0,{"$f":"+SUM(I55:I62)","v":0},{"$f":"+SUM(J55:J62)","v":0},{"$f":"+IFERROR(+(I63-J63),0)","v":0}]
[null,null,null,1]
[null,null,null,1]
[null,null,1,{"$f":"+IFERROR(+IF(Inputs!D68=\"\",\"\",Inputs!D68),0)","v":"Fondo de Emergencia (ejemplo)"},{"$f":"+IFERROR((G66+J66)/($G$24+$J$24),0)","v":0},{"$f":"+Proyección!F66+Proyección!G66+Proyección!H66+Proyección!I66+Proyección!J66+Proyección!K66","v":0},{"$f":"+Ejecución!G66+Ejecución!J66+Ejecución!M66+Ejecución!P66+Ejecución!S66+Ejecución!V66","v":0},{"$f":"+IFERROR(+(F66-G66),0)","v":0},{"$f":"+Proyección!L66+Proyección!M66+Proyección!N66+Proyección!O66+Proyección!P66+Proyección!Q66","v":0},{"$f":"+Ejecución!Y66+Ejecución!AB66+Ejecución!AE66+Ejecución!AH66+Ejecución!AK66+Ejecución!AN66","v":0},{"$f":"+IFERROR(+(I66-J66),0)","v":0}]
[null,null,2,{"$f":"+IFERROR(+IF(Inputs!D69=\"\",\"\",Inputs!D69),0)","v":"Alimentación (ejemplo)"},0,{"$f":"+Proyección!F67+Proyección!G67+Proyección!H67+Proyección!I67+Proyección!J67+Proyección!K67","v":0},{"$f":"+Ejecución!G67+Ejecución!J67+Ejecución!M67+Ejecución!P67+Ejecución!S67+Ejecución!V67","v":0},0,{"$f":"+Proyección!L67+Proyección!M67+Proyección!N67+Proyección!O67+Proyección!P67+Proyección!Q67","v":0},{"$f":"+Ejecución!Y67+Ejecución!AB67+Ejecución!AE67+Ejecución!AH67+Ejecución!AK67+Ejecución!AN67","v":0},0]
[null,null,3,{"$f":"+IFERROR(+IF(Inputs!D51=\"\",\"\",Inputs!D51),0)","v":""},0,{"$f":"+Proyección!F68+Proyección!G68+Proyección!H68+Proyección!I68+Proyección!J68+Proyección!K68","v":0},{"$f":"+Ejecución!G68+Ejecución!J68+Ejecución!M68+Ejecución!P68+Ejecución!S68+Ejecución!V68","v":0},0,{"$f":"+Proyección!L68+Proyección!M68+Proyección!N68+Proyección!O68+Proyección!P68+Proyección!Q68","v":0},{"$f":"+Ejecución!Y68+Ejecución!AB68+Ejecución!AE68+Ejecución!AH68+Ejecución!AK68+Ejecución!AN68","v":0},0]
[null,null,4,{"$f":"+IFERROR(+IF(Inputs!D70=\"\",\"\",Inputs!D70),0)","v":"Servicios públicos (ejemplo)"},0,{"$f":"+Proyección!F69+Proyección!G69+Proyección!H69+Proyección!I69+Proyección!J69+Proyección!K69","v":0},{"$f":"+Ejecución!G69+Ejecución!J69+Ejecución!M69+Ejecución!P69+Ejecución!S69+Ejecución!V69","v":0},0,{"$f":"+Proyección!L69+Proyección!M69+Proyección!N69+Proyección!O69+Proyección!P69+Proyección!Q69","v":0},{"$f":"+Ejecución!Y69+Ejecución!AB69+Ejecución!AE69+Ejecución!AH69+Ejecución!AK69+Ejecución!AN69","v":0},0]
[null,null,5,{"$f":"+IFERROR(+IF(Inputs!D71=\"\",\"\",Inputs!D71),0)","v":"Gasolina (ejemplo)"},0,{"$f":"+Proyección!F70+Proyección!G70+Proyección!H70+Proyección!I70+Proyección!J70+Proyección!K70","v":0},{"$f":"+Ejecución!G70+Ejecución!J70+Ejecución!M70+Ejecución!P70+Ejecución!S70+Ejecución!V70","v":0},0,{"$f":"+Proyección!L70+Proyección!M70+Proyección!N70+Proyección!O70+Proyección!P70+Proyección!Q70","v":0},{"$f":"+Ejecución!Y70+Ejecución!AB70+Ejecución!AE70+Ejecución!AH70+Ejecución!AK70+Ejecución!AN70","v":0},0]
[null,null,6,{"$f":"+IFERROR(+IF(Inputs!D72=\"\",\"\",Inputs!D72),0)","v":""},0,{"$f":"+Proyección!F71+Proyección!G71+Proyección!H71+Proyección!I71+Proyección!J71+Proyección!K71","v":0},{"$f":"+Ejecución!G71+Ejecución!J71+Ejecución!M71+Ejecución!P71+Ejecución!S71+Ejecución!V71","v":0},0,{"$f":"+Proyección!L71+Proyección!M71+Proyección!N71+Proyección!O71+Proyección!P71+Proyección!Q71","v":0},{"$f":"+Ejecución!Y71+Ejecución!AB71+Ejecución!AE71+Ejecución!AH71+Ejecución!AK71+Ejecución!AN71","v":0},0]
[null,null,7,{"$f":"+IFERROR(+IF(Inputs!D73=\"\",\"\",Inputs!D73),0)","v":""},0,{"$f":"+Proyección!F72+Proyección!G72+Proyección!H72+Proyección!I72+Proyección!J72+Proyección!K72","v":0},{"$f":"+Ejecución!G72+Ejecución!J72+Ejecución!M72+Ejecución!P72+Ejecución!S72+Ejecución!V72","v":0},0,{"$f":"+Proyección!L72+Proyección!M72+Proyección!N72+Proyección!O72+Proyección!P72+Proyección!Q72","v":0},{"$f":"+Ejecución!Y72+Ejecución!AB72+Ejecución!AE72+Ejecución!AH72+Ejecución!AK72+Ejecución!AN72","v":0},0]
[null,null,8,{"$f":"+IFERROR(+IF(Inputs!D87=\"\",\"\",Inputs!D87),0)","v":"Suscripción Netflix (ejemplo)"},0,{"$f":"+Proyección!F73+Proyección!G73+Proyección!H73+Proyección!I73+Proyección!J73+Proyección!K73","v":0},{"$f":"+Ejecución!G73+Ejecución!J73+Ejecución!M73+Ejecución!P73+Ejecución!S73+Ejecución!V73","v":0},0,{"$f":"+Proyección!L73+Proyección!M73+Proyección!N73+Proyección!O73+Proyección!P73+Proyección!Q73","v":0},{"$f":"+Ejecución!Y73+Ejecución!AB73+Ejecución!AE73+Ejecución!AH73+Ejecución!AK73+Ejecución!AN73","v":0},0]
[null,null,9,{"$f":"+IFERROR(+IF(Inputs!D57=\"\",\"\",Inputs!D57),0)","v":""},0,{"$f":"+Proyección!F74+Proyección!G74+Proyección!H74+Proyección!I74+Proyección!J74+Proyección!K74","v":0},{"$f":"+Ejecución!G74+Ejecución!J74+Ejecución!M74+Ejecución!P74+Ejecución!S74+Ejecución!V74","v":0},0,{"$f":"+Proyección!L74+Proyección!M74+Proyección!N74+Proyección!O74+Proyección!P74+Proyección!Q74","v":0},{"$f":"+Ejecución!Y74+Ejecución!AB74+Ejecución!AE74+Ejecución!AH74+Ejecución!AK74+Ejecución!AN74","v":0},0]
[null,null,10,{"$f":"+IFERROR(+IF(Inputs!D58=\"\",\"\",Inputs!D58),0)","v":""},0,{"$f":"+Proyección!F75+Proyección!G75+Proyección!H75+Proyección!I75+Proyección!J75+Proyección!K75","v":0},{"$f":"+Ejecución!G75+Ejecución!J75+Ejecución!M75+Ejecución!P75+Ejecución!S75+Ejecución!V75","v":0},0,{"$f":"+Proyección!L75+Proyección!M75+Proyección!N75+Proyección!O75+Proyección!P75+Proyección!Q75","v":0},{"$f":"+Ejecución!Y75+Ejecución!AB75+Ejecución!AE75+Ejecución!AH75+Ejecución!AK75+Ejecución!AN75","v":0},0]
[null,null,11,{"$f":"+IFERROR(+IF(Inputs!D59=\"\",\"\",Inputs!D59),0)","v":""},0,{"$f":"+Proyección!F76+Proyección!G76+Proyección!H76+Proyección!I76+Proyección!J76+Proyección!K76","v":0},{"$f":"+Ejecución!G76+Ejecución!J76+Ejecución!M76+Ejecución!P76+Ejecución!S76+Ejecución!V76","v":0},0,{"$f":"+Proyección!L76+Proyección!M76+Proyección!N76+Proyección!O76+Proyección!P76+Proyección!Q76","v":0},{"$f":"+Ejecución!Y76+Ejecución!AB76+Ejecución!AE76+Ejecución!AH76+Ejecución!AK76+Ejecución!AN76","v":0},0]
[null,null,12,{"$f":"+IFERROR(+IF(Inputs!D60=\"\",\"\",Inputs!D60),0)","v":""},0,{"$f":"+Proyección!F77+Proyección!G77+Proyección!H77+Proyección!I77+Proyección!J77+Proyección!K77","v":0},{"$f":"+Ejecución!G77+Ejecución!J77+Ejecución!M77+Ejecución!P77+Ejecución!S77+Ejecución!V77","v":0},0,{"$f":"+Proyección!L77+Proyección!M77+Proyección!N77+Proyección!O77+Proyección!P77+Proyección!Q77","v":0},{"$f":"+Ejecución!Y77+Ejecución!AB77+Ejecución!AE77+Ejecución!AH77+Ejecución!AK77+Ejecución!AN77","v":0},0]
[null,null,13,{"$f":"+IFERROR(+IF(Inputs!D61=\"\",\"\",Inputs!D61),0)","v":""},0,{"$f":"+Proyección!F78+Proyección!G78+Proyección!H78+Proyección!I78+Proyección!J78+Proyección!K78","v":0},{"$f":"+Ejecución!G78+Ejecución!J78+Ejecución!M78+Ejecución!P78+Ejecución!S78+Ejecución!V78","v":0},0,{"$f":"+Proyección!L78+Proyección!M78+Proyección!N78+Proyección!O78+Proyección!P78+Proyección!Q78","v":0},{"$f":"+Ejecución!Y78+Ejecución!AB78+Ejecución!AE78+Ejecución!AH78+Ejecución!AK78+Ejecución!AN78","v":0},0]
[null,null,14,{"$f":"+IFERROR(+IF(Inputs!D62=\"\",\"\",Inputs!D62),0)","v":""},0,{"$f":"+Proyección!F79+Proyección!G79+Proyección!H79+Proyección!I79+Proyección!J79+Proyección!K79","v":0},{"$f":"+Ejecución!G79+Ejecución!J79+Ejecución!M79+Ejecución!P79+Ejecución!S79+Ejecución!V79","v":0},0,{"$f":"+Proyección!L79+Proyección!M79+Proyección!N79+Proyección!O79+Proyección!P79+Proyección!Q79","v":0},{"$f":"+Ejecución!Y79+Ejecución!AB79+Ejecución!AE79+Ejecución!AH79+Ejecución!AK79+Ejecución!AN79","v":0},0]
[null,null,15,{"$f":"+IFERROR(+IF(Inputs!D63=\"\",\"\",Inputs!D63),0)","v":""},0,{"$f":"+Proyección!F80+Proyección!G80+Proyección!H80+Proyección!I80+Proyección!J80+Proyección!K80","v":0},{"$f":"+Ejecución!G80+Ejecución!J80+Ejecución!M80+Ejecución!P80+Ejecución!S80+Ejecución!V80","v":0},0,{"$f":"+Proyección!L80+Proyección!M80+Proyección!N80+Proyección!O80+Proyección!P80+Proyección!Q80","v":0},{"$f":"+Ejecución!Y80+Ejecución!AB80+Ejecución!AE80+Ejecución!AH80+Ejecución!AK80+Ejecución!AN80","v":0},0]
[null,null,16,{"$f":"+IFERROR(+IF(Inputs!I49=\"\",\"\",Inputs!I49),0)","v":"Matrícula universidad (ejemplo)"},0,{"$f":"+Proyección!F81+Proyección!G81+Proyección!H81+Proyección!I81+Proyección!J81+Proyección!K81","v":0},{"$f":"+Ejecución!G81+Ejecución!J81+Ejecución!M81+Ejecución!P81+Ejecución!S81+Ejecución!V81","v":0},0,{"$f":"+Proyección!L81+Proyección!M81+Proyección!N81+Proyección!O81+Proyección!P81+Proyección!Q81","v":0},{"$f":"+Ejecución!Y81+Ejecución!AB81+Ejecución!AE81+Ejecución!AH81+Ejecución!AK81+Ejecución!AN81","v":0},0]
[null,null,17,{"$f":"+IFERROR(+IF(Inputs!I50=\"\",\"\",Inputs!I50),0)","v":""},0,{"$f":"+Proyección!F82+Proyección!G82+Proyección!H82+Proyección!I82+Proyección!J82+Proyección!K82","v":0},{"$f":"+Ejecución!G82+Ejecución!J82+Ejecución!M82+Ejecución!P82+Ejecución!S82+Ejecución!V82","v":0},0,{"$f":"+Proyección!L82+Proyección!M82+Proyección!N82+Proyección!O82+Proyección!P82+Proyección!Q82","v":0},{"$f":"+Ejecución!Y82+Ejecución!AB82+Ejecución!AE82+Ejecución!AH82+Ejecución!AK82+Ejecución!AN82","v":0},0]
[null,null,18,{"$f":"+IFERROR(+IF(Inputs!I51=\"\",\"\",Inputs!I51),0)","v":""},0,{"$f":"+Proyección!F83+Proyección!G83+Proyección!H83+Proyección!I83+Proyección!J83+Proyección!K83","v":0},{"$f":"+Ejecución!G83+Ejecución!J83+Ejecución!M83+Ejecución!P83+Ejecución!S83+Ejecución!V83","v":0},0,{"$f":"+Proyección!L83+Proyección!M83+Proyección!N83+Proyección!O83+Proyección!P83+Proyección!Q83","v":0},{"$f":"+Ejecución!Y83+Ejecución!AB83+Ejecución!AE83+Ejecución!AH83+Ejecución!AK83+Ejecución!AN83","v":0},0]
[null,null,19,{"$f":"+IFERROR(+IF(Inputs!I52=\"\",\"\",Inputs!I52),0)","v":""},0,{"$f":"+Proyección!F84+Proyección!G84+Proyección!H84+Proyección!I84+Proyección!J84+Proyección!K84","v":0},{"$f":"+Ejecución!G84+Ejecución!J84+Ejecución!M84+Ejecución!P84+Ejecución!S84+Ejecución!V84","v":0},0,{"$f":"+Proyección!L84+Proyección!M84+Proyección!N84+Proyección!O84+Proyección!P84+Proyección!Q84","v":0},{"$f":"+Ejecución!Y84+Ejecución!AB84+Ejecución!AE84+Ejecución!AH84+Ejecución!AK84+Ejecución!AN84","v":0},0]
[null,null,20,{"$f":"+IFERROR(+IF(Inputs!I53=\"\",\"\",Inputs!I53),0)","v":""},0,{"$f":"+Proyección!F85+Proyección!G85+Proyección!H85+Proyección!I85+Proyección!J85+Proyección!K85","v":0},{"$f":"+Ejecución!G85+Ejecución!J85+Ejecución!M85+Ejecución!P85+Ejecución!S85+Ejecución!V85","v":0},0,{"$f":"+Proyección!L85+Proyección!M85+Proyección!N85+Proyección!O85+Proyección!P85+Proyección!Q85","v":0},{"$f":"+Ejecución!Y85+Ejecución!AB85+Ejecución!AE85+Ejecución!AH85+Ejecución!AK85+Ejecución!AN85","v":0},0]
[null,null,21,{"$f":"+IFERROR(+IF(Inputs!I54=\"\",\"\",Inputs!I54),0)","v":""},0,{"$f":"+Proyección!F86+Proyección!G86+Proyección!H86+Proyección!I86+Proyección!J86+Proyección!K86","v":0},{"$f":"+Ejecución!G86+Ejecución!J86+Ejecución!M86+Ejecución!P86+Ejecución!S86+Ejecución!V86","v":0},0,{"$f":"+Proyección!L86+Proyección!M86+Proyección!N86+Proyección!O86+Proyección!P86+Proyección!Q86","v":0},{"$f":"+Ejecución!Y86+Ejecución!AB86+Ejecución!AE86+Ejecución!AH86+Ejecución!AK86+Ejecución!AN86","v":0},0]
[null,null,22,{"$f":"+IFERROR(+IF(Inputs!I55=\"\",\"\",Inputs!I55),0)","v":""},0,{"$f":"+Proyección!F87+Proyección!G87+Proyección!H87+Proyección!I87+Proyección!J87+Proyección!K87","v":0},{"$f":"+Ejecución!G87+Ejecución!J87+Ejecución!M87+Ejecución!P87+Ejecución!S87+Ejecución!V87","v":0},0,{"$f":"+Proyección!L87+Proyección!M87+Proyección!N87+Proyección!O87+Proyección!P87+Proyección!Q87","v":0},{"$f":"+Ejecución!Y87+Ejecución!AB87+Ejecución!AE87+Ejecución!AH87+Ejecución!AK87+Ejecución!AN87","v":0},0]
[null,null,23,{"$f":"+IFERROR(+IF(Inputs!I56=\"\",\"\",Inputs!I56),0)","v":""},0,{"$f":"+Proyección!F88+Proyección!G88+Proyección!H88+Proyección!I88+Proyección!J88+Proyección!K88","v":0},{"$f":"+Ejecución!G88+Ejecución!J88+Ejecución!M88+Ejecución!P88+Ejecución!S88+Ejecución!V88","v":0},0,{"$f":"+Proyección!L88+Proyección!M88+Proyección!N88+Proyección!O88+Proyección!P88+Proyección!Q88","v":0},{"$f":"+Ejecución!Y88+Ejecución!AB88+Ejecución!AE88+Ejecución!AH88+Ejecución!AK88+Ejecución!AN88","v":0},0]
[null,null,24,{"$f":"+IFERROR(+IF(Inputs!I57=\"\",\"\",Inputs!I57),0)","v":""},0,{"$f":"+Proyección!F89+Proyección!G89+Proyección!H89+Proyección!I89+Proyección!J89+Proyección!K89","v":0},{"$f":"+Ejecución!G89+Ejecución!J89+Ejecución!M89+Ejecución!P89+Ejecución!S89+Ejecución!V89","v":0},0,{"$f":"+Proyección!L89+Proyección!M89+Proyección!N89+Proyección!O89+Proyección!P89+Proyección!Q89","v":0},{"$f":"+Ejecución!Y89+Ejecución!AB89+Ejecución!AE89+Ejecución!AH89+Ejecución!AK89+Ejecución!AN89","v":0},0]
[null,null,25,{"$f":"+IFERROR(+IF(Inputs!I58=\"\",\"\",Inputs!I58),0)","v":""},0,{"$f":"+Proyección!F90+Proyección!G90+Proyección!H90+Proyección!I90+Proyección!J90+Proyección!K90","v":0},{"$f":"+Ejecución!G90+Ejecución!J90+Ejecución!M90+Ejecución!P90+Ejecución!S90+Ejecución!V90","v":0},0,{"$f":"+Proyección!L90+Proyección!M90+Proyección!N90+Proyección!O90+Proyección!P90+Proyección!Q90","v":0},{"$f":"+Ejecución!Y90+Ejecución!AB90+Ejecución!AE90+Ejecución!AH90+Ejecución!AK90+Ejecución!AN90","v":0},0]
[null,null,26,{"$f":"+IFERROR(+IF(Inputs!I59=\"\",\"\",Inputs!I59),0)","v":""},0,{"$f":"+Proyección!F91+Proyección!G91+Proyección!H91+Proyección!I91+Proyección!J91+Proyección!K91","v":0},{"$f":"+Ejecución!G91+Ejecución!J91+Ejecución!M91+Ejecución!P91+Ejecución!S91+Ejecución!V91","v":0},0,{"$f":"+Proyección!L91+Proyección!M91+Proyección!N91+Proyección!O91+Proyección!P91+Proyección!Q91","v":0},{"$f":"+Ejecución!Y91+Ejecución!AB91+Ejecución!AE91+Ejecución!AH91+Ejecución!AK91+Ejecución!AN91","v":0},0]
[null,null,27,{"$f":"+IFERROR(+IF(Inputs!I60=\"\",\"\",Inputs!I60),0)","v":""},0,{"$f":"+Proyección!F92+Proyección!G92+Proyección!H92+Proyección!I92+Proyección!J92+Proyección!K92","v":0},{"$f":"+Ejecución!G92+Ejecución!J92+Ejecución!M92+Ejecución!P92+Ejecución!S92+Ejecución!V92","v":0},0,{"$f":"+Proyección!L92+Proyección!M92+Proyección!N92+Proyección!O92+Proyección!P92+Proyección!Q92","v":0},{"$f":"+Ejecución!Y92+Ejecución!AB92+Ejecución!AE92+Ejecución!AH92+Ejecución!AK92+Ejecución!AN92","v":0},0]
[null,null,28,{"$f":"+IFERROR(+IF(Inputs!I61=\"\",\"\",Inputs!I61),0)","v":""},0,{"$f":"+Proyección!F93+Proyección!G93+Proyección!H93+Proyección!I93+Proyección!J93+Proyección!K93","v":0},{"$f":"+Ejecución!G93+Ejecución!J93+Ejecución!M93+Ejecución!P93+Ejecución!S93+Ejecución!V93","v":0},0,{"$f":"+Proyección!L93+Proyección!M93+Proyección!N93+Proyección!O93+Proyección!P93+Proyección!Q93","v":0},{"$f":"+Ejecución!Y93+Ejecución!AB93+Ejecución!AE93+Ejecución!AH93+Ejecución!AK93+Ejecución!AN93","v":0},0]
[null,null,29,{"$f":"+IFERROR(+IF(Inputs!I62=\"\",\"\",Inputs!I62),0)","v":""},0,{"$f":"+Proyección!F94+Proyección!G94+Proyección!H94+Proyección!I94+Proyección!J94+Proyección!K94","v":0},{"$f":"+Ejecución!G94+Ejecución!J94+Ejecución!M94+Ejecución!P94+Ejecución!S94+Ejecución!V94","v":0},0,{"$f":"+Proyección!L94+Proyección!M94+Proyección!N94+Proyección!O94+Proyección!P94+Proyección!Q94","v":0},{"$f":"+Ejecución!Y94+Ejecución!AB94+Ejecución!AE94+Ejecución!AH94+Ejecución!AK94+Ejecución!AN94","v":0},0]
[null,null,30,{"$f":"+IFERROR(+IF(Inputs!I63=\"\",\"\",Inputs!I63),0)","v":""},0,{"$f":"+Proyección!F95+Proyección!G95+Proyección!H95+Proyección!I95+Proyección!J95+Proyección!K95","v":0},{"$f":"+Ejecución!G95+Ejecución!J95+Ejecución!M95+Ejecución!P95+Ejecución!S95+Ejecución!V95","v":0},0,{"$f":"+Proyección!L95+Proyección!M95+Proyección!N95+Proyección!O95+Proyección!P95+Proyección!Q95","v":0},{"$f":"+Ejecución!Y95+Ejecución!AB95+Ejecución!AE95+Ejecución!AH95+Ejecución!AK95+Ejecución!AN95","v":0},0]
[null,null,"Resumen","GASTOS OBLIGATORIOS",0,{"$f":"+SUM(F66:F95)","v":0},{"$f":"+SUM(G66:G95)","v":0},0,{"$f":"+SUM(I66:I95)","v":0},{"$f":"+SUM(J66:J95)","v":0},0]
[null,null,null,0]
[null,null,null,1]
[null,null,1,{"$f":"+IFERROR(+IF(Inputs!#REF!=\"\",\"\",Inputs!#REF!),0)","v":0},{"$f":"+IFERROR((G99+J99)/($G$24+$J$24),0)","v":0},{"$f":"+Proyección!F99+Proyección!G99+Proyección!H99+Proyección!I99+Proyección!J99+Proyección!K99","v":0},{"$f":"+Ejecución!G99+Ejecución!J99+Ejecución!M99+Ejecución!P99+Ejecución!S99+Ejecución!V99","v":0},{"$f":"+IFERROR(+(F99-G99),0)","v":0},{"$f":"+Proyección!L99+Proyección!M99+Proyección!N99+Proyección!O99+Proyección!P99+Proyección!Q99","v":0},{"$f":"+Ejecución!Y99+Ejecución!AB99+Ejecución!AE99+Ejecución!AH99+Ejecución!AK99+Ejecución!AN99","v":0},{"$f":"+IFERROR(+(I99-J99),0)","v":0}]
[null,null,2,{"$f":"+IFERROR(+IF(Inputs!#REF!=\"\",\"\",Inputs!#REF!),0)","v":0},0,{"$f":"+Proyección!F100+Proyección!G100+Proyección!H100+Proyección!I100+Proyección!J100+Proyección!K100","v":0},{"$f":"+Ejecución!G100+Ejecución!J100+Ejecución!M100+Ejecución!P100+Ejecución!S100+Ejecución!V100","v":0},0,{"$f":"+Proyección!L100+Proyección!M100+Proyección!N100+Proyección!O100+Proyección!P100+Proyección!Q100","v":0},{"$f":"+Ejecución!Y100+Ejecución!AB100+Ejecución!AE100+Ejecución!AH100+Ejecución!AK100+Ejecución!AN100","v":0},0]
[null,null,3,{"$f":"+IFERROR(+IF(Inputs!#REF!=\"\",\"\",Inputs!#REF!),0)","v":0},0,{"$f":"+Proyección!F101+Proyección!G101+Proyección!H101+Proyección!I101+Proyección!J101+Proyección!K101","v":0},{"$f":"+Ejecución!G101+Ejecución!J101+Ejecución!M101+Ejecución!P101+Ejecución!S101+Ejecución!V101","v":0},0,{"$f":"+Proyección!L101+Proyección!M101+Proyección!N101+Proyección!O101+Proyección!P101+Proyección!Q101","v":0},{"$f":"+Ejecución!Y101+Ejecución!AB101+Ejecución!AE101+Ejecución!AH101+Ejecución!AK101+Ejecución!AN101","v":0},0]
[null,null,4,{"$f":"+IFERROR(+IF(Inputs!#REF!=\"\",\"\",Inputs!#REF!),0)","v":0},0,{"$f":"+Proyección!F102+Proyección!G102+Proyección!H102+Proyección!I102+Proyección!J102+Proyección!K102","v":0},{"$f":"+Ejecución!G102+Ejecución!J102+Ejecución!M102+Ejecución!P102+Ejecución!S102+Ejecución!V102","v":0},0,{"$f":"+Proyección!L102+Proyección!M102+Proyección!N102+Proyección!O102+Proyección!P102+Proyección!Q102","v":0},{"$f":"+Ejecución!Y102+Ejecución!AB102+Ejecución!AE102+Ejecución!AH102+Ejecución!AK102+Ejecución!AN102","v":0},0]
[null,null,5,{"$f":"+IFERROR(+IF(Inputs!#REF!=\"\",\"\",Inputs!#REF!),0)","v":0},0,{"$f":"+Proyección!F103+Proyección!G103+Proyección!H103+Proyección!I103+Proyección!J103+Proyección!K103","v":0},{"$f":"+Ejecución!G103+Ejecución!J103+Ejecución!M103+Ejecución!P103+Ejecución!S103+Ejecución!V103","v":0},0,{"$f":"+Proyección!L103+Proyección!M103+Proyección!N103+Proyección!O103+Proyección!P103+Proyección!Q103","v":0},{"$f":"+Ejecución!Y103+Ejecución!AB103+Ejecución!AE103+Ejecución!AH103+Ejecución!AK103+Ejecución!AN103","v":0},0]
[null,null,6,{"$f":"+IFERROR(+IF(Inputs!#REF!=\"\",\"\",Inputs!#REF!),0)","v":0},0,{"$f":"+Proyección!F104+Proyección!G104+Proyección!H104+Proyección!I104+Proyección!J104+Proyección!K104","v":0},{"$f":"+Ejecución!G104+Ejecución!J104+Ejecución!M104+Ejecución!P104+Ejecución!S104+Ejecución!V104","v":0},0,{"$f":"+Proyección!L104+Proyección!M104+Proyección!N104+Proyección!O104+Proyección!P104+Proyección!Q104","v":0},{"$f":"+Ejecución!Y104+Ejecución!AB104+Ejecución!AE104+Ejecución!AH104+Ejecución!AK104+Ejecución!AN104","v":0},0]
[null,null,7,{"$f":"+IFERROR(+IF(Inputs!D74=\"\",\"\",Inputs!D74),0)","v":""},0,{"$f":"+Proyección!F105+Proyección!G105+Proyección!H105+Proyección!I105+Proyección!J105+Proyección!K105","v":0},{"$f":"+Ejecución!G105+Ejecución!J105+Ejecución!M105+Ejecución!P105+Ejecución!S105+Ejecución!V105","v":0},0,{"$f":"+Proyección!L105+Proyección!M105+Proyección!N105+Proyección!O105+Proyección!P105+Proyección!Q105","v":0},{"$f":"+Ejecución!Y105+Ejecución!AB105+Ejecución!AE105+Ejecución!AH105+Ejecución!AK105+Ejecución!AN105","v":0},0]
[null,null,8,{"$f":"+IFERROR(+IF(Inputs!D75=\"\",\"\",Inputs!D75),0)","v":""},0,{"$f":"+Proyección!F106+Proyección!G106+Proyección!H106+Proyección!I106+Proyección!J106+Proyección!K106","v":0},{"$f":"+Ejecución!G106+Ejecución!J106+Ejecución!M106+Ejecución!P106+Ejecución!S106+Ejecución!V106","v":0},0,{"$f":"+Proyección!L106+Proyección!M106+Proyección!N106+Proyección!O106+Proyección!P106+Proyección!Q106","v":0},{"$f":"+Ejecución!Y106+Ejecución!AB106+Ejecución!AE106+Ejecución!AH106+Ejecución!AK106+Ejecución!AN106","v":0},0]
[null,null,9,{"$f":"+IFERROR(+IF(Inputs!D76=\"\",\"\",Inputs!D76),0)","v":""},0,{"$f":"+Proyección!F107+Proyección!G107+Proyección!H107+Proyección!I107+Proyección!J107+Proyección!K107","v":0},{"$f":"+Ejecución!G107+Ejecución!J107+Ejecución!M107+Ejecución!P107+Ejecución!S107+Ejecución!V107","v":0},0,{"$f":"+Proyección!L107+Proyección!M107+Proyección!N107+Proyección!O107+Proyección!P107+Proyección!Q107","v":0},{"$f":"+Ejecución!Y107+Ejecución!AB107+Ejecución!AE107+Ejecución!AH107+Ejecución!AK107+Ejecución!AN107","v":0},0]
[null,null,10,{"$f":"+IFERROR(+IF(Inputs!D77=\"\",\"\",Inputs!D77),0)","v":""},0,{"$f":"+Proyección!F108+Proyección!G108+Proyección!H108+Proyección!I108+Proyección!J108+Proyección!K108","v":0},{"$f":"+Ejecución!G108+Ejecución!J108+Ejecución!M108+Ejecución!P108+Ejecución!S108+Ejecución!V108","v":0},0,{"$f":"+Proyección!L108+Proyección!M108+Proyección!N108+Proyección!O108+Proyección!P108+Proyección!Q108","v":0},{"$f":"+Ejecución!Y108+Ejecución!AB108+Ejecución!AE108+Ejecución!AH108+Ejecución!AK108+Ejecución!AN108","v":0},0]
[null,null,11,{"$f":"+IFERROR(+IF(Inputs!D78=\"\",\"\",Inputs!D78),0)","v":""},0,{"$f":"+Proyección!F109+Proyección!G109+Proyección!H109+Proyección!I109+Proyección!J109+Proyección!K109","v":0},{"$f":"+Ejecución!G109+Ejecución!J109+Ejecución!M109+Ejecución!P109+Ejecución!S109+Ejecución!V109","v":0},0,{"$f":"+Proyección!L109+Proyección!M109+Proyección!N109+Proyección!O109+Proyección!P109+Proyección!Q109","v":0},{"$f":"+Ejecución!Y109+Ejecución!AB109+Ejecución!AE109+Ejecución!AH109+Ejecución!AK109+Ejecución!AN109","v":0},0]
[null,null,12,{"$f":"+IFERROR(+IF(Inputs!D79=\"\",\"\",Inputs!D79),0)","v":""},0,{"$f":"+Proyección!F110+Proyección!G110+Proyección!H110+Proyección!I110+Proyección!J110+Proyección!K110","v":0},{"$f":"+Ejecución!G110+Ejecución!J110+Ejecución!M110+Ejecución!P110+Ejecución!S110+Ejecución!V110","v":0},0,{"$f":"+Proyección!L110+Proyección!M110+Proyección!N110+Proyección!O110+Proyección!P110+Proyección!Q110","v":0},{"$f":"+Ejecución!Y110+Ejecución!AB110+Ejecución!AE110+Ejecución!AH110+Ejecución!AK110+Ejecución!AN110","v":0},0]
[null,null,13,{"$f":"+IFERROR(+IF(Inputs!D80=\"\",\"\",Inputs!D80),0)","v":""},0,{"$f":"+Proyección!F111+Proyección!G111+Proyección!H111+Proyección!I111+Proyección!J111+Proyección!K111","v":0},{"$f":"+Ejecución!G111+Ejecución!J111+Ejecución!M111+Ejecución!P111+Ejecución!S111+Ejecución!V111","v":0},0,{"$f":"+Proyección!L111+Proyección!M111+Proyección!N111+Proyección!O111+Proyección!P111+Proyección!Q111","v":0},{"$f":"+Ejecución!Y111+Ejecución!AB111+Ejecución!AE111+Ejecución!AH111+Ejecución!AK111+Ejecución!AN111","v":0},0]
[null,null,14,{"$f":"+IFERROR(+IF(Inputs!D81=\"\",\"\",Inputs!D81),0)","v":""},0,{"$f":"+Proyección!F112+Proyección!G112+Proyección!H112+Proyección!I112+Proyección!J112+Proyección!K112","v":0},{"$f":"+Ejecución!G112+Ejecución!J112+Ejecución!M112+Ejecución!P112+Ejecución!S112+Ejecución!V112","v":0},0,{"$f":"+Proyección!L112+Proyección!M112+Proyección!N112+Proyección!O112+Proyección!P112+Proyección!Q112","v":0},{"$f":"+Ejecución!Y112+Ejecución!AB112+Ejecución!AE112+Ejecución!AH112+Ejecución!AK112+Ejecución!AN112","v":0},0]
[null,null,15,{"$f":"+IFERROR(+IF(Inputs!D82=\"\",\"\",Inputs!D82),0)","v":""},0,{"$f":"+Proyección!F113+Proyección!G113+Proyección!H113+Proyección!I113+Proyección!J113+Proyección!K113","v":0},{"$f":"+Ejecución!G113+Ejecución!J113+Ejecución!M113+Ejecución!P113+Ejecución!S113+Ejecución!V113","v":0},0,{"$f":"+Proyección!L113+Proyección!M113+Proyección!N113+Proyección!O113+Proyección!P113+Proyección!Q113","v":0},{"$f":"+Ejecución!Y113+Ejecución!AB113+Ejecución!AE113+Ejecución!AH113+Ejecución!AK113+Ejecución!AN113","v":0},0]
[null,null,16,{"$f":"+IFERROR(+IF(Inputs!I68=\"\",\"\",Inputs!I68),0)","v":"Abono extra Fondo de Emerg. (ejemplo)"},0,{"$f":"+Proyección!F114+Proyección!G114+Proyección!H114+Proyección!I114+Proyección!J114+Proyección!K114","v":0},{"$f":"+Ejecución!G114+Ejecución!J114+Ejecución!M114+Ejecución!P114+Ejecución!S114+Ejecución!V114","v":0},0,{"$f":"+Proyección!L114+Proyección!M114+Proyección!N114+Proyección!O114+Proyección!P114+Proyección!Q114","v":0},{"$f":"+Ejecución!Y114+Ejecución!AB114+Ejecución!AE114+Ejecución!AH114+Ejecución!AK114+Ejecución!AN114","v":0},0]
[null,null,17,{"$f":"+IFERROR(+IF(Inputs!I69=\"\",\"\",Inputs!I69),0)","v":"Seguro del vehículo (ejemplo)"},0,{"$f":"+Proyección!F115+Proyección!G115+Proyección!H115+Proyección!I115+Proyección!J115+Proyección!K115","v":0},{"$f":"+Ejecución!G115+Ejecución!J115+Ejecución!M115+Ejecución!P115+Ejecución!S115+Ejecución!V115","v":0},0,{"$f":"+Proyección!L115+Proyección!M115+Proyección!N115+Proyección!O115+Proyección!P115+Proyección!Q115","v":0},{"$f":"+Ejecución!Y115+Ejecución!AB115+Ejecución!AE115+Ejecución!AH115+Ejecución!AK115+Ejecución!AN115","v":0},0]
[null,null,18,{"$f":"+IFERROR(+IF(Inputs!I70=\"\",\"\",Inputs!I70),0)","v":""},0,{"$f":"+Proyección!F116+Proyección!G116+Proyección!H116+Proyección!I116+Proyección!J116+Proyección!K116","v":0},{"$f":"+Ejecución!G116+Ejecución!J116+Ejecución!M116+Ejecución!P116+Ejecución!S116+Ejecución!V116","v":0},0,{"$f":"+Proyección!L116+Proyección!M116+Proyección!N116+Proyección!O116+Proyección!P116+Proyección!Q116","v":0},{"$f":"+Ejecución!Y116+Ejecución!AB116+Ejecución!AE116+Ejecución!AH116+Ejecución!AK116+Ejecución!AN116","v":0},0]
[null,null,19,{"$f":"+IFERROR(+IF(Inputs!I71=\"\",\"\",Inputs!I71),0)","v":""},0,{"$f":"+Proyección!F117+Proyección!G117+Proyección!H117+Proyección!I117+Proyección!J117+Proyección!K117","v":0},{"$f":"+Ejecución!G117+Ejecución!J117+Ejecución!M117+Ejecución!P117+Ejecución!S117+Ejecución!V117","v":0},0,{"$f":"+Proyección!L117+Proyección!M117+Proyección!N117+Proyección!O117+Proyección!P117+Proyección!Q117","v":0},{"$f":"+Ejecución!Y117+Ejecución!AB117+Ejecución!AE117+Ejecución!AH117+Ejecución!AK117+Ejecución!AN117","v":0},0]
[null,null,20,{"$f":"+IFERROR(+IF(Inputs!I72=\"\",\"\",Inputs!I72),0)","v":""},0,{"$f":"+Proyección!F118+Proyección!G118+Proyección!H118+Proyección!I118+Proyección!J118+Proyección!K118","v":0},{"$f":"+Ejecución!G118+Ejecución!J118+Ejecución!M118+Ejecución!P118+Ejecución!S118+Ejecución!V118","v":0},0,{"$f":"+Proyección!L118+Proyección!M118+Proyección!N118+Proyección!O118+Proyección!P118+Proyección!Q118","v":0},{"$f":"+Ejecución!Y118+Ejecución!AB118+Ejecución!AE118+Ejecución!AH118+Ejecución!AK118+Ejecución!AN118","v":0},0]
[null,null,21,{"$f":"+IFERROR(+IF(Inputs!I73=\"\",\"\",Inputs!I73),0)","v":""},0,{"$f":"+Proyección!F119+Proyección!G119+Proyección!H119+Proyección!I119+Proyección!J119+Proyección!K119","v":0},{"$f":"+Ejecución!G119+Ejecución!J119+Ejecución!M119+Ejecución!P119+Ejecución!S119+Ejecución!V119","v":0},0,{"$f":"+Proyección!L119+Proyección!M119+Proyección!N119+Proyección!O119+Proyección!P119+Proyección!Q119","v":0},{"$f":"+Ejecución!Y119+Ejecución!AB119+Ejecución!AE119+Ejecución!AH119+Ejecución!AK119+Ejecución!AN119","v":0},0]
[null,null,22,{"$f":"+IFERROR(+IF(Inputs!I74=\"\",\"\",Inputs!I74),0)","v":""},0,{"$f":"+Proyección!F120+Proyección!G120+Proyección!H120+Proyección!I120+Proyección!J120+Proyección!K120","v":0},{"$f":"+Ejecución!G120+Ejecución!J120+Ejecución!M120+Ejecución!P120+Ejecución!S120+Ejecución!V120","v":0},0,{"$f":"+Proyección!L120+Proyección!M120+Proyección!N120+Proyección!O120+Proyección!P120+Proyección!Q120","v":0},{"$f":"+Ejecución!Y120+Ejecución!AB120+Ejecución!AE120+Ejecución!AH120+Ejecución!AK120+Ejecución!AN120","v":0},0]
[null,null,23,{"$f":"+IFERROR(+IF(Inputs!I75=\"\",\"\",Inputs!I75),0)","v":""},0,{"$f":"+Proyección!F121+Proyección!G121+Proyección!H121+Proyección!I121+Proyección!J121+Proyección!K121","v":0},{"$f":"+Ejecución!G121+Ejecución!J121+Ejecución!M121+Ejecución!P121+Ejecución!S121+Ejecución!V121","v":0},0,{"$f":"+Proyección!L121+Proyección!M121+Proyección!N121+Proyección!O121+Proyección!P121+Proyección!Q121","v":0},{"$f":"+Ejecución!Y121+Ejecución!AB121+Ejecución!AE121+Ejecución!AH121+Ejecución!AK121+Ejecución!AN121","v":0},0]
[null,null,24,{"$f":"+IFERROR(+IF(Inputs!I76=\"\",\"\",Inputs!I76),0)","v":""},0,{"$f":"+Proyección!F122+Proyección!G122+Proyección!H122+Proyección!I122+Proyección!J122+Proyección!K122","v":0},{"$f":"+Ejecución!G122+Ejecución!J122+Ejecución!M122+Ejecución!P122+Ejecución!S122+Ejecución!V122","v":0},0,{"$f":"+Proyección!L122+Proyección!M122+Proyección!N122+Proyección!O122+Proyección!P122+Proyección!Q122","v":0},{"$f":"+Ejecución!Y122+Ejecución!AB122+Ejecución!AE122+Ejecución!AH122+Ejecución!AK122+Ejecución!AN122","v":0},0]
[null,null,25,{"$f":"+IFERROR(+IF(Inputs!I77=\"\",\"\",Inputs!I77),0)","v":""},0,{"$f":"+Proyección!F123+Proyección!G123+Proyección!H123+Proyección!I123+Proyección!J123+Proyección!K123","v":0},{"$f":"+Ejecución!G123+Ejecución!J123+Ejecución!M123+Ejecución!P123+Ejecución!S123+Ejecución!V123","v":0},0,{"$f":"+Proyección!L123+Proyección!M123+Proyección!N123+Proyección!O123+Proyección!P123+Proyección!Q123","v":0},{"$f":"+Ejecución!Y123+Ejecución!AB123+Ejecución!AE123+Ejecución!AH123+Ejecución!AK123+Ejecución!AN123","v":0},0]
[null,null,26,{"$f":"+IFERROR(+IF(Inputs!I78=\"\",\"\",Inputs!I78),0)","v":""},0,{"$f":"+Proyección!F124+Proyección!G124+Proyección!H124+Proyección!I124+Proyección!J124+Proyección!K124","v":0},{"$f":"+Ejecución!G124+Ejecución!J124+Ejecución!M124+Ejecución!P124+Ejecución!S124+Ejecución!V124","v":0},0,{"$f":"+Proyección!L124+Proyección!M124+Proyección!N124+Proyección!O124+Proyección!P124+Proyección!Q124","v":0},{"$f":"+Ejecución!Y124+Ejecución!AB124+Ejecución!AE124+Ejecución!AH124+Ejecución!AK124+Ejecución!AN124","v":0},0]
[null,null,27,{"$f":"+IFERROR(+IF(Inputs!I79=\"\",\"\",Inputs!I79),0)","v":""},0,{"$f":"+Proyección!F125+Proyección!G125+Proyección!H125+Proyección!I125+Proyección!J125+Proyección!K125","v":0},{"$f":"+Ejecución!G125+Ejecución!J125+Ejecución!M125+Ejecución!P125+Ejecución!S125+Ejecución!V125","v":0},0,{"$f":"+Proyección!L125+Proyección!M125+Proyección!N125+Proyección!O125+Proyección!P125+Proyección!Q125","v":0},{"$f":"+Ejecución!Y125+Ejecución!AB125+Ejecución!AE125+Ejecución!AH125+Ejecución!AK125+Ejecución!AN125","v":0},0]
[null,null,28,{"$f":"+IFERROR(+IF(Inputs!I80=\"\",\"\",Inputs!I80),0)","v":""},0,{"$f":"+Proyección!F126+Proyección!G126+Proyección!H126+Proyección!I126+Proyección!J126+Proyección!K126","v":0},{"$f":"+Ejecución!G126+Ejecución!J126+Ejecución!M126+Ejecución!P126+Ejecución!S126+Ejecución!V126","v":0},0,{"$f":"+Proyección!L126+Proyección!M126+Proyección!N126+Proyección!O126+Proyección!P126+Proyección!Q126","v":0},{"$f":"+Ejecución!Y126+Ejecución!AB126+Ejecución!AE126+Ejecución!AH126+Ejecución!AK126+Ejecución!AN126","v":0},0]
[null,null,29,{"$f":"+IFERROR(+IF(Inputs!I81=\"\",\"\",Inputs!I81),0)","v":""},0,{"$f":"+Proyección!F127+Proyección!G127+Proyección!H127+Proyección!I127+Proyección!J127+Proyección!K127","v":0},{"$f":"+Ejecución!G127+Ejecución!J127+Ejecución!M127+Ejecución!P127+Ejecución!S127+Ejecución!V127","v":0},0,{"$f":"+Proyección!L127+Proyección!M127+Proyección!N127+Proyección!O127+Proyección!P127+Proyección!Q127","v":0},{"$f":"+Ejecución!Y127+Ejecución!AB127+Ejecución!AE127+Ejecución!AH127+Ejecución!AK127+Ejecución!AN127","v":0},0]
[null,null,30,{"$f":"+IFERROR(+IF(Inputs!I82=\"\",\"\",Inputs!I82),0)","v":""},0,{"$f":"+Proyección!F128+Proyección!G128+Proyección!H128+Proyección!I128+Proyección!J128+Proyección!K128","v":0},{"$f":"+Ejecución!G128+Ejecución!J128+Ejecución!M128+Ejecución!P128+Ejecución!S128+Ejecución!V128","v":0},0,{"$f":"+Proyección!L128+Proyección!M128+Proyección!N128+Proyección!O128+Proyección!P128+Proyección!Q128","v":0},{"$f":"+Ejecución!Y128+Ejecución!AB128+Ejecución!AE128+Ejecución!AH128+Ejecución!AK128+Ejecución!AN128","v":0},0]
[null,null,"Resumen","GASTOS NECESARIOS",0,{"$f":"+SUM(F99:F128)","v":0},{"$f":"+SUM(G99:G128)","v":0},{"$f":"+IFERROR(+(F129-G129),0)","v":0},{"$f":"+SUM(I99:I128)","v":0},{"$f":"+SUM(J99:J128)","v":0},0]
[null,null,null,1]
[null,null,1,{"$f":"+IFERROR(+IF(Inputs!#REF!=\"\",\"\",Inputs!#REF!),0)","v":0},{"$f":"+IFERROR((G131+J131)/($G$24+$J$24),0)","v":0},{"$f":"+Proyección!F131+Proyección!G131+Proyección!H131+Proyección!I131+Proyección!J131+Proyección!K131","v":0},{"$f":"+Ejecución!G131+Ejecución!J131+Ejecución!M131+Ejecución!P131+Ejecución!S131+Ejecución!V131","v":0},{"$f":"+IFERROR(+(F131-G131),0)","v":0},{"$f":"+Proyección!L131+Proyección!M131+Proyección!N131+Proyección!O131+Proyección!P131+Proyección!Q131","v":0},{"$f":"+Ejecución!Y131+Ejecución!AB131+Ejecución!AE131+Ejecución!AH131+Ejecución!AK131+Ejecución!AN131","v":0},{"$f":"+IFERROR(+(I131-J131),0)","v":0}]
[null,null,2,{"$f":"+IFERROR(+IF(Inputs!D88=\"\",\"\",Inputs!D88),0)","v":"Diversión  (ejemplo)"},0,{"$f":"+Proyección!F132+Proyección!G132+Proyección!H132+Proyección!I132+Proyección!J132+Proyección!K132","v":0},{"$f":"+Ejecución!G132+Ejecución!J132+Ejecución!M132+Ejecución!P132+Ejecución!S132+Ejecución!V132","v":0},0,{"$f":"+Proyección!L132+Proyección!M132+Proyección!N132+Proyección!O132+Proyección!P132+Proyección!Q132","v":0},{"$f":"+Ejecución!Y132+Ejecución!AB132+Ejecución!AE132+Ejecución!AH132+Ejecución!AK132+Ejecución!AN132","v":0},0]
[null,null,3,{"$f":"+IFERROR(+IF(Inputs!D89=\"\",\"\",Inputs!D89),0)","v":"Domicilios  (ejemplo)"},0,{"$f":"+Proyección!F133+Proyección!G133+Proyección!H133+Proyección!I133+Proyección!J133+Proyección!K133","v":0},{"$f":"+Ejecución!G133+Ejecución!J133+Ejecución!M133+Ejecución!P133+Ejecución!S133+Ejecución!V133","v":0},0,{"$f":"+Proyección!L133+Proyección!M133+Proyección!N133+Proyección!O133+Proyección!P133+Proyección!Q133","v":0},{"$f":"+Ejecución!Y133+Ejecución!AB133+Ejecución!AE133+Ejecución!AH133+Ejecución!AK133+Ejecución!AN133","v":0},0]
[null,null,4,{"$f":"+IFERROR(+IF(Inputs!D90=\"\",\"\",Inputs!D90),0)","v":""},0,{"$f":"+Proyección!F134+Proyección!G134+Proyección!H134+Proyección!I134+Proyección!J134+Proyección!K134","v":0},{"$f":"+Ejecución!G134+Ejecución!J134+Ejecución!M134+Ejecución!P134+Ejecución!S134+Ejecución!V134","v":0},0,{"$f":"+Proyección!L134+Proyección!M134+Proyección!N134+Proyección!O134+Proyección!P134+Proyección!Q134","v":0},{"$f":"+Ejecución!Y134+Ejecución!AB134+Ejecución!AE134+Ejecución!AH134+Ejecución!AK134+Ejecución!AN134","v":0},0]
[null,null,5,{"$f":"+IFERROR(+IF(Inputs!D91=\"\",\"\",Inputs!D91),0)","v":""},0,{"$f":"+Proyección!F135+Proyección!G135+Proyección!H135+Proyección!I135+Proyección!J135+Proyección!K135","v":0},{"$f":"+Ejecución!G135+Ejecución!J135+Ejecución!M135+Ejecución!P135+Ejecución!S135+Ejecución!V135","v":0},0,{"$f":"+Proyección!L135+Proyección!M135+Proyección!N135+Proyección!O135+Proyección!P135+Proyección!Q135","v":0},{"$f":"+Ejecución!Y135+Ejecución!AB135+Ejecución!AE135+Ejecución!AH135+Ejecución!AK135+Ejecución!AN135","v":0},0]
[null,null,6,{"$f":"+IFERROR(+IF(Inputs!D92=\"\",\"\",Inputs!D92),0)","v":""},0,{"$f":"+Proyección!F136+Proyección!G136+Proyección!H136+Proyección!I136+Proyección!J136+Proyección!K136","v":0},{"$f":"+Ejecución!G136+Ejecución!J136+Ejecución!M136+Ejecución!P136+Ejecución!S136+Ejecución!V136","v":0},0,{"$f":"+Proyección!L136+Proyección!M136+Proyección!N136+Proyección!O136+Proyección!P136+Proyección!Q136","v":0},{"$f":"+Ejecución!Y136+Ejecución!AB136+Ejecución!AE136+Ejecución!AH136+Ejecución!AK136+Ejecución!AN136","v":0},0]
[null,null,7,{"$f":"+IFERROR(+IF(Inputs!D93=\"\",\"\",Inputs!D93),0)","v":""},0,{"$f":"+Proyección!F137+Proyección!G137+Proyección!H137+Proyección!I137+Proyección!J137+Proyección!K137","v":0},{"$f":"+Ejecución!G137+Ejecución!J137+Ejecución!M137+Ejecución!P137+Ejecución!S137+Ejecución!V137","v":0},0,{"$f":"+Proyección!L137+Proyección!M137+Proyección!N137+Proyección!O137+Proyección!P137+Proyección!Q137","v":0},{"$f":"+Ejecución!Y137+Ejecución!AB137+Ejecución!AE137+Ejecución!AH137+Ejecución!AK137+Ejecución!AN137","v":0},0]
[null,null,8,{"$f":"+IFERROR(+IF(Inputs!D94=\"\",\"\",Inputs!D94),0)","v":""},0,{"$f":"+Proyección!F138+Proyección!G138+Proyección!H138+Proyección!I138+Proyección!J138+Proyección!K138","v":0},{"$f":"+Ejecución!G138+Ejecución!J138+Ejecución!M138+Ejecución!P138+Ejecución!S138+Ejecución!V138","v":0},0,{"$f":"+Proyección!L138+Proyección!M138+Proyección!N138+Proyección!O138+Proyección!P138+Proyección!Q138","v":0},{"$f":"+Ejecución!Y138+Ejecución!AB138+Ejecución!AE138+Ejecución!AH138+Ejecución!AK138+Ejecución!AN138","v":0},0]
[null,null,9,{"$f":"+IFERROR(+IF(Inputs!D95=\"\",\"\",Inputs!D95),0)","v":""},0,{"$f":"+Proyección!F139+Proyección!G139+Proyección!H139+Proyección!I139+Proyección!J139+Proyección!K139","v":0},{"$f":"+Ejecución!G139+Ejecución!J139+Ejecución!M139+Ejecución!P139+Ejecución!S139+Ejecución!V139","v":0},0,{"$f":"+Proyección!L139+Proyección!M139+Proyección!N139+Proyección!O139+Proyección!P139+Proyección!Q139","v":0},{"$f":"+Ejecución!Y139+Ejecución!AB139+Ejecución!AE139+Ejecución!AH139+Ejecución!AK139+Ejecución!AN139","v":0},0]
[null,null,10,{"$f":"+IFERROR(+IF(Inputs!D96=\"\",\"\",Inputs!D96),0)","v":""},0,{"$f":"+Proyección!F140+Proyección!G140+Proyección!H140+Proyección!I140+Proyección!J140+Proyección!K140","v":0},{"$f":"+Ejecución!G140+Ejecución!J140+Ejecución!M140+Ejecución!P140+Ejecución!S140+Ejecución!V140","v":0},0,{"$f":"+Proyección!L140+Proyección!M140+Proyección!N140+Proyección!O140+Proyección!P140+Proyección!Q140","v":0},{"$f":"+Ejecución!Y140+Ejecución!AB140+Ejecución!AE140+Ejecución!AH140+Ejecución!AK140+Ejecución!AN140","v":0},0]
[null,null,11,{"$f":"+IFERROR(+IF(Inputs!D97=\"\",\"\",Inputs!D97),0)","v":""},0,{"$f":"+Proyección!F141+Proyección!G141+Proyección!H141+Proyección!I141+Proyección!J141+Proyección!K141","v":0},{"$f":"+Ejecución!G141+Ejecución!J141+Ejecución!M141+Ejecución!P141+Ejecución!S141+Ejecución!V141","v":0},0,{"$f":"+Proyección!L141+Proyección!M141+Proyección!N141+Proyección!O141+Proyección!P141+Proyección!Q141","v":0},{"$f":"+Ejecución!Y141+Ejecución!AB141+Ejecución!AE141+Ejecución!AH141+Ejecución!AK141+Ejecución!AN141","v":0},0]
[null,null,12,{"$f":"+IFERROR(+IF(Inputs!D98=\"\",\"\",Inputs!D98),0)","v":""},0,{"$f":"+Proyección!F142+Proyección!G142+Proyección!H142+Proyección!I142+Proyección!J142+Proyección!K142","v":0},{"$f":"+Ejecución!G142+Ejecución!J142+Ejecución!M142+Ejecución!P142+Ejecución!S142+Ejecución!V142","v":0},0,{"$f":"+Proyección!L142+Proyección!M142+Proyección!N142+Proyección!O142+Proyección!P142+Proyección!Q142","v":0},{"$f":"+Ejecución!Y142+Ejecución!AB142+Ejecución!AE142+Ejecución!AH142+Ejecución!AK142+Ejecución!AN142","v":0},0]
[null,null,13,{"$f":"+IFERROR(+IF(Inputs!D99=\"\",\"\",Inputs!D99),0)","v":""},0,{"$f":"+Proyección!F143+Proyección!G143+Proyección!H143+Proyección!I143+Proyección!J143+Proyección!K143","v":0},{"$f":"+Ejecución!G143+Ejecución!J143+Ejecución!M143+Ejecución!P143+Ejecución!S143+Ejecución!V143","v":0},0,{"$f":"+Proyección!L143+Proyección!M143+Proyección!N143+Proyección!O143+Proyección!P143+Proyección!Q143","v":0},{"$f":"+Ejecución!Y143+Ejecución!AB143+Ejecución!AE143+Ejecución!AH143+Ejecución!AK143+Ejecución!AN143","v":0},0]
[null,null,14,{"$f":"+IFERROR(+IF(Inputs!D100=\"\",\"\",Inputs!D100),0)","v":""},0,{"$f":"+Proyección!F144+Proyección!G144+Proyección!H144+Proyección!I144+Proyección!J144+Proyección!K144","v":0},{"$f":"+Ejecución!G144+Ejecución!J144+Ejecución!M144+Ejecución!P144+Ejecución!S144+Ejecución!V144","v":0},0,{"$f":"+Proyección!L144+Proyección!M144+Proyección!N144+Proyección!O144+Proyección!P144+Proyección!Q144","v":0},{"$f":"+Ejecución!Y144+Ejecución!AB144+Ejecución!AE144+Ejecución!AH144+Ejecución!AK144+Ejecución!AN144","v":0},0]
[null,null,15,{"$f":"+IFERROR(+IF(Inputs!D101=\"\",\"\",Inputs!D101),0)","v":""},0,{"$f":"+Proyección!F145+Proyección!G145+Proyección!H145+Proyección!I145+Proyección!J145+Proyección!K145","v":0},{"$f":"+Ejecución!G145+Ejecución!J145+Ejecución!M145+Ejecución!P145+Ejecución!S145+Ejecución!V145","v":0},0,{"$f":"+Proyección!L145+Proyección!M145+Proyección!N145+Proyección!O145+Proyección!P145+Proyección!Q145","v":0},{"$f":"+Ejecución!Y145+Ejecución!AB145+Ejecución!AE145+Ejecución!AH145+Ejecución!AK145+Ejecución!AN145","v":0},0]
[null,null,16,{"$f":"+IFERROR(+IF(Inputs!I87=\"\",\"\",Inputs!I87),0)","v":"Vacaciones  (ejemplo)"},0,{"$f":"+Proyección!F146+Proyección!G146+Proyección!H146+Proyección!I146+Proyección!J146+Proyección!K146","v":0},{"$f":"+Ejecución!G146+Ejecución!J146+Ejecución!M146+Ejecución!P146+Ejecución!S146+Ejecución!V146","v":0},0,{"$f":"+Proyección!L146+Proyección!M146+Proyección!N146+Proyección!O146+Proyección!P146+Proyección!Q146","v":0},{"$f":"+Ejecución!Y146+Ejecución!AB146+Ejecución!AE146+Ejecución!AH146+Ejecución!AK146+Ejecución!AN146","v":0},0]
[null,null,17,{"$f":"+IFERROR(+IF(Inputs!I88=\"\",\"\",Inputs!I88),0)","v":"Regalos de navidad  (ejemplo)"},0,{"$f":"+Proyección!F147+Proyección!G147+Proyección!H147+Proyección!I147+Proyección!J147+Proyección!K147","v":0},{"$f":"+Ejecución!G147+Ejecución!J147+Ejecución!M147+Ejecución!P147+Ejecución!S147+Ejecución!V147","v":0},0,{"$f":"+Proyección!L147+Proyección!M147+Proyección!N147+Proyección!O147+Proyección!P147+Proyección!Q147","v":0},{"$f":"+Ejecución!Y147+Ejecución!AB147+Ejecución!AE147+Ejecución!AH147+Ejecución!AK147+Ejecución!AN147","v":0},0]
[null,null,18,{"$f":"+IFERROR(+IF(Inputs!I89=\"\",\"\",Inputs!I89),0)","v":""},0,{"$f":"+Proyección!F148+Proyección!G148+Proyección!H148+Proyección!I148+Proyección!J148+Proyección!K148","v":0},{"$f":"+Ejecución!G148+Ejecución!J148+Ejecución!M148+Ejecución!P148+Ejecución!S148+Ejecución!V148","v":0},0,{"$f":"+Proyección!L148+Proyección!M148+Proyección!N148+Proyección!O148+Proyección!P148+Proyección!Q148","v":0},{"$f":"+Ejecución!Y148+Ejecución!AB148+Ejecución!AE148+Ejecución!AH148+Ejecución!AK148+Ejecución!AN148","v":0},0]
[null,null,19,{"$f":"+IFERROR(+IF(Inputs!I90=\"\",\"\",Inputs!I90),0)","v":""},0,{"$f":"+Proyección!F149+Proyección!G149+Proyección!H149+Proyección!I149+Proyección!J149+Proyección!K149","v":0},{"$f":"+Ejecución!G149+Ejecución!J149+Ejecución!M149+Ejecución!P149+Ejecución!S149+Ejecución!V149","v":0},0,{"$f":"+Proyección!L149+Proyección!M149+Proyección!N149+Proyección!O149+Proyección!P149+Proyección!Q149","v":0},{"$f":"+Ejecución!Y149+Ejecución!AB149+Ejecución!AE149+Ejecución!AH149+Ejecución!AK149+Ejecución!AN149","v":0},0]
[null,null,20,{"$f":"+IFERROR(+IF(Inputs!I91=\"\",\"\",Inputs!I91),0)","v":""},0,{"$f":"+Proyección!F150+Proyección!G150+Proyección!H150+Proyección!I150+Proyección!J150+Proyección!K150","v":0},{"$f":"+Ejecución!G150+Ejecución!J150+Ejecución!M150+Ejecución!P150+Ejecución!S150+Ejecución!V150","v":0},0,{"$f":"+Proyección!L150+Proyección!M150+Proyección!N150+Proyección!O150+Proyección!P150+Proyección!Q150","v":0},{"$f":"+Ejecución!Y150+Ejecución!AB150+Ejecución!AE150+Ejecución!AH150+Ejecución!AK150+Ejecución!AN150","v":0},0]
[null,null,21,{"$f":"+IFERROR(+IF(Inputs!I92=\"\",\"\",Inputs!I92),0)","v":""},0,{"$f":"+Proyección!F151+Proyección!G151+Proyección!H151+Proyección!I151+Proyección!J151+Proyección!K151","v":0},{"$f":"+Ejecución!G151+Ejecución!J151+Ejecución!M151+Ejecución!P151+Ejecución!S151+Ejecución!V151","v":0},0,{"$f":"+Proyección!L151+Proyección!M151+Proyección!N151+Proyección!O151+Proyección!P151+Proyección!Q151","v":0},{"$f":"+Ejecución!Y151+Ejecución!AB151+Ejecución!AE151+Ejecución!AH151+Ejecución!AK151+Ejecución!AN151","v":0},0]
[null,null,22,{"$f":"+IFERROR(+IF(Inputs!I93=\"\",\"\",Inputs!I93),0)","v":""},0,{"$f":"+Proyección!F152+Proyección!G152+Proyección!H152+Proyección!I152+Proyección!J152+Proyección!K152","v":0},{"$f":"+Ejecución!G152+Ejecución!J152+Ejecución!M152+Ejecución!P152+Ejecución!S152+Ejecución!V152","v":0},0,{"$f":"+Proyección!L152+Proyección!M152+Proyección!N152+Proyección!O152+Proyección!P152+Proyección!Q152","v":0},{"$f":"+Ejecución!Y152+Ejecución!AB152+Ejecución!AE152+Ejecución!AH152+Ejecución!AK152+Ejecución!AN152","v":0},0]
[null,null,23,{"$f":"+IFERROR(+IF(Inputs!I94=\"\",\"\",Inputs!I94),0)","v":""},0,{"$f":"+Proyección!F153+Proyección!G153+Proyección!H153+Proyección!I153+Proyección!J153+Proyección!K153","v":0},{"$f":"+Ejecución!G153+Ejecución!J153+Ejecución!M153+Ejecución!P153+Ejecución!S153+Ejecución!V153","v":0},0,{"$f":"+Proyección!L153+Proyección!M153+Proyección!N153+Proyección!O153+Proyección!P153+Proyección!Q153","v":0},{"$f":"+Ejecución!Y153+Ejecución!AB153+Ejecución!AE153+Ejecución!AH153+Ejecución!AK153+Ejecución!AN153","v":0},0]
[null,null,24,{"$f":"+IFERROR(+IF(Inputs!I95=\"\",\"\",Inputs!I95),0)","v":""},0,{"$f":"+Proyección!F154+Proyección!G154+Proyección!H154+Proyección!I154+Proyección!J154+Proyección!K154","v":0},{"$f":"+Ejecución!G154+Ejecución!J154+Ejecución!M154+Ejecución!P154+Ejecución!S154+Ejecución!V154","v":0},0,{"$f":"+Proyección!L154+Proyección!M154+Proyección!N154+Proyección!O154+Proyección!P154+Proyección!Q154","v":0},{"$f":"+Ejecución!Y154+Ejecución!AB154+Ejecución!AE154+Ejecución!AH154+Ejecución!AK154+Ejecución!AN154","v":0},0]
[null,null,25,{"$f":"+IFERROR(+IF(Inputs!I96=\"\",\"\",Inputs!I96),0)","v":""},0,{"$f":"+Proyección!F155+Proyección!G155+Proyección!H155+Proyección!I155+Proyección!J155+Proyección!K155","v":0},{"$f":"+Ejecución!G155+Ejecución!J155+Ejecución!M155+Ejecución!P155+Ejecución!S155+Ejecución!V155","v":0},0,{"$f":"+Proyección!L155+Proyección!M155+Proyección!N155+Proyección!O155+Proyección!P155+Proyección!Q155","v":0},{"$f":"+Ejecución!Y155+Ejecución!AB155+Ejecución!AE155+Ejecución!AH155+Ejecución!AK155+Ejecución!AN155","v":0},0]
[null,null,26,{"$f":"+IFERROR(+IF(Inputs!I97=\"\",\"\",Inputs!I97),0)","v":""},0,{"$f":"+Proyección!F156+Proyección!G156+Proyección!H156+Proyección!I156+Proyección!J156+Proyección!K156","v":0},{"$f":"+Ejecución!G156+Ejecución!J156+Ejecución!M156+Ejecución!P156+Ejecución!S156+Ejecución!V156","v":0},0,{"$f":"+Proyección!L156+Proyección!M156+Proyección!N156+Proyección!O156+Proyección!P156+Proyección!Q156","v":0},{"$f":"+Ejecución!Y156+Ejecución!AB156+Ejecución!AE156+Ejecución!AH156+Ejecución!AK156+Ejecución!AN156","v":0},0]
[null,null,27,{"$f":"+IFERROR(+IF(Inputs!I98=\"\",\"\",Inputs!I98),0)","v":""},0,{"$f":"+Proyección!F157+Proyección!G157+Proyección!H157+Proyección!I157+Proyección!J157+Proyección!K157","v":0},{"$f":"+Ejecución!G157+Ejecución!J157+Ejecución!M157+Ejecución!P157+Ejecución!S157+Ejecución!V157","v":0},0,{"$f":"+Proyección!L157+Proyección!M157+Proyección!N157+Proyección!O157+Proyección!P157+Proyección!Q157","v":0},{"$f":"+Ejecución!Y157+Ejecución!AB157+Ejecución!AE157+Ejecución!AH157+Ejecución!AK157+Ejecución!AN157","v":0},0]
[null,null,28,{"$f":"+IFERROR(+IF(Inputs!I99=\"\",\"\",Inputs!I99),0)","v":""},0,{"$f":"+Proyección!F158+Proyección!G158+Proyección!H158+Proyección!I158+Proyección!J158+Proyección!K158","v":0},{"$f":"+Ejecución!G158+Ejecución!J158+Ejecución!M158+Ejecución!P158+Ejecución!S158+Ejecución!V158","v":0},0,{"$f":"+Proyección!L158+Proyección!M158+Proyección!N158+Proyección!O158+Proyección!P158+Proyección!Q158","v":0},{"$f":"+Ejecución!Y158+Ejecución!AB158+Ejecución!AE158+Ejecución!AH158+Ejecución!AK158+Ejecución!AN158","v":0},0]
[null,null,29,{"$f":"+IFERROR(+IF(Inputs!I100=\"\",\"\",Inputs!I100),0)","v":""},0,{"$f":"+Proyección!F159+Proyección!G159+Proyección!H159+Proyección!I159+Proyección!J159+Proyección!K159","v":0},{"$f":"+Ejecución!G159+Ejecución!J159+Ejecución!M159+Ejecución!P159+Ejecución!S159+Ejecución!V159","v":0},0,{"$f":"+Proyección!L159+Proyección!M159+Proyección!N159+Proyección!O159+Proyección!P159+Proyección!Q159","v":0},{"$f":"+Ejecución!Y159+Ejecución!AB159+Ejecución!AE159+Ejecución!AH159+Ejecución!AK159+Ejecución!AN159","v":0},0]
[null,null,30,{"$f":"+IFERROR(+IF(Inputs!I101=\"\",\"\",Inputs!I101),0)","v":""},0,{"$f":"+Proyección!F160+Proyección!G160+Proyección!H160+Proyección!I160+Proyección!J160+Proyección!K160","v":0},{"$f":"+Ejecución!G160+Ejecución!J160+Ejecución!M160+Ejecución!P160+Ejecución!S160+Ejecución!V160","v":0},0,{"$f":"+Proyección!L160+Proyección!M160+Proyección!N160+Proyección!O160+Proyección!P160+Proyección!Q160","v":0},{"$f":"+Ejecución!Y160+Ejecución!AB160+Ejecución!AE160+Ejecución!AH160+Ejecución!AK160+Ejecución!AN160","v":0},0]
[null,null,"Resumen","GASTOS PRESCINDIBLES/DISFRUTE",0,{"$f":"+SUM(F131:F160)","v":0},{"$f":"+SUM(G131:G160)","v":0},{"$f":"+IFERROR(+(F161-G161),0)","v":0},{"$f":"+SUM(I131:I160)","v":0},{"$f":"+SUM(J131:J160)","v":0},0]
[null,null,"Resumen",1]
[null,null,"Resumen","TOTAL SALIDAS (AHORRO + GASTOS)",null,{"$f":"+F37+F52+F63+F96+F129+F161","v":0},{"$f":"+G37+G52+G63+G96+G129+G161","v":0},{"$f":"+IFERROR(+(F163-G163),0)","v":0},{"$f":"+I37+I52+I63+I96+I129+I161","v":0},{"$f":"+J37+J52+J63+J96+J129+J161","v":0},{"$f":"+IFERROR(+(I163-J163),0)","v":0}]
[null,null,"Resumen",1]
[null,null,"Resumen",1]
[null,null,"Resumen","     SALDO FINAL / FLUJO DE CAJA",null,{"$f":"+F9+F24-F163","v":0},{"$f":"+G9+G24-G163","v":0},{"$f":"IFERROR((IF(G166>0,(F166+G166),(G166-F166))),0)","v":0},{"$f":"+I9+I24-I163","v":0},{"$f":"+J9+J24-J163","v":0},{"$f":"IFERROR((IF(J166>0,(I166+J166),(J166-I166))),0)","v":0}]
[null,null,"Resumen",1]
[null,null,"Resumen",1]
[null,null,"Resumen",1,"Saldo año anterior"]
[null,null,"Resumen","RESERVAS"]
[null,null,"Resumen","Ahorro",{"$f":"+Proyección!E171","v":0},{"$f":"+E171+F37","v":0},{"$f":"+E171+G37","v":0},{"$f":"+IFERROR(+(F171-G171),0)","v":0},{"$f":"+F171+I37","v":0},{"$f":"+G171+J37","v":0},{"$f":"+IFERROR(+(I171-J171),0)","v":0}]
[null,null,"Resumen","Fondo de Emergencia",{"$f":"+Proyección!E172","v":0},{"$f":"+E172+VLOOKUP($D$172,$D$12:$F$160,3,0)","v":{"$error":"#N/A"}},{"$f":"+E172+VLOOKUP($D$172,$D$12:$G$160,4,0)","v":{"$error":"#N/A"}},{"$f":"+IFERROR(+(F172-G172),0)","v":0},{"$f":"+F172+VLOOKUP($D$172,$D$12:$I$160,6,0)","v":{"$error":"#N/A"}},{"$f":"+G172+VLOOKUP($D$172,$D$12:$J$160,7,0)","v":{"$error":"#N/A"}},{"$f":"+IFERROR(+(I172-J172),0)","v":0}]
[null,null,"Resumen",1]
[null,null,"Resumen","INDICADORES"]
[null,null,"Resumen","Nivel de endeudamiento","-",{"$f":"+IFERROR(F52/F24,0)","v":0},{"$f":"+IFERROR(G52/G24,0)","v":0},"-",{"$f":"+IFERROR(I52/I24,0)","v":0},{"$f":"+IFERROR(J52/J24,0)","v":0},"-"]
[null,null,"Resumen","Capacidad de endeudamiento","-",{"$f":"+IFERROR(IF(F166<=0,0,(F166*35%)),0)","v":0},{"$f":"+IFERROR(IF(G166<=0,0,(G166*35%)),0)","v":0},"-",{"$f":"+IFERROR(IF(I166<=0,0,(I166*35%)),0)","v":0},{"$f":"+IFERROR(IF(J166<=0,0,(J166*35%)),0)","v":0},"-"]
[null,null,"Resumen","Variación  real vs presupuestado","-","-","-",{"$f":"+IFERROR((H166-F166)/F166,0)","v":0},"-","-",{"$f":"+IFERROR((K166-I166)/I166,0)","v":0}]
[null,null,"Resumen",1]
[null,null,"Resumen",1]
[null,null,"Resumen",1]

{"sheet":"Resumen Trim  (2)","index":10,"n_rows":179,"n_cols":9,"rows_kept":179,"cut":false,"hidden":true,"merged":[[165,3,165,4]]}
[null,null,null,1]
[null,null,null,1]
[null,null,null,1]
[null,null,null,1]
[null,null,null,1]
[null,null,"Resumen","Concepto","%","Trimestre I","Trimestre II","Trimestre III","Trimestre IV"]
[null,null,null,1]
[null,null,"Resumen",1]
[null,null,"Resumen","SALDO INICIAL",null,0,{"$f":"+F166","v":0},{"$f":"+G166","v":0},{"$f":"+H166","v":0}]
[null,null,"Resumen",1,"% del Ingreso"]
[null,null,null,1]
[null,null,1,{"$f":"+IFERROR(+IF(Inputs!D12=\"\",\"\",Inputs!D12),0)","v":"Salario Luisa (ejemplo)"},{"$f":"+IFERROR(F12/$F$24,0)","v":0},{"$f":"+Proyección!F12+Proyección!G12+Proyección!H12","v":0},{"$f":"+Proyección!I12+Proyección!J12+Proyección!K12","v":0},{"$f":"+Proyección!L12+Proyección!M12+Proyección!N12","v":0},{"$f":"+Proyección!O12+Proyección!P12+Proyección!Q12","v":0}]
[null,null,2,{"$f":"+IFERROR(+IF(Inputs!D13=\"\",\"\",Inputs!D13),0)","v":"Salario Tomás  (ejemplo)"},{"$f":"+IFERROR(F13/$F$24,0)","v":0},{"$f":"+Proyección!F13+Proyección!G13+Proyección!H13","v":0},{"$f":"+Proyección!I13+Proyección!J13+Proyección!K13","v":0},{"$f":"+Proyección!L13+Proyección!M13+Proyección!N13","v":0},{"$f":"+Proyección!O13+Proyección!P13+Proyección!Q13","v":0}]
[null,null,3,{"$f":"+IFERROR(+IF(Inputs!D14=\"\",\"\",Inputs!D14),0)","v":""},0,{"$f":"+Proyección!F14+Proyección!G14+Proyección!H14","v":0},{"$f":"+Proyección!I14+Proyección!J14+Proyección!K14","v":0},{"$f":"+Proyección!L14+Proyección!M14+Proyección!N14","v":0},{"$f":"+Proyección!O14+Proyección!P14+Proyección!Q14","v":0}]
[null,null,4,{"$f":"+IFERROR(+IF(Inputs!D15=\"\",\"\",Inputs!D15),0)","v":""},0,{"$f":"+Proyección!F15+Proyección!G15+Proyección!H15","v":0},{"$f":"+Proyección!I15+Proyección!J15+Proyección!K15","v":0},{"$f":"+Proyección!L15+Proyección!M15+Proyección!N15","v":0},{"$f":"+Proyección!O15+Proyección!P15+Proyección!Q15","v":0}]
[null,null,5,{"$f":"+IFERROR(+IF(Inputs!D16=\"\",\"\",Inputs!D16),0)","v":""},0,{"$f":"+Proyección!F16+Proyección!G16+Proyección!H16","v":0},{"$f":"+Proyección!I16+Proyección!J16+Proyección!K16","v":0},{"$f":"+Proyección!L16+Proyección!M16+Proyección!N16","v":0},{"$f":"+Proyección!O16+Proyección!P16+Proyección!Q16","v":0}]
[null,null,6,{"$f":"+IFERROR(+IF(Inputs!D17=\"\",\"\",Inputs!D17),0)","v":""},0,{"$f":"+Proyección!F17+Proyección!G17+Proyección!H17","v":0},{"$f":"+Proyección!I17+Proyección!J17+Proyección!K17","v":0},{"$f":"+Proyección!L17+Proyección!M17+Proyección!N17","v":0},{"$f":"+Proyección!O17+Proyección!P17+Proyección!Q17","v":0}]
[null,null,7,{"$f":"+IFERROR(+IF(Inputs!I12=\"\",\"\",Inputs!I12),0)","v":"Prima Luisa  (ejemplo)"},0,{"$f":"+Proyección!F18+Proyección!G18+Proyección!H18","v":0},{"$f":"+Proyección!I18+Proyección!J18+Proyección!K18","v":0},{"$f":"+Proyección!L18+Proyección!M18+Proyección!N18","v":0},{"$f":"+Proyección!O18+Proyección!P18+Proyección!Q18","v":0}]
[null,null,8,{"$f":"+IFERROR(+IF(Inputs!I13=\"\",\"\",Inputs!I13),0)","v":"Prima Tomás  (ejemplo)"},0,{"$f":"+Proyección!F19+Proyección!G19+Proyección!H19","v":0},{"$f":"+Proyección!I19+Proyección!J19+Proyección!K19","v":0},{"$f":"+Proyección!L19+Proyección!M19+Proyección!N19","v":0},{"$f":"+Proyección!O19+Proyección!P19+Proyección!Q19","v":0}]
[null,null,9,{"$f":"+IFERROR(+IF(Inputs!I14=\"\",\"\",Inputs!I14),0)","v":"Intereses cesantías (ejemplo)"},0,{"$f":"+Proyección!F20+Proyección!G20+Proyección!H20","v":0},{"$f":"+Proyección!I20+Proyección!J20+Proyección!K20","v":0},{"$f":"+Proyección!L20+Proyección!M20+Proyección!N20","v":0},{"$f":"+Proyección!O20+Proyección!P20+Proyección!Q20","v":0}]
[null,null,10,{"$f":"+IFERROR(+IF(Inputs!I15=\"\",\"\",Inputs!I15),0)","v":""},0,{"$f":"+Proyección!F21+Proyección!G21+Proyección!H21","v":0},{"$f":"+Proyección!I21+Proyección!J21+Proyección!K21","v":0},{"$f":"+Proyección!L21+Proyección!M21+Proyección!N21","v":0},{"$f":"+Proyección!O21+Proyección!P21+Proyección!Q21","v":0}]
[null,null,11,{"$f":"+IFERROR(+IF(Inputs!I16=\"\",\"\",Inputs!I16),0)","v":""},0,{"$f":"+Proyección!F22+Proyección!G22+Proyección!H22","v":0},{"$f":"+Proyección!I22+Proyección!J22+Proyección!K22","v":0},{"$f":"+Proyección!L22+Proyección!M22+Proyección!N22","v":0},{"$f":"+Proyección!O22+Proyección!P22+Proyección!Q22","v":0}]
[null,null,12,{"$f":"+IFERROR(+IF(Inputs!I17=\"\",\"\",Inputs!I17),0)","v":""},0,{"$f":"+Proyección!F23+Proyección!G23+Proyección!H23","v":0},{"$f":"+Proyección!I23+Proyección!J23+Proyección!K23","v":0},{"$f":"+Proyección!L23+Proyección!M23+Proyección!N23","v":0},{"$f":"+Proyección!O23+Proyección!P23+Proyección!Q23","v":0}]
[null,null,"Resumen","TOTAL INGRESO",{"$f":"+SUM(F24:I24)","v":0},{"$f":"+SUM(F12:F23)","v":0},{"$f":"+SUM(G12:G23)","v":0},{"$f":"+SUM(H12:H23)","v":0},{"$f":"+SUM(I12:I23)","v":0}]
[null,null,"Resumen",1]
[null,null,null,1]
[null,null,1,{"$f":"+IFERROR(+IF(Inputs!D22=\"\",\"\",Inputs!D22),0)","v":"Para comprar casa propia  (ejemplo)"},{"$f":"+IFERROR((+SUM(F27:I27)/+SUM($F$24:$I$24)),0)","v":0},{"$f":"+Proyección!F27+Proyección!G27+Proyección!H27","v":0},{"$f":"+Proyección!I27+Proyección!J27+Proyección!K27","v":0},{"$f":"+Proyección!L27+Proyección!M27+Proyección!N27","v":0},{"$f":"+Proyección!O27+Proyección!P27+Proyección!Q27","v":0}]
[null,null,2,{"$f":"+IFERROR(+IF(Inputs!D23=\"\",\"\",Inputs!D23),0)","v":"Postgrado Luisa  (ejemplo)"},0,{"$f":"+Proyección!F28+Proyección!G28+Proyección!H28","v":0},{"$f":"+Proyección!I28+Proyección!J28+Proyección!K28","v":0},{"$f":"+Proyección!L28+Proyección!M28+Proyección!N28","v":0},{"$f":"+Proyección!O28+Proyección!P28+Proyección!Q28","v":0}]
[null,null,3,{"$f":"+IFERROR(+IF(Inputs!D24=\"\",\"\",Inputs!D24),0)","v":"Jubilación  (ejemplo)"},0,{"$f":"+Proyección!F29+Proyección!G29+Proyección!H29","v":0},{"$f":"+Proyección!I29+Proyección!J29+Proyección!K29","v":0},{"$f":"+Proyección!L29+Proyección!M29+Proyección!N29","v":0},{"$f":"+Proyección!O29+Proyección!P29+Proyección!Q29","v":0}]
[null,null,4,{"$f":"+IFERROR(+IF(Inputs!D25=\"\",\"\",Inputs!D25),0)","v":""},0,{"$f":"+Proyección!F30+Proyección!G30+Proyección!H30","v":0},{"$f":"+Proyección!I30+Proyección!J30+Proyección!K30","v":0},{"$f":"+Proyección!L30+Proyección!M30+Proyección!N30","v":0},{"$f":"+Proyección!O30+Proyección!P30+Proyección!Q30","v":0}]
[null,null,5,{"$f":"+IFERROR(+IF(Inputs!D26=\"\",\"\",Inputs!D26),0)","v":""},0,{"$f":"+Proyección!F31+Proyección!G31+Proyección!H31","v":0},{"$f":"+Proyección!I31+Proyección!J31+Proyección!K31","v":0},{"$f":"+Proyección!L31+Proyección!M31+Proyección!N31","v":0},{"$f":"+Proyección!O31+Proyección!P31+Proyección!Q31","v":0}]
[null,null,6,{"$f":"+IFERROR(+IF(Inputs!I22=\"\",\"\",Inputs!I22),0)","v":"Abono extra a casa propia (ejemplo)"},0,{"$f":"+Proyección!F32+Proyección!G32+Proyección!H32","v":0},{"$f":"+Proyección!I32+Proyección!J32+Proyección!K32","v":0},{"$f":"+Proyección!L32+Proyección!M32+Proyección!N32","v":0},{"$f":"+Proyección!O32+Proyección!P32+Proyección!Q32","v":0}]
[null,null,7,{"$f":"+IFERROR(+IF(Inputs!I23=\"\",\"\",Inputs!I23),0)","v":""},0,{"$f":"+Proyección!F33+Proyección!G33+Proyección!H33","v":0},{"$f":"+Proyección!I33+Proyección!J33+Proyección!K33","v":0},{"$f":"+Proyección!L33+Proyección!M33+Proyección!N33","v":0},{"$f":"+Proyección!O33+Proyección!P33+Proyección!Q33","v":0}]
[null,null,8,{"$f":"+IFERROR(+IF(Inputs!I24=\"\",\"\",Inputs!I24),0)","v":""},0,{"$f":"+Proyección!F34+Proyección!G34+Proyección!H34","v":0},{"$f":"+Proyección!I34+Proyección!J34+Proyección!K34","v":0},{"$f":"+Proyección!L34+Proyección!M34+Proyección!N34","v":0},{"$f":"+Proyección!O34+Proyección!P34+Proyección!Q34","v":0}]
[null,null,9,{"$f":"+IFERROR(+IF(Inputs!I25=\"\",\"\",Inputs!I25),0)","v":""},0,{"$f":"+Proyección!F35+Proyección!G35+Proyección!H35","v":0},{"$f":"+Proyección!I35+Proyección!J35+Proyección!K35","v":0},{"$f":"+Proyección!L35+Proyección!M35+Proyección!N35","v":0},{"$f":"+Proyección!O35+Proyección!P35+Proyección!Q35","v":0}]
[null,null,10,{"$f":"+IFERROR(+IF(Inputs!I26=\"\",\"\",Inputs!I26),0)","v":""},0,{"$f":"+Proyección!F36+Proyección!G36+Proyección!H36","v":0},{"$f":"+Proyección!I36+Proyección!J36+Proyección!K36","v":0},{"$f":"+Proyección!L36+Proyección!M36+Proyección!N36","v":0},{"$f":"+Proyección!O36+Proyección!P36+Proyección!Q36","v":0}]
[null,null,"Resumen","TOTAL AHORRO",0,{"$f":"+SUM(F27:F36)","v":0},{"$f":"+SUM(G27:G36)","v":0},{"$f":"+SUM(H27:H36)","v":0},{"$f":"+SUM(I27:I36)","v":0}]
[null,null,null,1]
[null,null,null,1]
[null,null,1,{"$f":"+IFERROR(+IF(Inputs!D31=\"\",\"\",Inputs!D31),0)","v":"Crédito de vehículo (ejemplo)"},{"$f":"+IFERROR((+SUM(F40:I40)/+SUM($F$24:$I$24)),0)","v":0},{"$f":"+Proyección!F40+Proyección!G40+Proyección!H40","v":0},{"$f":"+Proyección!I40+Proyección!J40+Proyección!K40","v":0},{"$f":"+Proyección!L40+Proyección!M40+Proyección!N40","v":0},{"$f":"+Proyección!O40+Proyección!P40+Proyección!Q40","v":0}]
[null,null,2,{"$f":"+IFERROR(+IF(Inputs!D32=\"\",\"\",Inputs!D32),0)","v":"Tarjeta de crédito 1 (ejemplo)"},0,{"$f":"+Proyección!F41+Proyección!G41+Proyección!H41","v":0},{"$f":"+Proyección!I41+Proyección!J41+Proyección!K41","v":0},{"$f":"+Proyección!L41+Proyección!M41+Proyección!N41","v":0},{"$f":"+Proyección!O41+Proyección!P41+Proyección!Q41","v":0}]
[null,null,3,{"$f":"+IFERROR(+IF(Inputs!D33=\"\",\"\",Inputs!D33),0)","v":""},0,{"$f":"+Proyección!F42+Proyección!G42+Proyección!H42","v":0},{"$f":"+Proyección!I42+Proyección!J42+Proyección!K42","v":0},{"$f":"+Proyección!L42+Proyección!M42+Proyección!N42","v":0},{"$f":"+Proyección!O42+Proyección!P42+Proyección!Q42","v":0}]
[null,null,4,{"$f":"+IFERROR(+IF(Inputs!D34=\"\",\"\",Inputs!D34),0)","v":""},0,{"$f":"+Proyección!F43+Proyección!G43+Proyección!H43","v":0},{"$f":"+Proyección!I43+Proyección!J43+Proyección!K43","v":0},{"$f":"+Proyección!L43+Proyección!M43+Proyección!N43","v":0},{"$f":"+Proyección!O43+Proyección!P43+Proyección!Q43","v":0}]
[null,null,5,{"$f":"+IFERROR(+IF(Inputs!D35=\"\",\"\",Inputs!D35),0)","v":""},0,{"$f":"+Proyección!F44+Proyección!G44+Proyección!H44","v":0},{"$f":"+Proyección!I44+Proyección!J44+Proyección!K44","v":0},{"$f":"+Proyección!L44+Proyección!M44+Proyección!N44","v":0},{"$f":"+Proyección!O44+Proyección!P44+Proyección!Q44","v":0}]
[null,null,6,{"$f":"+IFERROR(+IF(Inputs!D36=\"\",\"\",Inputs!D36),0)","v":""},0,{"$f":"+Proyección!F45+Proyección!G45+Proyección!H45","v":0},{"$f":"+Proyección!I45+Proyección!J45+Proyección!K45","v":0},{"$f":"+Proyección!L45+Proyección!M45+Proyección!N45","v":0},{"$f":"+Proyección!O45+Proyección!P45+Proyección!Q45","v":0}]
[null,null,7,{"$f":"+IFERROR(+IF(Inputs!I31=\"\",\"\",Inputs!I31),0)","v":"Abono trimestral préstamo (ejemplo)"},0,{"$f":"+Proyección!F46+Proyección!G46+Proyección!H46","v":0},{"$f":"+Proyección!I46+Proyección!J46+Proyección!K46","v":0},{"$f":"+Proyección!L46+Proyección!M46+Proyección!N46","v":0},{"$f":"+Proyección!O46+Proyección!P46+Proyección!Q46","v":0}]
[null,null,8,{"$f":"+IFERROR(+IF(Inputs!I32=\"\",\"\",Inputs!I32),0)","v":""},0,{"$f":"+Proyección!F47+Proyección!G47+Proyección!H47","v":0},{"$f":"+Proyección!I47+Proyección!J47+Proyección!K47","v":0},{"$f":"+Proyección!L47+Proyección!M47+Proyección!N47","v":0},{"$f":"+Proyección!O47+Proyección!P47+Proyección!Q47","v":0}]
[null,null,9,{"$f":"+IFERROR(+IF(Inputs!I33=\"\",\"\",Inputs!I33),0)","v":""},0,{"$f":"+Proyección!F48+Proyección!G48+Proyección!H48","v":0},{"$f":"+Proyección!I48+Proyección!J48+Proyección!K48","v":0},{"$f":"+Proyección!L48+Proyección!M48+Proyección!N48","v":0},{"$f":"+Proyección!O48+Proyección!P48+Proyección!Q48","v":0}]
[null,null,10,{"$f":"+IFERROR(+IF(Inputs!I34=\"\",\"\",Inputs!I34),0)","v":""},0,{"$f":"+Proyección!F49+Proyección!G49+Proyección!H49","v":0},{"$f":"+Proyección!I49+Proyección!J49+Proyección!K49","v":0},{"$f":"+Proyección!L49+Proyección!M49+Proyección!N49","v":0},{"$f":"+Proyección!O49+Proyección!P49+Proyección!Q49","v":0}]
[null,null,11,{"$f":"+IFERROR(+IF(Inputs!I35=\"\",\"\",Inputs!I35),0)","v":""},0,{"$f":"+Proyección!F50+Proyección!G50+Proyección!H50","v":0},{"$f":"+Proyección!I50+Proyección!J50+Proyección!K50","v":0},{"$f":"+Proyección!L50+Proyección!M50+Proyección!N50","v":0},{"$f":"+Proyección!O50+Proyección!P50+Proyección!Q50","v":0}]
[null,null,12,{"$f":"+IFERROR(+IF(Inputs!I36=\"\",\"\",Inputs!I36),0)","v":""},0,{"$f":"+Proyección!F51+Proyección!G51+Proyección!H51","v":0},{"$f":"+Proyección!I51+Proyección!J51+Proyección!K51","v":0},{"$f":"+Proyección!L51+Proyección!M51+Proyección!N51","v":0},{"$f":"+Proyección!O51+Proyección!P51+Proyección!Q51","v":0}]
[null,null,"Resumen","TOTAL OBLIGACIONES FINANCIERAS",0,{"$f":"+SUM(F40:F51)","v":0},{"$f":"+SUM(G40:G51)","v":0},{"$f":"+SUM(H40:H51)","v":0},{"$f":"+SUM(I40:I51)","v":0}]
[null,null,null,1]
[null,null,null,1]
[null,null,1,{"$f":"+IFERROR(+IF(Inputs!D41=\"\",\"\",Inputs!D41),0)","v":""},{"$f":"+IFERROR((+SUM(F55:I55)/+SUM($F$24:$I$24)),0)","v":0},{"$f":"+Proyección!F55+Proyección!G55+Proyección!H55","v":0},{"$f":"+Proyección!I55+Proyección!J55+Proyección!K55","v":0},{"$f":"+Proyección!L55+Proyección!M55+Proyección!N55","v":0},{"$f":"+Proyección!O55+Proyección!P55+Proyección!Q55","v":0}]
[null,null,2,{"$f":"+IFERROR(+IF(Inputs!D42=\"\",\"\",Inputs!D42),0)","v":""},0,{"$f":"+Proyección!F56+Proyección!G56+Proyección!H56","v":0},{"$f":"+Proyección!I56+Proyección!J56+Proyección!K56","v":0},{"$f":"+Proyección!L56+Proyección!M56+Proyección!N56","v":0},{"$f":"+Proyección!O56+Proyección!P56+Proyección!Q56","v":0}]
[null,null,3,{"$f":"+IFERROR(+IF(Inputs!D43=\"\",\"\",Inputs!D43),0)","v":""},0,{"$f":"+Proyección!F57+Proyección!G57+Proyección!H57","v":0},{"$f":"+Proyección!I57+Proyección!J57+Proyección!K57","v":0},{"$f":"+Proyección!L57+Proyección!M57+Proyección!N57","v":0},{"$f":"+Proyección!O57+Proyección!P57+Proyección!Q57","v":0}]
[null,null,4,{"$f":"+IFERROR(+IF(Inputs!D44=\"\",\"\",Inputs!D44),0)","v":""},0,{"$f":"+Proyección!F58+Proyección!G58+Proyección!H58","v":0},{"$f":"+Proyección!I58+Proyección!J58+Proyección!K58","v":0},{"$f":"+Proyección!L58+Proyección!M58+Proyección!N58","v":0},{"$f":"+Proyección!O58+Proyección!P58+Proyección!Q58","v":0}]
[null,null,5,{"$f":"+IFERROR(+IF(Inputs!I41=\"\",\"\",Inputs!I41),0)","v":"Impuesto de renta (ejemplo)"},0,{"$f":"+Proyección!F59+Proyección!G59+Proyección!H59","v":0},{"$f":"+Proyección!I59+Proyección!J59+Proyección!K59","v":0},{"$f":"+Proyección!L59+Proyección!M59+Proyección!N59","v":0},{"$f":"+Proyección!O59+Proyección!P59+Proyección!Q59","v":0}]
[null,null,6,{"$f":"+IFERROR(+IF(Inputs!I42=\"\",\"\",Inputs!I42),0)","v":"Impuesto vehicular (ejemplo)"},0,{"$f":"+Proyección!F60+Proyección!G60+Proyección!H60","v":0},{"$f":"+Proyección!I60+Proyección!J60+Proyección!K60","v":0},{"$f":"+Proyección!L60+Proyección!M60+Proyección!N60","v":0},{"$f":"+Proyección!O60+Proyección!P60+Proyección!Q60","v":0}]
[null,null,7,{"$f":"+IFERROR(+IF(Inputs!I43=\"\",\"\",Inputs!I43),0)","v":"Impuesto predial (ejemplo)"},0,{"$f":"+Proyección!F61+Proyección!G61+Proyección!H61","v":0},{"$f":"+Proyección!I61+Proyección!J61+Proyección!K61","v":0},{"$f":"+Proyección!L61+Proyección!M61+Proyección!N61","v":0},{"$f":"+Proyección!O61+Proyección!P61+Proyección!Q61","v":0}]
[null,null,8,{"$f":"+IFERROR(+IF(Inputs!I44=\"\",\"\",Inputs!I44),0)","v":""},0,{"$f":"+Proyección!F62+Proyección!G62+Proyección!H62","v":0},{"$f":"+Proyección!I62+Proyección!J62+Proyección!K62","v":0},{"$f":"+Proyección!L62+Proyección!M62+Proyección!N62","v":0},{"$f":"+Proyección!O62+Proyección!P62+Proyección!Q62","v":0}]
[null,null,"Resumen","TOTAL IMPUESTOS Y CONTRIBUCIONES",0,{"$f":"+SUM(F55:F62)","v":0},{"$f":"+SUM(G55:G62)","v":0},{"$f":"+SUM(H55:H62)","v":0},{"$f":"+SUM(I55:I62)","v":0}]
[null,null,null,1]
[null,null,null,1]
[null,null,1,{"$f":"+IFERROR(+IF(Inputs!D68=\"\",\"\",Inputs!D68),0)","v":"Fondo de Emergencia (ejemplo)"},{"$f":"+IFERROR((+SUM(F66:I66)/+SUM($F$24:$I$24)),0)","v":0},{"$f":"+Proyección!F66+Proyección!G66+Proyección!H66","v":0},{"$f":"+Proyección!I66+Proyección!J66+Proyección!K66","v":0},{"$f":"+Proyección!L66+Proyección!M66+Proyección!N66","v":0},{"$f":"+Proyección!O66+Proyección!P66+Proyección!Q66","v":0}]
[null,null,2,{"$f":"+IFERROR(+IF(Inputs!D69=\"\",\"\",Inputs!D69),0)","v":"Alimentación (ejemplo)"},0,{"$f":"+Proyección!F67+Proyección!G67+Proyección!H67","v":0},{"$f":"+Proyección!I67+Proyección!J67+Proyección!K67","v":0},{"$f":"+Proyección!L67+Proyección!M67+Proyección!N67","v":0},{"$f":"+Proyección!O67+Proyección!P67+Proyección!Q67","v":0}]
[null,null,3,{"$f":"+IFERROR(+IF(Inputs!D51=\"\",\"\",Inputs!D51),0)","v":""},0,{"$f":"+Proyección!F68+Proyección!G68+Proyección!H68","v":0},{"$f":"+Proyección!I68+Proyección!J68+Proyección!K68","v":0},{"$f":"+Proyección!L68+Proyección!M68+Proyección!N68","v":0},{"$f":"+Proyección!O68+Proyección!P68+Proyección!Q68","v":0}]
[null,null,4,{"$f":"+IFERROR(+IF(Inputs!D70=\"\",\"\",Inputs!D70),0)","v":"Servicios públicos (ejemplo)"},0,{"$f":"+Proyección!F69+Proyección!G69+Proyección!H69","v":0},{"$f":"+Proyección!I69+Proyección!J69+Proyección!K69","v":0},{"$f":"+Proyección!L69+Proyección!M69+Proyección!N69","v":0},{"$f":"+Proyección!O69+Proyección!P69+Proyección!Q69","v":0}]
[null,null,5,{"$f":"+IFERROR(+IF(Inputs!D71=\"\",\"\",Inputs!D71),0)","v":"Gasolina (ejemplo)"},0,{"$f":"+Proyección!F70+Proyección!G70+Proyección!H70","v":0},{"$f":"+Proyección!I70+Proyección!J70+Proyección!K70","v":0},{"$f":"+Proyección!L70+Proyección!M70+Proyección!N70","v":0},{"$f":"+Proyección!O70+Proyección!P70+Proyección!Q70","v":0}]
[null,null,6,{"$f":"+IFERROR(+IF(Inputs!D72=\"\",\"\",Inputs!D72),0)","v":""},0,{"$f":"+Proyección!F71+Proyección!G71+Proyección!H71","v":0},{"$f":"+Proyección!I71+Proyección!J71+Proyección!K71","v":0},{"$f":"+Proyección!L71+Proyección!M71+Proyección!N71","v":0},{"$f":"+Proyección!O71+Proyección!P71+Proyección!Q71","v":0}]
[null,null,7,{"$f":"+IFERROR(+IF(Inputs!D73=\"\",\"\",Inputs!D73),0)","v":""},0,{"$f":"+Proyección!F72+Proyección!G72+Proyección!H72","v":0},{"$f":"+Proyección!I72+Proyección!J72+Proyección!K72","v":0},{"$f":"+Proyección!L72+Proyección!M72+Proyección!N72","v":0},{"$f":"+Proyección!O72+Proyección!P72+Proyección!Q72","v":0}]
[null,null,8,{"$f":"+IFERROR(+IF(Inputs!D87=\"\",\"\",Inputs!D87),0)","v":"Suscripción Netflix (ejemplo)"},0,{"$f":"+Proyección!F73+Proyección!G73+Proyección!H73","v":0},{"$f":"+Proyección!I73+Proyección!J73+Proyección!K73","v":0},{"$f":"+Proyección!L73+Proyección!M73+Proyección!N73","v":0},{"$f":"+Proyección!O73+Proyección!P73+Proyección!Q73","v":0}]
[null,null,9,{"$f":"+IFERROR(+IF(Inputs!D57=\"\",\"\",Inputs!D57),0)","v":""},0,{"$f":"+Proyección!F74+Proyección!G74+Proyección!H74","v":0},{"$f":"+Proyección!I74+Proyección!J74+Proyección!K74","v":0},{"$f":"+Proyección!L74+Proyección!M74+Proyección!N74","v":0},{"$f":"+Proyección!O74+Proyección!P74+Proyección!Q74","v":0}]
[null,null,10,{"$f":"+IFERROR(+IF(Inputs!D58=\"\",\"\",Inputs!D58),0)","v":""},0,{"$f":"+Proyección!F75+Proyección!G75+Proyección!H75","v":0},{"$f":"+Proyección!I75+Proyección!J75+Proyección!K75","v":0},{"$f":"+Proyección!L75+Proyección!M75+Proyección!N75","v":0},{"$f":"+Proyección!O75+Proyección!P75+Proyección!Q75","v":0}]
[null,null,11,{"$f":"+IFERROR(+IF(Inputs!D59=\"\",\"\",Inputs!D59),0)","v":""},0,{"$f":"+Proyección!F76+Proyección!G76+Proyección!H76","v":0},{"$f":"+Proyección!I76+Proyección!J76+Proyección!K76","v":0},{"$f":"+Proyección!L76+Proyección!M76+Proyección!N76","v":0},{"$f":"+Proyección!O76+Proyección!P76+Proyección!Q76","v":0}]
[null,null,12,{"$f":"+IFERROR(+IF(Inputs!D60=\"\",\"\",Inputs!D60),0)","v":""},0,{"$f":"+Proyección!F77+Proyección!G77+Proyección!H77","v":0},{"$f":"+Proyección!I77+Proyección!J77+Proyección!K77","v":0},{"$f":"+Proyección!L77+Proyección!M77+Proyección!N77","v":0},{"$f":"+Proyección!O77+Proyección!P77+Proyección!Q77","v":0}]
[null,null,13,{"$f":"+IFERROR(+IF(Inputs!D61=\"\",\"\",Inputs!D61),0)","v":""},0,{"$f":"+Proyección!F78+Proyección!G78+Proyección!H78","v":0},{"$f":"+Proyección!I78+Proyección!J78+Proyección!K78","v":0},{"$f":"+Proyección!L78+Proyección!M78+Proyección!N78","v":0},{"$f":"+Proyección!O78+Proyección!P78+Proyección!Q78","v":0}]
[null,null,14,{"$f":"+IFERROR(+IF(Inputs!D62=\"\",\"\",Inputs!D62),0)","v":""},0,{"$f":"+Proyección!F79+Proyección!G79+Proyección!H79","v":0},{"$f":"+Proyección!I79+Proyección!J79+Proyección!K79","v":0},{"$f":"+Proyección!L79+Proyección!M79+Proyección!N79","v":0},{"$f":"+Proyección!O79+Proyección!P79+Proyección!Q79","v":0}]
[null,null,15,{"$f":"+IFERROR(+IF(Inputs!D63=\"\",\"\",Inputs!D63),0)","v":""},0,{"$f":"+Proyección!F80+Proyección!G80+Proyección!H80","v":0},{"$f":"+Proyección!I80+Proyección!J80+Proyección!K80","v":0},{"$f":"+Proyección!L80+Proyección!M80+Proyección!N80","v":0},{"$f":"+Proyección!O80+Proyección!P80+Proyección!Q80","v":0}]
[null,null,16,{"$f":"+IFERROR(+IF(Inputs!I49=\"\",\"\",Inputs!I49),0)","v":"Matrícula universidad (ejemplo)"},0,{"$f":"+Proyección!F81+Proyección!G81+Proyección!H81","v":0},{"$f":"+Proyección!I81+Proyección!J81+Proyección!K81","v":0},{"$f":"+Proyección!L81+Proyección!M81+Proyección!N81","v":0},{"$f":"+Proyección!O81+Proyección!P81+Proyección!Q81","v":0}]
[null,null,17,{"$f":"+IFERROR(+IF(Inputs!I50=\"\",\"\",Inputs!I50),0)","v":""},0,{"$f":"+Proyección!F82+Proyección!G82+Proyección!H82","v":0},{"$f":"+Proyección!I82+Proyección!J82+Proyección!K82","v":0},{"$f":"+Proyección!L82+Proyección!M82+Proyección!N82","v":0},{"$f":"+Proyección!O82+Proyección!P82+Proyección!Q82","v":0}]
[null,null,18,{"$f":"+IFERROR(+IF(Inputs!I51=\"\",\"\",Inputs!I51),0)","v":""},0,{"$f":"+Proyección!F83+Proyección!G83+Proyección!H83","v":0},{"$f":"+Proyección!I83+Proyección!J83+Proyección!K83","v":0},{"$f":"+Proyección!L83+Proyección!M83+Proyección!N83","v":0},{"$f":"+Proyección!O83+Proyección!P83+Proyección!Q83","v":0}]
[null,null,19,{"$f":"+IFERROR(+IF(Inputs!I52=\"\",\"\",Inputs!I52),0)","v":""},0,{"$f":"+Proyección!F84+Proyección!G84+Proyección!H84","v":0},{"$f":"+Proyección!I84+Proyección!J84+Proyección!K84","v":0},{"$f":"+Proyección!L84+Proyección!M84+Proyección!N84","v":0},{"$f":"+Proyección!O84+Proyección!P84+Proyección!Q84","v":0}]
[null,null,20,{"$f":"+IFERROR(+IF(Inputs!I53=\"\",\"\",Inputs!I53),0)","v":""},0,{"$f":"+Proyección!F85+Proyección!G85+Proyección!H85","v":0},{"$f":"+Proyección!I85+Proyección!J85+Proyección!K85","v":0},{"$f":"+Proyección!L85+Proyección!M85+Proyección!N85","v":0},{"$f":"+Proyección!O85+Proyección!P85+Proyección!Q85","v":0}]
[null,null,21,{"$f":"+IFERROR(+IF(Inputs!I54=\"\",\"\",Inputs!I54),0)","v":""},0,{"$f":"+Proyección!F86+Proyección!G86+Proyección!H86","v":0},{"$f":"+Proyección!I86+Proyección!J86+Proyección!K86","v":0},{"$f":"+Proyección!L86+Proyección!M86+Proyección!N86","v":0},{"$f":"+Proyección!O86+Proyección!P86+Proyección!Q86","v":0}]
[null,null,22,{"$f":"+IFERROR(+IF(Inputs!I55=\"\",\"\",Inputs!I55),0)","v":""},0,{"$f":"+Proyección!F87+Proyección!G87+Proyección!H87","v":0},{"$f":"+Proyección!I87+Proyección!J87+Proyección!K87","v":0},{"$f":"+Proyección!L87+Proyección!M87+Proyección!N87","v":0},{"$f":"+Proyección!O87+Proyección!P87+Proyección!Q87","v":0}]
[null,null,23,{"$f":"+IFERROR(+IF(Inputs!I56=\"\",\"\",Inputs!I56),0)","v":""},0,{"$f":"+Proyección!F88+Proyección!G88+Proyección!H88","v":0},{"$f":"+Proyección!I88+Proyección!J88+Proyección!K88","v":0},{"$f":"+Proyección!L88+Proyección!M88+Proyección!N88","v":0},{"$f":"+Proyección!O88+Proyección!P88+Proyección!Q88","v":0}]
[null,null,24,{"$f":"+IFERROR(+IF(Inputs!I57=\"\",\"\",Inputs!I57),0)","v":""},0,{"$f":"+Proyección!F89+Proyección!G89+Proyección!H89","v":0},{"$f":"+Proyección!I89+Proyección!J89+Proyección!K89","v":0},{"$f":"+Proyección!L89+Proyección!M89+Proyección!N89","v":0},{"$f":"+Proyección!O89+Proyección!P89+Proyección!Q89","v":0}]
[null,null,25,{"$f":"+IFERROR(+IF(Inputs!I58=\"\",\"\",Inputs!I58),0)","v":""},0,{"$f":"+Proyección!F90+Proyección!G90+Proyección!H90","v":0},{"$f":"+Proyección!I90+Proyección!J90+Proyección!K90","v":0},{"$f":"+Proyección!L90+Proyección!M90+Proyección!N90","v":0},{"$f":"+Proyección!O90+Proyección!P90+Proyección!Q90","v":0}]
[null,null,26,{"$f":"+IFERROR(+IF(Inputs!I59=\"\",\"\",Inputs!I59),0)","v":""},0,{"$f":"+Proyección!F91+Proyección!G91+Proyección!H91","v":0},{"$f":"+Proyección!I91+Proyección!J91+Proyección!K91","v":0},{"$f":"+Proyección!L91+Proyección!M91+Proyección!N91","v":0},{"$f":"+Proyección!O91+Proyección!P91+Proyección!Q91","v":0}]
[null,null,27,{"$f":"+IFERROR(+IF(Inputs!I60=\"\",\"\",Inputs!I60),0)","v":""},0,{"$f":"+Proyección!F92+Proyección!G92+Proyección!H92","v":0},{"$f":"+Proyección!I92+Proyección!J92+Proyección!K92","v":0},{"$f":"+Proyección!L92+Proyección!M92+Proyección!N92","v":0},{"$f":"+Proyección!O92+Proyección!P92+Proyección!Q92","v":0}]
[null,null,28,{"$f":"+IFERROR(+IF(Inputs!I61=\"\",\"\",Inputs!I61),0)","v":""},0,{"$f":"+Proyección!F93+Proyección!G93+Proyección!H93","v":0},{"$f":"+Proyección!I93+Proyección!J93+Proyección!K93","v":0},{"$f":"+Proyección!L93+Proyección!M93+Proyección!N93","v":0},{"$f":"+Proyección!O93+Proyección!P93+Proyección!Q93","v":0}]
[null,null,29,{"$f":"+IFERROR(+IF(Inputs!I62=\"\",\"\",Inputs!I62),0)","v":""},0,{"$f":"+Proyección!F94+Proyección!G94+Proyección!H94","v":0},{"$f":"+Proyección!I94+Proyección!J94+Proyección!K94","v":0},{"$f":"+Proyección!L94+Proyección!M94+Proyección!N94","v":0},{"$f":"+Proyección!O94+Proyección!P94+Proyección!Q94","v":0}]
[null,null,30,{"$f":"+IFERROR(+IF(Inputs!I63=\"\",\"\",Inputs!I63),0)","v":""},0,{"$f":"+Proyección!F95+Proyección!G95+Proyección!H95","v":0},{"$f":"+Proyección!I95+Proyección!J95+Proyección!K95","v":0},{"$f":"+Proyección!L95+Proyección!M95+Proyección!N95","v":0},{"$f":"+Proyección!O95+Proyección!P95+Proyección!Q95","v":0}]
[null,null,"Resumen","GASTOS OBLIGATORIOS",0,{"$f":"+SUM(F66:F95)","v":0},{"$f":"+SUM(G66:G95)","v":0},{"$f":"+SUM(H66:H95)","v":0},{"$f":"+SUM(I66:I95)","v":0}]
[null,null,null,0]
[null,null,null,1]
[null,null,1,{"$f":"+IFERROR(+IF(Inputs!#REF!=\"\",\"\",Inputs!#REF!),0)","v":0},{"$f":"+IFERROR((+SUM(F99:I99)/+SUM($F$24:$I$24)),0)","v":0},{"$f":"+Proyección!F99+Proyección!G99+Proyección!H99","v":0},{"$f":"+Proyección!I99+Proyección!J99+Proyección!K99","v":0},{"$f":"+Proyección!L99+Proyección!M99+Proyección!N99","v":0},{"$f":"+Proyección!O99+Proyección!P99+Proyección!Q99","v":0}]
[null,null,2,{"$f":"+IFERROR(+IF(Inputs!#REF!=\"\",\"\",Inputs!#REF!),0)","v":0},0,{"$f":"+Proyección!F100+Proyección!G100+Proyección!H100","v":0},{"$f":"+Proyección!I100+Proyección!J100+Proyección!K100","v":0},{"$f":"+Proyección!L100+Proyección!M100+Proyección!N100","v":0},{"$f":"+Proyección!O100+Proyección!P100+Proyección!Q100","v":0}]
[null,null,3,{"$f":"+IFERROR(+IF(Inputs!#REF!=\"\",\"\",Inputs!#REF!),0)","v":0},0,{"$f":"+Proyección!F101+Proyección!G101+Proyección!H101","v":0},{"$f":"+Proyección!I101+Proyección!J101+Proyección!K101","v":0},{"$f":"+Proyección!L101+Proyección!M101+Proyección!N101","v":0},{"$f":"+Proyección!O101+Proyección!P101+Proyección!Q101","v":0}]
[null,null,4,{"$f":"+IFERROR(+IF(Inputs!#REF!=\"\",\"\",Inputs!#REF!),0)","v":0},0,{"$f":"+Proyección!F102+Proyección!G102+Proyección!H102","v":0},{"$f":"+Proyección!I102+Proyección!J102+Proyección!K102","v":0},{"$f":"+Proyección!L102+Proyección!M102+Proyección!N102","v":0},{"$f":"+Proyección!O102+Proyección!P102+Proyección!Q102","v":0}]
[null,null,5,{"$f":"+IFERROR(+IF(Inputs!#REF!=\"\",\"\",Inputs!#REF!),0)","v":0},0,{"$f":"+Proyección!F103+Proyección!G103+Proyección!H103","v":0},{"$f":"+Proyección!I103+Proyección!J103+Proyección!K103","v":0},{"$f":"+Proyección!L103+Proyección!M103+Proyección!N103","v":0},{"$f":"+Proyección!O103+Proyección!P103+Proyección!Q103","v":0}]
[null,null,6,{"$f":"+IFERROR(+IF(Inputs!#REF!=\"\",\"\",Inputs!#REF!),0)","v":0},0,{"$f":"+Proyección!F104+Proyección!G104+Proyección!H104","v":0},{"$f":"+Proyección!I104+Proyección!J104+Proyección!K104","v":0},{"$f":"+Proyección!L104+Proyección!M104+Proyección!N104","v":0},{"$f":"+Proyección!O104+Proyección!P104+Proyección!Q104","v":0}]
[null,null,7,{"$f":"+IFERROR(+IF(Inputs!D74=\"\",\"\",Inputs!D74),0)","v":""},0,{"$f":"+Proyección!F105+Proyección!G105+Proyección!H105","v":0},{"$f":"+Proyección!I105+Proyección!J105+Proyección!K105","v":0},{"$f":"+Proyección!L105+Proyección!M105+Proyección!N105","v":0},{"$f":"+Proyección!O105+Proyección!P105+Proyección!Q105","v":0}]
[null,null,8,{"$f":"+IFERROR(+IF(Inputs!D75=\"\",\"\",Inputs!D75),0)","v":""},0,{"$f":"+Proyección!F106+Proyección!G106+Proyección!H106","v":0},{"$f":"+Proyección!I106+Proyección!J106+Proyección!K106","v":0},{"$f":"+Proyección!L106+Proyección!M106+Proyección!N106","v":0},{"$f":"+Proyección!O106+Proyección!P106+Proyección!Q106","v":0}]
[null,null,9,{"$f":"+IFERROR(+IF(Inputs!D76=\"\",\"\",Inputs!D76),0)","v":""},0,{"$f":"+Proyección!F107+Proyección!G107+Proyección!H107","v":0},{"$f":"+Proyección!I107+Proyección!J107+Proyección!K107","v":0},{"$f":"+Proyección!L107+Proyección!M107+Proyección!N107","v":0},{"$f":"+Proyección!O107+Proyección!P107+Proyección!Q107","v":0}]
[null,null,10,{"$f":"+IFERROR(+IF(Inputs!D77=\"\",\"\",Inputs!D77),0)","v":""},0,{"$f":"+Proyección!F108+Proyección!G108+Proyección!H108","v":0},{"$f":"+Proyección!I108+Proyección!J108+Proyección!K108","v":0},{"$f":"+Proyección!L108+Proyección!M108+Proyección!N108","v":0},{"$f":"+Proyección!O108+Proyección!P108+Proyección!Q108","v":0}]
[null,null,11,{"$f":"+IFERROR(+IF(Inputs!D78=\"\",\"\",Inputs!D78),0)","v":""},0,{"$f":"+Proyección!F109+Proyección!G109+Proyección!H109","v":0},{"$f":"+Proyección!I109+Proyección!J109+Proyección!K109","v":0},{"$f":"+Proyección!L109+Proyección!M109+Proyección!N109","v":0},{"$f":"+Proyección!O109+Proyección!P109+Proyección!Q109","v":0}]
[null,null,12,{"$f":"+IFERROR(+IF(Inputs!D79=\"\",\"\",Inputs!D79),0)","v":""},0,{"$f":"+Proyección!F110+Proyección!G110+Proyección!H110","v":0},{"$f":"+Proyección!I110+Proyección!J110+Proyección!K110","v":0},{"$f":"+Proyección!L110+Proyección!M110+Proyección!N110","v":0},{"$f":"+Proyección!O110+Proyección!P110+Proyección!Q110","v":0}]
[null,null,13,{"$f":"+IFERROR(+IF(Inputs!D80=\"\",\"\",Inputs!D80),0)","v":""},0,{"$f":"+Proyección!F111+Proyección!G111+Proyección!H111","v":0},{"$f":"+Proyección!I111+Proyección!J111+Proyección!K111","v":0},{"$f":"+Proyección!L111+Proyección!M111+Proyección!N111","v":0},{"$f":"+Proyección!O111+Proyección!P111+Proyección!Q111","v":0}]
[null,null,14,{"$f":"+IFERROR(+IF(Inputs!D81=\"\",\"\",Inputs!D81),0)","v":""},0,{"$f":"+Proyección!F112+Proyección!G112+Proyección!H112","v":0},{"$f":"+Proyección!I112+Proyección!J112+Proyección!K112","v":0},{"$f":"+Proyección!L112+Proyección!M112+Proyección!N112","v":0},{"$f":"+Proyección!O112+Proyección!P112+Proyección!Q112","v":0}]
[null,null,15,{"$f":"+IFERROR(+IF(Inputs!D82=\"\",\"\",Inputs!D82),0)","v":""},0,{"$f":"+Proyección!F113+Proyección!G113+Proyección!H113","v":0},{"$f":"+Proyección!I113+Proyección!J113+Proyección!K113","v":0},{"$f":"+Proyección!L113+Proyección!M113+Proyección!N113","v":0},{"$f":"+Proyección!O113+Proyección!P113+Proyección!Q113","v":0}]
[null,null,16,{"$f":"+IFERROR(+IF(Inputs!I68=\"\",\"\",Inputs!I68),0)","v":"Abono extra Fondo de Emerg. (ejemplo)"},0,{"$f":"+Proyección!F114+Proyección!G114+Proyección!H114","v":0},{"$f":"+Proyección!I114+Proyección!J114+Proyección!K114","v":0},{"$f":"+Proyección!L114+Proyección!M114+Proyección!N114","v":0},{"$f":"+Proyección!O114+Proyección!P114+Proyección!Q114","v":0}]
[null,null,17,{"$f":"+IFERROR(+IF(Inputs!I69=\"\",\"\",Inputs!I69),0)","v":"Seguro del vehículo (ejemplo)"},0,{"$f":"+Proyección!F115+Proyección!G115+Proyección!H115","v":0},{"$f":"+Proyección!I115+Proyección!J115+Proyección!K115","v":0},{"$f":"+Proyección!L115+Proyección!M115+Proyección!N115","v":0},{"$f":"+Proyección!O115+Proyección!P115+Proyección!Q115","v":0}]
[null,null,18,{"$f":"+IFERROR(+IF(Inputs!I70=\"\",\"\",Inputs!I70),0)","v":""},0,{"$f":"+Proyección!F116+Proyección!G116+Proyección!H116","v":0},{"$f":"+Proyección!I116+Proyección!J116+Proyección!K116","v":0},{"$f":"+Proyección!L116+Proyección!M116+Proyección!N116","v":0},{"$f":"+Proyección!O116+Proyección!P116+Proyección!Q116","v":0}]
[null,null,19,{"$f":"+IFERROR(+IF(Inputs!I71=\"\",\"\",Inputs!I71),0)","v":""},0,{"$f":"+Proyección!F117+Proyección!G117+Proyección!H117","v":0},{"$f":"+Proyección!I117+Proyección!J117+Proyección!K117","v":0},{"$f":"+Proyección!L117+Proyección!M117+Proyección!N117","v":0},{"$f":"+Proyección!O117+Proyección!P117+Proyección!Q117","v":0}]
[null,null,20,{"$f":"+IFERROR(+IF(Inputs!I72=\"\",\"\",Inputs!I72),0)","v":""},0,{"$f":"+Proyección!F118+Proyección!G118+Proyección!H118","v":0},{"$f":"+Proyección!I118+Proyección!J118+Proyección!K118","v":0},{"$f":"+Proyección!L118+Proyección!M118+Proyección!N118","v":0},{"$f":"+Proyección!O118+Proyección!P118+Proyección!Q118","v":0}]
[null,null,21,{"$f":"+IFERROR(+IF(Inputs!I73=\"\",\"\",Inputs!I73),0)","v":""},0,{"$f":"+Proyección!F119+Proyección!G119+Proyección!H119","v":0},{"$f":"+Proyección!I119+Proyección!J119+Proyección!K119","v":0},{"$f":"+Proyección!L119+Proyección!M119+Proyección!N119","v":0},{"$f":"+Proyección!O119+Proyección!P119+Proyección!Q119","v":0}]
[null,null,22,{"$f":"+IFERROR(+IF(Inputs!I74=\"\",\"\",Inputs!I74),0)","v":""},0,{"$f":"+Proyección!F120+Proyección!G120+Proyección!H120","v":0},{"$f":"+Proyección!I120+Proyección!J120+Proyección!K120","v":0},{"$f":"+Proyección!L120+Proyección!M120+Proyección!N120","v":0},{"$f":"+Proyección!O120+Proyección!P120+Proyección!Q120","v":0}]
[null,null,23,{"$f":"+IFERROR(+IF(Inputs!I75=\"\",\"\",Inputs!I75),0)","v":""},0,{"$f":"+Proyección!F121+Proyección!G121+Proyección!H121","v":0},{"$f":"+Proyección!I121+Proyección!J121+Proyección!K121","v":0},{"$f":"+Proyección!L121+Proyección!M121+Proyección!N121","v":0},{"$f":"+Proyección!O121+Proyección!P121+Proyección!Q121","v":0}]
[null,null,24,{"$f":"+IFERROR(+IF(Inputs!I76=\"\",\"\",Inputs!I76),0)","v":""},0,{"$f":"+Proyección!F122+Proyección!G122+Proyección!H122","v":0},{"$f":"+Proyección!I122+Proyección!J122+Proyección!K122","v":0},{"$f":"+Proyección!L122+Proyección!M122+Proyección!N122","v":0},{"$f":"+Proyección!O122+Proyección!P122+Proyección!Q122","v":0}]
[null,null,25,{"$f":"+IFERROR(+IF(Inputs!I77=\"\",\"\",Inputs!I77),0)","v":""},0,{"$f":"+Proyección!F123+Proyección!G123+Proyección!H123","v":0},{"$f":"+Proyección!I123+Proyección!J123+Proyección!K123","v":0},{"$f":"+Proyección!L123+Proyección!M123+Proyección!N123","v":0},{"$f":"+Proyección!O123+Proyección!P123+Proyección!Q123","v":0}]
[null,null,26,{"$f":"+IFERROR(+IF(Inputs!I78=\"\",\"\",Inputs!I78),0)","v":""},0,{"$f":"+Proyección!F124+Proyección!G124+Proyección!H124","v":0},{"$f":"+Proyección!I124+Proyección!J124+Proyección!K124","v":0},{"$f":"+Proyección!L124+Proyección!M124+Proyección!N124","v":0},{"$f":"+Proyección!O124+Proyección!P124+Proyección!Q124","v":0}]
[null,null,27,{"$f":"+IFERROR(+IF(Inputs!I79=\"\",\"\",Inputs!I79),0)","v":""},0,{"$f":"+Proyección!F125+Proyección!G125+Proyección!H125","v":0},{"$f":"+Proyección!I125+Proyección!J125+Proyección!K125","v":0},{"$f":"+Proyección!L125+Proyección!M125+Proyección!N125","v":0},{"$f":"+Proyección!O125+Proyección!P125+Proyección!Q125","v":0}]
[null,null,28,{"$f":"+IFERROR(+IF(Inputs!I80=\"\",\"\",Inputs!I80),0)","v":""},0,{"$f":"+Proyección!F126+Proyección!G126+Proyección!H126","v":0},{"$f":"+Proyección!I126+Proyección!J126+Proyección!K126","v":0},{"$f":"+Proyección!L126+Proyección!M126+Proyección!N126","v":0},{"$f":"+Proyección!O126+Proyección!P126+Proyección!Q126","v":0}]
[null,null,29,{"$f":"+IFERROR(+IF(Inputs!I81=\"\",\"\",Inputs!I81),0)","v":""},0,{"$f":"+Proyección!F127+Proyección!G127+Proyección!H127","v":0},{"$f":"+Proyección!I127+Proyección!J127+Proyección!K127","v":0},{"$f":"+Proyección!L127+Proyección!M127+Proyección!N127","v":0},{"$f":"+Proyección!O127+Proyección!P127+Proyección!Q127","v":0}]
[null,null,30,{"$f":"+IFERROR(+IF(Inputs!I82=\"\",\"\",Inputs!I82),0)","v":""},0,{"$f":"+Proyección!F128+Proyección!G128+Proyección!H128","v":0},{"$f":"+Proyección!I128+Proyección!J128+Proyección!K128","v":0},{"$f":"+Proyección!L128+Proyección!M128+Proyección!N128","v":0},{"$f":"+Proyección!O128+Proyección!P128+Proyección!Q128","v":0}]
[null,null,"Resumen","GASTOS NECESARIOS",0,{"$f":"+SUM(F99:F128)","v":0},{"$f":"+SUM(G99:G128)","v":0},{"$f":"+SUM(H99:H128)","v":0},{"$f":"+SUM(I99:I128)","v":0}]
[null,null,null,1]
[null,null,1,{"$f":"+IFERROR(+IF(Inputs!#REF!=\"\",\"\",Inputs!#REF!),0)","v":0},{"$f":"+IFERROR((+SUM(F131:I131)/+SUM($F$24:$I$24)),0)","v":0},{"$f":"+Proyección!F131+Proyección!G131+Proyección!H131","v":0},{"$f":"+Proyección!I131+Proyección!J131+Proyección!K131","v":0},{"$f":"+Proyección!L131+Proyección!M131+Proyección!N131","v":0},{"$f":"+Proyección!O131+Proyección!P131+Proyección!Q131","v":0}]
[null,null,2,{"$f":"+IFERROR(+IF(Inputs!D88=\"\",\"\",Inputs!D88),0)","v":"Diversión  (ejemplo)"},0,{"$f":"+Proyección!F132+Proyección!G132+Proyección!H132","v":0},{"$f":"+Proyección!I132+Proyección!J132+Proyección!K132","v":0},{"$f":"+Proyección!L132+Proyección!M132+Proyección!N132","v":0},{"$f":"+Proyección!O132+Proyección!P132+Proyección!Q132","v":0}]
[null,null,3,{"$f":"+IFERROR(+IF(Inputs!D89=\"\",\"\",Inputs!D89),0)","v":"Domicilios  (ejemplo)"},0,{"$f":"+Proyección!F133+Proyección!G133+Proyección!H133","v":0},{"$f":"+Proyección!I133+Proyección!J133+Proyección!K133","v":0},{"$f":"+Proyección!L133+Proyección!M133+Proyección!N133","v":0},{"$f":"+Proyección!O133+Proyección!P133+Proyección!Q133","v":0}]
[null,null,4,{"$f":"+IFERROR(+IF(Inputs!D90=\"\",\"\",Inputs!D90),0)","v":""},0,{"$f":"+Proyección!F134+Proyección!G134+Proyección!H134","v":0},{"$f":"+Proyección!I134+Proyección!J134+Proyección!K134","v":0},{"$f":"+Proyección!L134+Proyección!M134+Proyección!N134","v":0},{"$f":"+Proyección!O134+Proyección!P134+Proyección!Q134","v":0}]
[null,null,5,{"$f":"+IFERROR(+IF(Inputs!D91=\"\",\"\",Inputs!D91),0)","v":""},0,{"$f":"+Proyección!F135+Proyección!G135+Proyección!H135","v":0},{"$f":"+Proyección!I135+Proyección!J135+Proyección!K135","v":0},{"$f":"+Proyección!L135+Proyección!M135+Proyección!N135","v":0},{"$f":"+Proyección!O135+Proyección!P135+Proyección!Q135","v":0}]
[null,null,6,{"$f":"+IFERROR(+IF(Inputs!D92=\"\",\"\",Inputs!D92),0)","v":""},0,{"$f":"+Proyección!F136+Proyección!G136+Proyección!H136","v":0},{"$f":"+Proyección!I136+Proyección!J136+Proyección!K136","v":0},{"$f":"+Proyección!L136+Proyección!M136+Proyección!N136","v":0},{"$f":"+Proyección!O136+Proyección!P136+Proyección!Q136","v":0}]
[null,null,7,{"$f":"+IFERROR(+IF(Inputs!D93=\"\",\"\",Inputs!D93),0)","v":""},0,{"$f":"+Proyección!F137+Proyección!G137+Proyección!H137","v":0},{"$f":"+Proyección!I137+Proyección!J137+Proyección!K137","v":0},{"$f":"+Proyección!L137+Proyección!M137+Proyección!N137","v":0},{"$f":"+Proyección!O137+Proyección!P137+Proyección!Q137","v":0}]
[null,null,8,{"$f":"+IFERROR(+IF(Inputs!D94=\"\",\"\",Inputs!D94),0)","v":""},0,{"$f":"+Proyección!F138+Proyección!G138+Proyección!H138","v":0},{"$f":"+Proyección!I138+Proyección!J138+Proyección!K138","v":0},{"$f":"+Proyección!L138+Proyección!M138+Proyección!N138","v":0},{"$f":"+Proyección!O138+Proyección!P138+Proyección!Q138","v":0}]
[null,null,9,{"$f":"+IFERROR(+IF(Inputs!D95=\"\",\"\",Inputs!D95),0)","v":""},0,{"$f":"+Proyección!F139+Proyección!G139+Proyección!H139","v":0},{"$f":"+Proyección!I139+Proyección!J139+Proyección!K139","v":0},{"$f":"+Proyección!L139+Proyección!M139+Proyección!N139","v":0},{"$f":"+Proyección!O139+Proyección!P139+Proyección!Q139","v":0}]
[null,null,10,{"$f":"+IFERROR(+IF(Inputs!D96=\"\",\"\",Inputs!D96),0)","v":""},0,{"$f":"+Proyección!F140+Proyección!G140+Proyección!H140","v":0},{"$f":"+Proyección!I140+Proyección!J140+Proyección!K140","v":0},{"$f":"+Proyección!L140+Proyección!M140+Proyección!N140","v":0},{"$f":"+Proyección!O140+Proyección!P140+Proyección!Q140","v":0}]
[null,null,11,{"$f":"+IFERROR(+IF(Inputs!D97=\"\",\"\",Inputs!D97),0)","v":""},0,{"$f":"+Proyección!F141+Proyección!G141+Proyección!H141","v":0},{"$f":"+Proyección!I141+Proyección!J141+Proyección!K141","v":0},{"$f":"+Proyección!L141+Proyección!M141+Proyección!N141","v":0},{"$f":"+Proyección!O141+Proyección!P141+Proyección!Q141","v":0}]
[null,null,12,{"$f":"+IFERROR(+IF(Inputs!D98=\"\",\"\",Inputs!D98),0)","v":""},0,{"$f":"+Proyección!F142+Proyección!G142+Proyección!H142","v":0},{"$f":"+Proyección!I142+Proyección!J142+Proyección!K142","v":0},{"$f":"+Proyección!L142+Proyección!M142+Proyección!N142","v":0},{"$f":"+Proyección!O142+Proyección!P142+Proyección!Q142","v":0}]
[null,null,13,{"$f":"+IFERROR(+IF(Inputs!D99=\"\",\"\",Inputs!D99),0)","v":""},0,{"$f":"+Proyección!F143+Proyección!G143+Proyección!H143","v":0},{"$f":"+Proyección!I143+Proyección!J143+Proyección!K143","v":0},{"$f":"+Proyección!L143+Proyección!M143+Proyección!N143","v":0},{"$f":"+Proyección!O143+Proyección!P143+Proyección!Q143","v":0}]
[null,null,14,{"$f":"+IFERROR(+IF(Inputs!D100=\"\",\"\",Inputs!D100),0)","v":""},0,{"$f":"+Proyección!F144+Proyección!G144+Proyección!H144","v":0},{"$f":"+Proyección!I144+Proyección!J144+Proyección!K144","v":0},{"$f":"+Proyección!L144+Proyección!M144+Proyección!N144","v":0},{"$f":"+Proyección!O144+Proyección!P144+Proyección!Q144","v":0}]
[null,null,15,{"$f":"+IFERROR(+IF(Inputs!D101=\"\",\"\",Inputs!D101),0)","v":""},0,{"$f":"+Proyección!F145+Proyección!G145+Proyección!H145","v":0},{"$f":"+Proyección!I145+Proyección!J145+Proyección!K145","v":0},{"$f":"+Proyección!L145+Proyección!M145+Proyección!N145","v":0},{"$f":"+Proyección!O145+Proyección!P145+Proyección!Q145","v":0}]
[null,null,16,{"$f":"+IFERROR(+IF(Inputs!I87=\"\",\"\",Inputs!I87),0)","v":"Vacaciones  (ejemplo)"},0,{"$f":"+Proyección!F146+Proyección!G146+Proyección!H146","v":0},{"$f":"+Proyección!I146+Proyección!J146+Proyección!K146","v":0},{"$f":"+Proyección!L146+Proyección!M146+Proyección!N146","v":0},{"$f":"+Proyección!O146+Proyección!P146+Proyección!Q146","v":0}]
[null,null,17,{"$f":"+IFERROR(+IF(Inputs!I88=\"\",\"\",Inputs!I88),0)","v":"Regalos de navidad  (ejemplo)"},0,{"$f":"+Proyección!F147+Proyección!G147+Proyección!H147","v":0},{"$f":"+Proyección!I147+Proyección!J147+Proyección!K147","v":0},{"$f":"+Proyección!L147+Proyección!M147+Proyección!N147","v":0},{"$f":"+Proyección!O147+Proyección!P147+Proyección!Q147","v":0}]
[null,null,18,{"$f":"+IFERROR(+IF(Inputs!I89=\"\",\"\",Inputs!I89),0)","v":""},0,{"$f":"+Proyección!F148+Proyección!G148+Proyección!H148","v":0},{"$f":"+Proyección!I148+Proyección!J148+Proyección!K148","v":0},{"$f":"+Proyección!L148+Proyección!M148+Proyección!N148","v":0},{"$f":"+Proyección!O148+Proyección!P148+Proyección!Q148","v":0}]
[null,null,19,{"$f":"+IFERROR(+IF(Inputs!I90=\"\",\"\",Inputs!I90),0)","v":""},0,{"$f":"+Proyección!F149+Proyección!G149+Proyección!H149","v":0},{"$f":"+Proyección!I149+Proyección!J149+Proyección!K149","v":0},{"$f":"+Proyección!L149+Proyección!M149+Proyección!N149","v":0},{"$f":"+Proyección!O149+Proyección!P149+Proyección!Q149","v":0}]
[null,null,20,{"$f":"+IFERROR(+IF(Inputs!I91=\"\",\"\",Inputs!I91),0)","v":""},0,{"$f":"+Proyección!F150+Proyección!G150+Proyección!H150","v":0},{"$f":"+Proyección!I150+Proyección!J150+Proyección!K150","v":0},{"$f":"+Proyección!L150+Proyección!M150+Proyección!N150","v":0},{"$f":"+Proyección!O150+Proyección!P150+Proyección!Q150","v":0}]
[null,null,21,{"$f":"+IFERROR(+IF(Inputs!I92=\"\",\"\",Inputs!I92),0)","v":""},0,{"$f":"+Proyección!F151+Proyección!G151+Proyección!H151","v":0},{"$f":"+Proyección!I151+Proyección!J151+Proyección!K151","v":0},{"$f":"+Proyección!L151+Proyección!M151+Proyección!N151","v":0},{"$f":"+Proyección!O151+Proyección!P151+Proyección!Q151","v":0}]
[null,null,22,{"$f":"+IFERROR(+IF(Inputs!I93=\"\",\"\",Inputs!I93),0)","v":""},0,{"$f":"+Proyección!F152+Proyección!G152+Proyección!H152","v":0},{"$f":"+Proyección!I152+Proyección!J152+Proyección!K152","v":0},{"$f":"+Proyección!L152+Proyección!M152+Proyección!N152","v":0},{"$f":"+Proyección!O152+Proyección!P152+Proyección!Q152","v":0}]
[null,null,23,{"$f":"+IFERROR(+IF(Inputs!I94=\"\",\"\",Inputs!I94),0)","v":""},0,{"$f":"+Proyección!F153+Proyección!G153+Proyección!H153","v":0},{"$f":"+Proyección!I153+Proyección!J153+Proyección!K153","v":0},{"$f":"+Proyección!L153+Proyección!M153+Proyección!N153","v":0},{"$f":"+Proyección!O153+Proyección!P153+Proyección!Q153","v":0}]
[null,null,24,{"$f":"+IFERROR(+IF(Inputs!I95=\"\",\"\",Inputs!I95),0)","v":""},0,{"$f":"+Proyección!F154+Proyección!G154+Proyección!H154","v":0},{"$f":"+Proyección!I154+Proyección!J154+Proyección!K154","v":0},{"$f":"+Proyección!L154+Proyección!M154+Proyección!N154","v":0},{"$f":"+Proyección!O154+Proyección!P154+Proyección!Q154","v":0}]
[null,null,25,{"$f":"+IFERROR(+IF(Inputs!I96=\"\",\"\",Inputs!I96),0)","v":""},0,{"$f":"+Proyección!F155+Proyección!G155+Proyección!H155","v":0},{"$f":"+Proyección!I155+Proyección!J155+Proyección!K155","v":0},{"$f":"+Proyección!L155+Proyección!M155+Proyección!N155","v":0},{"$f":"+Proyección!O155+Proyección!P155+Proyección!Q155","v":0}]
[null,null,26,{"$f":"+IFERROR(+IF(Inputs!I97=\"\",\"\",Inputs!I97),0)","v":""},0,{"$f":"+Proyección!F156+Proyección!G156+Proyección!H156","v":0},{"$f":"+Proyección!I156+Proyección!J156+Proyección!K156","v":0},{"$f":"+Proyección!L156+Proyección!M156+Proyección!N156","v":0},{"$f":"+Proyección!O156+Proyección!P156+Proyección!Q156","v":0}]
[null,null,27,{"$f":"+IFERROR(+IF(Inputs!I98=\"\",\"\",Inputs!I98),0)","v":""},0,{"$f":"+Proyección!F157+Proyección!G157+Proyección!H157","v":0},{"$f":"+Proyección!I157+Proyección!J157+Proyección!K157","v":0},{"$f":"+Proyección!L157+Proyección!M157+Proyección!N157","v":0},{"$f":"+Proyección!O157+Proyección!P157+Proyección!Q157","v":0}]
[null,null,28,{"$f":"+IFERROR(+IF(Inputs!I99=\"\",\"\",Inputs!I99),0)","v":""},0,{"$f":"+Proyección!F158+Proyección!G158+Proyección!H158","v":0},{"$f":"+Proyección!I158+Proyección!J158+Proyección!K158","v":0},{"$f":"+Proyección!L158+Proyección!M158+Proyección!N158","v":0},{"$f":"+Proyección!O158+Proyección!P158+Proyección!Q158","v":0}]
[null,null,29,{"$f":"+IFERROR(+IF(Inputs!I100=\"\",\"\",Inputs!I100),0)","v":""},0,{"$f":"+Proyección!F159+Proyección!G159+Proyección!H159","v":0},{"$f":"+Proyección!I159+Proyección!J159+Proyección!K159","v":0},{"$f":"+Proyección!L159+Proyección!M159+Proyección!N159","v":0},{"$f":"+Proyección!O159+Proyección!P159+Proyección!Q159","v":0}]
[null,null,30,{"$f":"+IFERROR(+IF(Inputs!I101=\"\",\"\",Inputs!I101),0)","v":""},0,{"$f":"+Proyección!F160+Proyección!G160+Proyección!H160","v":0},{"$f":"+Proyección!I160+Proyección!J160+Proyección!K160","v":0},{"$f":"+Proyección!L160+Proyección!M160+Proyección!N160","v":0},{"$f":"+Proyección!O160+Proyección!P160+Proyección!Q160","v":0}]
[null,null,"Resumen","GASTOS PRESCINDIBLES/DISFRUTE",0,{"$f":"+SUM(F131:F160)","v":0},{"$f":"+SUM(G131:G160)","v":0},{"$f":"+SUM(H131:H160)","v":0},{"$f":"+SUM(I131:I160)","v":0}]
[null,null,"Resumen",1]
[null,null,"Resumen","TOTAL SALIDAS (AHORRO + GASTOS)",null,{"$f":"+F37+F52+F63+F96+F129+F161","v":0},{"$f":"+G37+G52+G63+G96+G129+G161","v":0},0,0]
[null,null,"Resumen",1]
[null,null,"Resumen",1]
[null,null,"Resumen","     SALDO FINAL / FLUJO DE CAJA",null,{"$f":"+F9+F24-F163","v":0},{"$f":"+G9+G24-G163","v":0},{"$f":"+H9+H24-H163","v":0},{"$f":"+I9+I24-I163","v":0}]
[null,null,"Resumen",1]
[null,null,"Resumen",1]
[null,null,"Resumen",1,"Saldo año anterior"]
[null,null,"Resumen","RESERVAS"]
[null,null,"Resumen","Ahorro",{"$f":"+Proyección!E171","v":0},{"$f":"+E171+F37","v":0},{"$f":"+F171+G37","v":0},{"$f":"+G171+H37","v":0},{"$f":"+H171+I37","v":0}]
[null,null,"Resumen","Fondo de Emergencia",{"$f":"+Proyección!E172","v":0},{"$f":"+E172+VLOOKUP($D$172,$D$12:$F$160,3,0)","v":{"$error":"#N/A"}},{"$f":"+F172+VLOOKUP($D$172,$D$12:$G$160,4,0)","v":{"$error":"#N/A"}},{"$f":"+G172+VLOOKUP($D$172,$D$12:$H$160,5,0)","v":{"$error":"#N/A"}},{"$f":"+H172+VLOOKUP($D$172,$D$12:$I$160,6,0)","v":{"$error":"#N/A"}}]
[null,null,"Resumen",1]
[null,null,"Resumen","INDICADORES"]
[null,null,"Resumen","Nivel de endeudamiento","-",{"$f":"+IFERROR(F52/F24,0)","v":0},{"$f":"+IFERROR(G52/G24,0)","v":0},{"$f":"+IFERROR(H52/H24,0)","v":0},{"$f":"+IFERROR(I52/I24,0)","v":0}]
[null,null,"Resumen","Capacidad de endeudamiento","-",{"$f":"+IFERROR(IF(F166<=0,0,(F166*35%)),0)","v":0},{"$f":"+IFERROR(IF(G166<=0,0,(G166*35%)),0)","v":0},{"$f":"+IFERROR(IF(H166<=0,0,(H166*35%)),0)","v":0},{"$f":"+IFERROR(IF(I166<=0,0,(I166*35%)),0)","v":0}]
[null,null,"Resumen",1]
[null,null,"Resumen",1]
[null,null,"Resumen",1]

{"sheet":"Re RE Trim E (2)","index":11,"n_rows":36,"n_cols":16,"rows_kept":36,"cut":false,"hidden":true,"merged":[[22,2,22,3]]}
[null,null,1]
[null,null,1]
[null,null,1]
[null,null,1]
[null,null,1]
[null,null,"Concepto","% Ejecución","Trimestre I","Trimestre I Real","Diferencia","Trimestre II","Trimestre II Real","Diferencia","Trimestre III","Trimestre III Real","Diferencia","Trimestre IV","Trimestre IV Real","Diferencia"]
[null,null,1]
[null,null,1]
[null,null,"SALDO INICIAL",null,0,0,{"$f":"IFERROR((IF(F9>0,(E9+F9),(F9-E9))),0)","v":0},{"$f":"+E23","v":0},{"$f":"+F23","v":0},{"$f":"IFERROR((IF(I9>0,(H9+I9),(I9-H9))),0)","v":0},{"$f":"+H23","v":0},{"$f":"+I23","v":0},{"$f":"IFERROR((IF(L9>0,(K9+L9),(L9-K9))),0)","v":0},{"$f":"+K23","v":0},{"$f":"+L23","v":0},{"$f":"IFERROR((IF(O9>0,(N9+O9),(O9-N9))),0)","v":0}]
[null,null,1,"% del Ingreso"]
[null,null,1]
[null,null,"INGRESO",null,{"$f":"+'Resumen Trim E'!F24","v":0},{"$f":"+'Resumen Trim E'!G24","v":0},{"$f":"+IFERROR(+(E12-F12),0)","v":0},{"$f":"+'Resumen Trim E'!I24","v":0},{"$f":"+'Resumen Trim E'!J24","v":0},{"$f":"+IFERROR(+(H12-I12),0)","v":0},{"$f":"+'Resumen Trim E'!L24","v":0},{"$f":"+'Resumen Trim E'!M24","v":0},{"$f":"+IFERROR(+(K12-L12),0)","v":0},{"$f":"+'Resumen Trim E'!O24","v":0},{"$f":"+'Resumen Trim E'!P24","v":0},{"$f":"+IFERROR(+(N12-O12),0)","v":0}]
[null,null,1]
[null,null,"AHORRO",{"$f":"+IFERROR((F14+I14+L14+O14)/($F$12+$I$12+$L$12+$O$12),0)","v":0},{"$f":"+'Resumen Trim E'!F37","v":0},{"$f":"+'Resumen Trim E'!G37","v":0},{"$f":"+IFERROR(+(E14-F14),0)","v":0},{"$f":"+'Resumen Trim E'!I37","v":0},{"$f":"+'Resumen Trim E'!J37","v":0},{"$f":"+IFERROR(+(H14-I14),0)","v":0},{"$f":"+'Resumen Trim E'!L37","v":0},{"$f":"+'Resumen Trim E'!M37","v":0},{"$f":"+IFERROR(+(K14-L14),0)","v":0},{"$f":"+'Resumen Trim E'!O37","v":0},{"$f":"+'Resumen Trim E'!P37","v":0},{"$f":"+IFERROR(+(N14-O14),0)","v":0}]
[null,null,"OBLIGACIONES FINANCIERAS",{"$f":"+IFERROR((F15+I15+L15+O15)/($F$12+$I$12+$L$12+$O$12),0)","v":0},{"$f":"+'Resumen Trim E'!F52","v":0},{"$f":"+'Resumen Trim E'!G52","v":0},0,{"$f":"+'Resumen Trim E'!I52","v":0},{"$f":"+'Resumen Trim E'!J52","v":0},0,{"$f":"+'Resumen Trim E'!L52","v":0},{"$f":"+'Resumen Trim E'!M52","v":0},0,{"$f":"+'Resumen Trim E'!O52","v":0},{"$f":"+'Resumen Trim E'!P52","v":0},0]
[null,null,"IMPUESTOS Y CONTRIBUCIONES",0,{"$f":"+'Resumen Trim E'!F63","v":0},{"$f":"+'Resumen Trim E'!G63","v":0},0,{"$f":"+'Resumen Trim E'!I63","v":0},{"$f":"+'Resumen Trim E'!J63","v":0},0,{"$f":"+'Resumen Trim E'!L63","v":0},{"$f":"+'Resumen Trim E'!M63","v":0},0,{"$f":"+'Resumen Trim E'!O63","v":0},{"$f":"+'Resumen Trim E'!P63","v":0},0]
[null,null,"GASTOS OBLIGATORIOS",0,{"$f":"+'Resumen Trim E'!F96","v":0},{"$f":"+'Resumen Trim E'!G96","v":0},0,{"$f":"+'Resumen Trim E'!I96","v":0},{"$f":"+'Resumen Trim E'!J96","v":0},0,{"$f":"+'Resumen Trim E'!L96","v":0},{"$f":"+'Resumen Trim E'!M96","v":0},0,{"$f":"+'Resumen Trim E'!O96","v":0},{"$f":"+'Resumen Trim E'!P96","v":0},0]
[null,null,"GASTOS NECESARIOS",0,{"$f":"+'Resumen Trim E'!F129","v":0},{"$f":"+'Resumen Trim E'!G129","v":0},0,{"$f":"+'Resumen Trim E'!I129","v":0},{"$f":"+'Resumen Trim E'!J129","v":0},0,{"$f":"+'Resumen Trim E'!L129","v":0},{"$f":"+'Resumen Trim E'!M129","v":0},0,{"$f":"+'Resumen Trim E'!O129","v":0},{"$f":"+'Resumen Trim E'!P129","v":0},0]
[null,null,"GASTOS PRESCINDIBLES/DISFRUTE",0,{"$f":"+'Resumen Trim E'!F161","v":0},{"$f":"+'Resumen Trim E'!G161","v":0},0,{"$f":"+'Resumen Trim E'!I161","v":0},{"$f":"+'Resumen Trim E'!J161","v":0},0,{"$f":"+'Resumen Trim E'!L161","v":0},{"$f":"+'Resumen Trim E'!M161","v":0},0,{"$f":"+'Resumen Trim E'!O161","v":0},{"$f":"+'Resumen Trim E'!P161","v":0},0]
[null,null,"TOTAL SALIDAS (AHORRO + GASTOS)",0,{"$f":"+SUM(E14:E19)","v":0},{"$f":"+SUM(F14:F19)","v":0},0,{"$f":"+SUM(H14:H19)","v":0},{"$f":"+SUM(I14:I19)","v":0},0,{"$f":"+SUM(K14:K19)","v":0},{"$f":"+SUM(L14:L19)","v":0},0,{"$f":"+SUM(N14:N19)","v":0},{"$f":"+SUM(O14:O19)","v":0},0]
[null,null,1]
[null,null,1]
[null,null,"     SALDO FINAL / FLUJO DE CAJA",null,{"$f":"+E9+E12-E20","v":0},{"$f":"+F9+F12-F20","v":0},{"$f":"IFERROR((IF(F23>0,(E23+F23),(F23-E23))),0)","v":0},{"$f":"+H9+H12-H20","v":0},{"$f":"+I9+I12-I20","v":0},{"$f":"IFERROR((IF(I23>0,(H23+I23),(I23-H23))),0)","v":0},{"$f":"+K9+K12-K20","v":0},{"$f":"+L9+L12-L20","v":0},{"$f":"IFERROR((IF(L23>0,(K23+L23),(L23-K23))),0)","v":0},{"$f":"+N9+N12-N20","v":0},{"$f":"+O9+O12-O20","v":0},{"$f":"IFERROR((IF(O23>0,(N23+O23),(O23-N23))),0)","v":0}]
[null,null,1]
[null,null,1]
[null,null,1,"Saldo año anterior"]
[null,null,"RESERVAS"]
[null,null,"Ahorro",{"$f":"+Proyección!E171","v":0},{"$f":"+D28+E14","v":0},{"$f":"+D28+F14","v":0},{"$f":"+IFERROR(+(E28-F28),0)","v":0},{"$f":"+E28+H14","v":0},{"$f":"+F28+I14","v":0},{"$f":"+IFERROR(+(H28-I28),0)","v":0},{"$f":"+H28+K14","v":0},{"$f":"+I28+L14","v":0},{"$f":"+IFERROR(+(K28-L28),0)","v":0},{"$f":"+K28+N14","v":0},{"$f":"+L28+O14","v":0},{"$f":"+IFERROR(+(N28-O28),0)","v":0}]
[null,null,1]
[null,null,"INDICADORES"]
[null,null,"Nivel de endeudamiento","-",{"$f":"+IFERROR(E15/E12,0)","v":0},{"$f":"+IFERROR(F15/F12,0)","v":0},"-",{"$f":"+IFERROR(H15/H12,0)","v":0},{"$f":"+IFERROR(I15/I12,0)","v":0},"-",{"$f":"+IFERROR(K15/K12,0)","v":0},{"$f":"+IFERROR(L15/L12,0)","v":0},"-",{"$f":"+IFERROR(N15/N12,0)","v":0},{"$f":"+IFERROR(O15/O12,0)","v":0},"-"]
[null,null,"Capacidad de endeudamiento","-",{"$f":"+IFERROR(IF(E23<=0,0,(E23*35%)),0)","v":0},{"$f":"+IFERROR(IF(F23<=0,0,(F23*35%)),0)","v":0},"-",{"$f":"+IFERROR(IF(H23<=0,0,(H23*35%)),0)","v":0},{"$f":"+IFERROR(IF(I23<=0,0,(I23*35%)),0)","v":0},"-",{"$f":"+IFERROR(IF(K23<=0,0,(K23*35%)),0)","v":0},{"$f":"+IFERROR(IF(L23<=0,0,(L23*35%)),0)","v":0},"-",{"$f":"+IFERROR(IF(N23<=0,0,(N23*35%)),0)","v":0},{"$f":"+IFERROR(IF(O23<=0,0,(O23*35%)),0)","v":0},"-"]
[null,null,"Variación  real vs presupuestado","-","-","-",{"$f":"+IFERROR((G23-E23)/E23,0)","v":0},"-","-",{"$f":"+IFERROR((J23-H23)/H23,0)","v":0},"-","-",{"$f":"+IFERROR((M23-K23)/K23,0)","v":0},"-","-",{"$f":"+IFERROR((P23-N23)/N23,0)","v":0}]
[null,null,1]
[null,null,1]
[null,null,1]

{"sheet":"Resumen Trim E","index":12,"n_rows":181,"n_cols":17,"rows_kept":181,"cut":false,"hidden":false,"merged":[[165,3,165,4]]}
[null,null,null,1]
[null,null,null,1]
[null,null,null,1]
[null,null,null,1]
[null,null,null,1]
[null,null,"Resumen","Concepto","% del Ingreso Ejecución Real","Trimestre I Presupuesto","Trimestre I \nReal","Diferencia \nTrimestre I","Trimestre II Presupuesto","Trimestre II \nReal","Diferencia \nTrimestre II","Trimestre III Presupuesto","Trimestre III \nReal","Diferencia \nTrimestre III","Trimestre IV Presupuesto","Trimestre IV \nReal","Diferencia \nTrimestre IV"]
[null,null,null,1]
[null,null,null,1]
[null,null,"Resumen","SALDO INICIAL",null,0,0,{"$f":"IFERROR((IF(G9>0,(F9+G9),(G9-F9))),0)","v":0},{"$f":"+F166","v":0},{"$f":"+G166","v":0},{"$f":"IFERROR((IF(J9>0,(I9+J9),(J9-I9))),0)","v":0},{"$f":"+I166","v":0},{"$f":"+J166","v":0},{"$f":"IFERROR((IF(M9>0,(L9+M9),(M9-L9))),0)","v":0},{"$f":"+L166","v":0},{"$f":"+M166","v":0},{"$f":"IFERROR((IF(P9>0,(O9+P9),(P9-O9))),0)","v":0}]
[null,null,"Resumen",1]
[null,null,null,1]
[null,null,1,{"$f":"+IFERROR(+IF(Inputs!D12=\"\",\"\",Inputs!D12),0)","v":"Salario Luisa (ejemplo)"},{"$f":"+IFERROR((G12+J12+M12+P12)/($G$24+$J$24+$M$24+$P$24),0)","v":0},{"$f":"+Proyección!F12+Proyección!G12+Proyección!H12","v":0},{"$f":"+Ejecución!G12+Ejecución!J12+Ejecución!M12","v":0},{"$f":"+IFERROR(-(F12-G12),0)","v":0},{"$f":"+Proyección!I12+Proyección!J12+Proyección!K12","v":0},{"$f":"+Ejecución!P12+Ejecución!S12+Ejecución!V12","v":0},{"$f":"+IFERROR(-(I12-J12),0)","v":0},{"$f":"+Proyección!L12+Proyección!M12+Proyección!N12","v":0},{"$f":"+Ejecución!Y12+Ejecución!AB12+Ejecución!AE12","v":0},{"$f":"+IFERROR(-(L12-M12),0)","v":0},{"$f":"+Proyección!O12+Proyección!P12+Proyección!Q12","v":0},{"$f":"+Ejecución!AH12+Ejecución!AK12+Ejecución!AN12","v":0},{"$f":"+IFERROR(-(O12-P12),0)","v":0}]
[null,null,2,{"$f":"+IFERROR(+IF(Inputs!D13=\"\",\"\",Inputs!D13),0)","v":"Salario Tomás  (ejemplo)"},{"$f":"+IFERROR((G13+J13+M13+P13)/($G$24+$J$24+$M$24+$P$24),0)","v":0},{"$f":"+Proyección!F13+Proyección!G13+Proyección!H13","v":0},{"$f":"+Ejecución!G13+Ejecución!J13+Ejecución!M13","v":0},{"$f":"+IFERROR(-(F13-G13),0)","v":0},{"$f":"+Proyección!I13+Proyección!J13+Proyección!K13","v":0},{"$f":"+Ejecución!P13+Ejecución!S13+Ejecución!V13","v":0},{"$f":"+IFERROR(-(I13-J13),0)","v":0},{"$f":"+Proyección!L13+Proyección!M13+Proyección!N13","v":0},{"$f":"+Ejecución!Y13+Ejecución!AB13+Ejecución!AE13","v":0},{"$f":"+IFERROR(-(L13-M13),0)","v":0},{"$f":"+Proyección!O13+Proyección!P13+Proyección!Q13","v":0},{"$f":"+Ejecución!AH13+Ejecución!AK13+Ejecución!AN13","v":0},{"$f":"+IFERROR(-(O13-P13),0)","v":0}]
[null,null,3,{"$f":"+IFERROR(+IF(Inputs!D14=\"\",\"\",Inputs!D14),0)","v":""},0,{"$f":"+Proyección!F14+Proyección!G14+Proyección!H14","v":0},{"$f":"+Ejecución!G14+Ejecución!J14+Ejecución!M14","v":0},0,{"$f":"+Proyección!I14+Proyección!J14+Proyección!K14","v":0},{"$f":"+Ejecución!P14+Ejecución!S14+Ejecución!V14","v":0},0,{"$f":"+Proyección!L14+Proyección!M14+Proyección!N14","v":0},{"$f":"+Ejecución!Y14+Ejecución!AB14+Ejecución!AE14","v":0},0,{"$f":"+Proyección!O14+Proyección!P14+Proyección!Q14","v":0},{"$f":"+Ejecución!AH14+Ejecución!AK14+Ejecución!AN14","v":0},0]
[null,null,4,{"$f":"+IFERROR(+IF(Inputs!D15=\"\",\"\",Inputs!D15),0)","v":""},0,{"$f":"+Proyección!F15+Proyección!G15+Proyección!H15","v":0},{"$f":"+Ejecución!G15+Ejecución!J15+Ejecución!M15","v":0},0,{"$f":"+Proyección!I15+Proyección!J15+Proyección!K15","v":0},{"$f":"+Ejecución!P15+Ejecución!S15+Ejecución!V15","v":0},0,{"$f":"+Proyección!L15+Proyección!M15+Proyección!N15","v":0},{"$f":"+Ejecución!Y15+Ejecución!AB15+Ejecución!AE15","v":0},0,{"$f":"+Proyección!O15+Proyección!P15+Proyección!Q15","v":0},{"$f":"+Ejecución!AH15+Ejecución!AK15+Ejecución!AN15","v":0},0]
[null,null,5,{"$f":"+IFERROR(+IF(Inputs!D16=\"\",\"\",Inputs!D16),0)","v":""},0,{"$f":"+Proyección!F16+Proyección!G16+Proyección!H16","v":0},{"$f":"+Ejecución!G16+Ejecución!J16+Ejecución!M16","v":0},0,{"$f":"+Proyección!I16+Proyección!J16+Proyección!K16","v":0},{"$f":"+Ejecución!P16+Ejecución!S16+Ejecución!V16","v":0},0,{"$f":"+Proyección!L16+Proyección!M16+Proyección!N16","v":0},{"$f":"+Ejecución!Y16+Ejecución!AB16+Ejecución!AE16","v":0},0,{"$f":"+Proyección!O16+Proyección!P16+Proyección!Q16","v":0},{"$f":"+Ejecución!AH16+Ejecución!AK16+Ejecución!AN16","v":0},0]
[null,null,6,{"$f":"+IFERROR(+IF(Inputs!D17=\"\",\"\",Inputs!D17),0)","v":""},0,{"$f":"+Proyección!F17+Proyección!G17+Proyección!H17","v":0},{"$f":"+Ejecución!G17+Ejecución!J17+Ejecución!M17","v":0},0,{"$f":"+Proyección!I17+Proyección!J17+Proyección!K17","v":0},{"$f":"+Ejecución!P17+Ejecución!S17+Ejecución!V17","v":0},0,{"$f":"+Proyección!L17+Proyección!M17+Proyección!N17","v":0},{"$f":"+Ejecución!Y17+Ejecución!AB17+Ejecución!AE17","v":0},0,{"$f":"+Proyección!O17+Proyección!P17+Proyección!Q17","v":0},{"$f":"+Ejecución!AH17+Ejecución!AK17+Ejecución!AN17","v":0},0]
[null,null,7,{"$f":"+IFERROR(+IF(Inputs!I12=\"\",\"\",Inputs!I12),0)","v":"Prima Luisa  (ejemplo)"},0,{"$f":"+Proyección!F18+Proyección!G18+Proyección!H18","v":0},{"$f":"+Ejecución!G18+Ejecución!J18+Ejecución!M18","v":0},0,{"$f":"+Proyección!I18+Proyección!J18+Proyección!K18","v":0},{"$f":"+Ejecución!P18+Ejecución!S18+Ejecución!V18","v":0},0,{"$f":"+Proyección!L18+Proyección!M18+Proyección!N18","v":0},{"$f":"+Ejecución!Y18+Ejecución!AB18+Ejecución!AE18","v":0},0,{"$f":"+Proyección!O18+Proyección!P18+Proyección!Q18","v":0},{"$f":"+Ejecución!AH18+Ejecución!AK18+Ejecución!AN18","v":0},0]
[null,null,8,{"$f":"+IFERROR(+IF(Inputs!I13=\"\",\"\",Inputs!I13),0)","v":"Prima Tomás  (ejemplo)"},0,{"$f":"+Proyección!F19+Proyección!G19+Proyección!H19","v":0},{"$f":"+Ejecución!G19+Ejecución!J19+Ejecución!M19","v":0},0,{"$f":"+Proyección!I19+Proyección!J19+Proyección!K19","v":0},{"$f":"+Ejecución!P19+Ejecución!S19+Ejecución!V19","v":0},0,{"$f":"+Proyección!L19+Proyección!M19+Proyección!N19","v":0},{"$f":"+Ejecución!Y19+Ejecución!AB19+Ejecución!AE19","v":0},0,{"$f":"+Proyección!O19+Proyección!P19+Proyección!Q19","v":0},{"$f":"+Ejecución!AH19+Ejecución!AK19+Ejecución!AN19","v":0},0]
[null,null,9,{"$f":"+IFERROR(+IF(Inputs!I14=\"\",\"\",Inputs!I14),0)","v":"Intereses cesantías (ejemplo)"},0,{"$f":"+Proyección!F20+Proyección!G20+Proyección!H20","v":0},{"$f":"+Ejecución!G20+Ejecución!J20+Ejecución!M20","v":0},0,{"$f":"+Proyección!I20+Proyección!J20+Proyección!K20","v":0},{"$f":"+Ejecución!P20+Ejecución!S20+Ejecución!V20","v":0},0,{"$f":"+Proyección!L20+Proyección!M20+Proyección!N20","v":0},{"$f":"+Ejecución!Y20+Ejecución!AB20+Ejecución!AE20","v":0},0,{"$f":"+Proyección!O20+Proyección!P20+Proyección!Q20","v":0},{"$f":"+Ejecución!AH20+Ejecución!AK20+Ejecución!AN20","v":0},0]
[null,null,10,{"$f":"+IFERROR(+IF(Inputs!I15=\"\",\"\",Inputs!I15),0)","v":""},0,{"$f":"+Proyección!F21+Proyección!G21+Proyección!H21","v":0},{"$f":"+Ejecución!G21+Ejecución!J21+Ejecución!M21","v":0},0,{"$f":"+Proyección!I21+Proyección!J21+Proyección!K21","v":0},{"$f":"+Ejecución!P21+Ejecución!S21+Ejecución!V21","v":0},0,{"$f":"+Proyección!L21+Proyección!M21+Proyección!N21","v":0},{"$f":"+Ejecución!Y21+Ejecución!AB21+Ejecución!AE21","v":0},0,{"$f":"+Proyección!O21+Proyección!P21+Proyección!Q21","v":0},{"$f":"+Ejecución!AH21+Ejecución!AK21+Ejecución!AN21","v":0},0]
[null,null,11,{"$f":"+IFERROR(+IF(Inputs!I16=\"\",\"\",Inputs!I16),0)","v":""},0,{"$f":"+Proyección!F22+Proyección!G22+Proyección!H22","v":0},{"$f":"+Ejecución!G22+Ejecución!J22+Ejecución!M22","v":0},0,{"$f":"+Proyección!I22+Proyección!J22+Proyección!K22","v":0},{"$f":"+Ejecución!P22+Ejecución!S22+Ejecución!V22","v":0},0,{"$f":"+Proyección!L22+Proyección!M22+Proyección!N22","v":0},{"$f":"+Ejecución!Y22+Ejecución!AB22+Ejecución!AE22","v":0},0,{"$f":"+Proyección!O22+Proyección!P22+Proyección!Q22","v":0},{"$f":"+Ejecución!AH22+Ejecución!AK22+Ejecución!AN22","v":0},0]
[null,null,12,{"$f":"+IFERROR(+IF(Inputs!I17=\"\",\"\",Inputs!I17),0)","v":""},0,{"$f":"+Proyección!F23+Proyección!G23+Proyección!H23","v":0},{"$f":"+Ejecución!G23+Ejecución!J23+Ejecución!M23","v":0},0,{"$f":"+Proyección!I23+Proyección!J23+Proyección!K23","v":0},{"$f":"+Ejecución!P23+Ejecución!S23+Ejecución!V23","v":0},0,{"$f":"+Proyección!L23+Proyección!M23+Proyección!N23","v":0},{"$f":"+Ejecución!Y23+Ejecución!AB23+Ejecución!AE23","v":0},0,{"$f":"+Proyección!O23+Proyección!P23+Proyección!Q23","v":0},{"$f":"+Ejecución!AH23+Ejecución!AK23+Ejecución!AN23","v":0},0]
[null,null,"Resumen","TOTAL INGRESO",0,{"$f":"+SUM(F12:F23)","v":0},{"$f":"+SUM(G12:G23)","v":0},{"$f":"+IFERROR(+(F24-G24),0)","v":0},{"$f":"+SUM(I12:I23)","v":0},{"$f":"+SUM(J12:J23)","v":0},{"$f":"+IFERROR(+(I24-J24),0)","v":0},{"$f":"+SUM(L12:L23)","v":0},{"$f":"+SUM(M12:M23)","v":0},{"$f":"+IFERROR(+(L24-M24),0)","v":0},{"$f":"+SUM(O12:O23)","v":0},{"$f":"+SUM(P12:P23)","v":0},{"$f":"+IFERROR(+(O24-P24),0)","v":0}]
[null,null,"Resumen",1]
[null,null,null,1]
[null,null,1,{"$f":"+IFERROR(+IF(Inputs!D22=\"\",\"\",Inputs!D22),0)","v":"Para comprar casa propia  (ejemplo)"},0,{"$f":"+Proyección!F27+Proyección!G27+Proyección!H27","v":0},{"$f":"+Ejecución!G27+Ejecución!J27+Ejecución!M27","v":0},{"$f":"+IFERROR(+(F27-G27),0)","v":0},{"$f":"+Proyección!I27+Proyección!J27+Proyección!K27","v":0},{"$f":"+Ejecución!P27+Ejecución!S27+Ejecución!V27","v":0},{"$f":"+IFERROR(+(I27-J27),0)","v":0},{"$f":"+Proyección!L27+Proyección!M27+Proyección!N27","v":0},{"$f":"+Ejecución!Y27+Ejecución!AB27+Ejecución!AE27","v":0},{"$f":"+IFERROR(+(L27-M27),0)","v":0},{"$f":"+Proyección!O27+Proyección!P27+Proyección!Q27","v":0},{"$f":"+Ejecución!AH27+Ejecución!AK27+Ejecución!AN27","v":0},{"$f":"+IFERROR(+(O27-P27),0)","v":0}]
[null,null,2,{"$f":"+IFERROR(+IF(Inputs!D23=\"\",\"\",Inputs!D23),0)","v":"Postgrado Luisa  (ejemplo)"},0,{"$f":"+Proyección!F28+Proyección!G28+Proyección!H28","v":0},{"$f":"+Ejecución!G28+Ejecución!J28+Ejecución!M28","v":0},0,{"$f":"+Proyección!I28+Proyección!J28+Proyección!K28","v":0},{"$f":"+Ejecución!P28+Ejecución!S28+Ejecución!V28","v":0},0,{"$f":"+Proyección!L28+Proyección!M28+Proyección!N28","v":0},{"$f":"+Ejecución!Y28+Ejecución!AB28+Ejecución!AE28","v":0},0,{"$f":"+Proyección!O28+Proyección!P28+Proyección!Q28","v":0},{"$f":"+Ejecución!AH28+Ejecución!AK28+Ejecución!AN28","v":0},0]
[null,null,3,{"$f":"+IFERROR(+IF(Inputs!D24=\"\",\"\",Inputs!D24),0)","v":"Jubilación  (ejemplo)"},0,{"$f":"+Proyección!F29+Proyección!G29+Proyección!H29","v":0},{"$f":"+Ejecución!G29+Ejecución!J29+Ejecución!M29","v":0},0,{"$f":"+Proyección!I29+Proyección!J29+Proyección!K29","v":0},{"$f":"+Ejecución!P29+Ejecución!S29+Ejecución!V29","v":0},0,{"$f":"+Proyección!L29+Proyección!M29+Proyección!N29","v":0},{"$f":"+Ejecución!Y29+Ejecución!AB29+Ejecución!AE29","v":0},0,{"$f":"+Proyección!O29+Proyección!P29+Proyección!Q29","v":0},{"$f":"+Ejecución!AH29+Ejecución!AK29+Ejecución!AN29","v":0},0]
[null,null,4,{"$f":"+IFERROR(+IF(Inputs!D25=\"\",\"\",Inputs!D25),0)","v":""},0,{"$f":"+Proyección!F30+Proyección!G30+Proyección!H30","v":0},{"$f":"+Ejecución!G30+Ejecución!J30+Ejecución!M30","v":0},0,{"$f":"+Proyección!I30+Proyección!J30+Proyección!K30","v":0},{"$f":"+Ejecución!P30+Ejecución!S30+Ejecución!V30","v":0},0,{"$f":"+Proyección!L30+Proyección!M30+Proyección!N30","v":0},{"$f":"+Ejecución!Y30+Ejecución!AB30+Ejecución!AE30","v":0},0,{"$f":"+Proyección!O30+Proyección!P30+Proyección!Q30","v":0},{"$f":"+Ejecución!AH30+Ejecución!AK30+Ejecución!AN30","v":0},0]
[null,null,5,{"$f":"+IFERROR(+IF(Inputs!D26=\"\",\"\",Inputs!D26),0)","v":""},0,{"$f":"+Proyección!F31+Proyección!G31+Proyección!H31","v":0},{"$f":"+Ejecución!G31+Ejecución!J31+Ejecución!M31","v":0},0,{"$f":"+Proyección!I31+Proyección!J31+Proyección!K31","v":0},{"$f":"+Ejecución!P31+Ejecución!S31+Ejecución!V31","v":0},0,{"$f":"+Proyección!L31+Proyección!M31+Proyección!N31","v":0},{"$f":"+Ejecución!Y31+Ejecución!AB31+Ejecución!AE31","v":0},0,{"$f":"+Proyección!O31+Proyección!P31+Proyección!Q31","v":0},{"$f":"+Ejecución!AH31+Ejecución!AK31+Ejecución!AN31","v":0},0]
[null,null,6,{"$f":"+IFERROR(+IF(Inputs!I22=\"\",\"\",Inputs!I22),0)","v":"Abono extra a casa propia (ejemplo)"},0,{"$f":"+Proyección!F32+Proyección!G32+Proyección!H32","v":0},{"$f":"+Ejecución!G32+Ejecución!J32+Ejecución!M32","v":0},0,{"$f":"+Proyección!I32+Proyección!J32+Proyección!K32","v":0},{"$f":"+Ejecución!P32+Ejecución!S32+Ejecución!V32","v":0},0,{"$f":"+Proyección!L32+Proyección!M32+Proyección!N32","v":0},{"$f":"+Ejecución!Y32+Ejecución!AB32+Ejecución!AE32","v":0},0,{"$f":"+Proyección!O32+Proyección!P32+Proyección!Q32","v":0},{"$f":"+Ejecución!AH32+Ejecución!AK32+Ejecución!AN32","v":0},0]
[null,null,7,{"$f":"+IFERROR(+IF(Inputs!I23=\"\",\"\",Inputs!I23),0)","v":""},0,{"$f":"+Proyección!F33+Proyección!G33+Proyección!H33","v":0},{"$f":"+Ejecución!G33+Ejecución!J33+Ejecución!M33","v":0},0,{"$f":"+Proyección!I33+Proyección!J33+Proyección!K33","v":0},{"$f":"+Ejecución!P33+Ejecución!S33+Ejecución!V33","v":0},0,{"$f":"+Proyección!L33+Proyección!M33+Proyección!N33","v":0},{"$f":"+Ejecución!Y33+Ejecución!AB33+Ejecución!AE33","v":0},0,{"$f":"+Proyección!O33+Proyección!P33+Proyección!Q33","v":0},{"$f":"+Ejecución!AH33+Ejecución!AK33+Ejecución!AN33","v":0},0]
[null,null,8,{"$f":"+IFERROR(+IF(Inputs!I24=\"\",\"\",Inputs!I24),0)","v":""},0,{"$f":"+Proyección!F34+Proyección!G34+Proyección!H34","v":0},{"$f":"+Ejecución!G34+Ejecución!J34+Ejecución!M34","v":0},0,{"$f":"+Proyección!I34+Proyección!J34+Proyección!K34","v":0},{"$f":"+Ejecución!P34+Ejecución!S34+Ejecución!V34","v":0},0,{"$f":"+Proyección!L34+Proyección!M34+Proyección!N34","v":0},{"$f":"+Ejecución!Y34+Ejecución!AB34+Ejecución!AE34","v":0},0,{"$f":"+Proyección!O34+Proyección!P34+Proyección!Q34","v":0},{"$f":"+Ejecución!AH34+Ejecución!AK34+Ejecución!AN34","v":0},0]
[null,null,9,{"$f":"+IFERROR(+IF(Inputs!I25=\"\",\"\",Inputs!I25),0)","v":""},0,{"$f":"+Proyección!F35+Proyección!G35+Proyección!H35","v":0},{"$f":"+Ejecución!G35+Ejecución!J35+Ejecución!M35","v":0},0,{"$f":"+Proyección!I35+Proyección!J35+Proyección!K35","v":0},{"$f":"+Ejecución!P35+Ejecución!S35+Ejecución!V35","v":0},0,{"$f":"+Proyección!L35+Proyección!M35+Proyección!N35","v":0},{"$f":"+Ejecución!Y35+Ejecución!AB35+Ejecución!AE35","v":0},0,{"$f":"+Proyección!O35+Proyección!P35+Proyección!Q35","v":0},{"$f":"+Ejecución!AH35+Ejecución!AK35+Ejecución!AN35","v":0},0]
[null,null,10,{"$f":"+IFERROR(+IF(Inputs!I26=\"\",\"\",Inputs!I26),0)","v":""},0,{"$f":"+Proyección!F36+Proyección!G36+Proyección!H36","v":0},{"$f":"+Ejecución!G36+Ejecución!J36+Ejecución!M36","v":0},0,{"$f":"+Proyección!I36+Proyección!J36+Proyección!K36","v":0},{"$f":"+Ejecución!P36+Ejecución!S36+Ejecución!V36","v":0},0,{"$f":"+Proyección!L36+Proyección!M36+Proyección!N36","v":0},{"$f":"+Ejecución!Y36+Ejecución!AB36+Ejecución!AE36","v":0},0,{"$f":"+Proyección!O36+Proyección!P36+Proyección!Q36","v":0},{"$f":"+Ejecución!AH36+Ejecución!AK36+Ejecución!AN36","v":0},0]
[null,null,"Resumen","TOTAL AHORRO",0,{"$f":"+SUM(F27:F36)","v":0},{"$f":"+SUM(G27:G36)","v":0},0,{"$f":"+SUM(I27:I36)","v":0},{"$f":"+SUM(J27:J36)","v":0},0,{"$f":"+SUM(L27:L36)","v":0},{"$f":"+SUM(M27:M36)","v":0},0,{"$f":"+SUM(O27:O36)","v":0},{"$f":"+SUM(P27:P36)","v":0},0]
[null,null,null,1]
[null,null,null,1]
[null,null,1,{"$f":"+IFERROR(+IF(Inputs!D31=\"\",\"\",Inputs!D31),0)","v":"Crédito de vehículo (ejemplo)"},0,{"$f":"+Proyección!F40+Proyección!G40+Proyección!H40","v":0},{"$f":"+Ejecución!G40+Ejecución!J40+Ejecución!M40","v":0},{"$f":"+IFERROR(+(F40-G40),0)","v":0},{"$f":"+Proyección!I40+Proyección!J40+Proyección!K40","v":0},{"$f":"+Ejecución!P40+Ejecución!S40+Ejecución!V40","v":0},{"$f":"+IFERROR(+(I40-J40),0)","v":0},{"$f":"+Proyección!L40+Proyección!M40+Proyección!N40","v":0},{"$f":"+Ejecución!Y40+Ejecución!AB40+Ejecución!AE40","v":0},{"$f":"+IFERROR(+(L40-M40),0)","v":0},{"$f":"+Proyección!O40+Proyección!P40+Proyección!Q40","v":0},{"$f":"+Ejecución!AH40+Ejecución!AK40+Ejecución!AN40","v":0},{"$f":"+IFERROR(+(O40-P40),0)","v":0}]
[null,null,2,{"$f":"+IFERROR(+IF(Inputs!D32=\"\",\"\",Inputs!D32),0)","v":"Tarjeta de crédito 1 (ejemplo)"},0,{"$f":"+Proyección!F41+Proyección!G41+Proyección!H41","v":0},{"$f":"+Ejecución!G41+Ejecución!J41+Ejecución!M41","v":0},0,{"$f":"+Proyección!I41+Proyección!J41+Proyección!K41","v":0},{"$f":"+Ejecución!P41+Ejecución!S41+Ejecución!V41","v":0},0,{"$f":"+Proyección!L41+Proyección!M41+Proyección!N41","v":0},{"$f":"+Ejecución!Y41+Ejecución!AB41+Ejecución!AE41","v":0},0,{"$f":"+Proyección!O41+Proyección!P41+Proyección!Q41","v":0},{"$f":"+Ejecución!AH41+Ejecución!AK41+Ejecución!AN41","v":0},0]
[null,null,3,{"$f":"+IFERROR(+IF(Inputs!D33=\"\",\"\",Inputs!D33),0)","v":""},0,{"$f":"+Proyección!F42+Proyección!G42+Proyección!H42","v":0},{"$f":"+Ejecución!G42+Ejecución!J42+Ejecución!M42","v":0},0,{"$f":"+Proyección!I42+Proyección!J42+Proyección!K42","v":0},{"$f":"+Ejecución!P42+Ejecución!S42+Ejecución!V42","v":0},0,{"$f":"+Proyección!L42+Proyección!M42+Proyección!N42","v":0},{"$f":"+Ejecución!Y42+Ejecución!AB42+Ejecución!AE42","v":0},0,{"$f":"+Proyección!O42+Proyección!P42+Proyección!Q42","v":0},{"$f":"+Ejecución!AH42+Ejecución!AK42+Ejecución!AN42","v":0},0]
[null,null,4,{"$f":"+IFERROR(+IF(Inputs!D34=\"\",\"\",Inputs!D34),0)","v":""},0,{"$f":"+Proyección!F43+Proyección!G43+Proyección!H43","v":0},{"$f":"+Ejecución!G43+Ejecución!J43+Ejecución!M43","v":0},0,{"$f":"+Proyección!I43+Proyección!J43+Proyección!K43","v":0},{"$f":"+Ejecución!P43+Ejecución!S43+Ejecución!V43","v":0},0,{"$f":"+Proyección!L43+Proyección!M43+Proyección!N43","v":0},{"$f":"+Ejecución!Y43+Ejecución!AB43+Ejecución!AE43","v":0},0,{"$f":"+Proyección!O43+Proyección!P43+Proyección!Q43","v":0},{"$f":"+Ejecución!AH43+Ejecución!AK43+Ejecución!AN43","v":0},0]
[null,null,5,{"$f":"+IFERROR(+IF(Inputs!D35=\"\",\"\",Inputs!D35),0)","v":""},0,{"$f":"+Proyección!F44+Proyección!G44+Proyección!H44","v":0},{"$f":"+Ejecución!G44+Ejecución!J44+Ejecución!M44","v":0},0,{"$f":"+Proyección!I44+Proyección!J44+Proyección!K44","v":0},{"$f":"+Ejecución!P44+Ejecución!S44+Ejecución!V44","v":0},0,{"$f":"+Proyección!L44+Proyección!M44+Proyección!N44","v":0},{"$f":"+Ejecución!Y44+Ejecución!AB44+Ejecución!AE44","v":0},0,{"$f":"+Proyección!O44+Proyección!P44+Proyección!Q44","v":0},{"$f":"+Ejecución!AH44+Ejecución!AK44+Ejecución!AN44","v":0},0]
[null,null,6,{"$f":"+IFERROR(+IF(Inputs!D36=\"\",\"\",Inputs!D36),0)","v":""},0,{"$f":"+Proyección!F45+Proyección!G45+Proyección!H45","v":0},{"$f":"+Ejecución!G45+Ejecución!J45+Ejecución!M45","v":0},0,{"$f":"+Proyección!I45+Proyección!J45+Proyección!K45","v":0},{"$f":"+Ejecución!P45+Ejecución!S45+Ejecución!V45","v":0},0,{"$f":"+Proyección!L45+Proyección!M45+Proyección!N45","v":0},{"$f":"+Ejecución!Y45+Ejecución!AB45+Ejecución!AE45","v":0},0,{"$f":"+Proyección!O45+Proyección!P45+Proyección!Q45","v":0},{"$f":"+Ejecución!AH45+Ejecución!AK45+Ejecución!AN45","v":0},0]
[null,null,7,{"$f":"+IFERROR(+IF(Inputs!I31=\"\",\"\",Inputs!I31),0)","v":"Abono trimestral préstamo (ejemplo)"},0,{"$f":"+Proyección!F46+Proyección!G46+Proyección!H46","v":0},{"$f":"+Ejecución!G46+Ejecución!J46+Ejecución!M46","v":0},0,{"$f":"+Proyección!I46+Proyección!J46+Proyección!K46","v":0},{"$f":"+Ejecución!P46+Ejecución!S46+Ejecución!V46","v":0},0,{"$f":"+Proyección!L46+Proyección!M46+Proyección!N46","v":0},{"$f":"+Ejecución!Y46+Ejecución!AB46+Ejecución!AE46","v":0},0,{"$f":"+Proyección!O46+Proyección!P46+Proyección!Q46","v":0},{"$f":"+Ejecución!AH46+Ejecución!AK46+Ejecución!AN46","v":0},0]
[null,null,8,{"$f":"+IFERROR(+IF(Inputs!I32=\"\",\"\",Inputs!I32),0)","v":""},0,{"$f":"+Proyección!F47+Proyección!G47+Proyección!H47","v":0},{"$f":"+Ejecución!G47+Ejecución!J47+Ejecución!M47","v":0},0,{"$f":"+Proyección!I47+Proyección!J47+Proyección!K47","v":0},{"$f":"+Ejecución!P47+Ejecución!S47+Ejecución!V47","v":0},0,{"$f":"+Proyección!L47+Proyección!M47+Proyección!N47","v":0},{"$f":"+Ejecución!Y47+Ejecución!AB47+Ejecución!AE47","v":0},0,{"$f":"+Proyección!O47+Proyección!P47+Proyección!Q47","v":0},{"$f":"+Ejecución!AH47+Ejecución!AK47+Ejecución!AN47","v":0},0]
[null,null,9,{"$f":"+IFERROR(+IF(Inputs!I33=\"\",\"\",Inputs!I33),0)","v":""},0,{"$f":"+Proyección!F48+Proyección!G48+Proyección!H48","v":0},{"$f":"+Ejecución!G48+Ejecución!J48+Ejecución!M48","v":0},0,{"$f":"+Proyección!I48+Proyección!J48+Proyección!K48","v":0},{"$f":"+Ejecución!P48+Ejecución!S48+Ejecución!V48","v":0},0,{"$f":"+Proyección!L48+Proyección!M48+Proyección!N48","v":0},{"$f":"+Ejecución!Y48+Ejecución!AB48+Ejecución!AE48","v":0},0,{"$f":"+Proyección!O48+Proyección!P48+Proyección!Q48","v":0},{"$f":"+Ejecución!AH48+Ejecución!AK48+Ejecución!AN48","v":0},0]
[null,null,10,{"$f":"+IFERROR(+IF(Inputs!I34=\"\",\"\",Inputs!I34),0)","v":""},0,{"$f":"+Proyección!F49+Proyección!G49+Proyección!H49","v":0},{"$f":"+Ejecución!G49+Ejecución!J49+Ejecución!M49","v":0},0,{"$f":"+Proyección!I49+Proyección!J49+Proyección!K49","v":0},{"$f":"+Ejecución!P49+Ejecución!S49+Ejecución!V49","v":0},0,{"$f":"+Proyección!L49+Proyección!M49+Proyección!N49","v":0},{"$f":"+Ejecución!Y49+Ejecución!AB49+Ejecución!AE49","v":0},0,{"$f":"+Proyección!O49+Proyección!P49+Proyección!Q49","v":0},{"$f":"+Ejecución!AH49+Ejecución!AK49+Ejecución!AN49","v":0},0]
[null,null,11,{"$f":"+IFERROR(+IF(Inputs!I35=\"\",\"\",Inputs!I35),0)","v":""},0,{"$f":"+Proyección!F50+Proyección!G50+Proyección!H50","v":0},{"$f":"+Ejecución!G50+Ejecución!J50+Ejecución!M50","v":0},0,{"$f":"+Proyección!I50+Proyección!J50+Proyección!K50","v":0},{"$f":"+Ejecución!P50+Ejecución!S50+Ejecución!V50","v":0},0,{"$f":"+Proyección!L50+Proyección!M50+Proyección!N50","v":0},{"$f":"+Ejecución!Y50+Ejecución!AB50+Ejecución!AE50","v":0},0,{"$f":"+Proyección!O50+Proyección!P50+Proyección!Q50","v":0},{"$f":"+Ejecución!AH50+Ejecución!AK50+Ejecución!AN50","v":0},0]
[null,null,12,{"$f":"+IFERROR(+IF(Inputs!I36=\"\",\"\",Inputs!I36),0)","v":""},0,{"$f":"+Proyección!F51+Proyección!G51+Proyección!H51","v":0},{"$f":"+Ejecución!G51+Ejecución!J51+Ejecución!M51","v":0},0,{"$f":"+Proyección!I51+Proyección!J51+Proyección!K51","v":0},{"$f":"+Ejecución!P51+Ejecución!S51+Ejecución!V51","v":0},0,{"$f":"+Proyección!L51+Proyección!M51+Proyección!N51","v":0},{"$f":"+Ejecución!Y51+Ejecución!AB51+Ejecución!AE51","v":0},0,{"$f":"+Proyección!O51+Proyección!P51+Proyección!Q51","v":0},{"$f":"+Ejecución!AH51+Ejecución!AK51+Ejecución!AN51","v":0},0]
[null,null,"Resumen","TOTAL OBLIGACIONES FINANCIERAS",0,{"$f":"+SUM(F40:F51)","v":0},{"$f":"+SUM(G40:G51)","v":0},0,{"$f":"+SUM(I40:I51)","v":0},{"$f":"+SUM(J40:J51)","v":0},0,{"$f":"+SUM(L40:L51)","v":0},{"$f":"+SUM(M40:M51)","v":0},0,{"$f":"+SUM(O40:O51)","v":0},{"$f":"+SUM(P40:P51)","v":0},0]
[null,null,null,1]
[null,null,null,1]
[null,null,1,{"$f":"+IFERROR(+IF(Inputs!D41=\"\",\"\",Inputs!D41),0)","v":""},0,{"$f":"+Proyección!F55+Proyección!G55+Proyección!H55","v":0},{"$f":"+Ejecución!G55+Ejecución!J55+Ejecución!M55","v":0},{"$f":"+IFERROR(+(F55-G55),0)","v":0},{"$f":"+Proyección!I55+Proyección!J55+Proyección!K55","v":0},{"$f":"+Ejecución!P55+Ejecución!S55+Ejecución!V55","v":0},{"$f":"+IFERROR(+(I55-J55),0)","v":0},{"$f":"+Proyección!L55+Proyección!M55+Proyección!N55","v":0},{"$f":"+Ejecución!Y55+Ejecución!AB55+Ejecución!AE55","v":0},{"$f":"+IFERROR(+(L55-M55),0)","v":0},{"$f":"+Proyección!O55+Proyección!P55+Proyección!Q55","v":0},{"$f":"+Ejecución!AH55+Ejecución!AK55+Ejecución!AN55","v":0},{"$f":"+IFERROR(+(O55-P55),0)","v":0}]
[null,null,2,{"$f":"+IFERROR(+IF(Inputs!D42=\"\",\"\",Inputs!D42),0)","v":""},0,{"$f":"+Proyección!F56+Proyección!G56+Proyección!H56","v":0},{"$f":"+Ejecución!G56+Ejecución!J56+Ejecución!M56","v":0},0,{"$f":"+Proyección!I56+Proyección!J56+Proyección!K56","v":0},{"$f":"+Ejecución!P56+Ejecución!S56+Ejecución!V56","v":0},0,{"$f":"+Proyección!L56+Proyección!M56+Proyección!N56","v":0},{"$f":"+Ejecución!Y56+Ejecución!AB56+Ejecución!AE56","v":0},0,{"$f":"+Proyección!O56+Proyección!P56+Proyección!Q56","v":0},{"$f":"+Ejecución!AH56+Ejecución!AK56+Ejecución!AN56","v":0},0]
[null,null,3,{"$f":"+IFERROR(+IF(Inputs!D43=\"\",\"\",Inputs!D43),0)","v":""},0,{"$f":"+Proyección!F57+Proyección!G57+Proyección!H57","v":0},{"$f":"+Ejecución!G57+Ejecución!J57+Ejecución!M57","v":0},0,{"$f":"+Proyección!I57+Proyección!J57+Proyección!K57","v":0},{"$f":"+Ejecución!P57+Ejecución!S57+Ejecución!V57","v":0},0,{"$f":"+Proyección!L57+Proyección!M57+Proyección!N57","v":0},{"$f":"+Ejecución!Y57+Ejecución!AB57+Ejecución!AE57","v":0},0,{"$f":"+Proyección!O57+Proyección!P57+Proyección!Q57","v":0},{"$f":"+Ejecución!AH57+Ejecución!AK57+Ejecución!AN57","v":0},0]
[null,null,4,{"$f":"+IFERROR(+IF(Inputs!D44=\"\",\"\",Inputs!D44),0)","v":""},0,{"$f":"+Proyección!F58+Proyección!G58+Proyección!H58","v":0},{"$f":"+Ejecución!G58+Ejecución!J58+Ejecución!M58","v":0},0,{"$f":"+Proyección!I58+Proyección!J58+Proyección!K58","v":0},{"$f":"+Ejecución!P58+Ejecución!S58+Ejecución!V58","v":0},0,{"$f":"+Proyección!L58+Proyección!M58+Proyección!N58","v":0},{"$f":"+Ejecución!Y58+Ejecución!AB58+Ejecución!AE58","v":0},0,{"$f":"+Proyección!O58+Proyección!P58+Proyección!Q58","v":0},{"$f":"+Ejecución!AH58+Ejecución!AK58+Ejecución!AN58","v":0},0]
[null,null,5,{"$f":"+IFERROR(+IF(Inputs!I41=\"\",\"\",Inputs!I41),0)","v":"Impuesto de renta (ejemplo)"},0,{"$f":"+Proyección!F59+Proyección!G59+Proyección!H59","v":0},{"$f":"+Ejecución!G59+Ejecución!J59+Ejecución!M59","v":0},0,{"$f":"+Proyección!I59+Proyección!J59+Proyección!K59","v":0},{"$f":"+Ejecución!P59+Ejecución!S59+Ejecución!V59","v":0},0,{"$f":"+Proyección!L59+Proyección!M59+Proyección!N59","v":0},{"$f":"+Ejecución!Y59+Ejecución!AB59+Ejecución!AE59","v":0},0,{"$f":"+Proyección!O59+Proyección!P59+Proyección!Q59","v":0},{"$f":"+Ejecución!AH59+Ejecución!AK59+Ejecución!AN59","v":0},0]
[null,null,6,{"$f":"+IFERROR(+IF(Inputs!I42=\"\",\"\",Inputs!I42),0)","v":"Impuesto vehicular (ejemplo)"},0,{"$f":"+Proyección!F60+Proyección!G60+Proyección!H60","v":0},{"$f":"+Ejecución!G60+Ejecución!J60+Ejecución!M60","v":0},0,{"$f":"+Proyección!I60+Proyección!J60+Proyección!K60","v":0},{"$f":"+Ejecución!P60+Ejecución!S60+Ejecución!V60","v":0},0,{"$f":"+Proyección!L60+Proyección!M60+Proyección!N60","v":0},{"$f":"+Ejecución!Y60+Ejecución!AB60+Ejecución!AE60","v":0},0,{"$f":"+Proyección!O60+Proyección!P60+Proyección!Q60","v":0},{"$f":"+Ejecución!AH60+Ejecución!AK60+Ejecución!AN60","v":0},0]
[null,null,7,{"$f":"+IFERROR(+IF(Inputs!I43=\"\",\"\",Inputs!I43),0)","v":"Impuesto predial (ejemplo)"},0,{"$f":"+Proyección!F61+Proyección!G61+Proyección!H61","v":0},{"$f":"+Ejecución!G61+Ejecución!J61+Ejecución!M61","v":0},0,{"$f":"+Proyección!I61+Proyección!J61+Proyección!K61","v":0},{"$f":"+Ejecución!P61+Ejecución!S61+Ejecución!V61","v":0},{"$f":"+IFERROR(+(I61-J61),0)","v":0},{"$f":"+Proyección!L61+Proyección!M61+Proyección!N61","v":0},{"$f":"+Ejecución!Y61+Ejecución!AB61+Ejecución!AE61","v":0},0,{"$f":"+Proyección!O61+Proyección!P61+Proyección!Q61","v":0},{"$f":"+Ejecución!AH61+Ejecución!AK61+Ejecución!AN61","v":0},0]
[null,null,8,{"$f":"+IFERROR(+IF(Inputs!I44=\"\",\"\",Inputs!I44),0)","v":""},0,{"$f":"+Proyección!F62+Proyección!G62+Proyección!H62","v":0},{"$f":"+Ejecución!G62+Ejecución!J62+Ejecución!M62","v":0},0,{"$f":"+Proyección!I62+Proyección!J62+Proyección!K62","v":0},{"$f":"+Ejecución!P62+Ejecución!S62+Ejecución!V62","v":0},0,{"$f":"+Proyección!L62+Proyección!M62+Proyección!N62","v":0},{"$f":"+Ejecución!Y62+Ejecución!AB62+Ejecución!AE62","v":0},0,{"$f":"+Proyección!O62+Proyección!P62+Proyección!Q62","v":0},{"$f":"+Ejecución!AH62+Ejecución!AK62+Ejecución!AN62","v":0},0]
[null,null,"Resumen","TOTAL IMPUESTOS Y CONTRIBUCIONES",0,{"$f":"+SUM(F55:F62)","v":0},{"$f":"+SUM(G55:G62)","v":0},0,{"$f":"+SUM(I55:I62)","v":0},{"$f":"+SUM(J55:J62)","v":0},{"$f":"+IFERROR(+(I63-J63),0)","v":0},{"$f":"+SUM(L55:L62)","v":0},{"$f":"+SUM(M55:M62)","v":0},{"$f":"+IFERROR(+(L63-M63),0)","v":0},{"$f":"+SUM(O55:O62)","v":0},{"$f":"+SUM(P55:P62)","v":0},{"$f":"+IFERROR(+(O63-P63),0)","v":0}]
[null,null,null,1]
[null,null,null,1]
[null,null,1,{"$f":"+IFERROR(+IF(Inputs!D68=\"\",\"\",Inputs!D68),0)","v":"Fondo de Emergencia (ejemplo)"},0,{"$f":"+Proyección!F66+Proyección!G66+Proyección!H66","v":0},{"$f":"+Ejecución!G66+Ejecución!J66+Ejecución!M66","v":0},{"$f":"+IFERROR(+(F66-G66),0)","v":0},{"$f":"+Proyección!I66+Proyección!J66+Proyección!K66","v":0},{"$f":"+Ejecución!P66+Ejecución!S66+Ejecución!V66","v":0},{"$f":"+IFERROR(+(I66-J66),0)","v":0},{"$f":"+Proyección!L66+Proyección!M66+Proyección!N66","v":0},{"$f":"+Ejecución!Y66+Ejecución!AB66+Ejecución!AE66","v":0},{"$f":"+IFERROR(+(L66-M66),0)","v":0},{"$f":"+Proyección!O66+Proyección!P66+Proyección!Q66","v":0},{"$f":"+Ejecución!AH66+Ejecución!AK66+Ejecución!AN66","v":0},{"$f":"+IFERROR(+(O66-P66),0)","v":0}]
[null,null,2,{"$f":"+IFERROR(+IF(Inputs!D69=\"\",\"\",Inputs!D69),0)","v":"Alimentación (ejemplo)"},0,{"$f":"+Proyección!F67+Proyección!G67+Proyección!H67","v":0},{"$f":"+Ejecución!G67+Ejecución!J67+Ejecución!M67","v":0},0,{"$f":"+Proyección!I67+Proyección!J67+Proyección!K67","v":0},{"$f":"+Ejecución!P67+Ejecución!S67+Ejecución!V67","v":0},0,{"$f":"+Proyección!L67+Proyección!M67+Proyección!N67","v":0},{"$f":"+Ejecución!Y67+Ejecución!AB67+Ejecución!AE67","v":0},0,{"$f":"+Proyección!O67+Proyección!P67+Proyección!Q67","v":0},{"$f":"+Ejecución!AH67+Ejecución!AK67+Ejecución!AN67","v":0},0]
[null,null,3,{"$f":"+IFERROR(+IF(Inputs!D51=\"\",\"\",Inputs!D51),0)","v":""},0,{"$f":"+Proyección!F68+Proyección!G68+Proyección!H68","v":0},{"$f":"+Ejecución!G68+Ejecución!J68+Ejecución!M68","v":0},0,{"$f":"+Proyección!I68+Proyección!J68+Proyección!K68","v":0},{"$f":"+Ejecución!P68+Ejecución!S68+Ejecución!V68","v":0},0,{"$f":"+Proyección!L68+Proyección!M68+Proyección!N68","v":0},{"$f":"+Ejecución!Y68+Ejecución!AB68+Ejecución!AE68","v":0},0,{"$f":"+Proyección!O68+Proyección!P68+Proyección!Q68","v":0},{"$f":"+Ejecución!AH68+Ejecución!AK68+Ejecución!AN68","v":0},0]
[null,null,4,{"$f":"+IFERROR(+IF(Inputs!D70=\"\",\"\",Inputs!D70),0)","v":"Servicios públicos (ejemplo)"},0,{"$f":"+Proyección!F69+Proyección!G69+Proyección!H69","v":0},{"$f":"+Ejecución!G69+Ejecución!J69+Ejecución!M69","v":0},0,{"$f":"+Proyección!I69+Proyección!J69+Proyección!K69","v":0},{"$f":"+Ejecución!P69+Ejecución!S69+Ejecución!V69","v":0},0,{"$f":"+Proyección!L69+Proyección!M69+Proyección!N69","v":0},{"$f":"+Ejecución!Y69+Ejecución!AB69+Ejecución!AE69","v":0},0,{"$f":"+Proyección!O69+Proyección!P69+Proyección!Q69","v":0},{"$f":"+Ejecución!AH69+Ejecución!AK69+Ejecución!AN69","v":0},0]
[null,null,5,{"$f":"+IFERROR(+IF(Inputs!D71=\"\",\"\",Inputs!D71),0)","v":"Gasolina (ejemplo)"},0,{"$f":"+Proyección!F70+Proyección!G70+Proyección!H70","v":0},{"$f":"+Ejecución!G70+Ejecución!J70+Ejecución!M70","v":0},0,{"$f":"+Proyección!I70+Proyección!J70+Proyección!K70","v":0},{"$f":"+Ejecución!P70+Ejecución!S70+Ejecución!V70","v":0},0,{"$f":"+Proyección!L70+Proyección!M70+Proyección!N70","v":0},{"$f":"+Ejecución!Y70+Ejecución!AB70+Ejecución!AE70","v":0},0,{"$f":"+Proyección!O70+Proyección!P70+Proyección!Q70","v":0},{"$f":"+Ejecución!AH70+Ejecución!AK70+Ejecución!AN70","v":0},0]
[null,null,6,{"$f":"+IFERROR(+IF(Inputs!D72=\"\",\"\",Inputs!D72),0)","v":""},0,{"$f":"+Proyección!F71+Proyección!G71+Proyección!H71","v":0},{"$f":"+Ejecución!G71+Ejecución!J71+Ejecución!M71","v":0},0,{"$f":"+Proyección!I71+Proyección!J71+Proyección!K71","v":0},{"$f":"+Ejecución!P71+Ejecución!S71+Ejecución!V71","v":0},0,{"$f":"+Proyección!L71+Proyección!M71+Proyección!N71","v":0},{"$f":"+Ejecución!Y71+Ejecución!AB71+Ejecución!AE71","v":0},0,{"$f":"+Proyección!O71+Proyección!P71+Proyección!Q71","v":0},{"$f":"+Ejecución!AH71+Ejecución!AK71+Ejecución!AN71","v":0},0]
[null,null,7,{"$f":"+IFERROR(+IF(Inputs!D73=\"\",\"\",Inputs!D73),0)","v":""},0,{"$f":"+Proyección!F72+Proyección!G72+Proyección!H72","v":0},{"$f":"+Ejecución!G72+Ejecución!J72+Ejecución!M72","v":0},0,{"$f":"+Proyección!I72+Proyección!J72+Proyección!K72","v":0},{"$f":"+Ejecución!P72+Ejecución!S72+Ejecución!V72","v":0},0,{"$f":"+Proyección!L72+Proyección!M72+Proyección!N72","v":0},{"$f":"+Ejecución!Y72+Ejecución!AB72+Ejecución!AE72","v":0},0,{"$f":"+Proyección!O72+Proyección!P72+Proyección!Q72","v":0},{"$f":"+Ejecución!AH72+Ejecución!AK72+Ejecución!AN72","v":0},0]
[null,null,8,{"$f":"+IFERROR(+IF(Inputs!D87=\"\",\"\",Inputs!D87),0)","v":"Suscripción Netflix (ejemplo)"},0,{"$f":"+Proyección!F73+Proyección!G73+Proyección!H73","v":0},{"$f":"+Ejecución!G73+Ejecución!J73+Ejecución!M73","v":0},0,{"$f":"+Proyección!I73+Proyección!J73+Proyección!K73","v":0},{"$f":"+Ejecución!P73+Ejecución!S73+Ejecución!V73","v":0},0,{"$f":"+Proyección!L73+Proyección!M73+Proyección!N73","v":0},{"$f":"+Ejecución!Y73+Ejecución!AB73+Ejecución!AE73","v":0},0,{"$f":"+Proyección!O73+Proyección!P73+Proyección!Q73","v":0},{"$f":"+Ejecución!AH73+Ejecución!AK73+Ejecución!AN73","v":0},0]
[null,null,9,{"$f":"+IFERROR(+IF(Inputs!D57=\"\",\"\",Inputs!D57),0)","v":""},0,{"$f":"+Proyección!F74+Proyección!G74+Proyección!H74","v":0},{"$f":"+Ejecución!G74+Ejecución!J74+Ejecución!M74","v":0},0,{"$f":"+Proyección!I74+Proyección!J74+Proyección!K74","v":0},{"$f":"+Ejecución!P74+Ejecución!S74+Ejecución!V74","v":0},0,{"$f":"+Proyección!L74+Proyección!M74+Proyección!N74","v":0},{"$f":"+Ejecución!Y74+Ejecución!AB74+Ejecución!AE74","v":0},0,{"$f":"+Proyección!O74+Proyección!P74+Proyección!Q74","v":0},{"$f":"+Ejecución!AH74+Ejecución!AK74+Ejecución!AN74","v":0},0]
[null,null,10,{"$f":"+IFERROR(+IF(Inputs!D58=\"\",\"\",Inputs!D58),0)","v":""},0,{"$f":"+Proyección!F75+Proyección!G75+Proyección!H75","v":0},{"$f":"+Ejecución!G75+Ejecución!J75+Ejecución!M75","v":0},0,{"$f":"+Proyección!I75+Proyección!J75+Proyección!K75","v":0},{"$f":"+Ejecución!P75+Ejecución!S75+Ejecución!V75","v":0},0,{"$f":"+Proyección!L75+Proyección!M75+Proyección!N75","v":0},{"$f":"+Ejecución!Y75+Ejecución!AB75+Ejecución!AE75","v":0},0,{"$f":"+Proyección!O75+Proyección!P75+Proyección!Q75","v":0},{"$f":"+Ejecución!AH75+Ejecución!AK75+Ejecución!AN75","v":0},0]
[null,null,11,{"$f":"+IFERROR(+IF(Inputs!D59=\"\",\"\",Inputs!D59),0)","v":""},0,{"$f":"+Proyección!F76+Proyección!G76+Proyección!H76","v":0},{"$f":"+Ejecución!G76+Ejecución!J76+Ejecución!M76","v":0},0,{"$f":"+Proyección!I76+Proyección!J76+Proyección!K76","v":0},{"$f":"+Ejecución!P76+Ejecución!S76+Ejecución!V76","v":0},0,{"$f":"+Proyección!L76+Proyección!M76+Proyección!N76","v":0},{"$f":"+Ejecución!Y76+Ejecución!AB76+Ejecución!AE76","v":0},0,{"$f":"+Proyección!O76+Proyección!P76+Proyección!Q76","v":0},{"$f":"+Ejecución!AH76+Ejecución!AK76+Ejecución!AN76","v":0},0]
[null,null,12,{"$f":"+IFERROR(+IF(Inputs!D60=\"\",\"\",Inputs!D60),0)","v":""},{"$f":"+IFERROR((G77+J77+M77+P77)/($G$24+$J$24+$M$24+$P$24),0)","v":0},{"$f":"+Proyección!F77+Proyección!G77+Proyección!H77","v":0},{"$f":"+Ejecución!G77+Ejecución!J77+Ejecución!M77","v":0},0,{"$f":"+Proyección!I77+Proyección!J77+Proyección!K77","v":0},{"$f":"+Ejecución!P77+Ejecución!S77+Ejecución!V77","v":0},0,{"$f":"+Proyección!L77+Proyección!M77+Proyección!N77","v":0},{"$f":"+Ejecución!Y77+Ejecución!AB77+Ejecución!AE77","v":0},0,{"$f":"+Proyección!O77+Proyección!P77+Proyección!Q77","v":0},{"$f":"+Ejecución!AH77+Ejecución!AK77+Ejecución!AN77","v":0},0]
[null,null,13,{"$f":"+IFERROR(+IF(Inputs!D61=\"\",\"\",Inputs!D61),0)","v":""},0,{"$f":"+Proyección!F78+Proyección!G78+Proyección!H78","v":0},{"$f":"+Ejecución!G78+Ejecución!J78+Ejecución!M78","v":0},0,{"$f":"+Proyección!I78+Proyección!J78+Proyección!K78","v":0},{"$f":"+Ejecución!P78+Ejecución!S78+Ejecución!V78","v":0},0,{"$f":"+Proyección!L78+Proyección!M78+Proyección!N78","v":0},{"$f":"+Ejecución!Y78+Ejecución!AB78+Ejecución!AE78","v":0},0,{"$f":"+Proyección!O78+Proyección!P78+Proyección!Q78","v":0},{"$f":"+Ejecución!AH78+Ejecución!AK78+Ejecución!AN78","v":0},0]
[null,null,14,{"$f":"+IFERROR(+IF(Inputs!D62=\"\",\"\",Inputs!D62),0)","v":""},0,{"$f":"+Proyección!F79+Proyección!G79+Proyección!H79","v":0},{"$f":"+Ejecución!G79+Ejecución!J79+Ejecución!M79","v":0},0,{"$f":"+Proyección!I79+Proyección!J79+Proyección!K79","v":0},{"$f":"+Ejecución!P79+Ejecución!S79+Ejecución!V79","v":0},0,{"$f":"+Proyección!L79+Proyección!M79+Proyección!N79","v":0},{"$f":"+Ejecución!Y79+Ejecución!AB79+Ejecución!AE79","v":0},0,{"$f":"+Proyección!O79+Proyección!P79+Proyección!Q79","v":0},{"$f":"+Ejecución!AH79+Ejecución!AK79+Ejecución!AN79","v":0},0]
[null,null,15,{"$f":"+IFERROR(+IF(Inputs!D63=\"\",\"\",Inputs!D63),0)","v":""},0,{"$f":"+Proyección!F80+Proyección!G80+Proyección!H80","v":0},{"$f":"+Ejecución!G80+Ejecución!J80+Ejecución!M80","v":0},0,{"$f":"+Proyección!I80+Proyección!J80+Proyección!K80","v":0},{"$f":"+Ejecución!P80+Ejecución!S80+Ejecución!V80","v":0},0,{"$f":"+Proyección!L80+Proyección!M80+Proyección!N80","v":0},{"$f":"+Ejecución!Y80+Ejecución!AB80+Ejecución!AE80","v":0},0,{"$f":"+Proyección!O80+Proyección!P80+Proyección!Q80","v":0},{"$f":"+Ejecución!AH80+Ejecución!AK80+Ejecución!AN80","v":0},0]
[null,null,16,{"$f":"+IFERROR(+IF(Inputs!I49=\"\",\"\",Inputs!I49),0)","v":"Matrícula universidad (ejemplo)"},0,{"$f":"+Proyección!F81+Proyección!G81+Proyección!H81","v":0},{"$f":"+Ejecución!G81+Ejecución!J81+Ejecución!M81","v":0},0,{"$f":"+Proyección!I81+Proyección!J81+Proyección!K81","v":0},{"$f":"+Ejecución!P81+Ejecución!S81+Ejecución!V81","v":0},0,{"$f":"+Proyección!L81+Proyección!M81+Proyección!N81","v":0},{"$f":"+Ejecución!Y81+Ejecución!AB81+Ejecución!AE81","v":0},0,{"$f":"+Proyección!O81+Proyección!P81+Proyección!Q81","v":0},{"$f":"+Ejecución!AH81+Ejecución!AK81+Ejecución!AN81","v":0},0]
[null,null,17,{"$f":"+IFERROR(+IF(Inputs!I50=\"\",\"\",Inputs!I50),0)","v":""},0,{"$f":"+Proyección!F82+Proyección!G82+Proyección!H82","v":0},{"$f":"+Ejecución!G82+Ejecución!J82+Ejecución!M82","v":0},0,{"$f":"+Proyección!I82+Proyección!J82+Proyección!K82","v":0},{"$f":"+Ejecución!P82+Ejecución!S82+Ejecución!V82","v":0},0,{"$f":"+Proyección!L82+Proyección!M82+Proyección!N82","v":0},{"$f":"+Ejecución!Y82+Ejecución!AB82+Ejecución!AE82","v":0},0,{"$f":"+Proyección!O82+Proyección!P82+Proyección!Q82","v":0},{"$f":"+Ejecución!AH82+Ejecución!AK82+Ejecución!AN82","v":0},0]
[null,null,18,{"$f":"+IFERROR(+IF(Inputs!I51=\"\",\"\",Inputs!I51),0)","v":""},0,{"$f":"+Proyección!F83+Proyección!G83+Proyección!H83","v":0},{"$f":"+Ejecución!G83+Ejecución!J83+Ejecución!M83","v":0},0,{"$f":"+Proyección!I83+Proyección!J83+Proyección!K83","v":0},{"$f":"+Ejecución!P83+Ejecución!S83+Ejecución!V83","v":0},0,{"$f":"+Proyección!L83+Proyección!M83+Proyección!N83","v":0},{"$f":"+Ejecución!Y83+Ejecución!AB83+Ejecución!AE83","v":0},0,{"$f":"+Proyección!O83+Proyección!P83+Proyección!Q83","v":0},{"$f":"+Ejecución!AH83+Ejecución!AK83+Ejecución!AN83","v":0},0]
[null,null,19,{"$f":"+IFERROR(+IF(Inputs!I52=\"\",\"\",Inputs!I52),0)","v":""},0,{"$f":"+Proyección!F84+Proyección!G84+Proyección!H84","v":0},{"$f":"+Ejecución!G84+Ejecución!J84+Ejecución!M84","v":0},0,{"$f":"+Proyección!I84+Proyección!J84+Proyección!K84","v":0},{"$f":"+Ejecución!P84+Ejecución!S84+Ejecución!V84","v":0},0,{"$f":"+Proyección!L84+Proyección!M84+Proyección!N84","v":0},{"$f":"+Ejecución!Y84+Ejecución!AB84+Ejecución!AE84","v":0},0,{"$f":"+Proyección!O84+Proyección!P84+Proyección!Q84","v":0},{"$f":"+Ejecución!AH84+Ejecución!AK84+Ejecución!AN84","v":0},0]
[null,null,20,{"$f":"+IFERROR(+IF(Inputs!I53=\"\",\"\",Inputs!I53),0)","v":""},0,{"$f":"+Proyección!F85+Proyección!G85+Proyección!H85","v":0},{"$f":"+Ejecución!G85+Ejecución!J85+Ejecución!M85","v":0},0,{"$f":"+Proyección!I85+Proyección!J85+Proyección!K85","v":0},{"$f":"+Ejecución!P85+Ejecución!S85+Ejecución!V85","v":0},0,{"$f":"+Proyección!L85+Proyección!M85+Proyección!N85","v":0},{"$f":"+Ejecución!Y85+Ejecución!AB85+Ejecución!AE85","v":0},0,{"$f":"+Proyección!O85+Proyección!P85+Proyección!Q85","v":0},{"$f":"+Ejecución!AH85+Ejecución!AK85+Ejecución!AN85","v":0},0]
[null,null,21,{"$f":"+IFERROR(+IF(Inputs!I54=\"\",\"\",Inputs!I54),0)","v":""},0,{"$f":"+Proyección!F86+Proyección!G86+Proyección!H86","v":0},{"$f":"+Ejecución!G86+Ejecución!J86+Ejecución!M86","v":0},0,{"$f":"+Proyección!I86+Proyección!J86+Proyección!K86","v":0},{"$f":"+Ejecución!P86+Ejecución!S86+Ejecución!V86","v":0},0,{"$f":"+Proyección!L86+Proyección!M86+Proyección!N86","v":0},{"$f":"+Ejecución!Y86+Ejecución!AB86+Ejecución!AE86","v":0},0,{"$f":"+Proyección!O86+Proyección!P86+Proyección!Q86","v":0},{"$f":"+Ejecución!AH86+Ejecución!AK86+Ejecución!AN86","v":0},0]
[null,null,22,{"$f":"+IFERROR(+IF(Inputs!I55=\"\",\"\",Inputs!I55),0)","v":""},0,{"$f":"+Proyección!F87+Proyección!G87+Proyección!H87","v":0},{"$f":"+Ejecución!G87+Ejecución!J87+Ejecución!M87","v":0},0,{"$f":"+Proyección!I87+Proyección!J87+Proyección!K87","v":0},{"$f":"+Ejecución!P87+Ejecución!S87+Ejecución!V87","v":0},0,{"$f":"+Proyección!L87+Proyección!M87+Proyección!N87","v":0},{"$f":"+Ejecución!Y87+Ejecución!AB87+Ejecución!AE87","v":0},0,{"$f":"+Proyección!O87+Proyección!P87+Proyección!Q87","v":0},{"$f":"+Ejecución!AH87+Ejecución!AK87+Ejecución!AN87","v":0},0]
[null,null,23,{"$f":"+IFERROR(+IF(Inputs!I56=\"\",\"\",Inputs!I56),0)","v":""},0,{"$f":"+Proyección!F88+Proyección!G88+Proyección!H88","v":0},{"$f":"+Ejecución!G88+Ejecución!J88+Ejecución!M88","v":0},0,{"$f":"+Proyección!I88+Proyección!J88+Proyección!K88","v":0},{"$f":"+Ejecución!P88+Ejecución!S88+Ejecución!V88","v":0},0,{"$f":"+Proyección!L88+Proyección!M88+Proyección!N88","v":0},{"$f":"+Ejecución!Y88+Ejecución!AB88+Ejecución!AE88","v":0},0,{"$f":"+Proyección!O88+Proyección!P88+Proyección!Q88","v":0},{"$f":"+Ejecución!AH88+Ejecución!AK88+Ejecución!AN88","v":0},0]
[null,null,24,{"$f":"+IFERROR(+IF(Inputs!I57=\"\",\"\",Inputs!I57),0)","v":""},0,{"$f":"+Proyección!F89+Proyección!G89+Proyección!H89","v":0},{"$f":"+Ejecución!G89+Ejecución!J89+Ejecución!M89","v":0},0,{"$f":"+Proyección!I89+Proyección!J89+Proyección!K89","v":0},{"$f":"+Ejecución!P89+Ejecución!S89+Ejecución!V89","v":0},0,{"$f":"+Proyección!L89+Proyección!M89+Proyección!N89","v":0},{"$f":"+Ejecución!Y89+Ejecución!AB89+Ejecución!AE89","v":0},0,{"$f":"+Proyección!O89+Proyección!P89+Proyección!Q89","v":0},{"$f":"+Ejecución!AH89+Ejecución!AK89+Ejecución!AN89","v":0},0]
[null,null,25,{"$f":"+IFERROR(+IF(Inputs!I58=\"\",\"\",Inputs!I58),0)","v":""},0,{"$f":"+Proyección!F90+Proyección!G90+Proyección!H90","v":0},{"$f":"+Ejecución!G90+Ejecución!J90+Ejecución!M90","v":0},0,{"$f":"+Proyección!I90+Proyección!J90+Proyección!K90","v":0},{"$f":"+Ejecución!P90+Ejecución!S90+Ejecución!V90","v":0},0,{"$f":"+Proyección!L90+Proyección!M90+Proyección!N90","v":0},{"$f":"+Ejecución!Y90+Ejecución!AB90+Ejecución!AE90","v":0},0,{"$f":"+Proyección!O90+Proyección!P90+Proyección!Q90","v":0},{"$f":"+Ejecución!AH90+Ejecución!AK90+Ejecución!AN90","v":0},0]
[null,null,26,{"$f":"+IFERROR(+IF(Inputs!I59=\"\",\"\",Inputs!I59),0)","v":""},0,{"$f":"+Proyección!F91+Proyección!G91+Proyección!H91","v":0},{"$f":"+Ejecución!G91+Ejecución!J91+Ejecución!M91","v":0},0,{"$f":"+Proyección!I91+Proyección!J91+Proyección!K91","v":0},{"$f":"+Ejecución!P91+Ejecución!S91+Ejecución!V91","v":0},0,{"$f":"+Proyección!L91+Proyección!M91+Proyección!N91","v":0},{"$f":"+Ejecución!Y91+Ejecución!AB91+Ejecución!AE91","v":0},0,{"$f":"+Proyección!O91+Proyección!P91+Proyección!Q91","v":0},{"$f":"+Ejecución!AH91+Ejecución!AK91+Ejecución!AN91","v":0},0]
[null,null,27,{"$f":"+IFERROR(+IF(Inputs!I60=\"\",\"\",Inputs!I60),0)","v":""},0,{"$f":"+Proyección!F92+Proyección!G92+Proyección!H92","v":0},{"$f":"+Ejecución!G92+Ejecución!J92+Ejecución!M92","v":0},0,{"$f":"+Proyección!I92+Proyección!J92+Proyección!K92","v":0},{"$f":"+Ejecución!P92+Ejecución!S92+Ejecución!V92","v":0},0,{"$f":"+Proyección!L92+Proyección!M92+Proyección!N92","v":0},{"$f":"+Ejecución!Y92+Ejecución!AB92+Ejecución!AE92","v":0},0,{"$f":"+Proyección!O92+Proyección!P92+Proyección!Q92","v":0},{"$f":"+Ejecución!AH92+Ejecución!AK92+Ejecución!AN92","v":0},0]
[null,null,28,{"$f":"+IFERROR(+IF(Inputs!I61=\"\",\"\",Inputs!I61),0)","v":""},0,{"$f":"+Proyección!F93+Proyección!G93+Proyección!H93","v":0},{"$f":"+Ejecución!G93+Ejecución!J93+Ejecución!M93","v":0},0,{"$f":"+Proyección!I93+Proyección!J93+Proyección!K93","v":0},{"$f":"+Ejecución!P93+Ejecución!S93+Ejecución!V93","v":0},0,{"$f":"+Proyección!L93+Proyección!M93+Proyección!N93","v":0},{"$f":"+Ejecución!Y93+Ejecución!AB93+Ejecución!AE93","v":0},0,{"$f":"+Proyección!O93+Proyección!P93+Proyección!Q93","v":0},{"$f":"+Ejecución!AH93+Ejecución!AK93+Ejecución!AN93","v":0},0]
[null,null,29,{"$f":"+IFERROR(+IF(Inputs!I62=\"\",\"\",Inputs!I62),0)","v":""},0,{"$f":"+Proyección!F94+Proyección!G94+Proyección!H94","v":0},{"$f":"+Ejecución!G94+Ejecución!J94+Ejecución!M94","v":0},0,{"$f":"+Proyección!I94+Proyección!J94+Proyección!K94","v":0},{"$f":"+Ejecución!P94+Ejecución!S94+Ejecución!V94","v":0},0,{"$f":"+Proyección!L94+Proyección!M94+Proyección!N94","v":0},{"$f":"+Ejecución!Y94+Ejecución!AB94+Ejecución!AE94","v":0},0,{"$f":"+Proyección!O94+Proyección!P94+Proyección!Q94","v":0},{"$f":"+Ejecución!AH94+Ejecución!AK94+Ejecución!AN94","v":0},0]
[null,null,30,{"$f":"+IFERROR(+IF(Inputs!I63=\"\",\"\",Inputs!I63),0)","v":""},0,{"$f":"+Proyección!F95+Proyección!G95+Proyección!H95","v":0},{"$f":"+Ejecución!G95+Ejecución!J95+Ejecución!M95","v":0},0,{"$f":"+Proyección!I95+Proyección!J95+Proyección!K95","v":0},{"$f":"+Ejecución!P95+Ejecución!S95+Ejecución!V95","v":0},0,{"$f":"+Proyección!L95+Proyección!M95+Proyección!N95","v":0},{"$f":"+Ejecución!Y95+Ejecución!AB95+Ejecución!AE95","v":0},0,{"$f":"+Proyección!O95+Proyección!P95+Proyección!Q95","v":0},{"$f":"+Ejecución!AH95+Ejecución!AK95+Ejecución!AN95","v":0},0]
[null,null,"Resumen","GASTOS OBLIGATORIOS",0,{"$f":"+SUM(F66:F95)","v":0},{"$f":"+SUM(G66:G95)","v":0},0,{"$f":"+SUM(I66:I95)","v":0},{"$f":"+SUM(J66:J95)","v":0},0,{"$f":"+SUM(L66:L95)","v":0},{"$f":"+SUM(M66:M95)","v":0},0,{"$f":"+SUM(O66:O95)","v":0},{"$f":"+SUM(P66:P95)","v":0},0]
[null,null,null,0]
[null,null,null,1]
[null,null,1,{"$f":"+IFERROR(+IF(Inputs!#REF!=\"\",\"\",Inputs!#REF!),0)","v":0},0,{"$f":"+Proyección!F99+Proyección!G99+Proyección!H99","v":0},{"$f":"+Ejecución!G99+Ejecución!J99+Ejecución!M99","v":0},{"$f":"+IFERROR(+(F99-G99),0)","v":0},{"$f":"+Proyección!I99+Proyección!J99+Proyección!K99","v":0},{"$f":"+Ejecución!P99+Ejecución!S99+Ejecución!V99","v":0},{"$f":"+IFERROR(+(I99-J99),0)","v":0},{"$f":"+Proyección!L99+Proyección!M99+Proyección!N99","v":0},{"$f":"+Ejecución!Y99+Ejecución!AB99+Ejecución!AE99","v":0},{"$f":"+IFERROR(+(L99-M99),0)","v":0},{"$f":"+Proyección!O99+Proyección!P99+Proyección!Q99","v":0},{"$f":"+Ejecución!AH99+Ejecución!AK99+Ejecución!AN99","v":0},{"$f":"+IFERROR(+(O99-P99),0)","v":0}]
[null,null,2,{"$f":"+IFERROR(+IF(Inputs!#REF!=\"\",\"\",Inputs!#REF!),0)","v":0},0,{"$f":"+Proyección!F100+Proyección!G100+Proyección!H100","v":0},{"$f":"+Ejecución!G100+Ejecución!J100+Ejecución!M100","v":0},0,{"$f":"+Proyección!I100+Proyección!J100+Proyección!K100","v":0},{"$f":"+Ejecución!P100+Ejecución!S100+Ejecución!V100","v":0},0,{"$f":"+Proyección!L100+Proyección!M100+Proyección!N100","v":0},{"$f":"+Ejecución!Y100+Ejecución!AB100+Ejecución!AE100","v":0},0,{"$f":"+Proyección!O100+Proyección!P100+Proyección!Q100","v":0},{"$f":"+Ejecución!AH100+Ejecución!AK100+Ejecución!AN100","v":0},0]
[null,null,3,{"$f":"+IFERROR(+IF(Inputs!#REF!=\"\",\"\",Inputs!#REF!),0)","v":0},0,{"$f":"+Proyección!F101+Proyección!G101+Proyección!H101","v":0},{"$f":"+Ejecución!G101+Ejecución!J101+Ejecución!M101","v":0},0,{"$f":"+Proyección!I101+Proyección!J101+Proyección!K101","v":0},{"$f":"+Ejecución!P101+Ejecución!S101+Ejecución!V101","v":0},0,{"$f":"+Proyección!L101+Proyección!M101+Proyección!N101","v":0},{"$f":"+Ejecución!Y101+Ejecución!AB101+Ejecución!AE101","v":0},0,{"$f":"+Proyección!O101+Proyección!P101+Proyección!Q101","v":0},{"$f":"+Ejecución!AH101+Ejecución!AK101+Ejecución!AN101","v":0},0]
[null,null,4,{"$f":"+IFERROR(+IF(Inputs!#REF!=\"\",\"\",Inputs!#REF!),0)","v":0},0,{"$f":"+Proyección!F102+Proyección!G102+Proyección!H102","v":0},{"$f":"+Ejecución!G102+Ejecución!J102+Ejecución!M102","v":0},0,{"$f":"+Proyección!I102+Proyección!J102+Proyección!K102","v":0},{"$f":"+Ejecución!P102+Ejecución!S102+Ejecución!V102","v":0},0,{"$f":"+Proyección!L102+Proyección!M102+Proyección!N102","v":0},{"$f":"+Ejecución!Y102+Ejecución!AB102+Ejecución!AE102","v":0},0,{"$f":"+Proyección!O102+Proyección!P102+Proyección!Q102","v":0},{"$f":"+Ejecución!AH102+Ejecución!AK102+Ejecución!AN102","v":0},0]
[null,null,5,{"$f":"+IFERROR(+IF(Inputs!#REF!=\"\",\"\",Inputs!#REF!),0)","v":0},0,{"$f":"+Proyección!F103+Proyección!G103+Proyección!H103","v":0},{"$f":"+Ejecución!G103+Ejecución!J103+Ejecución!M103","v":0},0,{"$f":"+Proyección!I103+Proyección!J103+Proyección!K103","v":0},{"$f":"+Ejecución!P103+Ejecución!S103+Ejecución!V103","v":0},0,{"$f":"+Proyección!L103+Proyección!M103+Proyección!N103","v":0},{"$f":"+Ejecución!Y103+Ejecución!AB103+Ejecución!AE103","v":0},0,{"$f":"+Proyección!O103+Proyección!P103+Proyección!Q103","v":0},{"$f":"+Ejecución!AH103+Ejecución!AK103+Ejecución!AN103","v":0},0]
[null,null,6,{"$f":"+IFERROR(+IF(Inputs!#REF!=\"\",\"\",Inputs!#REF!),0)","v":0},0,{"$f":"+Proyección!F104+Proyección!G104+Proyección!H104","v":0},{"$f":"+Ejecución!G104+Ejecución!J104+Ejecución!M104","v":0},0,{"$f":"+Proyección!I104+Proyección!J104+Proyección!K104","v":0},{"$f":"+Ejecución!P104+Ejecución!S104+Ejecución!V104","v":0},0,{"$f":"+Proyección!L104+Proyección!M104+Proyección!N104","v":0},{"$f":"+Ejecución!Y104+Ejecución!AB104+Ejecución!AE104","v":0},0,{"$f":"+Proyección!O104+Proyección!P104+Proyección!Q104","v":0},{"$f":"+Ejecución!AH104+Ejecución!AK104+Ejecución!AN104","v":0},0]
[null,null,7,{"$f":"+IFERROR(+IF(Inputs!D74=\"\",\"\",Inputs!D74),0)","v":""},0,{"$f":"+Proyección!F105+Proyección!G105+Proyección!H105","v":0},{"$f":"+Ejecución!G105+Ejecución!J105+Ejecución!M105","v":0},0,{"$f":"+Proyección!I105+Proyección!J105+Proyección!K105","v":0},{"$f":"+Ejecución!P105+Ejecución!S105+Ejecución!V105","v":0},0,{"$f":"+Proyección!L105+Proyección!M105+Proyección!N105","v":0},{"$f":"+Ejecución!Y105+Ejecución!AB105+Ejecución!AE105","v":0},0,{"$f":"+Proyección!O105+Proyección!P105+Proyección!Q105","v":0},{"$f":"+Ejecución!AH105+Ejecución!AK105+Ejecución!AN105","v":0},0]
[null,null,8,{"$f":"+IFERROR(+IF(Inputs!D75=\"\",\"\",Inputs!D75),0)","v":""},0,{"$f":"+Proyección!F106+Proyección!G106+Proyección!H106","v":0},{"$f":"+Ejecución!G106+Ejecución!J106+Ejecución!M106","v":0},0,{"$f":"+Proyección!I106+Proyección!J106+Proyección!K106","v":0},{"$f":"+Ejecución!P106+Ejecución!S106+Ejecución!V106","v":0},0,{"$f":"+Proyección!L106+Proyección!M106+Proyección!N106","v":0},{"$f":"+Ejecución!Y106+Ejecución!AB106+Ejecución!AE106","v":0},0,{"$f":"+Proyección!O106+Proyección!P106+Proyección!Q106","v":0},{"$f":"+Ejecución!AH106+Ejecución!AK106+Ejecución!AN106","v":0},0]
[null,null,9,{"$f":"+IFERROR(+IF(Inputs!D76=\"\",\"\",Inputs!D76),0)","v":""},0,{"$f":"+Proyección!F107+Proyección!G107+Proyección!H107","v":0},{"$f":"+Ejecución!G107+Ejecución!J107+Ejecución!M107","v":0},0,{"$f":"+Proyección!I107+Proyección!J107+Proyección!K107","v":0},{"$f":"+Ejecución!P107+Ejecución!S107+Ejecución!V107","v":0},0,{"$f":"+Proyección!L107+Proyección!M107+Proyección!N107","v":0},{"$f":"+Ejecución!Y107+Ejecución!AB107+Ejecución!AE107","v":0},0,{"$f":"+Proyección!O107+Proyección!P107+Proyección!Q107","v":0},{"$f":"+Ejecución!AH107+Ejecución!AK107+Ejecución!AN107","v":0},0]
[null,null,10,{"$f":"+IFERROR(+IF(Inputs!D77=\"\",\"\",Inputs!D77),0)","v":""},0,{"$f":"+Proyección!F108+Proyección!G108+Proyección!H108","v":0},{"$f":"+Ejecución!G108+Ejecución!J108+Ejecución!M108","v":0},0,{"$f":"+Proyección!I108+Proyección!J108+Proyección!K108","v":0},{"$f":"+Ejecución!P108+Ejecución!S108+Ejecución!V108","v":0},0,{"$f":"+Proyección!L108+Proyección!M108+Proyección!N108","v":0},{"$f":"+Ejecución!Y108+Ejecución!AB108+Ejecución!AE108","v":0},0,{"$f":"+Proyección!O108+Proyección!P108+Proyección!Q108","v":0},{"$f":"+Ejecución!AH108+Ejecución!AK108+Ejecución!AN108","v":0},0]
[null,null,11,{"$f":"+IFERROR(+IF(Inputs!D78=\"\",\"\",Inputs!D78),0)","v":""},0,{"$f":"+Proyección!F109+Proyección!G109+Proyección!H109","v":0},{"$f":"+Ejecución!G109+Ejecución!J109+Ejecución!M109","v":0},0,{"$f":"+Proyección!I109+Proyección!J109+Proyección!K109","v":0},{"$f":"+Ejecución!P109+Ejecución!S109+Ejecución!V109","v":0},0,{"$f":"+Proyección!L109+Proyección!M109+Proyección!N109","v":0},{"$f":"+Ejecución!Y109+Ejecución!AB109+Ejecución!AE109","v":0},0,{"$f":"+Proyección!O109+Proyección!P109+Proyección!Q109","v":0},{"$f":"+Ejecución!AH109+Ejecución!AK109+Ejecución!AN109","v":0},0]
[null,null,12,{"$f":"+IFERROR(+IF(Inputs!D79=\"\",\"\",Inputs!D79),0)","v":""},0,{"$f":"+Proyección!F110+Proyección!G110+Proyección!H110","v":0},{"$f":"+Ejecución!G110+Ejecución!J110+Ejecución!M110","v":0},0,{"$f":"+Proyección!I110+Proyección!J110+Proyección!K110","v":0},{"$f":"+Ejecución!P110+Ejecución!S110+Ejecución!V110","v":0},0,{"$f":"+Proyección!L110+Proyección!M110+Proyección!N110","v":0},{"$f":"+Ejecución!Y110+Ejecución!AB110+Ejecución!AE110","v":0},0,{"$f":"+Proyección!O110+Proyección!P110+Proyección!Q110","v":0},{"$f":"+Ejecución!AH110+Ejecución!AK110+Ejecución!AN110","v":0},0]
[null,null,13,{"$f":"+IFERROR(+IF(Inputs!D80=\"\",\"\",Inputs!D80),0)","v":""},0,{"$f":"+Proyección!F111+Proyección!G111+Proyección!H111","v":0},{"$f":"+Ejecución!G111+Ejecución!J111+Ejecución!M111","v":0},0,{"$f":"+Proyección!I111+Proyección!J111+Proyección!K111","v":0},{"$f":"+Ejecución!P111+Ejecución!S111+Ejecución!V111","v":0},0,{"$f":"+Proyección!L111+Proyección!M111+Proyección!N111","v":0},{"$f":"+Ejecución!Y111+Ejecución!AB111+Ejecución!AE111","v":0},0,{"$f":"+Proyección!O111+Proyección!P111+Proyección!Q111","v":0},{"$f":"+Ejecución!AH111+Ejecución!AK111+Ejecución!AN111","v":0},0]
[null,null,14,{"$f":"+IFERROR(+IF(Inputs!D81=\"\",\"\",Inputs!D81),0)","v":""},0,{"$f":"+Proyección!F112+Proyección!G112+Proyección!H112","v":0},{"$f":"+Ejecución!G112+Ejecución!J112+Ejecución!M112","v":0},0,{"$f":"+Proyección!I112+Proyección!J112+Proyección!K112","v":0},{"$f":"+Ejecución!P112+Ejecución!S112+Ejecución!V112","v":0},0,{"$f":"+Proyección!L112+Proyección!M112+Proyección!N112","v":0},{"$f":"+Ejecución!Y112+Ejecución!AB112+Ejecución!AE112","v":0},0,{"$f":"+Proyección!O112+Proyección!P112+Proyección!Q112","v":0},{"$f":"+Ejecución!AH112+Ejecución!AK112+Ejecución!AN112","v":0},0]
[null,null,15,{"$f":"+IFERROR(+IF(Inputs!D82=\"\",\"\",Inputs!D82),0)","v":""},0,{"$f":"+Proyección!F113+Proyección!G113+Proyección!H113","v":0},{"$f":"+Ejecución!G113+Ejecución!J113+Ejecución!M113","v":0},0,{"$f":"+Proyección!I113+Proyección!J113+Proyección!K113","v":0},{"$f":"+Ejecución!P113+Ejecución!S113+Ejecución!V113","v":0},0,{"$f":"+Proyección!L113+Proyección!M113+Proyección!N113","v":0},{"$f":"+Ejecución!Y113+Ejecución!AB113+Ejecución!AE113","v":0},0,{"$f":"+Proyección!O113+Proyección!P113+Proyección!Q113","v":0},{"$f":"+Ejecución!AH113+Ejecución!AK113+Ejecución!AN113","v":0},0]
[null,null,16,{"$f":"+IFERROR(+IF(Inputs!I68=\"\",\"\",Inputs!I68),0)","v":"Abono extra Fondo de Emerg. (ejemplo)"},0,{"$f":"+Proyección!F114+Proyección!G114+Proyección!H114","v":0},{"$f":"+Ejecución!G114+Ejecución!J114+Ejecución!M114","v":0},0,{"$f":"+Proyección!I114+Proyección!J114+Proyección!K114","v":0},{"$f":"+Ejecución!P114+Ejecución!S114+Ejecución!V114","v":0},0,{"$f":"+Proyección!L114+Proyección!M114+Proyección!N114","v":0},{"$f":"+Ejecución!Y114+Ejecución!AB114+Ejecución!AE114","v":0},0,{"$f":"+Proyección!O114+Proyección!P114+Proyección!Q114","v":0},{"$f":"+Ejecución!AH114+Ejecución!AK114+Ejecución!AN114","v":0},0]
[null,null,17,{"$f":"+IFERROR(+IF(Inputs!I69=\"\",\"\",Inputs!I69),0)","v":"Seguro del vehículo (ejemplo)"},0,{"$f":"+Proyección!F115+Proyección!G115+Proyección!H115","v":0},{"$f":"+Ejecución!G115+Ejecución!J115+Ejecución!M115","v":0},0,{"$f":"+Proyección!I115+Proyección!J115+Proyección!K115","v":0},{"$f":"+Ejecución!P115+Ejecución!S115+Ejecución!V115","v":0},0,{"$f":"+Proyección!L115+Proyección!M115+Proyección!N115","v":0},{"$f":"+Ejecución!Y115+Ejecución!AB115+Ejecución!AE115","v":0},0,{"$f":"+Proyección!O115+Proyección!P115+Proyección!Q115","v":0},{"$f":"+Ejecución!AH115+Ejecución!AK115+Ejecución!AN115","v":0},0]
[null,null,18,{"$f":"+IFERROR(+IF(Inputs!I70=\"\",\"\",Inputs!I70),0)","v":""},0,{"$f":"+Proyección!F116+Proyección!G116+Proyección!H116","v":0},{"$f":"+Ejecución!G116+Ejecución!J116+Ejecución!M116","v":0},0,{"$f":"+Proyección!I116+Proyección!J116+Proyección!K116","v":0},{"$f":"+Ejecución!P116+Ejecución!S116+Ejecución!V116","v":0},0,{"$f":"+Proyección!L116+Proyección!M116+Proyección!N116","v":0},{"$f":"+Ejecución!Y116+Ejecución!AB116+Ejecución!AE116","v":0},0,{"$f":"+Proyección!O116+Proyección!P116+Proyección!Q116","v":0},{"$f":"+Ejecución!AH116+Ejecución!AK116+Ejecución!AN116","v":0},0]
[null,null,19,{"$f":"+IFERROR(+IF(Inputs!I71=\"\",\"\",Inputs!I71),0)","v":""},0,{"$f":"+Proyección!F117+Proyección!G117+Proyección!H117","v":0},{"$f":"+Ejecución!G117+Ejecución!J117+Ejecución!M117","v":0},0,{"$f":"+Proyección!I117+Proyección!J117+Proyección!K117","v":0},{"$f":"+Ejecución!P117+Ejecución!S117+Ejecución!V117","v":0},0,{"$f":"+Proyección!L117+Proyección!M117+Proyección!N117","v":0},{"$f":"+Ejecución!Y117+Ejecución!AB117+Ejecución!AE117","v":0},0,{"$f":"+Proyección!O117+Proyección!P117+Proyección!Q117","v":0},{"$f":"+Ejecución!AH117+Ejecución!AK117+Ejecución!AN117","v":0},0]
[null,null,20,{"$f":"+IFERROR(+IF(Inputs!I72=\"\",\"\",Inputs!I72),0)","v":""},0,{"$f":"+Proyección!F118+Proyección!G118+Proyección!H118","v":0},{"$f":"+Ejecución!G118+Ejecución!J118+Ejecución!M118","v":0},0,{"$f":"+Proyección!I118+Proyección!J118+Proyección!K118","v":0},{"$f":"+Ejecución!P118+Ejecución!S118+Ejecución!V118","v":0},0,{"$f":"+Proyección!L118+Proyección!M118+Proyección!N118","v":0},{"$f":"+Ejecución!Y118+Ejecución!AB118+Ejecución!AE118","v":0},0,{"$f":"+Proyección!O118+Proyección!P118+Proyección!Q118","v":0},{"$f":"+Ejecución!AH118+Ejecución!AK118+Ejecución!AN118","v":0},0]
[null,null,21,{"$f":"+IFERROR(+IF(Inputs!I73=\"\",\"\",Inputs!I73),0)","v":""},0,{"$f":"+Proyección!F119+Proyección!G119+Proyección!H119","v":0},{"$f":"+Ejecución!G119+Ejecución!J119+Ejecución!M119","v":0},0,{"$f":"+Proyección!I119+Proyección!J119+Proyección!K119","v":0},{"$f":"+Ejecución!P119+Ejecución!S119+Ejecución!V119","v":0},0,{"$f":"+Proyección!L119+Proyección!M119+Proyección!N119","v":0},{"$f":"+Ejecución!Y119+Ejecución!AB119+Ejecución!AE119","v":0},0,{"$f":"+Proyección!O119+Proyección!P119+Proyección!Q119","v":0},{"$f":"+Ejecución!AH119+Ejecución!AK119+Ejecución!AN119","v":0},0]
[null,null,22,{"$f":"+IFERROR(+IF(Inputs!I74=\"\",\"\",Inputs!I74),0)","v":""},0,{"$f":"+Proyección!F120+Proyección!G120+Proyección!H120","v":0},{"$f":"+Ejecución!G120+Ejecución!J120+Ejecución!M120","v":0},0,{"$f":"+Proyección!I120+Proyección!J120+Proyección!K120","v":0},{"$f":"+Ejecución!P120+Ejecución!S120+Ejecución!V120","v":0},0,{"$f":"+Proyección!L120+Proyección!M120+Proyección!N120","v":0},{"$f":"+Ejecución!Y120+Ejecución!AB120+Ejecución!AE120","v":0},0,{"$f":"+Proyección!O120+Proyección!P120+Proyección!Q120","v":0},{"$f":"+Ejecución!AH120+Ejecución!AK120+Ejecución!AN120","v":0},0]
[null,null,23,{"$f":"+IFERROR(+IF(Inputs!I75=\"\",\"\",Inputs!I75),0)","v":""},0,{"$f":"+Proyección!F121+Proyección!G121+Proyección!H121","v":0},{"$f":"+Ejecución!G121+Ejecución!J121+Ejecución!M121","v":0},0,{"$f":"+Proyección!I121+Proyección!J121+Proyección!K121","v":0},{"$f":"+Ejecución!P121+Ejecución!S121+Ejecución!V121","v":0},0,{"$f":"+Proyección!L121+Proyección!M121+Proyección!N121","v":0},{"$f":"+Ejecución!Y121+Ejecución!AB121+Ejecución!AE121","v":0},0,{"$f":"+Proyección!O121+Proyección!P121+Proyección!Q121","v":0},{"$f":"+Ejecución!AH121+Ejecución!AK121+Ejecución!AN121","v":0},0]
[null,null,24,{"$f":"+IFERROR(+IF(Inputs!I76=\"\",\"\",Inputs!I76),0)","v":""},0,{"$f":"+Proyección!F122+Proyección!G122+Proyección!H122","v":0},{"$f":"+Ejecución!G122+Ejecución!J122+Ejecución!M122","v":0},0,{"$f":"+Proyección!I122+Proyección!J122+Proyección!K122","v":0},{"$f":"+Ejecución!P122+Ejecución!S122+Ejecución!V122","v":0},0,{"$f":"+Proyección!L122+Proyección!M122+Proyección!N122","v":0},{"$f":"+Ejecución!Y122+Ejecución!AB122+Ejecución!AE122","v":0},0,{"$f":"+Proyección!O122+Proyección!P122+Proyección!Q122","v":0},{"$f":"+Ejecución!AH122+Ejecución!AK122+Ejecución!AN122","v":0},0]
[null,null,25,{"$f":"+IFERROR(+IF(Inputs!I77=\"\",\"\",Inputs!I77),0)","v":""},0,{"$f":"+Proyección!F123+Proyección!G123+Proyección!H123","v":0},{"$f":"+Ejecución!G123+Ejecución!J123+Ejecución!M123","v":0},0,{"$f":"+Proyección!I123+Proyección!J123+Proyección!K123","v":0},{"$f":"+Ejecución!P123+Ejecución!S123+Ejecución!V123","v":0},0,{"$f":"+Proyección!L123+Proyección!M123+Proyección!N123","v":0},{"$f":"+Ejecución!Y123+Ejecución!AB123+Ejecución!AE123","v":0},0,{"$f":"+Proyección!O123+Proyección!P123+Proyección!Q123","v":0},{"$f":"+Ejecución!AH123+Ejecución!AK123+Ejecución!AN123","v":0},0]
[null,null,26,{"$f":"+IFERROR(+IF(Inputs!I78=\"\",\"\",Inputs!I78),0)","v":""},0,{"$f":"+Proyección!F124+Proyección!G124+Proyección!H124","v":0},{"$f":"+Ejecución!G124+Ejecución!J124+Ejecución!M124","v":0},0,{"$f":"+Proyección!I124+Proyección!J124+Proyección!K124","v":0},{"$f":"+Ejecución!P124+Ejecución!S124+Ejecución!V124","v":0},0,{"$f":"+Proyección!L124+Proyección!M124+Proyección!N124","v":0},{"$f":"+Ejecución!Y124+Ejecución!AB124+Ejecución!AE124","v":0},0,{"$f":"+Proyección!O124+Proyección!P124+Proyección!Q124","v":0},{"$f":"+Ejecución!AH124+Ejecución!AK124+Ejecución!AN124","v":0},0]
[null,null,27,{"$f":"+IFERROR(+IF(Inputs!I79=\"\",\"\",Inputs!I79),0)","v":""},0,{"$f":"+Proyección!F125+Proyección!G125+Proyección!H125","v":0},{"$f":"+Ejecución!G125+Ejecución!J125+Ejecución!M125","v":0},0,{"$f":"+Proyección!I125+Proyección!J125+Proyección!K125","v":0},{"$f":"+Ejecución!P125+Ejecución!S125+Ejecución!V125","v":0},0,{"$f":"+Proyección!L125+Proyección!M125+Proyección!N125","v":0},{"$f":"+Ejecución!Y125+Ejecución!AB125+Ejecución!AE125","v":0},0,{"$f":"+Proyección!O125+Proyección!P125+Proyección!Q125","v":0},{"$f":"+Ejecución!AH125+Ejecución!AK125+Ejecución!AN125","v":0},0]
[null,null,28,{"$f":"+IFERROR(+IF(Inputs!I80=\"\",\"\",Inputs!I80),0)","v":""},0,{"$f":"+Proyección!F126+Proyección!G126+Proyección!H126","v":0},{"$f":"+Ejecución!G126+Ejecución!J126+Ejecución!M126","v":0},0,{"$f":"+Proyección!I126+Proyección!J126+Proyección!K126","v":0},{"$f":"+Ejecución!P126+Ejecución!S126+Ejecución!V126","v":0},0,{"$f":"+Proyección!L126+Proyección!M126+Proyección!N126","v":0},{"$f":"+Ejecución!Y126+Ejecución!AB126+Ejecución!AE126","v":0},0,{"$f":"+Proyección!O126+Proyección!P126+Proyección!Q126","v":0},{"$f":"+Ejecución!AH126+Ejecución!AK126+Ejecución!AN126","v":0},0]
[null,null,29,{"$f":"+IFERROR(+IF(Inputs!I81=\"\",\"\",Inputs!I81),0)","v":""},0,{"$f":"+Proyección!F127+Proyección!G127+Proyección!H127","v":0},{"$f":"+Ejecución!G127+Ejecución!J127+Ejecución!M127","v":0},0,{"$f":"+Proyección!I127+Proyección!J127+Proyección!K127","v":0},{"$f":"+Ejecución!P127+Ejecución!S127+Ejecución!V127","v":0},0,{"$f":"+Proyección!L127+Proyección!M127+Proyección!N127","v":0},{"$f":"+Ejecución!Y127+Ejecución!AB127+Ejecución!AE127","v":0},0,{"$f":"+Proyección!O127+Proyección!P127+Proyección!Q127","v":0},{"$f":"+Ejecución!AH127+Ejecución!AK127+Ejecución!AN127","v":0},0]
[null,null,30,{"$f":"+IFERROR(+IF(Inputs!I82=\"\",\"\",Inputs!I82),0)","v":""},0,{"$f":"+Proyección!F128+Proyección!G128+Proyección!H128","v":0},{"$f":"+Ejecución!G128+Ejecución!J128+Ejecución!M128","v":0},0,{"$f":"+Proyección!I128+Proyección!J128+Proyección!K128","v":0},{"$f":"+Ejecución!P128+Ejecución!S128+Ejecución!V128","v":0},0,{"$f":"+Proyección!L128+Proyección!M128+Proyección!N128","v":0},{"$f":"+Ejecución!Y128+Ejecución!AB128+Ejecución!AE128","v":0},0,{"$f":"+Proyección!O128+Proyección!P128+Proyección!Q128","v":0},{"$f":"+Ejecución!AH128+Ejecución!AK128+Ejecución!AN128","v":0},0]
[null,null,"Resumen","GASTOS NECESARIOS",0,{"$f":"+SUM(F99:F128)","v":0},{"$f":"+SUM(G99:G128)","v":0},{"$f":"+IFERROR(+(F129-G129),0)","v":0},{"$f":"+SUM(I99:I128)","v":0},{"$f":"+SUM(J99:J128)","v":0},0,{"$f":"+SUM(L99:L128)","v":0},{"$f":"+SUM(M99:M128)","v":0},0,{"$f":"+SUM(O99:O128)","v":0},{"$f":"+SUM(P99:P128)","v":0},0]
[null,null,null,1]
[null,null,1,{"$f":"+IFERROR(+IF(Inputs!#REF!=\"\",\"\",Inputs!#REF!),0)","v":0},0,{"$f":"+Proyección!F131+Proyección!G131+Proyección!H131","v":0},{"$f":"+Ejecución!G131+Ejecución!J131+Ejecución!M131","v":0},{"$f":"+IFERROR(+(F131-G131),0)","v":0},{"$f":"+Proyección!I131+Proyección!J131+Proyección!K131","v":0},{"$f":"+Ejecución!P131+Ejecución!S131+Ejecución!V131","v":0},{"$f":"+IFERROR(+(I131-J131),0)","v":0},{"$f":"+Proyección!L131+Proyección!M131+Proyección!N131","v":0},{"$f":"+Ejecución!Y131+Ejecución!AB131+Ejecución!AE131","v":0},{"$f":"+IFERROR(+(L131-M131),0)","v":0},{"$f":"+Proyección!O131+Proyección!P131+Proyección!Q131","v":0},{"$f":"+Ejecución!AH131+Ejecución!AK131+Ejecución!AN131","v":0},{"$f":"+IFERROR(+(O131-P131),0)","v":0}]
[null,null,2,{"$f":"+IFERROR(+IF(Inputs!D88=\"\",\"\",Inputs!D88),0)","v":"Diversión  (ejemplo)"},0,{"$f":"+Proyección!F132+Proyección!G132+Proyección!H132","v":0},{"$f":"+Ejecución!G132+Ejecución!J132+Ejecución!M132","v":0},0,{"$f":"+Proyección!I132+Proyección!J132+Proyección!K132","v":0},{"$f":"+Ejecución!P132+Ejecución!S132+Ejecución!V132","v":0},0,{"$f":"+Proyección!L132+Proyección!M132+Proyección!N132","v":0},{"$f":"+Ejecución!Y132+Ejecución!AB132+Ejecución!AE132","v":0},0,{"$f":"+Proyección!O132+Proyección!P132+Proyección!Q132","v":0},{"$f":"+Ejecución!AH132+Ejecución!AK132+Ejecución!AN132","v":0},0]
[null,null,3,{"$f":"+IFERROR(+IF(Inputs!D89=\"\",\"\",Inputs!D89),0)","v":"Domicilios  (ejemplo)"},0,{"$f":"+Proyección!F133+Proyección!G133+Proyección!H133","v":0},{"$f":"+Ejecución!G133+Ejecución!J133+Ejecución!M133","v":0},0,{"$f":"+Proyección!I133+Proyección!J133+Proyección!K133","v":0},{"$f":"+Ejecución!P133+Ejecución!S133+Ejecución!V133","v":0},0,{"$f":"+Proyección!L133+Proyección!M133+Proyección!N133","v":0},{"$f":"+Ejecución!Y133+Ejecución!AB133+Ejecución!AE133","v":0},0,{"$f":"+Proyección!O133+Proyección!P133+Proyección!Q133","v":0},{"$f":"+Ejecución!AH133+Ejecución!AK133+Ejecución!AN133","v":0},0]
[null,null,4,{"$f":"+IFERROR(+IF(Inputs!D90=\"\",\"\",Inputs!D90),0)","v":""},0,{"$f":"+Proyección!F134+Proyección!G134+Proyección!H134","v":0},{"$f":"+Ejecución!G134+Ejecución!J134+Ejecución!M134","v":0},0,{"$f":"+Proyección!I134+Proyección!J134+Proyección!K134","v":0},{"$f":"+Ejecución!P134+Ejecución!S134+Ejecución!V134","v":0},0,{"$f":"+Proyección!L134+Proyección!M134+Proyección!N134","v":0},{"$f":"+Ejecución!Y134+Ejecución!AB134+Ejecución!AE134","v":0},0,{"$f":"+Proyección!O134+Proyección!P134+Proyección!Q134","v":0},{"$f":"+Ejecución!AH134+Ejecución!AK134+Ejecución!AN134","v":0},0]
[null,null,5,{"$f":"+IFERROR(+IF(Inputs!D91=\"\",\"\",Inputs!D91),0)","v":""},0,{"$f":"+Proyección!F135+Proyección!G135+Proyección!H135","v":0},{"$f":"+Ejecución!G135+Ejecución!J135+Ejecución!M135","v":0},0,{"$f":"+Proyección!I135+Proyección!J135+Proyección!K135","v":0},{"$f":"+Ejecución!P135+Ejecución!S135+Ejecución!V135","v":0},0,{"$f":"+Proyección!L135+Proyección!M135+Proyección!N135","v":0},{"$f":"+Ejecución!Y135+Ejecución!AB135+Ejecución!AE135","v":0},0,{"$f":"+Proyección!O135+Proyección!P135+Proyección!Q135","v":0},{"$f":"+Ejecución!AH135+Ejecución!AK135+Ejecución!AN135","v":0},0]
[null,null,6,{"$f":"+IFERROR(+IF(Inputs!D92=\"\",\"\",Inputs!D92),0)","v":""},0,{"$f":"+Proyección!F136+Proyección!G136+Proyección!H136","v":0},{"$f":"+Ejecución!G136+Ejecución!J136+Ejecución!M136","v":0},0,{"$f":"+Proyección!I136+Proyección!J136+Proyección!K136","v":0},{"$f":"+Ejecución!P136+Ejecución!S136+Ejecución!V136","v":0},0,{"$f":"+Proyección!L136+Proyección!M136+Proyección!N136","v":0},{"$f":"+Ejecución!Y136+Ejecución!AB136+Ejecución!AE136","v":0},0,{"$f":"+Proyección!O136+Proyección!P136+Proyección!Q136","v":0},{"$f":"+Ejecución!AH136+Ejecución!AK136+Ejecución!AN136","v":0},0]
[null,null,7,{"$f":"+IFERROR(+IF(Inputs!D93=\"\",\"\",Inputs!D93),0)","v":""},0,{"$f":"+Proyección!F137+Proyección!G137+Proyección!H137","v":0},{"$f":"+Ejecución!G137+Ejecución!J137+Ejecución!M137","v":0},0,{"$f":"+Proyección!I137+Proyección!J137+Proyección!K137","v":0},{"$f":"+Ejecución!P137+Ejecución!S137+Ejecución!V137","v":0},0,{"$f":"+Proyección!L137+Proyección!M137+Proyección!N137","v":0},{"$f":"+Ejecución!Y137+Ejecución!AB137+Ejecución!AE137","v":0},0,{"$f":"+Proyección!O137+Proyección!P137+Proyección!Q137","v":0},{"$f":"+Ejecución!AH137+Ejecución!AK137+Ejecución!AN137","v":0},0]
[null,null,8,{"$f":"+IFERROR(+IF(Inputs!D94=\"\",\"\",Inputs!D94),0)","v":""},0,{"$f":"+Proyección!F138+Proyección!G138+Proyección!H138","v":0},{"$f":"+Ejecución!G138+Ejecución!J138+Ejecución!M138","v":0},0,{"$f":"+Proyección!I138+Proyección!J138+Proyección!K138","v":0},{"$f":"+Ejecución!P138+Ejecución!S138+Ejecución!V138","v":0},0,{"$f":"+Proyección!L138+Proyección!M138+Proyección!N138","v":0},{"$f":"+Ejecución!Y138+Ejecución!AB138+Ejecución!AE138","v":0},0,{"$f":"+Proyección!O138+Proyección!P138+Proyección!Q138","v":0},{"$f":"+Ejecución!AH138+Ejecución!AK138+Ejecución!AN138","v":0},0]
[null,null,9,{"$f":"+IFERROR(+IF(Inputs!D95=\"\",\"\",Inputs!D95),0)","v":""},0,{"$f":"+Proyección!F139+Proyección!G139+Proyección!H139","v":0},{"$f":"+Ejecución!G139+Ejecución!J139+Ejecución!M139","v":0},0,{"$f":"+Proyección!I139+Proyección!J139+Proyección!K139","v":0},{"$f":"+Ejecución!P139+Ejecución!S139+Ejecución!V139","v":0},0,{"$f":"+Proyección!L139+Proyección!M139+Proyección!N139","v":0},{"$f":"+Ejecución!Y139+Ejecución!AB139+Ejecución!AE139","v":0},0,{"$f":"+Proyección!O139+Proyección!P139+Proyección!Q139","v":0},{"$f":"+Ejecución!AH139+Ejecución!AK139+Ejecución!AN139","v":0},0]
[null,null,10,{"$f":"+IFERROR(+IF(Inputs!D96=\"\",\"\",Inputs!D96),0)","v":""},0,{"$f":"+Proyección!F140+Proyección!G140+Proyección!H140","v":0},{"$f":"+Ejecución!G140+Ejecución!J140+Ejecución!M140","v":0},0,{"$f":"+Proyección!I140+Proyección!J140+Proyección!K140","v":0},{"$f":"+Ejecución!P140+Ejecución!S140+Ejecución!V140","v":0},0,{"$f":"+Proyección!L140+Proyección!M140+Proyección!N140","v":0},{"$f":"+Ejecución!Y140+Ejecución!AB140+Ejecución!AE140","v":0},0,{"$f":"+Proyección!O140+Proyección!P140+Proyección!Q140","v":0},{"$f":"+Ejecución!AH140+Ejecución!AK140+Ejecución!AN140","v":0},0]
[null,null,11,{"$f":"+IFERROR(+IF(Inputs!D97=\"\",\"\",Inputs!D97),0)","v":""},{"$f":"+IFERROR((G141+J141+M141+P141)/($G$24+$J$24+$M$24+$P$24),0)","v":0},{"$f":"+Proyección!F141+Proyección!G141+Proyección!H141","v":0},{"$f":"+Ejecución!G141+Ejecución!J141+Ejecución!M141","v":0},0,{"$f":"+Proyección!I141+Proyección!J141+Proyección!K141","v":0},{"$f":"+Ejecución!P141+Ejecución!S141+Ejecución!V141","v":0},0,{"$f":"+Proyección!L141+Proyección!M141+Proyección!N141","v":0},{"$f":"+Ejecución!Y141+Ejecución!AB141+Ejecución!AE141","v":0},0,{"$f":"+Proyección!O141+Proyección!P141+Proyección!Q141","v":0},{"$f":"+Ejecución!AH141+Ejecución!AK141+Ejecución!AN141","v":0},0]
[null,null,12,{"$f":"+IFERROR(+IF(Inputs!D98=\"\",\"\",Inputs!D98),0)","v":""},0,{"$f":"+Proyección!F142+Proyección!G142+Proyección!H142","v":0},{"$f":"+Ejecución!G142+Ejecución!J142+Ejecución!M142","v":0},0,{"$f":"+Proyección!I142+Proyección!J142+Proyección!K142","v":0},{"$f":"+Ejecución!P142+Ejecución!S142+Ejecución!V142","v":0},0,{"$f":"+Proyección!L142+Proyección!M142+Proyección!N142","v":0},{"$f":"+Ejecución!Y142+Ejecución!AB142+Ejecución!AE142","v":0},0,{"$f":"+Proyección!O142+Proyección!P142+Proyección!Q142","v":0},{"$f":"+Ejecución!AH142+Ejecución!AK142+Ejecución!AN142","v":0},0]
[null,null,13,{"$f":"+IFERROR(+IF(Inputs!D99=\"\",\"\",Inputs!D99),0)","v":""},0,{"$f":"+Proyección!F143+Proyección!G143+Proyección!H143","v":0},{"$f":"+Ejecución!G143+Ejecución!J143+Ejecución!M143","v":0},0,{"$f":"+Proyección!I143+Proyección!J143+Proyección!K143","v":0},{"$f":"+Ejecución!P143+Ejecución!S143+Ejecución!V143","v":0},0,{"$f":"+Proyección!L143+Proyección!M143+Proyección!N143","v":0},{"$f":"+Ejecución!Y143+Ejecución!AB143+Ejecución!AE143","v":0},0,{"$f":"+Proyección!O143+Proyección!P143+Proyección!Q143","v":0},{"$f":"+Ejecución!AH143+Ejecución!AK143+Ejecución!AN143","v":0},0]
[null,null,14,{"$f":"+IFERROR(+IF(Inputs!D100=\"\",\"\",Inputs!D100),0)","v":""},0,{"$f":"+Proyección!F144+Proyección!G144+Proyección!H144","v":0},{"$f":"+Ejecución!G144+Ejecución!J144+Ejecución!M144","v":0},0,{"$f":"+Proyección!I144+Proyección!J144+Proyección!K144","v":0},{"$f":"+Ejecución!P144+Ejecución!S144+Ejecución!V144","v":0},0,{"$f":"+Proyección!L144+Proyección!M144+Proyección!N144","v":0},{"$f":"+Ejecución!Y144+Ejecución!AB144+Ejecución!AE144","v":0},0,{"$f":"+Proyección!O144+Proyección!P144+Proyección!Q144","v":0},{"$f":"+Ejecución!AH144+Ejecución!AK144+Ejecución!AN144","v":0},0]
[null,null,15,{"$f":"+IFERROR(+IF(Inputs!D101=\"\",\"\",Inputs!D101),0)","v":""},0,{"$f":"+Proyección!F145+Proyección!G145+Proyección!H145","v":0},{"$f":"+Ejecución!G145+Ejecución!J145+Ejecución!M145","v":0},0,{"$f":"+Proyección!I145+Proyección!J145+Proyección!K145","v":0},{"$f":"+Ejecución!P145+Ejecución!S145+Ejecución!V145","v":0},0,{"$f":"+Proyección!L145+Proyección!M145+Proyección!N145","v":0},{"$f":"+Ejecución!Y145+Ejecución!AB145+Ejecución!AE145","v":0},0,{"$f":"+Proyección!O145+Proyección!P145+Proyección!Q145","v":0},{"$f":"+Ejecución!AH145+Ejecución!AK145+Ejecución!AN145","v":0},0]
[null,null,16,{"$f":"+IFERROR(+IF(Inputs!I87=\"\",\"\",Inputs!I87),0)","v":"Vacaciones  (ejemplo)"},0,{"$f":"+Proyección!F146+Proyección!G146+Proyección!H146","v":0},{"$f":"+Ejecución!G146+Ejecución!J146+Ejecución!M146","v":0},0,{"$f":"+Proyección!I146+Proyección!J146+Proyección!K146","v":0},{"$f":"+Ejecución!P146+Ejecución!S146+Ejecución!V146","v":0},0,{"$f":"+Proyección!L146+Proyección!M146+Proyección!N146","v":0},{"$f":"+Ejecución!Y146+Ejecución!AB146+Ejecución!AE146","v":0},0,{"$f":"+Proyección!O146+Proyección!P146+Proyección!Q146","v":0},{"$f":"+Ejecución!AH146+Ejecución!AK146+Ejecución!AN146","v":0},0]
[null,null,17,{"$f":"+IFERROR(+IF(Inputs!I88=\"\",\"\",Inputs!I88),0)","v":"Regalos de navidad  (ejemplo)"},0,{"$f":"+Proyección!F147+Proyección!G147+Proyección!H147","v":0},{"$f":"+Ejecución!G147+Ejecución!J147+Ejecución!M147","v":0},0,{"$f":"+Proyección!I147+Proyección!J147+Proyección!K147","v":0},{"$f":"+Ejecución!P147+Ejecución!S147+Ejecución!V147","v":0},0,{"$f":"+Proyección!L147+Proyección!M147+Proyección!N147","v":0},{"$f":"+Ejecución!Y147+Ejecución!AB147+Ejecución!AE147","v":0},0,{"$f":"+Proyección!O147+Proyección!P147+Proyección!Q147","v":0},{"$f":"+Ejecución!AH147+Ejecución!AK147+Ejecución!AN147","v":0},0]
[null,null,18,{"$f":"+IFERROR(+IF(Inputs!I89=\"\",\"\",Inputs!I89),0)","v":""},0,{"$f":"+Proyección!F148+Proyección!G148+Proyección!H148","v":0},{"$f":"+Ejecución!G148+Ejecución!J148+Ejecución!M148","v":0},0,{"$f":"+Proyección!I148+Proyección!J148+Proyección!K148","v":0},{"$f":"+Ejecución!P148+Ejecución!S148+Ejecución!V148","v":0},0,{"$f":"+Proyección!L148+Proyección!M148+Proyección!N148","v":0},{"$f":"+Ejecución!Y148+Ejecución!AB148+Ejecución!AE148","v":0},0,{"$f":"+Proyección!O148+Proyección!P148+Proyección!Q148","v":0},{"$f":"+Ejecución!AH148+Ejecución!AK148+Ejecución!AN148","v":0},0]
[null,null,19,{"$f":"+IFERROR(+IF(Inputs!I90=\"\",\"\",Inputs!I90),0)","v":""},0,{"$f":"+Proyección!F149+Proyección!G149+Proyección!H149","v":0},{"$f":"+Ejecución!G149+Ejecución!J149+Ejecución!M149","v":0},0,{"$f":"+Proyección!I149+Proyección!J149+Proyección!K149","v":0},{"$f":"+Ejecución!P149+Ejecución!S149+Ejecución!V149","v":0},0,{"$f":"+Proyección!L149+Proyección!M149+Proyección!N149","v":0},{"$f":"+Ejecución!Y149+Ejecución!AB149+Ejecución!AE149","v":0},0,{"$f":"+Proyección!O149+Proyección!P149+Proyección!Q149","v":0},{"$f":"+Ejecución!AH149+Ejecución!AK149+Ejecución!AN149","v":0},0]
[null,null,20,{"$f":"+IFERROR(+IF(Inputs!I91=\"\",\"\",Inputs!I91),0)","v":""},0,{"$f":"+Proyección!F150+Proyección!G150+Proyección!H150","v":0},{"$f":"+Ejecución!G150+Ejecución!J150+Ejecución!M150","v":0},0,{"$f":"+Proyección!I150+Proyección!J150+Proyección!K150","v":0},{"$f":"+Ejecución!P150+Ejecución!S150+Ejecución!V150","v":0},0,{"$f":"+Proyección!L150+Proyección!M150+Proyección!N150","v":0},{"$f":"+Ejecución!Y150+Ejecución!AB150+Ejecución!AE150","v":0},0,{"$f":"+Proyección!O150+Proyección!P150+Proyección!Q150","v":0},{"$f":"+Ejecución!AH150+Ejecución!AK150+Ejecución!AN150","v":0},0]
[null,null,21,{"$f":"+IFERROR(+IF(Inputs!I92=\"\",\"\",Inputs!I92),0)","v":""},0,{"$f":"+Proyección!F151+Proyección!G151+Proyección!H151","v":0},{"$f":"+Ejecución!G151+Ejecución!J151+Ejecución!M151","v":0},0,{"$f":"+Proyección!I151+Proyección!J151+Proyección!K151","v":0},{"$f":"+Ejecución!P151+Ejecución!S151+Ejecución!V151","v":0},0,{"$f":"+Proyección!L151+Proyección!M151+Proyección!N151","v":0},{"$f":"+Ejecución!Y151+Ejecución!AB151+Ejecución!AE151","v":0},0,{"$f":"+Proyección!O151+Proyección!P151+Proyección!Q151","v":0},{"$f":"+Ejecución!AH151+Ejecución!AK151+Ejecución!AN151","v":0},0]
[null,null,22,{"$f":"+IFERROR(+IF(Inputs!I93=\"\",\"\",Inputs!I93),0)","v":""},0,{"$f":"+Proyección!F152+Proyección!G152+Proyección!H152","v":0},{"$f":"+Ejecución!G152+Ejecución!J152+Ejecución!M152","v":0},0,{"$f":"+Proyección!I152+Proyección!J152+Proyección!K152","v":0},{"$f":"+Ejecución!P152+Ejecución!S152+Ejecución!V152","v":0},0,{"$f":"+Proyección!L152+Proyección!M152+Proyección!N152","v":0},{"$f":"+Ejecución!Y152+Ejecución!AB152+Ejecución!AE152","v":0},0,{"$f":"+Proyección!O152+Proyección!P152+Proyección!Q152","v":0},{"$f":"+Ejecución!AH152+Ejecución!AK152+Ejecución!AN152","v":0},0]
[null,null,23,{"$f":"+IFERROR(+IF(Inputs!I94=\"\",\"\",Inputs!I94),0)","v":""},0,{"$f":"+Proyección!F153+Proyección!G153+Proyección!H153","v":0},{"$f":"+Ejecución!G153+Ejecución!J153+Ejecución!M153","v":0},0,{"$f":"+Proyección!I153+Proyección!J153+Proyección!K153","v":0},{"$f":"+Ejecución!P153+Ejecución!S153+Ejecución!V153","v":0},0,{"$f":"+Proyección!L153+Proyección!M153+Proyección!N153","v":0},{"$f":"+Ejecución!Y153+Ejecución!AB153+Ejecución!AE153","v":0},0,{"$f":"+Proyección!O153+Proyección!P153+Proyección!Q153","v":0},{"$f":"+Ejecución!AH153+Ejecución!AK153+Ejecución!AN153","v":0},0]
[null,null,24,{"$f":"+IFERROR(+IF(Inputs!I95=\"\",\"\",Inputs!I95),0)","v":""},0,{"$f":"+Proyección!F154+Proyección!G154+Proyección!H154","v":0},{"$f":"+Ejecución!G154+Ejecución!J154+Ejecución!M154","v":0},0,{"$f":"+Proyección!I154+Proyección!J154+Proyección!K154","v":0},{"$f":"+Ejecución!P154+Ejecución!S154+Ejecución!V154","v":0},0,{"$f":"+Proyección!L154+Proyección!M154+Proyección!N154","v":0},{"$f":"+Ejecución!Y154+Ejecución!AB154+Ejecución!AE154","v":0},0,{"$f":"+Proyección!O154+Proyección!P154+Proyección!Q154","v":0},{"$f":"+Ejecución!AH154+Ejecución!AK154+Ejecución!AN154","v":0},0]
[null,null,25,{"$f":"+IFERROR(+IF(Inputs!I96=\"\",\"\",Inputs!I96),0)","v":""},0,{"$f":"+Proyección!F155+Proyección!G155+Proyección!H155","v":0},{"$f":"+Ejecución!G155+Ejecución!J155+Ejecución!M155","v":0},0,{"$f":"+Proyección!I155+Proyección!J155+Proyección!K155","v":0},{"$f":"+Ejecución!P155+Ejecución!S155+Ejecución!V155","v":0},0,{"$f":"+Proyección!L155+Proyección!M155+Proyección!N155","v":0},{"$f":"+Ejecución!Y155+Ejecución!AB155+Ejecución!AE155","v":0},0,{"$f":"+Proyección!O155+Proyección!P155+Proyección!Q155","v":0},{"$f":"+Ejecución!AH155+Ejecución!AK155+Ejecución!AN155","v":0},0]
[null,null,26,{"$f":"+IFERROR(+IF(Inputs!I97=\"\",\"\",Inputs!I97),0)","v":""},0,{"$f":"+Proyección!F156+Proyección!G156+Proyección!H156","v":0},{"$f":"+Ejecución!G156+Ejecución!J156+Ejecución!M156","v":0},0,{"$f":"+Proyección!I156+Proyección!J156+Proyección!K156","v":0},{"$f":"+Ejecución!P156+Ejecución!S156+Ejecución!V156","v":0},0,{"$f":"+Proyección!L156+Proyección!M156+Proyección!N156","v":0},{"$f":"+Ejecución!Y156+Ejecución!AB156+Ejecución!AE156","v":0},0,{"$f":"+Proyección!O156+Proyección!P156+Proyección!Q156","v":0},{"$f":"+Ejecución!AH156+Ejecución!AK156+Ejecución!AN156","v":0},0]
[null,null,27,{"$f":"+IFERROR(+IF(Inputs!I98=\"\",\"\",Inputs!I98),0)","v":""},0,{"$f":"+Proyección!F157+Proyección!G157+Proyección!H157","v":0},{"$f":"+Ejecución!G157+Ejecución!J157+Ejecución!M157","v":0},0,{"$f":"+Proyección!I157+Proyección!J157+Proyección!K157","v":0},{"$f":"+Ejecución!P157+Ejecución!S157+Ejecución!V157","v":0},0,{"$f":"+Proyección!L157+Proyección!M157+Proyección!N157","v":0},{"$f":"+Ejecución!Y157+Ejecución!AB157+Ejecución!AE157","v":0},0,{"$f":"+Proyección!O157+Proyección!P157+Proyección!Q157","v":0},{"$f":"+Ejecución!AH157+Ejecución!AK157+Ejecución!AN157","v":0},0]
[null,null,28,{"$f":"+IFERROR(+IF(Inputs!I99=\"\",\"\",Inputs!I99),0)","v":""},0,{"$f":"+Proyección!F158+Proyección!G158+Proyección!H158","v":0},{"$f":"+Ejecución!G158+Ejecución!J158+Ejecución!M158","v":0},0,{"$f":"+Proyección!I158+Proyección!J158+Proyección!K158","v":0},{"$f":"+Ejecución!P158+Ejecución!S158+Ejecución!V158","v":0},0,{"$f":"+Proyección!L158+Proyección!M158+Proyección!N158","v":0},{"$f":"+Ejecución!Y158+Ejecución!AB158+Ejecución!AE158","v":0},0,{"$f":"+Proyección!O158+Proyección!P158+Proyección!Q158","v":0},{"$f":"+Ejecución!AH158+Ejecución!AK158+Ejecución!AN158","v":0},0]
[null,null,29,{"$f":"+IFERROR(+IF(Inputs!I100=\"\",\"\",Inputs!I100),0)","v":""},0,{"$f":"+Proyección!F159+Proyección!G159+Proyección!H159","v":0},{"$f":"+Ejecución!G159+Ejecución!J159+Ejecución!M159","v":0},0,{"$f":"+Proyección!I159+Proyección!J159+Proyección!K159","v":0},{"$f":"+Ejecución!P159+Ejecución!S159+Ejecución!V159","v":0},0,{"$f":"+Proyección!L159+Proyección!M159+Proyección!N159","v":0},{"$f":"+Ejecución!Y159+Ejecución!AB159+Ejecución!AE159","v":0},0,{"$f":"+Proyección!O159+Proyección!P159+Proyección!Q159","v":0},{"$f":"+Ejecución!AH159+Ejecución!AK159+Ejecución!AN159","v":0},0]
[null,null,30,{"$f":"+IFERROR(+IF(Inputs!I101=\"\",\"\",Inputs!I101),0)","v":""},0,{"$f":"+Proyección!F160+Proyección!G160+Proyección!H160","v":0},{"$f":"+Ejecución!G160+Ejecución!J160+Ejecución!M160","v":0},0,{"$f":"+Proyección!I160+Proyección!J160+Proyección!K160","v":0},{"$f":"+Ejecución!P160+Ejecución!S160+Ejecución!V160","v":0},0,{"$f":"+Proyección!L160+Proyección!M160+Proyección!N160","v":0},{"$f":"+Ejecución!Y160+Ejecución!AB160+Ejecución!AE160","v":0},0,{"$f":"+Proyección!O160+Proyección!P160+Proyección!Q160","v":0},{"$f":"+Ejecución!AH160+Ejecución!AK160+Ejecución!AN160","v":0},0]
[null,null,"Resumen","GASTOS PRESCINDIBLES/DISFRUTE",0,{"$f":"+SUM(F131:F160)","v":0},{"$f":"+SUM(G131:G160)","v":0},{"$f":"+IFERROR(+(F161-G161),0)","v":0},{"$f":"+SUM(I131:I160)","v":0},{"$f":"+SUM(J131:J160)","v":0},0,{"$f":"+SUM(L131:L160)","v":0},{"$f":"+SUM(M131:M160)","v":0},0,{"$f":"+SUM(O131:O160)","v":0},{"$f":"+SUM(P131:P160)","v":0},0]
[null,null,"Resumen",1]
[null,null,"Resumen","TOTAL SALIDAS (AHORRO + GASTOS)",null,{"$f":"+F37+F52+F63+F96+F129+F161","v":0},{"$f":"+G37+G52+G63+G96+G129+G161","v":0},{"$f":"+IFERROR(+(F163-G163),0)","v":0},{"$f":"+I37+I52+I63+I96+I129+I161","v":0},{"$f":"+J37+J52+J63+J96+J129+J161","v":0},{"$f":"+IFERROR(+(I163-J163),0)","v":0},{"$f":"+L37+L52+L63+L96+L129+L161","v":0},{"$f":"+M37+M52+M63+M96+M129+M161","v":0},{"$f":"+IFERROR(+(L163-M163),0)","v":0},{"$f":"+O37+O52+O63+O96+O129+O161","v":0},{"$f":"+P37+P52+P63+P96+P129+P161","v":0},{"$f":"+IFERROR(+(O163-P163),0)","v":0}]
[null,null,"Resumen",1]
[null,null,"Resumen",1]
[null,null,"Resumen","     SALDO FINAL / FLUJO DE CAJA",null,{"$f":"+F9+F24-F163","v":0},{"$f":"+G9+G24-G163","v":0},{"$f":"IFERROR((IF(G166>0,(F166+G166),(G166-F166))),0)","v":0},{"$f":"+I9+I24-I163","v":0},{"$f":"+J9+J24-J163","v":0},{"$f":"IFERROR((IF(J166>0,(I166+J166),(J166-I166))),0)","v":0},{"$f":"+L9+L24-L163","v":0},{"$f":"+M9+M24-M163","v":0},{"$f":"IFERROR((IF(M166>0,(L166+M166),(M166-L166))),0)","v":0},{"$f":"+O9+O24-O163","v":0},{"$f":"+P9+P24-P163","v":0},{"$f":"IFERROR((IF(P166>0,(O166+P166),(P166-O166))),0)","v":0}]
[null,null,"Resumen",1]
[null,null,"Resumen",1]
[null,null,"Resumen",1,"Saldo año anterior"]
[null,null,"Resumen","RESERVAS"]
[null,null,"Resumen","Ahorro",{"$f":"+Proyección!E171","v":0},{"$f":"+E171+F37","v":0},{"$f":"+E171+G37","v":0},{"$f":"+IFERROR(+(F171-G171),0)","v":0},{"$f":"+F171+I37","v":0},{"$f":"+G171+J37","v":0},{"$f":"+IFERROR(+(I171-J171),0)","v":0},{"$f":"+I171+L37","v":0},{"$f":"+J171+M37","v":0},{"$f":"+IFERROR(+(L171-M171),0)","v":0},{"$f":"+L171+O37","v":0},{"$f":"+M171+P37","v":0},{"$f":"+IFERROR(+(O171-P171),0)","v":0}]
[null,null,null,"Fondo de Emergencia",{"$f":"+Proyección!E172","v":0},{"$f":"+E172+VLOOKUP($D$172,$D$12:$F$160,3,0)","v":{"$error":"#N/A"}},{"$f":"+E172+VLOOKUP($D$172,$D$12:$G$160,4,0)","v":{"$error":"#N/A"}},{"$f":"+IFERROR(+(F172-G172),0)","v":0},{"$f":"+F172+VLOOKUP($D$172,$D$12:$I$160,6,0)","v":{"$error":"#N/A"}},{"$f":"+G172+VLOOKUP($D$172,$D$12:$J$160,7,0)","v":{"$error":"#N/A"}},{"$f":"+IFERROR(+(I172-J172),0)","v":0},{"$f":"+I172+VLOOKUP($D$172,$D$12:$L$160,9,0)","v":{"$error":"#N/A"}},{"$f":"+J172+VLOOKUP($D$172,$D$12:$M$160,10,0)","v":{"$error":"#N/A"}},{"$f":"+IFERROR(+(L172-M172),0)","v":0},{"$f":"+L172+VLOOKUP($D$172,$D$12:$O$160,12,0)","v":{"$error":"#N/A"}},{"$f":"+M172+VLOOKUP($D$172,$D$12:$P$160,13,0)","v":{"$error":"#N/A"}},{"$f":"+IFERROR(+(O172-P172),0)","v":0}]
[null,null,null,"Provisiones",{"$f":"+Proyección!E173","v":0},0,0,{"$f":"+IFERROR(+(F173-G173),0)","v":0},0,0,{"$f":"+IFERROR(+(I173-J173),0)","v":0},0,0,{"$f":"+IFERROR(+(L173-M173),0)","v":0},0,0,{"$f":"+IFERROR(+(O173-P173),0)","v":0}]
[null,null,"Resumen",1]
[null,null,"Resumen","INDICADORES"]
[null,null,"Resumen","Nivel de endeudamiento","-",{"$f":"+IFERROR(F52/F24,0)","v":0},{"$f":"+IFERROR(G52/G24,0)","v":0},"-",{"$f":"+IFERROR(I52/I24,0)","v":0},{"$f":"+IFERROR(J52/J24,0)","v":0},"-",{"$f":"+IFERROR(L52/L24,0)","v":0},{"$f":"+IFERROR(M52/M24,0)","v":0},"-",{"$f":"+IFERROR(O52/O24,0)","v":0},{"$f":"+IFERROR(P52/P24,0)","v":0},"-"]
[null,null,"Resumen","Capacidad de endeudamiento","-",{"$f":"+IFERROR(IF(F166<=0,0,(F166*35%)),0)","v":0},{"$f":"+IFERROR(IF(G166<=0,0,(G166*35%)),0)","v":0},"-",{"$f":"+IFERROR(IF(I166<=0,0,(I166*35%)),0)","v":0},{"$f":"+IFERROR(IF(J166<=0,0,(J166*35%)),0)","v":0},"-",{"$f":"+IFERROR(IF(L166<=0,0,(L166*35%)),0)","v":0},{"$f":"+IFERROR(IF(M166<=0,0,(M166*35%)),0)","v":0},"-",{"$f":"+IFERROR(IF(O166<=0,0,(O166*35%)),0)","v":0},{"$f":"+IFERROR(IF(P166<=0,0,(P166*35%)),0)","v":0},"-"]
[null,null,"Resumen","Variación  real vs presupuestado","-","-","-",{"$f":"+IFERROR((H166-F166)/F166,0)","v":0},"-","-",{"$f":"+IFERROR((K166-I166)/I166,0)","v":0},"-","-",{"$f":"+IFERROR((N166-L166)/L166,0)","v":0},"-","-",{"$f":"+IFERROR((Q166-O166)/O166,0)","v":0}]
[null,null,"Resumen",1]
[null,null,null,1]
[null,null,null,1]

{"sheet":"Ejecución","index":13,"n_rows":180,"n_cols":41,"rows_kept":180,"cut":false,"hidden":false,"merged":[[165,3,165,4]]}
[]
[]
[]
[]
[]
[null,null,"Resumen","Concepto","% del Ingreso Ejecución Real","Enero \n Presupuesto","Enero\n Real","Diferencia\nEnero","Febrero \n Presupuesto","Febrero \n Real","Diferencia\nFebrero","Marzo\n Presupuesto","Marzo\n Real","Diferencia\nMarzo","Abril\n Presupuesto","Abril\n Real","Diferencia\nAbril","Mayo\n Presupuesto","Mayo\n Real","Diferencia\nMayo","Junio\n Presupuesto","Junio\n Real","Diferencia\nJunio","Julio\n Presupuesto","Julio\n Real","Diferencia\nJulio","Agosto\n Presupuesto","Agosto\n Real","Diferencia\nAgosto","Septiembre\n Presupuesto","Septiembre\n Real","Diferencia\nSeptiembre","Octubre\n Presupuesto","Octubre\n Real","Diferencia\nOctubre","Noviembre\n Presupuesto","Noviembre\n Real","Diferencia\nNoviembre","Diciembre\n Presupuesto","Diciembre\n Real","Diferencia\nDiciembre"]
[null,null,null,1]
[null,null,"Resumen",1]
[null,null,"Resumen","SALDO INICIAL",null,0,0,{"$f":"IFERROR((IF(AND(G9>=0,F9>=0),-(F9-G9),+IF(AND(G9<0,F9<0),-(F9-G9),+IF(AND(G9<0,F9>=0),-(F9-G9),+IF(AND(G9>=0,F9<0),(G9-F9),0))))),0)","v":0},{"$f":"+F166","v":0},{"$f":"+G166","v":0},{"$f":"IFERROR((IF(AND(J9>=0,I9>=0),-(I9-J9),+IF(AND(J9<0,I9<0),-(I9-J9),+IF(AND(J9<0,I9>=0),-(I9-J9),+IF(AND(J9>=0,I9<0),(J9-I9),0))))),0)","v":0},{"$f":"+I166","v":0},{"$f":"+J166","v":0},{"$f":"IFERROR((IF(AND(M9>=0,L9>=0),-(L9-M9),+IF(AND(M9<0,L9<0),-(L9-M9),+IF(AND(M9<0,L9>=0),-(L9-M9),+IF(AND(M9>=0,L9<0),(M9-L9),0))))),0)","v":0},{"$f":"+L166","v":0},{"$f":"+M166","v":0},{"$f":"IFERROR((IF(AND(P9>=0,O9>=0),-(O9-P9),+IF(AND(P9<0,O9<0),-(O9-P9),+IF(AND(P9<0,O9>=0),-(O9-P9),+IF(AND(P9>=0,O9<0),(P9-O9),0))))),0)","v":0},{"$f":"+O166","v":0},{"$f":"+P166","v":0},{"$f":"IFERROR((IF(AND(S9>=0,R9>=0),-(R9-S9),+IF(AND(S9<0,R9<0),-(R9-S9),+IF(AND(S9<0,R9>=0),-(R9-S9),+IF(AND(S9>=0,R9<0),(S9-R9),0))))),0)","v":0},{"$f":"+R166","v":0},{"$f":"+S166","v":0},{"$f":"IFERROR((IF(AND(V9>=0,U9>=0),-(U9-V9),+IF(AND(V9<0,U9<0),-(U9-V9),+IF(AND(V9<0,U9>=0),-(U9-V9),+IF(AND(V9>=0,U9<0),(V9-U9),0))))),0)","v":0},{"$f":"+U166","v":0},{"$f":"+V166","v":0},{"$f":"IFERROR((IF(AND(Y9>=0,X9>=0),-(X9-Y9),+IF(AND(Y9<0,X9<0),-(X9-Y9),+IF(AND(Y9<0,X9>=0),-(X9-Y9),+IF(AND(Y9>=0,X9<0),(Y9-X9),0))))),0)","v":0},{"$f":"+X166","v":0},{"$f":"+Y166","v":0},{"$f":"IFERROR((IF(AND(AB9>=0,AA9>=0),-(AA9-AB9),+IF(AND(AB9<0,AA9<0),-(AA9-AB9),+IF(AND(AB9<0,AA9>=0),-(AA9-AB9),+IF(AND(AB9>=0,AA9<0),(AB9-AA9),0))))),0)","v":0},{"$f":"+AA166","v":0},{"$f":"+AB166","v":0},{"$f":"IFERROR((IF(AND(AE9>=0,AD9>=0),-(AD9-AE9),+IF(AND(AE9<0,AD9<0),-(AD9-AE9),+IF(AND(AE9<0,AD9>=0),-(AD9-AE9),+IF(AND(AE9>=0,AD9<0),(AE9-AD9),0))))),0)","v":0},{"$f":"+AD166","v":0},{"$f":"+AE166","v":0},{"$f":"IFERROR((IF(AND(AH9>=0,AG9>=0),-(AG9-AH9),+IF(AND(AH9<0,AG9<0),-(AG9-AH9),+IF(AND(AH9<0,AG9>=0),-(AG9-AH9),+IF(AND(AH9>=0,AG9<0),(AH9-AG9),0))))),0)","v":0},{"$f":"+AG166","v":0},{"$f":"+AH166","v":0},{"$f":"IFERROR((IF(AND(AK9>=0,AJ9>=0),-(AJ9-AK9),+IF(AND(AK9<0,AJ9<0),-(AJ9-AK9),+IF(AND(AK9<0,AJ9>=0),-(AJ9-AK9),+IF(AND(AK9>=0,AJ9<0),(AK9-AJ9),0))))),0)","v":0},{"$f":"+AJ166","v":0},{"$f":"+AK166","v":0},{"$f":"IFERROR((IF(AND(AN9>=0,AM9>=0),-(AM9-AN9),+IF(AND(AN9<0,AM9<0),-(AM9-AN9),+IF(AND(AN9<0,AM9>=0),-(AM9-AN9),+IF(AND(AN9>=0,AM9<0),(AN9-AM9),0))))),0)","v":0}]
[null,null,"Resumen",1]
[null,null,null,1]
[null,null,1,{"$f":"+IFERROR(+IF(Inputs!D12=\"\",\"\",Inputs!D12),0)","v":"Salario Luisa (ejemplo)"},{"$f":"+IFERROR((G12+J12+M12+P12+S12+V12+Y12+AB12+AE12+AH12+AK12+AN12)/($G$24+$J$24+$M$24+$P$24+$S$24+$V$24+$Y$24+$AB$24+$AE$24+$AH$24+$AK$24+$AN$24),0)","v":0},{"$f":"+IFERROR((+VLOOKUP(D12,Inputs!$D$12:$E$17,2,0)),0)","v":0},0,{"$f":"+IFERROR(-(F12-G12),0)","v":0},{"$f":"+F12","v":0},0,{"$f":"+IFERROR(-(I12-J12),0)","v":0},{"$f":"+I12","v":0},0,{"$f":"+IFERROR(-(L12-M12),0)","v":0},{"$f":"+L12","v":0},0,{"$f":"+IFERROR(-(O12-P12),0)","v":0},{"$f":"+O12","v":0},0,{"$f":"+IFERROR(-(R12-S12),0)","v":0},{"$f":"+R12","v":0},0,{"$f":"+IFERROR(-(U12-V12),0)","v":0},{"$f":"+U12","v":0},0,{"$f":"+IFERROR(-(X12-Y12),0)","v":0},{"$f":"+X12","v":0},0,{"$f":"+IFERROR(-(AA12-AB12),0)","v":0},{"$f":"+AA12","v":0},0,{"$f":"+IFERROR(-(AD12-AE12),0)","v":0},{"$f":"+AD12","v":0},0,{"$f":"+IFERROR(-(AG12-AH12),0)","v":0},{"$f":"+AG12","v":0},0,{"$f":"+IFERROR(-(AJ12-AK12),0)","v":0},{"$f":"+AJ12","v":0},0,{"$f":"+IFERROR(-(AM12-AN12),0)","v":0}]
[null,null,2,{"$f":"+IFERROR(+IF(Inputs!D13=\"\",\"\",Inputs!D13),0)","v":"Salario Tomás  (ejemplo)"},{"$f":"+IFERROR((G13+J13+M13+P13+S13+V13+Y13+AB13+AE13+AH13+AK13+AN13)/($G$24+$J$24+$M$24+$P$24+$S$24+$V$24+$Y$24+$AB$24+$AE$24+$AH$24+$AK$24+$AN$24),0)","v":0},{"$f":"+IFERROR((+VLOOKUP(D13,Inputs!$D$12:$E$17,2,0)),0)","v":0},0,{"$f":"+IFERROR(-(F13-G13),0)","v":0},{"$f":"+F13","v":0},0,{"$f":"+IFERROR(-(I13-J13),0)","v":0},{"$f":"+I13","v":0},0,{"$f":"+IFERROR(-(L13-M13),0)","v":0},{"$f":"+L13","v":0},0,{"$f":"+IFERROR(-(O13-P13),0)","v":0},{"$f":"+O13","v":0},0,{"$f":"+IFERROR(-(R13-S13),0)","v":0},{"$f":"+R13","v":0},0,{"$f":"+IFERROR(-(U13-V13),0)","v":0},{"$f":"+U13","v":0},0,{"$f":"+IFERROR(-(X13-Y13),0)","v":0},{"$f":"+X13","v":0},0,{"$f":"+IFERROR(-(AA13-AB13),0)","v":0},{"$f":"+AA13","v":0},0,{"$f":"+IFERROR(-(AD13-AE13),0)","v":0},{"$f":"+AD13","v":0},0,{"$f":"+IFERROR(-(AG13-AH13),0)","v":0},{"$f":"+AG13","v":0},0,{"$f":"+IFERROR(-(AJ13-AK13),0)","v":0},{"$f":"+AJ13","v":0},0,{"$f":"+IFERROR(-(AM13-AN13),0)","v":0}]
[null,null,3,{"$f":"+IFERROR(+IF(Inputs!D14=\"\",\"\",Inputs!D14),0)","v":""},0,{"$f":"+IFERROR((+VLOOKUP(D14,Inputs!$D$12:$E$17,2,0)),0)","v":0},0,0,0,0,0,0,0,0,0,0,0,0,0,0,0,0,0,0,0,0,0,0,0,0,0,0,0,0,0,0,0,0,0,0,0]
[null,null,4,{"$f":"+IFERROR(+IF(Inputs!D15=\"\",\"\",Inputs!D15),0)","v":""},0,{"$f":"+IFERROR((+VLOOKUP(D15,Inputs!$D$12:$E$17,2,0)),0)","v":0},0,0,0,0,0,0,0,0,0,0,0,0,0,0,0,0,0,0,0,0,0,0,0,0,0,0,0,0,0,0,0,0,0,0,0]
[null,null,5,{"$f":"+IFERROR(+IF(Inputs!D16=\"\",\"\",Inputs!D16),0)","v":""},{"$f":"+IFERROR((G16+J16+M16+P16+S16+V16+Y16+AB16+AE16+AH16+AK16+AN16)/($G$24+$J$24+$M$24+$P$24+$S$24+$V$24+$Y$24+$AB$24+$AE$24+$AH$24+$AK$24+$AN$24),0)","v":0},{"$f":"+IFERROR((+VLOOKUP(D16,Inputs!$D$12:$E$17,2,0)),0)","v":0},0,0,0,0,0,0,0,0,0,0,0,0,0,0,0,0,0,0,0,0,0,0,0,0,0,0,0,0,0,0,0,0,0,0,0]
[null,null,6,{"$f":"+IFERROR(+IF(Inputs!D17=\"\",\"\",Inputs!D17),0)","v":""},0,{"$f":"+IFERROR((+VLOOKUP(D17,Inputs!$D$12:$E$17,2,0)),0)","v":0},0,0,0,0,0,0,0,0,0,0,0,0,0,0,0,0,0,0,0,0,0,0,0,0,0,0,0,0,0,0,0,0,0,0,0]
[null,null,7,{"$f":"+IFERROR(+IF(Inputs!I12=\"\",\"\",Inputs!I12),0)","v":"Prima Luisa  (ejemplo)"},0,{"$f":"+IFERROR(+IF(Inputs!L12=FALSE,0,+(+VLOOKUP(D18,Inputs!$I$12:$J$17,2,0))),0)","v":0},0,{"$f":"+IFERROR(-(F18-G18),0)","v":0},{"$f":"+IFERROR(+IF(Inputs!M12=FALSE,0,+(+VLOOKUP(D18,Inputs!$I$12:$J$17,2,0))),0)","v":0},0,{"$f":"+IFERROR(-(I18-J18),0)","v":0},{"$f":"+IFERROR(+IF(Inputs!N12=FALSE,0,+(+VLOOKUP(D18,Inputs!$I$12:$J$17,2,0))),0)","v":0},0,{"$f":"+IFERROR(-(L18-M18),0)","v":0},{"$f":"+IFERROR(+IF(Inputs!O12=FALSE,0,+(+VLOOKUP(D18,Inputs!$I$12:$J$17,2,0))),0)","v":0},0,{"$f":"+IFERROR(-(O18-P18),0)","v":0},{"$f":"+IFERROR(+IF(Inputs!P12=FALSE,0,+(+VLOOKUP(D18,Inputs!$I$12:$J$17,2,0))),0)","v":0},0,{"$f":"+IFERROR(-(R18-S18),0)","v":0},{"$f":"+IFERROR(+IF(Inputs!Q12=FALSE,0,+(+VLOOKUP(D18,Inputs!$I$12:$J$17,2,0))),0)","v":0},0,{"$f":"+IFERROR(-(U18-V18),0)","v":0},{"$f":"+IFERROR(+IF(Inputs!R12=FALSE,0,+(+VLOOKUP(D18,Inputs!$I$12:$J$17,2,0))),0)","v":0},0,{"$f":"+IFERROR(-(X18-Y18),0)","v":0},{"$f":"+IFERROR(+IF(Inputs!S12=FALSE,0,+(+VLOOKUP(D18,Inputs!$I$12:$J$17,2,0))),0)","v":0},0,{"$f":"+IFERROR(-(AA18-AB18),0)","v":0},{"$f":"+IFERROR(+IF(Inputs!T12=FALSE,0,+(+VLOOKUP(D18,Inputs!$I$12:$J$17,2,0))),0)","v":0},0,{"$f":"+IFERROR(-(AD18-AE18),0)","v":0},{"$f":"+IFERROR(+IF(Inputs!U12=FALSE,0,+(+VLOOKUP(D18,Inputs!$I$12:$J$17,2,0))),0)","v":0},0,{"$f":"+IFERROR(-(AG18-AH18),0)","v":0},{"$f":"+IFERROR(+IF(Inputs!V12=FALSE,0,+(+VLOOKUP(D18,Inputs!$I$12:$J$17,2,0))),0)","v":0},0,{"$f":"+IFERROR(-(AJ18-AK18),0)","v":0},{"$f":"+IFERROR(+IF(Inputs!W12=FALSE,0,+(+VLOOKUP(D18,Inputs!$I$12:$J$17,2,0))),0)","v":0},0,{"$f":"+IFERROR(-(AM18-AN18),0)","v":0}]
[null,null,8,{"$f":"+IFERROR(+IF(Inputs!I13=\"\",\"\",Inputs!I13),0)","v":"Prima Tomás  (ejemplo)"},{"$f":"+IFERROR((G19+J19+M19+P19+S19+V19+Y19+AB19+AE19+AH19+AK19+AN19)/($G$24+$J$24+$M$24+$P$24+$S$24+$V$24+$Y$24+$AB$24+$AE$24+$AH$24+$AK$24+$AN$24),0)","v":0},{"$f":"+IFERROR(+IF(Inputs!L13=FALSE,0,+(+VLOOKUP(D19,Inputs!$I$12:$J$17,2,0))),0)","v":0},0,{"$f":"+IFERROR(-(F19-G19),0)","v":0},{"$f":"+IFERROR(+IF(Inputs!M13=FALSE,0,+(+VLOOKUP(D19,Inputs!$I$12:$J$17,2,0))),0)","v":0},0,{"$f":"+IFERROR(-(I19-J19),0)","v":0},{"$f":"+IFERROR(+IF(Inputs!N13=FALSE,0,+(+VLOOKUP(D19,Inputs!$I$12:$J$17,2,0))),0)","v":0},0,{"$f":"+IFERROR(-(L19-M19),0)","v":0},{"$f":"+IFERROR(+IF(Inputs!O13=FALSE,0,+(+VLOOKUP(D19,Inputs!$I$12:$J$17,2,0))),0)","v":0},0,{"$f":"+IFERROR(-(O19-P19),0)","v":0},{"$f":"+IFERROR(+IF(Inputs!P13=FALSE,0,+(+VLOOKUP(D19,Inputs!$I$12:$J$17,2,0))),0)","v":0},0,{"$f":"+IFERROR(-(R19-S19),0)","v":0},{"$f":"+IFERROR(+IF(Inputs!Q13=FALSE,0,+(+VLOOKUP(D19,Inputs!$I$12:$J$17,2,0))),0)","v":0},0,{"$f":"+IFERROR(-(U19-V19),0)","v":0},{"$f":"+IFERROR(+IF(Inputs!R13=FALSE,0,+(+VLOOKUP(D19,Inputs!$I$12:$J$17,2,0))),0)","v":0},0,{"$f":"+IFERROR(-(X19-Y19),0)","v":0},{"$f":"+IFERROR(+IF(Inputs!S13=FALSE,0,+(+VLOOKUP(D19,Inputs!$I$12:$J$17,2,0))),0)","v":0},0,{"$f":"+IFERROR(-(AA19-AB19),0)","v":0},{"$f":"+IFERROR(+IF(Inputs!T13=FALSE,0,+(+VLOOKUP(D19,Inputs!$I$12:$J$17,2,0))),0)","v":0},0,{"$f":"+IFERROR(-(AD19-AE19),0)","v":0},{"$f":"+IFERROR(+IF(Inputs!U13=FALSE,0,+(+VLOOKUP(D19,Inputs!$I$12:$J$17,2,0))),0)","v":0},0,{"$f":"+IFERROR(-(AG19-AH19),0)","v":0},{"$f":"+IFERROR(+IF(Inputs!V13=FALSE,0,+(+VLOOKUP(D19,Inputs!$I$12:$J$17,2,0))),0)","v":0},0,{"$f":"+IFERROR(-(AJ19-AK19),0)","v":0},{"$f":"+IFERROR(+IF(Inputs!W13=FALSE,0,+(+VLOOKUP(D19,Inputs!$I$12:$J$17,2,0))),0)","v":0},0,{"$f":"+IFERROR(-(AM19-AN19),0)","v":0}]
[null,null,9,{"$f":"+IFERROR(+IF(Inputs!I14=\"\",\"\",Inputs!I14),0)","v":"Intereses cesantías (ejemplo)"},0,{"$f":"+IFERROR(+IF(Inputs!L14=FALSE,0,+(+VLOOKUP(D20,Inputs!$I$12:$J$17,2,0))),0)","v":0},0,0,{"$f":"+IFERROR(+IF(Inputs!M14=FALSE,0,+(+VLOOKUP(D20,Inputs!$I$12:$J$17,2,0))),0)","v":0},0,0,{"$f":"+IFERROR(+IF(Inputs!N14=FALSE,0,+(+VLOOKUP(D20,Inputs!$I$12:$J$17,2,0))),0)","v":0},0,0,{"$f":"+IFERROR(+IF(Inputs!O14=FALSE,0,+(+VLOOKUP(D20,Inputs!$I$12:$J$17,2,0))),0)","v":0},0,0,{"$f":"+IFERROR(+IF(Inputs!P14=FALSE,0,+(+VLOOKUP(D20,Inputs!$I$12:$J$17,2,0))),0)","v":0},0,0,{"$f":"+IFERROR(+IF(Inputs!Q14=FALSE,0,+(+VLOOKUP(D20,Inputs!$I$12:$J$17,2,0))),0)","v":0},0,0,{"$f":"+IFERROR(+IF(Inputs!R14=FALSE,0,+(+VLOOKUP(D20,Inputs!$I$12:$J$17,2,0))),0)","v":0},0,0,{"$f":"+IFERROR(+IF(Inputs!S14=FALSE,0,+(+VLOOKUP(D20,Inputs!$I$12:$J$17,2,0))),0)","v":0},0,0,{"$f":"+IFERROR(+IF(Inputs!T14=FALSE,0,+(+VLOOKUP(D20,Inputs!$I$12:$J$17,2,0))),0)","v":0},0,0,{"$f":"+IFERROR(+IF(Inputs!U14=FALSE,0,+(+VLOOKUP(D20,Inputs!$I$12:$J$17,2,0))),0)","v":0},0,0,{"$f":"+IFERROR(+IF(Inputs!V14=FALSE,0,+(+VLOOKUP(D20,Inputs!$I$12:$J$17,2,0))),0)","v":0},0,0,{"$f":"+IFERROR(+IF(Inputs!W14=FALSE,0,+(+VLOOKUP(D20,Inputs!$I$12:$J$17,2,0))),0)","v":0},0,0]
[null,null,10,{"$f":"+IFERROR(+IF(Inputs!I15=\"\",\"\",Inputs!I15),0)","v":""},0,{"$f":"+IFERROR(+IF(Inputs!L15=FALSE,0,+(+VLOOKUP(D21,Inputs!$I$12:$J$17,2,0))),0)","v":0},0,0,{"$f":"+IFERROR(+IF(Inputs!M15=FALSE,0,+(+VLOOKUP(D21,Inputs!$I$12:$J$17,2,0))),0)","v":0},0,0,{"$f":"+IFERROR(+IF(Inputs!N15=FALSE,0,+(+VLOOKUP(D21,Inputs!$I$12:$J$17,2,0))),0)","v":0},0,0,{"$f":"+IFERROR(+IF(Inputs!O15=FALSE,0,+(+VLOOKUP(D21,Inputs!$I$12:$J$17,2,0))),0)","v":0},0,0,{"$f":"+IFERROR(+IF(Inputs!P15=FALSE,0,+(+VLOOKUP(D21,Inputs!$I$12:$J$17,2,0))),0)","v":0},0,0,{"$f":"+IFERROR(+IF(Inputs!Q15=FALSE,0,+(+VLOOKUP(D21,Inputs!$I$12:$J$17,2,0))),0)","v":0},0,0,{"$f":"+IFERROR(+IF(Inputs!R15=FALSE,0,+(+VLOOKUP(D21,Inputs!$I$12:$J$17,2,0))),0)","v":0},0,0,{"$f":"+IFERROR(+IF(Inputs!S15=FALSE,0,+(+VLOOKUP(D21,Inputs!$I$12:$J$17,2,0))),0)","v":0},0,0,{"$f":"+IFERROR(+IF(Inputs!T15=FALSE,0,+(+VLOOKUP(D21,Inputs!$I$12:$J$17,2,0))),0)","v":0},0,0,{"$f":"+IFERROR(+IF(Inputs!U15=FALSE,0,+(+VLOOKUP(D21,Inputs!$I$12:$J$17,2,0))),0)","v":0},0,0,{"$f":"+IFERROR(+IF(Inputs!V15=FALSE,0,+(+VLOOKUP(D21,Inputs!$I$12:$J$17,2,0))),0)","v":0},0,0,{"$f":"+IFERROR(+IF(Inputs!W15=FALSE,0,+(+VLOOKUP(D21,Inputs!$I$12:$J$17,2,0))),0)","v":0},0,0]
[null,null,11,{"$f":"+IFERROR(+IF(Inputs!I16=\"\",\"\",Inputs!I16),0)","v":""},0,{"$f":"+IFERROR(+IF(Inputs!L16=FALSE,0,+(+VLOOKUP(D22,Inputs!$I$12:$J$17,2,0))),0)","v":0},0,0,{"$f":"+IFERROR(+IF(Inputs!M16=FALSE,0,+(+VLOOKUP(D22,Inputs!$I$12:$J$17,2,0))),0)","v":0},0,0,{"$f":"+IFERROR(+IF(Inputs!N16=FALSE,0,+(+VLOOKUP(D22,Inputs!$I$12:$J$17,2,0))),0)","v":0},0,0,{"$f":"+IFERROR(+IF(Inputs!O16=FALSE,0,+(+VLOOKUP(D22,Inputs!$I$12:$J$17,2,0))),0)","v":0},0,0,{"$f":"+IFERROR(+IF(Inputs!P16=FALSE,0,+(+VLOOKUP(D22,Inputs!$I$12:$J$17,2,0))),0)","v":0},0,0,{"$f":"+IFERROR(+IF(Inputs!Q16=FALSE,0,+(+VLOOKUP(D22,Inputs!$I$12:$J$17,2,0))),0)","v":0},0,0,{"$f":"+IFERROR(+IF(Inputs!R16=FALSE,0,+(+VLOOKUP(D22,Inputs!$I$12:$J$17,2,0))),0)","v":0},0,0,{"$f":"+IFERROR(+IF(Inputs!S16=FALSE,0,+(+VLOOKUP(D22,Inputs!$I$12:$J$17,2,0))),0)","v":0},0,0,{"$f":"+IFERROR(+IF(Inputs!T16=FALSE,0,+(+VLOOKUP(D22,Inputs!$I$12:$J$17,2,0))),0)","v":0},0,0,{"$f":"+IFERROR(+IF(Inputs!U16=FALSE,0,+(+VLOOKUP(D22,Inputs!$I$12:$J$17,2,0))),0)","v":0},0,0,{"$f":"+IFERROR(+IF(Inputs!V16=FALSE,0,+(+VLOOKUP(D22,Inputs!$I$12:$J$17,2,0))),0)","v":0},0,0,{"$f":"+IFERROR(+IF(Inputs!W16=FALSE,0,+(+VLOOKUP(D22,Inputs!$I$12:$J$17,2,0))),0)","v":0},0,0]
[null,null,12,{"$f":"+IFERROR(+IF(Inputs!I17=\"\",\"\",Inputs!I17),0)","v":""},0,{"$f":"+IFERROR(+IF(Inputs!L17=FALSE,0,+(+VLOOKUP(D23,Inputs!$I$12:$J$17,2,0))),0)","v":0},0,0,{"$f":"+IFERROR(+IF(Inputs!M17=FALSE,0,+(+VLOOKUP(D23,Inputs!$I$12:$J$17,2,0))),0)","v":0},0,0,{"$f":"+IFERROR(+IF(Inputs!N17=FALSE,0,+(+VLOOKUP(D23,Inputs!$I$12:$J$17,2,0))),0)","v":0},0,0,{"$f":"+IFERROR(+IF(Inputs!O17=FALSE,0,+(+VLOOKUP(D23,Inputs!$I$12:$J$17,2,0))),0)","v":0},0,0,{"$f":"+IFERROR(+IF(Inputs!P17=FALSE,0,+(+VLOOKUP(D23,Inputs!$I$12:$J$17,2,0))),0)","v":0},0,0,{"$f":"+IFERROR(+IF(Inputs!Q17=FALSE,0,+(+VLOOKUP(D23,Inputs!$I$12:$J$17,2,0))),0)","v":0},0,0,{"$f":"+IFERROR(+IF(Inputs!R17=FALSE,0,+(+VLOOKUP(D23,Inputs!$I$12:$J$17,2,0))),0)","v":0},0,0,{"$f":"+IFERROR(+IF(Inputs!S17=FALSE,0,+(+VLOOKUP(D23,Inputs!$I$12:$J$17,2,0))),0)","v":0},0,0,{"$f":"+IFERROR(+IF(Inputs!T17=FALSE,0,+(+VLOOKUP(D23,Inputs!$I$12:$J$17,2,0))),0)","v":0},0,0,{"$f":"+IFERROR(+IF(Inputs!U17=FALSE,0,+(+VLOOKUP(D23,Inputs!$I$12:$J$17,2,0))),0)","v":0},0,0,{"$f":"+IFERROR(+IF(Inputs!V17=FALSE,0,+(+VLOOKUP(D23,Inputs!$I$12:$J$17,2,0))),0)","v":0},0,0,{"$f":"+IFERROR(+IF(Inputs!W17=FALSE,0,+(+VLOOKUP(D23,Inputs!$I$12:$J$17,2,0))),0)","v":0},0,0]
[null,null,"Resumen","TOTAL INGRESO",null,{"$f":"+SUM(F12:F23)","v":0},{"$f":"+SUM(G12:G23)","v":0},{"$f":"+IFERROR(+(F24-G24),0)","v":0},{"$f":"+SUM(I12:I23)","v":0},{"$f":"+SUM(J12:J23)","v":0},{"$f":"+IFERROR(+(I24-J24),0)","v":0},{"$f":"+SUM(L12:L23)","v":0},{"$f":"+SUM(M12:M23)","v":0},{"$f":"+IFERROR(+(L24-M24),0)","v":0},{"$f":"+SUM(O12:O23)","v":0},{"$f":"+SUM(P12:P23)","v":0},{"$f":"+IFERROR(+(O24-P24),0)","v":0},{"$f":"+SUM(R12:R23)","v":0},{"$f":"+SUM(S12:S23)","v":0},{"$f":"+IFERROR(+(R24-S24),0)","v":0},{"$f":"+SUM(U12:U23)","v":0},{"$f":"+SUM(V12:V23)","v":0},{"$f":"+IFERROR(+(U24-V24),0)","v":0},{"$f":"+SUM(X12:X23)","v":0},{"$f":"+SUM(Y12:Y23)","v":0},{"$f":"+IFERROR(+(X24-Y24),0)","v":0},{"$f":"+SUM(AA12:AA23)","v":0},{"$f":"+SUM(AB12:AB23)","v":0},{"$f":"+IFERROR(+(AA24-AB24),0)","v":0},{"$f":"+SUM(AD12:AD23)","v":0},{"$f":"+SUM(AE12:AE23)","v":0},{"$f":"+IFERROR(+(AD24-AE24),0)","v":0},{"$f":"+SUM(AG12:AG23)","v":0},{"$f":"+SUM(AH12:AH23)","v":0},{"$f":"+IFERROR(+(AG24-AH24),0)","v":0},{"$f":"+SUM(AJ12:AJ23)","v":0},{"$f":"+SUM(AK12:AK23)","v":0},{"$f":"+IFERROR(+(AJ24-AK24),0)","v":0},{"$f":"+SUM(AM12:AM23)","v":0},{"$f":"+SUM(AN12:AN23)","v":0},{"$f":"+IFERROR(+(AM24-AN24),0)","v":0}]
[null,null,"Resumen",1]
[null,null,"Resumen",1]
[null,null,1,{"$f":"+IFERROR(+IF(Inputs!D22=\"\",\"\",Inputs!D22),0)","v":"Para comprar casa propia  (ejemplo)"},{"$f":"+IFERROR((G27+J27+M27+P27+S27+V27+Y27+AB27+AE27+AH27+AK27+AN27)/($G$24+$J$24+$M$24+$P$24+$S$24+$V$24+$Y$24+$AB$24+$AE$24+$AH$24+$AK$24+$AN$24),0)","v":0},{"$f":"+IFERROR((+VLOOKUP(D27,Inputs!$D$22:$E$26,2,0)),0)","v":0},0,{"$f":"+IFERROR(+(F27-G27),0)","v":0},{"$f":"+F27","v":0},0,{"$f":"+IFERROR(+(I27-J27),0)","v":0},{"$f":"+I27","v":0},0,{"$f":"+IFERROR(+(L27-M27),0)","v":0},{"$f":"+L27","v":0},0,{"$f":"+IFERROR(+(O27-P27),0)","v":0},{"$f":"+O27","v":0},0,{"$f":"+IFERROR(+(R27-S27),0)","v":0},{"$f":"+R27","v":0},0,{"$f":"+IFERROR(+(U27-V27),0)","v":0},{"$f":"+U27","v":0},0,{"$f":"+IFERROR(+(X27-Y27),0)","v":0},{"$f":"+X27","v":0},0,{"$f":"+IFERROR(+(AA27-AB27),0)","v":0},{"$f":"+AA27","v":0},0,{"$f":"+IFERROR(+(AD27-AE27),0)","v":0},{"$f":"+AD27","v":0},0,{"$f":"+IFERROR(+(AG27-AH27),0)","v":0},{"$f":"+AG27","v":0},0,{"$f":"+IFERROR(+(AJ27-AK27),0)","v":0},{"$f":"+AJ27","v":0},0,{"$f":"+IFERROR(+(AM27-AN27),0)","v":0}]
[null,null,2,{"$f":"+IFERROR(+IF(Inputs!D23=\"\",\"\",Inputs!D23),0)","v":"Postgrado Luisa  (ejemplo)"},0,{"$f":"+IFERROR((+VLOOKUP(D28,Inputs!$D$22:$E$26,2,0)),0)","v":0},0,{"$f":"+IFERROR(+(F28-G28),0)","v":0},0,0,{"$f":"+IFERROR(+(I28-J28),0)","v":0},0,0,{"$f":"+IFERROR(+(L28-M28),0)","v":0},0,0,{"$f":"+IFERROR(+(O28-P28),0)","v":0},0,0,{"$f":"+IFERROR(+(R28-S28),0)","v":0},0,0,{"$f":"+IFERROR(+(U28-V28),0)","v":0},0,0,{"$f":"+IFERROR(+(X28-Y28),0)","v":0},0,0,{"$f":"+IFERROR(+(AA28-AB28),0)","v":0},0,0,{"$f":"+IFERROR(+(AD28-AE28),0)","v":0},0,0,{"$f":"+IFERROR(+(AG28-AH28),0)","v":0},0,0,{"$f":"+IFERROR(+(AJ28-AK28),0)","v":0},0,0,0]
[null,null,3,{"$f":"+IFERROR(+IF(Inputs!D24=\"\",\"\",Inputs!D24),0)","v":"Jubilación  (ejemplo)"},0,{"$f":"+IFERROR((+VLOOKUP(D29,Inputs!$D$22:$E$26,2,0)),0)","v":0},0,0,0,0,0,0,0,0,0,0,0,0,0,0,0,0,0,0,0,0,0,0,0,0,0,0,0,0,0,0,0,0,0,0,0]
[null,null,4,{"$f":"+IFERROR(+IF(Inputs!D25=\"\",\"\",Inputs!D25),0)","v":""},0,{"$f":"+IFERROR((+VLOOKUP(D30,Inputs!$D$22:$E$26,2,0)),0)","v":0},0,0,0,0,0,0,0,0,0,0,0,0,0,0,0,0,0,0,0,0,0,0,0,0,0,0,0,0,0,0,0,0,0,0,0]
[null,null,5,{"$f":"+IFERROR(+IF(Inputs!D26=\"\",\"\",Inputs!D26),0)","v":""},0,{"$f":"+IFERROR((+VLOOKUP(D31,Inputs!$D$22:$E$26,2,0)),0)","v":0},0,0,0,0,0,0,0,0,0,0,0,0,0,0,0,0,0,0,0,0,0,0,0,0,0,0,0,0,0,0,0,0,0,0,0]
[null,null,6,{"$f":"+IFERROR(+IF(Inputs!I22=\"\",\"\",Inputs!I22),0)","v":"Abono extra a casa propia (ejemplo)"},0,{"$f":"+IFERROR(+IF(Inputs!L22=FALSE,0,+(+VLOOKUP(D32,Inputs!$I$22:$J$26,2,0))),0)","v":0},0,0,{"$f":"+IFERROR(+IF(Inputs!M22=FALSE,0,+(+VLOOKUP(D32,Inputs!$I$22:$J$26,2,0))),0)","v":0},0,{"$f":"+IFERROR(+(I32-J32),0)","v":0},{"$f":"+IFERROR(+IF(Inputs!N22=FALSE,0,+(+VLOOKUP(D32,Inputs!$I$22:$J$26,2,0))),0)","v":0},0,{"$f":"+IFERROR(+(L32-M32),0)","v":0},{"$f":"+IFERROR(+IF(Inputs!O22=FALSE,0,+(+VLOOKUP(D32,Inputs!$I$22:$J$26,2,0))),0)","v":0},0,{"$f":"+IFERROR(+(O32-P32),0)","v":0},{"$f":"+IFERROR(+IF(Inputs!P22=FALSE,0,+(+VLOOKUP(D32,Inputs!$I$22:$J$26,2,0))),0)","v":0},0,{"$f":"+IFERROR(+(R32-S32),0)","v":0},{"$f":"+IFERROR(+IF(Inputs!Q22=FALSE,0,+(+VLOOKUP(D32,Inputs!$I$22:$J$26,2,0))),0)","v":0},0,{"$f":"+IFERROR(+(U32-V32),0)","v":0},{"$f":"+IFERROR(+IF(Inputs!R22=FALSE,0,+(+VLOOKUP(D32,Inputs!$I$22:$J$26,2,0))),0)","v":0},0,{"$f":"+IFERROR(+(X32-Y32),0)","v":0},{"$f":"+IFERROR(+IF(Inputs!S22=FALSE,0,+(+VLOOKUP(D32,Inputs!$I$22:$J$26,2,0))),0)","v":0},0,{"$f":"+IFERROR(+(AA32-AB32),0)","v":0},{"$f":"+IFERROR(+IF(Inputs!T22=FALSE,0,+(+VLOOKUP(D32,Inputs!$I$22:$J$26,2,0))),0)","v":0},0,{"$f":"+IFERROR(+(AD32-AE32),0)","v":0},{"$f":"+IFERROR(+IF(Inputs!U22=FALSE,0,+(+VLOOKUP(D32,Inputs!$I$22:$J$26,2,0))),0)","v":0},0,{"$f":"+IFERROR(+(AG32-AH32),0)","v":0},{"$f":"+IFERROR(+IF(Inputs!V22=FALSE,0,+(+VLOOKUP(D32,Inputs!$I$22:$J$26,2,0))),0)","v":0},0,{"$f":"+IFERROR(+(AJ32-AK32),0)","v":0},{"$f":"+IFERROR(+IF(Inputs!W22=FALSE,0,+(+VLOOKUP(D32,Inputs!$I$22:$J$26,2,0))),0)","v":0},0,{"$f":"+IFERROR(+(AM32-AN32),0)","v":0}]
[null,null,7,{"$f":"+IFERROR(+IF(Inputs!I23=\"\",\"\",Inputs!I23),0)","v":""},0,{"$f":"+IFERROR(+IF(Inputs!L23=FALSE,0,+(+VLOOKUP(D33,Inputs!$I$22:$J$26,2,0))),0)","v":0},0,0,{"$f":"+IFERROR(+IF(Inputs!M23=FALSE,0,+(+VLOOKUP(D33,Inputs!$I$22:$J$26,2,0))),0)","v":0},0,{"$f":"+IFERROR(+(I33-J33),0)","v":0},{"$f":"+IFERROR(+IF(Inputs!N23=FALSE,0,+(+VLOOKUP(D33,Inputs!$I$22:$J$26,2,0))),0)","v":0},0,{"$f":"+IFERROR(+(L33-M33),0)","v":0},{"$f":"+IFERROR(+IF(Inputs!O23=FALSE,0,+(+VLOOKUP(D33,Inputs!$I$22:$J$26,2,0))),0)","v":0},0,{"$f":"+IFERROR(+(O33-P33),0)","v":0},{"$f":"+IFERROR(+IF(Inputs!P23=FALSE,0,+(+VLOOKUP(D33,Inputs!$I$22:$J$26,2,0))),0)","v":0},0,{"$f":"+IFERROR(+(R33-S33),0)","v":0},{"$f":"+IFERROR(+IF(Inputs!Q23=FALSE,0,+(+VLOOKUP(D33,Inputs!$I$22:$J$26,2,0))),0)","v":0},0,{"$f":"+IFERROR(+(U33-V33),0)","v":0},{"$f":"+IFERROR(+IF(Inputs!R23=FALSE,0,+(+VLOOKUP(D33,Inputs!$I$22:$J$26,2,0))),0)","v":0},0,{"$f":"+IFERROR(+(X33-Y33),0)","v":0},{"$f":"+IFERROR(+IF(Inputs!S23=FALSE,0,+(+VLOOKUP(D33,Inputs!$I$22:$J$26,2,0))),0)","v":0},0,{"$f":"+IFERROR(+(AA33-AB33),0)","v":0},{"$f":"+IFERROR(+IF(Inputs!T23=FALSE,0,+(+VLOOKUP(D33,Inputs!$I$22:$J$26,2,0))),0)","v":0},0,{"$f":"+IFERROR(+(AD33-AE33),0)","v":0},{"$f":"+IFERROR(+IF(Inputs!U23=FALSE,0,+(+VLOOKUP(D33,Inputs!$I$22:$J$26,2,0))),0)","v":0},0,{"$f":"+IFERROR(+(AG33-AH33),0)","v":0},{"$f":"+IFERROR(+IF(Inputs!V23=FALSE,0,+(+VLOOKUP(D33,Inputs!$I$22:$J$26,2,0))),0)","v":0},0,{"$f":"+IFERROR(+(AJ33-AK33),0)","v":0},{"$f":"+IFERROR(+IF(Inputs!W23=FALSE,0,+(+VLOOKUP(D33,Inputs!$I$22:$J$26,2,0))),0)","v":0},0,{"$f":"+IFERROR(+(AM33-AN33),0)","v":0}]
[null,null,8,{"$f":"+IFERROR(+IF(Inputs!I24=\"\",\"\",Inputs!I24),0)","v":""},0,{"$f":"+IFERROR(+IF(Inputs!L24=FALSE,0,+(+VLOOKUP(D34,Inputs!$I$22:$J$26,2,0))),0)","v":0},0,0,{"$f":"+IFERROR(+IF(Inputs!M24=FALSE,0,+(+VLOOKUP(D34,Inputs!$I$22:$J$26,2,0))),0)","v":0},0,0,{"$f":"+IFERROR(+IF(Inputs!N24=FALSE,0,+(+VLOOKUP(D34,Inputs!$I$22:$J$26,2,0))),0)","v":0},0,0,{"$f":"+IFERROR(+IF(Inputs!O24=FALSE,0,+(+VLOOKUP(D34,Inputs!$I$22:$J$26,2,0))),0)","v":0},0,0,{"$f":"+IFERROR(+IF(Inputs!P24=FALSE,0,+(+VLOOKUP(D34,Inputs!$I$22:$J$26,2,0))),0)","v":0},0,0,{"$f":"+IFERROR(+IF(Inputs!Q24=FALSE,0,+(+VLOOKUP(D34,Inputs!$I$22:$J$26,2,0))),0)","v":0},0,0,{"$f":"+IFERROR(+IF(Inputs!R24=FALSE,0,+(+VLOOKUP(D34,Inputs!$I$22:$J$26,2,0))),0)","v":0},0,0,{"$f":"+IFERROR(+IF(Inputs!S24=FALSE,0,+(+VLOOKUP(D34,Inputs!$I$22:$J$26,2,0))),0)","v":0},0,0,{"$f":"+IFERROR(+IF(Inputs!T24=FALSE,0,+(+VLOOKUP(D34,Inputs!$I$22:$J$26,2,0))),0)","v":0},0,0,{"$f":"+IFERROR(+IF(Inputs!U24=FALSE,0,+(+VLOOKUP(D34,Inputs!$I$22:$J$26,2,0))),0)","v":0},0,0,{"$f":"+IFERROR(+IF(Inputs!V24=FALSE,0,+(+VLOOKUP(D34,Inputs!$I$22:$J$26,2,0))),0)","v":0},0,0,{"$f":"+IFERROR(+IF(Inputs!W24=FALSE,0,+(+VLOOKUP(D34,Inputs!$I$22:$J$26,2,0))),0)","v":0},0,0]
[null,null,9,{"$f":"+IFERROR(+IF(Inputs!I25=\"\",\"\",Inputs!I25),0)","v":""},0,{"$f":"+IFERROR(+IF(Inputs!L25=FALSE,0,+(+VLOOKUP(D35,Inputs!$I$22:$J$26,2,0))),0)","v":0},0,0,{"$f":"+IFERROR(+IF(Inputs!M25=FALSE,0,+(+VLOOKUP(D35,Inputs!$I$22:$J$26,2,0))),0)","v":0},0,0,{"$f":"+IFERROR(+IF(Inputs!N25=FALSE,0,+(+VLOOKUP(D35,Inputs!$I$22:$J$26,2,0))),0)","v":0},0,0,{"$f":"+IFERROR(+IF(Inputs!O25=FALSE,0,+(+VLOOKUP(D35,Inputs!$I$22:$J$26,2,0))),0)","v":0},0,0,{"$f":"+IFERROR(+IF(Inputs!P25=FALSE,0,+(+VLOOKUP(D35,Inputs!$I$22:$J$26,2,0))),0)","v":0},0,0,{"$f":"+IFERROR(+IF(Inputs!Q25=FALSE,0,+(+VLOOKUP(D35,Inputs!$I$22:$J$26,2,0))),0)","v":0},0,0,{"$f":"+IFERROR(+IF(Inputs!R25=FALSE,0,+(+VLOOKUP(D35,Inputs!$I$22:$J$26,2,0))),0)","v":0},0,0,{"$f":"+IFERROR(+IF(Inputs!S25=FALSE,0,+(+VLOOKUP(D35,Inputs!$I$22:$J$26,2,0))),0)","v":0},0,0,{"$f":"+IFERROR(+IF(Inputs!T25=FALSE,0,+(+VLOOKUP(D35,Inputs!$I$22:$J$26,2,0))),0)","v":0},0,0,{"$f":"+IFERROR(+IF(Inputs!U25=FALSE,0,+(+VLOOKUP(D35,Inputs!$I$22:$J$26,2,0))),0)","v":0},0,0,{"$f":"+IFERROR(+IF(Inputs!V25=FALSE,0,+(+VLOOKUP(D35,Inputs!$I$22:$J$26,2,0))),0)","v":0},0,0,{"$f":"+IFERROR(+IF(Inputs!W25=FALSE,0,+(+VLOOKUP(D35,Inputs!$I$22:$J$26,2,0))),0)","v":0},0,0]
[null,null,10,{"$f":"+IFERROR(+IF(Inputs!I26=\"\",\"\",Inputs!I26),0)","v":""},0,{"$f":"+IFERROR(+IF(Inputs!L26=FALSE,0,+(+VLOOKUP(D36,Inputs!$I$22:$J$26,2,0))),0)","v":0},0,0,{"$f":"+IFERROR(+IF(Inputs!M26=FALSE,0,+(+VLOOKUP(D36,Inputs!$I$22:$J$26,2,0))),0)","v":0},0,0,{"$f":"+IFERROR(+IF(Inputs!N26=FALSE,0,+(+VLOOKUP(D36,Inputs!$I$22:$J$26,2,0))),0)","v":0},0,0,{"$f":"+IFERROR(+IF(Inputs!O26=FALSE,0,+(+VLOOKUP(D36,Inputs!$I$22:$J$26,2,0))),0)","v":0},0,0,{"$f":"+IFERROR(+IF(Inputs!P26=FALSE,0,+(+VLOOKUP(D36,Inputs!$I$22:$J$26,2,0))),0)","v":0},0,0,{"$f":"+IFERROR(+IF(Inputs!Q26=FALSE,0,+(+VLOOKUP(D36,Inputs!$I$22:$J$26,2,0))),0)","v":0},0,0,{"$f":"+IFERROR(+IF(Inputs!R26=FALSE,0,+(+VLOOKUP(D36,Inputs!$I$22:$J$26,2,0))),0)","v":0},0,0,{"$f":"+IFERROR(+IF(Inputs!S26=FALSE,0,+(+VLOOKUP(D36,Inputs!$I$22:$J$26,2,0))),0)","v":0},0,0,{"$f":"+IFERROR(+IF(Inputs!T26=FALSE,0,+(+VLOOKUP(D36,Inputs!$I$22:$J$26,2,0))),0)","v":0},0,0,{"$f":"+IFERROR(+IF(Inputs!U26=FALSE,0,+(+VLOOKUP(D36,Inputs!$I$22:$J$26,2,0))),0)","v":0},0,0,{"$f":"+IFERROR(+IF(Inputs!V26=FALSE,0,+(+VLOOKUP(D36,Inputs!$I$22:$J$26,2,0))),0)","v":0},0,0,{"$f":"+IFERROR(+IF(Inputs!W26=FALSE,0,+(+VLOOKUP(D36,Inputs!$I$22:$J$26,2,0))),0)","v":0},0,0]
[null,null,"Resumen","TOTAL AHORRO",0,{"$f":"+SUM(F27:F36)","v":0},{"$f":"+SUM(G27:G36)","v":0},0,{"$f":"+SUM(I27:I36)","v":0},{"$f":"+SUM(J27:J36)","v":0},0,{"$f":"+SUM(L27:L36)","v":0},{"$f":"+SUM(M27:M36)","v":0},0,{"$f":"+SUM(O27:O36)","v":0},{"$f":"+SUM(P27:P36)","v":0},0,{"$f":"+SUM(R27:R36)","v":0},{"$f":"+SUM(S27:S36)","v":0},0,{"$f":"+SUM(U27:U36)","v":0},{"$f":"+SUM(V27:V36)","v":0},0,{"$f":"+SUM(X27:X36)","v":0},{"$f":"+SUM(Y27:Y36)","v":0},0,{"$f":"+SUM(AA27:AA36)","v":0},{"$f":"+SUM(AB27:AB36)","v":0},0,{"$f":"+SUM(AD27:AD36)","v":0},{"$f":"+SUM(AE27:AE36)","v":0},0,{"$f":"+SUM(AG27:AG36)","v":0},{"$f":"+SUM(AH27:AH36)","v":0},0,{"$f":"+SUM(AJ27:AJ36)","v":0},{"$f":"+SUM(AK27:AK36)","v":0},0,{"$f":"+SUM(AM27:AM36)","v":0},{"$f":"+SUM(AN27:AN36)","v":0},0]
[null,null,null,1]
[null,null,null,1]
[null,null,1,{"$f":"+IFERROR(+IF(Inputs!D31=\"\",\"\",Inputs!D31),0)","v":"Crédito de vehículo (ejemplo)"},{"$f":"+IFERROR((G40+J40+M40+P40+S40+V40+Y40+AB40+AE40+AH40+AK40+AN40)/($G$24+$J$24+$M$24+$P$24+$S$24+$V$24+$Y$24+$AB$24+$AE$24+$AH$24+$AK$24+$AN$24),0)","v":0},{"$f":"+IFERROR((+VLOOKUP(D40,Inputs!$D$31:$E$36,2,0)),0)","v":0},0,{"$f":"+IFERROR(+(F40-G40),0)","v":0},{"$f":"+F40","v":0},0,{"$f":"+IFERROR(+(I40-J40),0)","v":0},{"$f":"+I40","v":0},0,{"$f":"+IFERROR(+(L40-M40),0)","v":0},{"$f":"+L40","v":0},0,{"$f":"+IFERROR(+(O40-P40),0)","v":0},{"$f":"+O40","v":0},0,{"$f":"+IFERROR(+(R40-S40),0)","v":0},{"$f":"+R40","v":0},0,{"$f":"+IFERROR(+(U40-V40),0)","v":0},{"$f":"+U40","v":0},0,{"$f":"+IFERROR(+(X40-Y40),0)","v":0},{"$f":"+X40","v":0},0,{"$f":"+IFERROR(+(AA40-AB40),0)","v":0},{"$f":"+AA40","v":0},0,{"$f":"+IFERROR(+(AD40-AE40),0)","v":0},{"$f":"+AD40","v":0},0,{"$f":"+IFERROR(+(AG40-AH40),0)","v":0},{"$f":"+AG40","v":0},0,{"$f":"+IFERROR(+(AJ40-AK40),0)","v":0},{"$f":"+AJ40","v":0},0,{"$f":"+IFERROR(+(AM40-AN40),0)","v":0}]
[null,null,2,{"$f":"+IFERROR(+IF(Inputs!D32=\"\",\"\",Inputs!D32),0)","v":"Tarjeta de crédito 1 (ejemplo)"},0,{"$f":"+IFERROR((+VLOOKUP(D41,Inputs!$D$31:$E$36,2,0)),0)","v":0},0,{"$f":"+IFERROR(+(F41-G41),0)","v":0},0,0,{"$f":"+IFERROR(+(I41-J41),0)","v":0},0,0,{"$f":"+IFERROR(+(L41-M41),0)","v":0},0,0,{"$f":"+IFERROR(+(O41-P41),0)","v":0},0,0,{"$f":"+IFERROR(+(R41-S41),0)","v":0},0,0,{"$f":"+IFERROR(+(U41-V41),0)","v":0},0,0,{"$f":"+IFERROR(+(X41-Y41),0)","v":0},0,0,{"$f":"+IFERROR(+(AA41-AB41),0)","v":0},0,0,{"$f":"+IFERROR(+(AD41-AE41),0)","v":0},0,0,{"$f":"+IFERROR(+(AG41-AH41),0)","v":0},0,0,{"$f":"+IFERROR(+(AJ41-AK41),0)","v":0},0,0,0]
[null,null,3,{"$f":"+IFERROR(+IF(Inputs!D33=\"\",\"\",Inputs!D33),0)","v":""},0,{"$f":"+IFERROR((+VLOOKUP(D42,Inputs!$D$31:$E$36,2,0)),0)","v":0},0,0,0,0,0,0,0,0,0,0,0,0,0,0,0,0,0,0,0,0,0,0,0,0,0,0,0,0,0,0,0,0,0,0,0]
[null,null,4,{"$f":"+IFERROR(+IF(Inputs!D34=\"\",\"\",Inputs!D34),0)","v":""},0,{"$f":"+IFERROR((+VLOOKUP(D43,Inputs!$D$31:$E$36,2,0)),0)","v":0},0,0,0,0,0,0,0,0,0,0,0,0,0,0,0,0,0,0,0,0,0,0,0,0,0,0,0,0,0,0,0,0,0,0,0]
[null,null,5,{"$f":"+IFERROR(+IF(Inputs!D35=\"\",\"\",Inputs!D35),0)","v":""},0,{"$f":"+IFERROR((+VLOOKUP(D44,Inputs!$D$31:$E$36,2,0)),0)","v":0},0,0,0,0,0,0,0,0,0,0,0,0,0,0,0,0,0,0,0,0,0,0,0,0,0,0,0,0,0,0,0,0,0,0,0]
[null,null,6,{"$f":"+IFERROR(+IF(Inputs!D36=\"\",\"\",Inputs!D36),0)","v":""},0,{"$f":"+IFERROR((+VLOOKUP(D45,Inputs!$D$31:$E$36,2,0)),0)","v":0},0,0,0,0,0,0,0,0,0,0,0,0,0,0,0,0,0,0,0,0,0,0,0,0,0,0,0,0,0,0,0,0,0,0,0]
[null,null,7,{"$f":"+IFERROR(+IF(Inputs!I31=\"\",\"\",Inputs!I31),0)","v":"Abono trimestral préstamo (ejemplo)"},0,{"$f":"+IFERROR(+IF(Inputs!L31=FALSE,0,+(+VLOOKUP(D46,Inputs!$I$31:$J$36,2,0))),0)","v":0},0,0,{"$f":"+IFERROR(+IF(Inputs!M31=FALSE,0,+(+VLOOKUP(D46,Inputs!$I$31:$J$36,2,0))),0)","v":0},0,0,{"$f":"+IFERROR(+IF(Inputs!N31=FALSE,0,+(+VLOOKUP(D46,Inputs!$I$31:$J$36,2,0))),0)","v":0},0,0,{"$f":"+IFERROR(+IF(Inputs!O31=FALSE,0,+(+VLOOKUP(D46,Inputs!$I$31:$J$36,2,0))),0)","v":0},0,0,{"$f":"+IFERROR(+IF(Inputs!P31=FALSE,0,+(+VLOOKUP(D46,Inputs!$I$31:$J$36,2,0))),0)","v":0},0,0,{"$f":"+IFERROR(+IF(Inputs!Q31=FALSE,0,+(+VLOOKUP(D46,Inputs!$I$31:$J$36,2,0))),0)","v":0},0,0,{"$f":"+IFERROR(+IF(Inputs!R31=FALSE,0,+(+VLOOKUP(D46,Inputs!$I$31:$J$36,2,0))),0)","v":0},0,0,{"$f":"+IFERROR(+IF(Inputs!S31=FALSE,0,+(+VLOOKUP(D46,Inputs!$I$31:$J$36,2,0))),0)","v":0},0,0,{"$f":"+IFERROR(+IF(Inputs!T31=FALSE,0,+(+VLOOKUP(D46,Inputs!$I$31:$J$36,2,0))),0)","v":0},0,0,{"$f":"+IFERROR(+IF(Inputs!U31=FALSE,0,+(+VLOOKUP(D46,Inputs!$I$31:$J$36,2,0))),0)","v":0},0,0,{"$f":"+IFERROR(+IF(Inputs!V31=FALSE,0,+(+VLOOKUP(D46,Inputs!$I$31:$J$36,2,0))),0)","v":0},0,0,{"$f":"+IFERROR(+IF(Inputs!W31=FALSE,0,+(+VLOOKUP(D46,Inputs!$I$31:$J$36,2,0))),0)","v":0},0,0]
[null,null,8,{"$f":"+IFERROR(+IF(Inputs!I32=\"\",\"\",Inputs!I32),0)","v":""},0,{"$f":"+IFERROR(+IF(Inputs!L32=FALSE,0,+(+VLOOKUP(D47,Inputs!$I$31:$J$36,2,0))),0)","v":0},0,0,{"$f":"+IFERROR(+IF(Inputs!M32=FALSE,0,+(+VLOOKUP(D47,Inputs!$I$31:$J$36,2,0))),0)","v":0},0,{"$f":"+IFERROR(+(I47-J47),0)","v":0},{"$f":"+IFERROR(+IF(Inputs!N32=FALSE,0,+(+VLOOKUP(D47,Inputs!$I$31:$J$36,2,0))),0)","v":0},0,{"$f":"+IFERROR(+(L47-M47),0)","v":0},{"$f":"+IFERROR(+IF(Inputs!O32=FALSE,0,+(+VLOOKUP(D47,Inputs!$I$31:$J$36,2,0))),0)","v":0},0,{"$f":"+IFERROR(+(O47-P47),0)","v":0},{"$f":"+IFERROR(+IF(Inputs!P32=FALSE,0,+(+VLOOKUP(D47,Inputs!$I$31:$J$36,2,0))),0)","v":0},0,{"$f":"+IFERROR(+(R47-S47),0)","v":0},{"$f":"+IFERROR(+IF(Inputs!Q32=FALSE,0,+(+VLOOKUP(D47,Inputs!$I$31:$J$36,2,0))),0)","v":0},0,{"$f":"+IFERROR(+(U47-V47),0)","v":0},{"$f":"+IFERROR(+IF(Inputs!R32=FALSE,0,+(+VLOOKUP(D47,Inputs!$I$31:$J$36,2,0))),0)","v":0},0,{"$f":"+IFERROR(+(X47-Y47),0)","v":0},{"$f":"+IFERROR(+IF(Inputs!S32=FALSE,0,+(+VLOOKUP(D47,Inputs!$I$31:$J$36,2,0))),0)","v":0},0,{"$f":"+IFERROR(+(AA47-AB47),0)","v":0},{"$f":"+IFERROR(+IF(Inputs!T32=FALSE,0,+(+VLOOKUP(D47,Inputs!$I$31:$J$36,2,0))),0)","v":0},0,{"$f":"+IFERROR(+(AD47-AE47),0)","v":0},{"$f":"+IFERROR(+IF(Inputs!U32=FALSE,0,+(+VLOOKUP(D47,Inputs!$I$31:$J$36,2,0))),0)","v":0},0,{"$f":"+IFERROR(+(AG47-AH47),0)","v":0},{"$f":"+IFERROR(+IF(Inputs!V32=FALSE,0,+(+VLOOKUP(D47,Inputs!$I$31:$J$36,2,0))),0)","v":0},0,{"$f":"+IFERROR(+(AJ47-AK47),0)","v":0},{"$f":"+IFERROR(+IF(Inputs!W32=FALSE,0,+(+VLOOKUP(D47,Inputs!$I$31:$J$36,2,0))),0)","v":0},0,0]
[null,null,9,{"$f":"+IFERROR(+IF(Inputs!I33=\"\",\"\",Inputs!I33),0)","v":""},0,{"$f":"+IFERROR(+IF(Inputs!L33=FALSE,0,+(+VLOOKUP(D48,Inputs!$I$31:$J$36,2,0))),0)","v":0},0,0,{"$f":"+IFERROR(+IF(Inputs!M33=FALSE,0,+(+VLOOKUP(D48,Inputs!$I$31:$J$36,2,0))),0)","v":0},0,0,{"$f":"+IFERROR(+IF(Inputs!N33=FALSE,0,+(+VLOOKUP(D48,Inputs!$I$31:$J$36,2,0))),0)","v":0},0,0,{"$f":"+IFERROR(+IF(Inputs!O33=FALSE,0,+(+VLOOKUP(D48,Inputs!$I$31:$J$36,2,0))),0)","v":0},0,0,{"$f":"+IFERROR(+IF(Inputs!P33=FALSE,0,+(+VLOOKUP(D48,Inputs!$I$31:$J$36,2,0))),0)","v":0},0,0,{"$f":"+IFERROR(+IF(Inputs!Q33=FALSE,0,+(+VLOOKUP(D48,Inputs!$I$31:$J$36,2,0))),0)","v":0},0,0,{"$f":"+IFERROR(+IF(Inputs!R33=FALSE,0,+(+VLOOKUP(D48,Inputs!$I$31:$J$36,2,0))),0)","v":0},0,0,{"$f":"+IFERROR(+IF(Inputs!S33=FALSE,0,+(+VLOOKUP(D48,Inputs!$I$31:$J$36,2,0))),0)","v":0},0,0,{"$f":"+IFERROR(+IF(Inputs!T33=FALSE,0,+(+VLOOKUP(D48,Inputs!$I$31:$J$36,2,0))),0)","v":0},0,0,{"$f":"+IFERROR(+IF(Inputs!U33=FALSE,0,+(+VLOOKUP(D48,Inputs!$I$31:$J$36,2,0))),0)","v":0},0,0,{"$f":"+IFERROR(+IF(Inputs!V33=FALSE,0,+(+VLOOKUP(D48,Inputs!$I$31:$J$36,2,0))),0)","v":0},0,0,{"$f":"+IFERROR(+IF(Inputs!W33=FALSE,0,+(+VLOOKUP(D48,Inputs!$I$31:$J$36,2,0))),0)","v":0},0,0]
[null,null,10,{"$f":"+IFERROR(+IF(Inputs!I34=\"\",\"\",Inputs!I34),0)","v":""},0,{"$f":"+IFERROR(+IF(Inputs!L34=FALSE,0,+(+VLOOKUP(D49,Inputs!$I$31:$J$36,2,0))),0)","v":0},0,0,{"$f":"+IFERROR(+IF(Inputs!M34=FALSE,0,+(+VLOOKUP(D49,Inputs!$I$31:$J$36,2,0))),0)","v":0},0,0,{"$f":"+IFERROR(+IF(Inputs!N34=FALSE,0,+(+VLOOKUP(D49,Inputs!$I$31:$J$36,2,0))),0)","v":0},0,0,{"$f":"+IFERROR(+IF(Inputs!O34=FALSE,0,+(+VLOOKUP(D49,Inputs!$I$31:$J$36,2,0))),0)","v":0},0,0,{"$f":"+IFERROR(+IF(Inputs!P34=FALSE,0,+(+VLOOKUP(D49,Inputs!$I$31:$J$36,2,0))),0)","v":0},0,0,{"$f":"+IFERROR(+IF(Inputs!Q34=FALSE,0,+(+VLOOKUP(D49,Inputs!$I$31:$J$36,2,0))),0)","v":0},0,0,{"$f":"+IFERROR(+IF(Inputs!R34=FALSE,0,+(+VLOOKUP(D49,Inputs!$I$31:$J$36,2,0))),0)","v":0},0,0,{"$f":"+IFERROR(+IF(Inputs!S34=FALSE,0,+(+VLOOKUP(D49,Inputs!$I$31:$J$36,2,0))),0)","v":0},0,0,{"$f":"+IFERROR(+IF(Inputs!T34=FALSE,0,+(+VLOOKUP(D49,Inputs!$I$31:$J$36,2,0))),0)","v":0},0,0,{"$f":"+IFERROR(+IF(Inputs!U34=FALSE,0,+(+VLOOKUP(D49,Inputs!$I$31:$J$36,2,0))),0)","v":0},0,0,{"$f":"+IFERROR(+IF(Inputs!V34=FALSE,0,+(+VLOOKUP(D49,Inputs!$I$31:$J$36,2,0))),0)","v":0},0,0,{"$f":"+IFERROR(+IF(Inputs!W34=FALSE,0,+(+VLOOKUP(D49,Inputs!$I$31:$J$36,2,0))),0)","v":0},0,0]
[null,null,11,{"$f":"+IFERROR(+IF(Inputs!I35=\"\",\"\",Inputs!I35),0)","v":""},0,{"$f":"+IFERROR(+IF(Inputs!L35=FALSE,0,+(+VLOOKUP(D50,Inputs!$I$31:$J$36,2,0))),0)","v":0},0,0,{"$f":"+IFERROR(+IF(Inputs!M35=FALSE,0,+(+VLOOKUP(D50,Inputs!$I$31:$J$36,2,0))),0)","v":0},0,0,{"$f":"+IFERROR(+IF(Inputs!N35=FALSE,0,+(+VLOOKUP(D50,Inputs!$I$31:$J$36,2,0))),0)","v":0},0,0,{"$f":"+IFERROR(+IF(Inputs!O35=FALSE,0,+(+VLOOKUP(D50,Inputs!$I$31:$J$36,2,0))),0)","v":0},0,0,{"$f":"+IFERROR(+IF(Inputs!P35=FALSE,0,+(+VLOOKUP(D50,Inputs!$I$31:$J$36,2,0))),0)","v":0},0,0,{"$f":"+IFERROR(+IF(Inputs!Q35=FALSE,0,+(+VLOOKUP(D50,Inputs!$I$31:$J$36,2,0))),0)","v":0},0,0,{"$f":"+IFERROR(+IF(Inputs!R35=FALSE,0,+(+VLOOKUP(D50,Inputs!$I$31:$J$36,2,0))),0)","v":0},0,0,{"$f":"+IFERROR(+IF(Inputs!S35=FALSE,0,+(+VLOOKUP(D50,Inputs!$I$31:$J$36,2,0))),0)","v":0},0,0,{"$f":"+IFERROR(+IF(Inputs!T35=FALSE,0,+(+VLOOKUP(D50,Inputs!$I$31:$J$36,2,0))),0)","v":0},0,0,{"$f":"+IFERROR(+IF(Inputs!U35=FALSE,0,+(+VLOOKUP(D50,Inputs!$I$31:$J$36,2,0))),0)","v":0},0,0,{"$f":"+IFERROR(+IF(Inputs!V35=FALSE,0,+(+VLOOKUP(D50,Inputs!$I$31:$J$36,2,0))),0)","v":0},0,0,{"$f":"+IFERROR(+IF(Inputs!W35=FALSE,0,+(+VLOOKUP(D50,Inputs!$I$31:$J$36,2,0))),0)","v":0},0,0]
[null,null,12,{"$f":"+IFERROR(+IF(Inputs!I36=\"\",\"\",Inputs!I36),0)","v":""},0,{"$f":"+IFERROR(+IF(Inputs!L36=FALSE,0,+(+VLOOKUP(D51,Inputs!$I$31:$J$36,2,0))),0)","v":0},0,0,{"$f":"+IFERROR(+IF(Inputs!M36=FALSE,0,+(+VLOOKUP(D51,Inputs!$I$31:$J$36,2,0))),0)","v":0},0,0,{"$f":"+IFERROR(+IF(Inputs!N36=FALSE,0,+(+VLOOKUP(D51,Inputs!$I$31:$J$36,2,0))),0)","v":0},0,0,{"$f":"+IFERROR(+IF(Inputs!O36=FALSE,0,+(+VLOOKUP(D51,Inputs!$I$31:$J$36,2,0))),0)","v":0},0,0,{"$f":"+IFERROR(+IF(Inputs!P36=FALSE,0,+(+VLOOKUP(D51,Inputs!$I$31:$J$36,2,0))),0)","v":0},0,0,{"$f":"+IFERROR(+IF(Inputs!Q36=FALSE,0,+(+VLOOKUP(D51,Inputs!$I$31:$J$36,2,0))),0)","v":0},0,0,{"$f":"+IFERROR(+IF(Inputs!R36=FALSE,0,+(+VLOOKUP(D51,Inputs!$I$31:$J$36,2,0))),0)","v":0},0,0,{"$f":"+IFERROR(+IF(Inputs!S36=FALSE,0,+(+VLOOKUP(D51,Inputs!$I$31:$J$36,2,0))),0)","v":0},0,0,{"$f":"+IFERROR(+IF(Inputs!T36=FALSE,0,+(+VLOOKUP(D51,Inputs!$I$31:$J$36,2,0))),0)","v":0},0,0,{"$f":"+IFERROR(+IF(Inputs!U36=FALSE,0,+(+VLOOKUP(D51,Inputs!$I$31:$J$36,2,0))),0)","v":0},0,0,{"$f":"+IFERROR(+IF(Inputs!V36=FALSE,0,+(+VLOOKUP(D51,Inputs!$I$31:$J$36,2,0))),0)","v":0},0,0,{"$f":"+IFERROR(+IF(Inputs!W36=FALSE,0,+(+VLOOKUP(D51,Inputs!$I$31:$J$36,2,0))),0)","v":0},0,0]
[null,null,"Resumen","TOTAL OBLIGACIONES FINANCIERAS",0,{"$f":"+SUM(F40:F51)","v":0},{"$f":"+SUM(G40:G51)","v":0},0,{"$f":"+SUM(I40:I51)","v":0},{"$f":"+SUM(J40:J51)","v":0},0,{"$f":"+SUM(L40:L51)","v":0},{"$f":"+SUM(M40:M51)","v":0},0,{"$f":"+SUM(O40:O51)","v":0},{"$f":"+SUM(P40:P51)","v":0},0,{"$f":"+SUM(R40:R51)","v":0},{"$f":"+SUM(S40:S51)","v":0},0,{"$f":"+SUM(U40:U51)","v":0},{"$f":"+SUM(V40:V51)","v":0},0,{"$f":"+SUM(X40:X51)","v":0},{"$f":"+SUM(Y40:Y51)","v":0},0,{"$f":"+SUM(AA40:AA51)","v":0},{"$f":"+SUM(AB40:AB51)","v":0},0,{"$f":"+SUM(AD40:AD51)","v":0},{"$f":"+SUM(AE40:AE51)","v":0},0,{"$f":"+SUM(AG40:AG51)","v":0},{"$f":"+SUM(AH40:AH51)","v":0},0,{"$f":"+SUM(AJ40:AJ51)","v":0},{"$f":"+SUM(AK40:AK51)","v":0},0,{"$f":"+SUM(AM40:AM51)","v":0},{"$f":"+SUM(AN40:AN51)","v":0},0]
[null,null,null,1]
[null,null,null,1]
[null,null,1,{"$f":"+IFERROR(+IF(Inputs!D41=\"\",\"\",Inputs!D41),0)","v":""},{"$f":"+IFERROR((G55+J55+M55+P55+S55+V55+Y55+AB55+AE55+AH55+AK55+AN55)/($G$24+$J$24+$M$24+$P$24+$S$24+$V$24+$Y$24+$AB$24+$AE$24+$AH$24+$AK$24+$AN$24),0)","v":0},{"$f":"+IFERROR((+VLOOKUP(D55,Inputs!$D$41:$E$44,2,0)),0)","v":0},0,{"$f":"+IFERROR(+(F55-G55),0)","v":0},{"$f":"+F55","v":0},0,{"$f":"+IFERROR(+(I55-J55),0)","v":0},{"$f":"+I55","v":0},0,{"$f":"+IFERROR(+(L55-M55),0)","v":0},{"$f":"+L55","v":0},0,{"$f":"+IFERROR(+(O55-P55),0)","v":0},{"$f":"+O55","v":0},0,{"$f":"+IFERROR(+(R55-S55),0)","v":0},{"$f":"+R55","v":0},0,{"$f":"+IFERROR(+(U55-V55),0)","v":0},{"$f":"+U55","v":0},0,{"$f":"+IFERROR(+(X55-Y55),0)","v":0},{"$f":"+X55","v":0},0,{"$f":"+IFERROR(+(AA55-AB55),0)","v":0},{"$f":"+AA55","v":0},0,{"$f":"+IFERROR(+(AD55-AE55),0)","v":0},{"$f":"+AD55","v":0},0,{"$f":"+IFERROR(+(AG55-AH55),0)","v":0},{"$f":"+AG55","v":0},0,{"$f":"+IFERROR(+(AJ55-AK55),0)","v":0},{"$f":"+AJ55","v":0},0,{"$f":"+IFERROR(+(AM55-AN55),0)","v":0}]
[null,null,2,{"$f":"+IFERROR(+IF(Inputs!D42=\"\",\"\",Inputs!D42),0)","v":""},0,{"$f":"+IFERROR((+VLOOKUP(D56,Inputs!$D$41:$E$44,2,0)),0)","v":0},0,{"$f":"+IFERROR(+(F56-G56),0)","v":0},0,0,{"$f":"+IFERROR(+(I56-J56),0)","v":0},0,0,{"$f":"+IFERROR(+(L56-M56),0)","v":0},0,0,{"$f":"+IFERROR(+(O56-P56),0)","v":0},0,0,{"$f":"+IFERROR(+(R56-S56),0)","v":0},0,0,{"$f":"+IFERROR(+(U56-V56),0)","v":0},0,0,{"$f":"+IFERROR(+(X56-Y56),0)","v":0},0,0,{"$f":"+IFERROR(+(AA56-AB56),0)","v":0},0,0,{"$f":"+IFERROR(+(AD56-AE56),0)","v":0},0,0,{"$f":"+IFERROR(+(AG56-AH56),0)","v":0},0,0,{"$f":"+IFERROR(+(AJ56-AK56),0)","v":0},0,0,0]
[null,null,3,{"$f":"+IFERROR(+IF(Inputs!D43=\"\",\"\",Inputs!D43),0)","v":""},0,{"$f":"+IFERROR((+VLOOKUP(D57,Inputs!$D$41:$E$44,2,0)),0)","v":0},0,0,0,0,0,0,0,0,0,0,0,0,0,0,0,0,0,0,0,0,0,0,0,0,0,0,0,0,0,0,0,0,0,0,0]
[null,null,4,{"$f":"+IFERROR(+IF(Inputs!D44=\"\",\"\",Inputs!D44),0)","v":""},0,{"$f":"+IFERROR((+VLOOKUP(D58,Inputs!$D$41:$E$44,2,0)),0)","v":0},0,0,0,0,0,0,0,0,0,0,0,0,0,0,0,0,0,0,0,0,0,0,0,0,0,0,0,0,0,0,0,0,0,0,0]
[null,null,5,{"$f":"+IFERROR(+IF(Inputs!I41=\"\",\"\",Inputs!I41),0)","v":"Impuesto de renta (ejemplo)"},0,{"$f":"+IFERROR(+IF(Inputs!L41=FALSE,0,+(+VLOOKUP(D59,Inputs!$I$41:$J$44,2,0))),0)","v":0},0,0,{"$f":"+IFERROR(+IF(Inputs!M41=FALSE,0,+(+VLOOKUP(D59,Inputs!$I$41:$J$44,2,0))),0)","v":0},0,0,{"$f":"+IFERROR(+IF(Inputs!N41=FALSE,0,+(+VLOOKUP(D59,Inputs!$I$41:$J$44,2,0))),0)","v":0},0,0,{"$f":"+IFERROR(+IF(Inputs!O41=FALSE,0,+(+VLOOKUP(D59,Inputs!$I$41:$J$44,2,0))),0)","v":0},0,0,{"$f":"+IFERROR(+IF(Inputs!P41=FALSE,0,+(+VLOOKUP(D59,Inputs!$I$41:$J$44,2,0))),0)","v":0},0,0,{"$f":"+IFERROR(+IF(Inputs!Q41=FALSE,0,+(+VLOOKUP(D59,Inputs!$I$41:$J$44,2,0))),0)","v":0},0,0,{"$f":"+IFERROR(+IF(Inputs!R41=FALSE,0,+(+VLOOKUP(D59,Inputs!$I$41:$J$44,2,0))),0)","v":0},0,0,{"$f":"+IFERROR(+IF(Inputs!S41=FALSE,0,+(+VLOOKUP(D59,Inputs!$I$41:$J$44,2,0))),0)","v":0},0,0,{"$f":"+IFERROR(+IF(Inputs!T41=FALSE,0,+(+VLOOKUP(D59,Inputs!$I$41:$J$44,2,0))),0)","v":0},0,0,{"$f":"+IFERROR(+IF(Inputs!U41=FALSE,0,+(+VLOOKUP(D59,Inputs!$I$41:$J$44,2,0))),0)","v":0},0,0,{"$f":"+IFERROR(+IF(Inputs!V41=FALSE,0,+(+VLOOKUP(D59,Inputs!$I$41:$J$44,2,0))),0)","v":0},0,0,{"$f":"+IFERROR(+IF(Inputs!W41=FALSE,0,+(+VLOOKUP(D59,Inputs!$I$41:$J$44,2,0))),0)","v":0},0,0]
[null,null,6,{"$f":"+IFERROR(+IF(Inputs!I42=\"\",\"\",Inputs!I42),0)","v":"Impuesto vehicular (ejemplo)"},0,{"$f":"+IFERROR(+IF(Inputs!L42=FALSE,0,+(+VLOOKUP(D60,Inputs!$I$41:$J$44,2,0))),0)","v":0},0,0,{"$f":"+IFERROR(+IF(Inputs!M42=FALSE,0,+(+VLOOKUP(D60,Inputs!$I$41:$J$44,2,0))),0)","v":0},0,{"$f":"+IFERROR(+(I60-J60),0)","v":0},{"$f":"+IFERROR(+IF(Inputs!N42=FALSE,0,+(+VLOOKUP(D60,Inputs!$I$41:$J$44,2,0))),0)","v":0},0,{"$f":"+IFERROR(+(L60-M60),0)","v":0},{"$f":"+IFERROR(+IF(Inputs!O42=FALSE,0,+(+VLOOKUP(D60,Inputs!$I$41:$J$44,2,0))),0)","v":0},0,{"$f":"+IFERROR(+(O60-P60),0)","v":0},{"$f":"+IFERROR(+IF(Inputs!P42=FALSE,0,+(+VLOOKUP(D60,Inputs!$I$41:$J$44,2,0))),0)","v":0},0,{"$f":"+IFERROR(+(R60-S60),0)","v":0},{"$f":"+IFERROR(+IF(Inputs!Q42=FALSE,0,+(+VLOOKUP(D60,Inputs!$I$41:$J$44,2,0))),0)","v":0},0,{"$f":"+IFERROR(+(U60-V60),0)","v":0},{"$f":"+IFERROR(+IF(Inputs!R42=FALSE,0,+(+VLOOKUP(D60,Inputs!$I$41:$J$44,2,0))),0)","v":0},0,{"$f":"+IFERROR(+(X60-Y60),0)","v":0},{"$f":"+IFERROR(+IF(Inputs!S42=FALSE,0,+(+VLOOKUP(D60,Inputs!$I$41:$J$44,2,0))),0)","v":0},0,{"$f":"+IFERROR(+(AA60-AB60),0)","v":0},{"$f":"+IFERROR(+IF(Inputs!T42=FALSE,0,+(+VLOOKUP(D60,Inputs!$I$41:$J$44,2,0))),0)","v":0},0,{"$f":"+IFERROR(+(AD60-AE60),0)","v":0},{"$f":"+IFERROR(+IF(Inputs!U42=FALSE,0,+(+VLOOKUP(D60,Inputs!$I$41:$J$44,2,0))),0)","v":0},0,{"$f":"+IFERROR(+(AG60-AH60),0)","v":0},{"$f":"+IFERROR(+IF(Inputs!V42=FALSE,0,+(+VLOOKUP(D60,Inputs!$I$41:$J$44,2,0))),0)","v":0},0,{"$f":"+IFERROR(+(AJ60-AK60),0)","v":0},{"$f":"+IFERROR(+IF(Inputs!W42=FALSE,0,+(+VLOOKUP(D60,Inputs!$I$41:$J$44,2,0))),0)","v":0},0,0]
[null,null,7,{"$f":"+IFERROR(+IF(Inputs!I43=\"\",\"\",Inputs!I43),0)","v":"Impuesto predial (ejemplo)"},0,{"$f":"+IFERROR(+IF(Inputs!L43=FALSE,0,+(+VLOOKUP(D61,Inputs!$I$41:$J$44,2,0))),0)","v":0},0,0,{"$f":"+IFERROR(+IF(Inputs!M43=FALSE,0,+(+VLOOKUP(D61,Inputs!$I$41:$J$44,2,0))),0)","v":0},0,{"$f":"+IFERROR(+(I61-J61),0)","v":0},{"$f":"+IFERROR(+IF(Inputs!N43=FALSE,0,+(+VLOOKUP(D61,Inputs!$I$41:$J$44,2,0))),0)","v":0},0,0,{"$f":"+IFERROR(+IF(Inputs!O43=FALSE,0,+(+VLOOKUP(D61,Inputs!$I$41:$J$44,2,0))),0)","v":0},0,0,{"$f":"+IFERROR(+IF(Inputs!P43=FALSE,0,+(+VLOOKUP(D61,Inputs!$I$41:$J$44,2,0))),0)","v":0},0,0,{"$f":"+IFERROR(+IF(Inputs!Q43=FALSE,0,+(+VLOOKUP(D61,Inputs!$I$41:$J$44,2,0))),0)","v":0},0,0,{"$f":"+IFERROR(+IF(Inputs!R43=FALSE,0,+(+VLOOKUP(D61,Inputs!$I$41:$J$44,2,0))),0)","v":0},0,0,{"$f":"+IFERROR(+IF(Inputs!S43=FALSE,0,+(+VLOOKUP(D61,Inputs!$I$41:$J$44,2,0))),0)","v":0},0,0,{"$f":"+IFERROR(+IF(Inputs!T43=FALSE,0,+(+VLOOKUP(D61,Inputs!$I$41:$J$44,2,0))),0)","v":0},0,0,{"$f":"+IFERROR(+IF(Inputs!U43=FALSE,0,+(+VLOOKUP(D61,Inputs!$I$41:$J$44,2,0))),0)","v":0},0,0,{"$f":"+IFERROR(+IF(Inputs!V43=FALSE,0,+(+VLOOKUP(D61,Inputs!$I$41:$J$44,2,0))),0)","v":0},0,0,{"$f":"+IFERROR(+IF(Inputs!W43=FALSE,0,+(+VLOOKUP(D61,Inputs!$I$41:$J$44,2,0))),0)","v":0},0,0]
[null,null,8,{"$f":"+IFERROR(+IF(Inputs!I44=\"\",\"\",Inputs!I44),0)","v":""},0,{"$f":"+IFERROR(+IF(Inputs!L44=FALSE,0,+(+VLOOKUP(D62,Inputs!$I$41:$J$44,2,0))),0)","v":0},0,{"$f":"+IFERROR(+(F62-G62),0)","v":0},{"$f":"+IFERROR(+IF(Inputs!M44=FALSE,0,+(+VLOOKUP(D62,Inputs!$I$41:$J$44,2,0))),0)","v":0},0,0,{"$f":"+IFERROR(+IF(Inputs!N44=FALSE,0,+(+VLOOKUP(D62,Inputs!$I$41:$J$44,2,0))),0)","v":0},0,0,{"$f":"+IFERROR(+IF(Inputs!O44=FALSE,0,+(+VLOOKUP(D62,Inputs!$I$41:$J$44,2,0))),0)","v":0},0,0,{"$f":"+IFERROR(+IF(Inputs!P44=FALSE,0,+(+VLOOKUP(D62,Inputs!$I$41:$J$44,2,0))),0)","v":0},0,0,{"$f":"+IFERROR(+IF(Inputs!Q44=FALSE,0,+(+VLOOKUP(D62,Inputs!$I$41:$J$44,2,0))),0)","v":0},0,0,{"$f":"+IFERROR(+IF(Inputs!R44=FALSE,0,+(+VLOOKUP(D62,Inputs!$I$41:$J$44,2,0))),0)","v":0},0,0,{"$f":"+IFERROR(+IF(Inputs!S44=FALSE,0,+(+VLOOKUP(D62,Inputs!$I$41:$J$44,2,0))),0)","v":0},0,0,{"$f":"+IFERROR(+IF(Inputs!T44=FALSE,0,+(+VLOOKUP(D62,Inputs!$I$41:$J$44,2,0))),0)","v":0},0,0,{"$f":"+IFERROR(+IF(Inputs!U44=FALSE,0,+(+VLOOKUP(D62,Inputs!$I$41:$J$44,2,0))),0)","v":0},0,0,{"$f":"+IFERROR(+IF(Inputs!V44=FALSE,0,+(+VLOOKUP(D62,Inputs!$I$41:$J$44,2,0))),0)","v":0},0,0,{"$f":"+IFERROR(+IF(Inputs!W44=FALSE,0,+(+VLOOKUP(D62,Inputs!$I$41:$J$44,2,0))),0)","v":0},0,0]
[null,null,"Resumen","TOTAL IMPUESTOS Y CONTRIBUCIONES",0,{"$f":"+SUM(F55:F62)","v":0},{"$f":"+SUM(G55:G62)","v":0},0,{"$f":"+SUM(I55:I62)","v":0},{"$f":"+SUM(J55:J62)","v":0},{"$f":"+IFERROR(+(I63-J63),0)","v":0},{"$f":"+SUM(L55:L62)","v":0},{"$f":"+SUM(M55:M62)","v":0},{"$f":"+IFERROR(+(L63-M63),0)","v":0},{"$f":"+SUM(O55:O62)","v":0},{"$f":"+SUM(P55:P62)","v":0},{"$f":"+IFERROR(+(O63-P63),0)","v":0},{"$f":"+SUM(R55:R62)","v":0},{"$f":"+SUM(S55:S62)","v":0},{"$f":"+IFERROR(+(R63-S63),0)","v":0},{"$f":"+SUM(U55:U62)","v":0},{"$f":"+SUM(V55:V62)","v":0},{"$f":"+IFERROR(+(U63-V63),0)","v":0},{"$f":"+SUM(X55:X62)","v":0},{"$f":"+SUM(Y55:Y62)","v":0},{"$f":"+IFERROR(+(X63-Y63),0)","v":0},{"$f":"+SUM(AA55:AA62)","v":0},{"$f":"+SUM(AB55:AB62)","v":0},{"$f":"+IFERROR(+(AA63-AB63),0)","v":0},{"$f":"+SUM(AD55:AD62)","v":0},{"$f":"+SUM(AE55:AE62)","v":0},{"$f":"+IFERROR(+(AD63-AE63),0)","v":0},{"$f":"+SUM(AG55:AG62)","v":0},{"$f":"+SUM(AH55:AH62)","v":0},{"$f":"+IFERROR(+(AG63-AH63),0)","v":0},{"$f":"+SUM(AJ55:AJ62)","v":0},{"$f":"+SUM(AK55:AK62)","v":0},{"$f":"+IFERROR(+(AJ63-AK63),0)","v":0},{"$f":"+SUM(AM55:AM62)","v":0},{"$f":"+SUM(AN55:AN62)","v":0},{"$f":"+IFERROR(+(AM63-AN63),0)","v":0}]
[null,null,null,1]
[null,null,null,1]
[null,null,1,{"$f":"+IFERROR(+IF(Inputs!D68=\"\",\"\",Inputs!D68),0)","v":"Fondo de Emergencia (ejemplo)"},{"$f":"+IFERROR((G66+J66+M66+P66+S66+V66+Y66+AB66+AE66+AH66+AK66+AN66)/($G$24+$J$24+$M$24+$P$24+$S$24+$V$24+$Y$24+$AB$24+$AE$24+$AH$24+$AK$24+$AN$24),0)","v":0},{"$f":"+IFERROR((+VLOOKUP(D66,Inputs!$D$49:$E$63,2,0)),0)","v":0},0,{"$f":"+IFERROR(+(F66-G66),0)","v":0},{"$f":"+F66","v":0},0,{"$f":"+IFERROR(+(I66-J66),0)","v":0},{"$f":"+I66","v":0},0,{"$f":"+IFERROR(+(L66-M66),0)","v":0},{"$f":"+L66","v":0},0,{"$f":"+IFERROR(+(O66-P66),0)","v":0},{"$f":"+O66","v":0},0,{"$f":"+IFERROR(+(R66-S66),0)","v":0},{"$f":"+R66","v":0},0,{"$f":"+IFERROR(+(U66-V66),0)","v":0},{"$f":"+U66","v":0},0,{"$f":"+IFERROR(+(X66-Y66),0)","v":0},{"$f":"+X66","v":0},0,{"$f":"+IFERROR(+(AA66-AB66),0)","v":0},{"$f":"+AA66","v":0},0,{"$f":"+IFERROR(+(AD66-AE66),0)","v":0},{"$f":"+AD66","v":0},0,{"$f":"+IFERROR(+(AG66-AH66),0)","v":0},{"$f":"+AG66","v":0},0,{"$f":"+IFERROR(+(AJ66-AK66),0)","v":0},{"$f":"+AJ66","v":0},0,{"$f":"+IFERROR(+(AM66-AN66),0)","v":0}]
[null,null,2,{"$f":"+IFERROR(+IF(Inputs!D69=\"\",\"\",Inputs!D69),0)","v":"Alimentación (ejemplo)"},0,{"$f":"+IFERROR((+VLOOKUP(D67,Inputs!$D$49:$E$63,2,0)),0)","v":0},0,0,0,0,0,0,0,0,0,0,0,0,0,0,0,0,0,0,0,0,0,0,0,0,0,0,0,0,0,0,0,0,0,0,0]
[null,null,3,{"$f":"+IFERROR(+IF(Inputs!D51=\"\",\"\",Inputs!D51),0)","v":""},0,{"$f":"+IFERROR((+VLOOKUP(D68,Inputs!$D$49:$E$63,2,0)),0)","v":0},0,{"$f":"+IFERROR(+(F68-G68),0)","v":0},0,0,{"$f":"+IFERROR(+(I68-J68),0)","v":0},0,0,{"$f":"+IFERROR(+(L68-M68),0)","v":0},0,0,{"$f":"+IFERROR(+(O68-P68),0)","v":0},0,0,{"$f":"+IFERROR(+(R68-S68),0)","v":0},0,0,{"$f":"+IFERROR(+(U68-V68),0)","v":0},0,0,{"$f":"+IFERROR(+(X68-Y68),0)","v":0},0,0,{"$f":"+IFERROR(+(AA68-AB68),0)","v":0},0,0,{"$f":"+IFERROR(+(AD68-AE68),0)","v":0},0,0,{"$f":"+IFERROR(+(AG68-AH68),0)","v":0},0,0,{"$f":"+IFERROR(+(AJ68-AK68),0)","v":0},0,0,0]
[null,null,4,{"$f":"+IFERROR(+IF(Inputs!D70=\"\",\"\",Inputs!D70),0)","v":"Servicios públicos (ejemplo)"},0,{"$f":"+IFERROR((+VLOOKUP(D69,Inputs!$D$49:$E$63,2,0)),0)","v":0},0,0,0,0,0,0,0,0,0,0,0,0,0,0,0,0,0,0,0,0,0,0,0,0,0,0,0,0,0,0,0,0,0,0,0]
[null,null,5,{"$f":"+IFERROR(+IF(Inputs!D71=\"\",\"\",Inputs!D71),0)","v":"Gasolina (ejemplo)"},0,{"$f":"+IFERROR((+VLOOKUP(D70,Inputs!$D$49:$E$63,2,0)),0)","v":0},0,0,0,0,0,0,0,0,0,0,0,0,0,0,0,0,0,0,0,0,0,0,0,0,0,0,0,0,0,0,0,0,0,0,0]
[null,null,6,{"$f":"+IFERROR(+IF(Inputs!D72=\"\",\"\",Inputs!D72),0)","v":""},0,{"$f":"+IFERROR((+VLOOKUP(D71,Inputs!$D$49:$E$63,2,0)),0)","v":0},0,0,0,0,0,0,0,0,0,0,0,0,0,0,0,0,0,0,0,0,0,0,0,0,0,0,0,0,0,0,0,0,0,0,0]
[null,null,7,{"$f":"+IFERROR(+IF(Inputs!D73=\"\",\"\",Inputs!D73),0)","v":""},0,{"$f":"+IFERROR((+VLOOKUP(D72,Inputs!$D$49:$E$63,2,0)),0)","v":0},0,0,0,0,0,0,0,0,0,0,0,0,0,0,0,0,0,0,0,0,0,0,0,0,0,0,0,0,0,0,0,0,0,0,0]
[null,null,8,{"$f":"+IFERROR(+IF(Inputs!D87=\"\",\"\",Inputs!D87),0)","v":"Suscripción Netflix (ejemplo)"},0,{"$f":"+IFERROR((+VLOOKUP(D73,Inputs!$D$49:$E$63,2,0)),0)","v":0},0,0,0,0,0,0,0,0,0,0,0,0,0,0,0,0,0,0,0,0,0,0,0,0,0,0,0,0,0,0,0,0,0,0,0]
[null,null,9,{"$f":"+IFERROR(+IF(Inputs!D57=\"\",\"\",Inputs!D57),0)","v":""},0,{"$f":"+IFERROR((+VLOOKUP(D74,Inputs!$D$49:$E$63,2,0)),0)","v":0},0,0,0,0,0,0,0,0,0,0,0,0,0,0,0,0,0,0,0,0,0,0,0,0,0,0,0,0,0,0,0,0,0,0,0]
[null,null,10,{"$f":"+IFERROR(+IF(Inputs!D58=\"\",\"\",Inputs!D58),0)","v":""},0,{"$f":"+IFERROR((+VLOOKUP(D75,Inputs!$D$49:$E$63,2,0)),0)","v":0},0,0,0,0,0,0,0,0,0,0,0,0,0,0,0,0,0,0,0,0,0,0,0,0,0,0,0,0,0,0,0,0,0,0,0]
[null,null,11,{"$f":"+IFERROR(+IF(Inputs!D59=\"\",\"\",Inputs!D59),0)","v":""},0,{"$f":"+IFERROR((+VLOOKUP(D76,Inputs!$D$49:$E$63,2,0)),0)","v":0},0,0,0,0,0,0,0,0,0,0,0,0,0,0,0,0,0,0,0,0,0,0,0,0,0,0,0,0,0,0,0,0,0,0,0]
[null,null,12,{"$f":"+IFERROR(+IF(Inputs!D60=\"\",\"\",Inputs!D60),0)","v":""},0,{"$f":"+IFERROR((+VLOOKUP(D77,Inputs!$D$49:$E$63,2,0)),0)","v":0},0,0,0,0,0,0,0,0,0,0,0,0,0,0,0,0,0,0,0,0,0,0,0,0,0,0,0,0,0,0,0,0,0,0,0]
[null,null,13,{"$f":"+IFERROR(+IF(Inputs!D61=\"\",\"\",Inputs!D61),0)","v":""},0,{"$f":"+IFERROR((+VLOOKUP(D78,Inputs!$D$49:$E$63,2,0)),0)","v":0},0,0,0,0,0,0,0,0,0,0,0,0,0,0,0,0,0,0,0,0,0,0,0,0,0,0,0,0,0,0,0,0,0,0,0]
[null,null,14,{"$f":"+IFERROR(+IF(Inputs!D62=\"\",\"\",Inputs!D62),0)","v":""},0,{"$f":"+IFERROR((+VLOOKUP(D79,Inputs!$D$49:$E$63,2,0)),0)","v":0},0,0,0,0,0,0,0,0,0,0,0,0,0,0,0,0,0,0,0,0,0,0,0,0,0,0,0,0,0,0,0,0,0,0,0]
[null,null,15,{"$f":"+IFERROR(+IF(Inputs!D63=\"\",\"\",Inputs!D63),0)","v":""},0,{"$f":"+IFERROR((+VLOOKUP(D80,Inputs!$D$49:$E$63,2,0)),0)","v":0},0,0,0,0,0,0,0,0,0,0,0,0,0,0,0,0,0,0,0,0,0,0,0,0,0,0,0,0,0,0,0,0,0,0,0]
[null,null,16,{"$f":"+IFERROR(+IF(Inputs!I49=\"\",\"\",Inputs!I49),0)","v":"Matrícula universidad (ejemplo)"},0,{"$f":"+IFERROR(+IF(Inputs!L49=FALSE,0,+(+VLOOKUP(D81,Inputs!$I$49:$J$63,2,0))),0)","v":0},0,0,{"$f":"+IFERROR(+IF(Inputs!M49=FALSE,0,+(+VLOOKUP(D81,Inputs!$I$49:$J$63,2,0))),0)","v":0},0,0,{"$f":"+IFERROR(+IF(Inputs!N49=FALSE,0,+(+VLOOKUP(D81,Inputs!$I$49:$J$63,2,0))),0)","v":0},0,0,{"$f":"+IFERROR(+IF(Inputs!O49=FALSE,0,+(+VLOOKUP(D81,Inputs!$I$49:$J$63,2,0))),0)","v":0},0,0,{"$f":"+IFERROR(+IF(Inputs!P49=FALSE,0,+(+VLOOKUP(D81,Inputs!$I$49:$J$63,2,0))),0)","v":0},0,0,{"$f":"+IFERROR(+IF(Inputs!Q49=FALSE,0,+(+VLOOKUP(D81,Inputs!$I$49:$J$63,2,0))),0)","v":0},0,0,{"$f":"+IFERROR(+IF(Inputs!R49=FALSE,0,+(+VLOOKUP(D81,Inputs!$I$49:$J$63,2,0))),0)","v":0},0,0,{"$f":"+IFERROR(+IF(Inputs!S49=FALSE,0,+(+VLOOKUP(D81,Inputs!$I$49:$J$63,2,0))),0)","v":0},0,0,{"$f":"+IFERROR(+IF(Inputs!T49=FALSE,0,+(+VLOOKUP(D81,Inputs!$I$49:$J$63,2,0))),0)","v":0},0,0,{"$f":"+IFERROR(+IF(Inputs!U49=FALSE,0,+(+VLOOKUP(D81,Inputs!$I$49:$J$63,2,0))),0)","v":0},0,0,{"$f":"+IFERROR(+IF(Inputs!V49=FALSE,0,+(+VLOOKUP(D81,Inputs!$I$49:$J$63,2,0))),0)","v":0},0,0,{"$f":"+IFERROR(+IF(Inputs!W49=FALSE,0,+(+VLOOKUP(D81,Inputs!$I$49:$J$63,2,0))),0)","v":0},0,0]
[null,null,17,{"$f":"+IFERROR(+IF(Inputs!I50=\"\",\"\",Inputs!I50),0)","v":""},0,{"$f":"+IFERROR(+IF(Inputs!L50=FALSE,0,+(+VLOOKUP(D82,Inputs!$I$49:$J$63,2,0))),0)","v":0},0,0,{"$f":"+IFERROR(+IF(Inputs!M50=FALSE,0,+(+VLOOKUP(D82,Inputs!$I$49:$J$63,2,0))),0)","v":0},0,{"$f":"+IFERROR(+(I82-J82),0)","v":0},{"$f":"+IFERROR(+IF(Inputs!N50=FALSE,0,+(+VLOOKUP(D82,Inputs!$I$49:$J$63,2,0))),0)","v":0},0,{"$f":"+IFERROR(+(L82-M82),0)","v":0},{"$f":"+IFERROR(+IF(Inputs!O50=FALSE,0,+(+VLOOKUP(D82,Inputs!$I$49:$J$63,2,0))),0)","v":0},0,{"$f":"+IFERROR(+(O82-P82),0)","v":0},{"$f":"+IFERROR(+IF(Inputs!P50=FALSE,0,+(+VLOOKUP(D82,Inputs!$I$49:$J$63,2,0))),0)","v":0},0,{"$f":"+IFERROR(+(R82-S82),0)","v":0},{"$f":"+IFERROR(+IF(Inputs!Q50=FALSE,0,+(+VLOOKUP(D82,Inputs!$I$49:$J$63,2,0))),0)","v":0},0,{"$f":"+IFERROR(+(U82-V82),0)","v":0},{"$f":"+IFERROR(+IF(Inputs!R50=FALSE,0,+(+VLOOKUP(D82,Inputs!$I$49:$J$63,2,0))),0)","v":0},0,{"$f":"+IFERROR(+(X82-Y82),0)","v":0},{"$f":"+IFERROR(+IF(Inputs!S50=FALSE,0,+(+VLOOKUP(D82,Inputs!$I$49:$J$63,2,0))),0)","v":0},0,{"$f":"+IFERROR(+(AA82-AB82),0)","v":0},{"$f":"+IFERROR(+IF(Inputs!T50=FALSE,0,+(+VLOOKUP(D82,Inputs!$I$49:$J$63,2,0))),0)","v":0},0,{"$f":"+IFERROR(+(AD82-AE82),0)","v":0},{"$f":"+IFERROR(+IF(Inputs!U50=FALSE,0,+(+VLOOKUP(D82,Inputs!$I$49:$J$63,2,0))),0)","v":0},0,{"$f":"+IFERROR(+(AG82-AH82),0)","v":0},{"$f":"+IFERROR(+IF(Inputs!V50=FALSE,0,+(+VLOOKUP(D82,Inputs!$I$49:$J$63,2,0))),0)","v":0},0,{"$f":"+IFERROR(+(AJ82-AK82),0)","v":0},{"$f":"+IFERROR(+IF(Inputs!W50=FALSE,0,+(+VLOOKUP(D82,Inputs!$I$49:$J$63,2,0))),0)","v":0},0,0]
[null,null,18,{"$f":"+IFERROR(+IF(Inputs!I51=\"\",\"\",Inputs!I51),0)","v":""},0,{"$f":"+IFERROR(+IF(Inputs!L51=FALSE,0,+(+VLOOKUP(D83,Inputs!$I$49:$J$63,2,0))),0)","v":0},0,0,{"$f":"+IFERROR(+IF(Inputs!M51=FALSE,0,+(+VLOOKUP(D83,Inputs!$I$49:$J$63,2,0))),0)","v":0},0,0,{"$f":"+IFERROR(+IF(Inputs!N51=FALSE,0,+(+VLOOKUP(D83,Inputs!$I$49:$J$63,2,0))),0)","v":0},0,0,{"$f":"+IFERROR(+IF(Inputs!O51=FALSE,0,+(+VLOOKUP(D83,Inputs!$I$49:$J$63,2,0))),0)","v":0},0,0,{"$f":"+IFERROR(+IF(Inputs!P51=FALSE,0,+(+VLOOKUP(D83,Inputs!$I$49:$J$63,2,0))),0)","v":0},0,0,{"$f":"+IFERROR(+IF(Inputs!Q51=FALSE,0,+(+VLOOKUP(D83,Inputs!$I$49:$J$63,2,0))),0)","v":0},0,0,{"$f":"+IFERROR(+IF(Inputs!R51=FALSE,0,+(+VLOOKUP(D83,Inputs!$I$49:$J$63,2,0))),0)","v":0},0,0,{"$f":"+IFERROR(+IF(Inputs!S51=FALSE,0,+(+VLOOKUP(D83,Inputs!$I$49:$J$63,2,0))),0)","v":0},0,0,{"$f":"+IFERROR(+IF(Inputs!T51=FALSE,0,+(+VLOOKUP(D83,Inputs!$I$49:$J$63,2,0))),0)","v":0},0,0,{"$f":"+IFERROR(+IF(Inputs!U51=FALSE,0,+(+VLOOKUP(D83,Inputs!$I$49:$J$63,2,0))),0)","v":0},0,0,{"$f":"+IFERROR(+IF(Inputs!V51=FALSE,0,+(+VLOOKUP(D83,Inputs!$I$49:$J$63,2,0))),0)","v":0},0,0,{"$f":"+IFERROR(+IF(Inputs!W51=FALSE,0,+(+VLOOKUP(D83,Inputs!$I$49:$J$63,2,0))),0)","v":0},0,0]
[null,null,19,{"$f":"+IFERROR(+IF(Inputs!I52=\"\",\"\",Inputs!I52),0)","v":""},0,{"$f":"+IFERROR(+IF(Inputs!L52=FALSE,0,+(+VLOOKUP(D84,Inputs!$I$49:$J$63,2,0))),0)","v":0},0,0,{"$f":"+IFERROR(+IF(Inputs!M52=FALSE,0,+(+VLOOKUP(D84,Inputs!$I$49:$J$63,2,0))),0)","v":0},0,0,{"$f":"+IFERROR(+IF(Inputs!N52=FALSE,0,+(+VLOOKUP(D84,Inputs!$I$49:$J$63,2,0))),0)","v":0},0,0,{"$f":"+IFERROR(+IF(Inputs!O52=FALSE,0,+(+VLOOKUP(D84,Inputs!$I$49:$J$63,2,0))),0)","v":0},0,0,{"$f":"+IFERROR(+IF(Inputs!P52=FALSE,0,+(+VLOOKUP(D84,Inputs!$I$49:$J$63,2,0))),0)","v":0},0,0,{"$f":"+IFERROR(+IF(Inputs!Q52=FALSE,0,+(+VLOOKUP(D84,Inputs!$I$49:$J$63,2,0))),0)","v":0},0,0,{"$f":"+IFERROR(+IF(Inputs!R52=FALSE,0,+(+VLOOKUP(D84,Inputs!$I$49:$J$63,2,0))),0)","v":0},0,0,{"$f":"+IFERROR(+IF(Inputs!S52=FALSE,0,+(+VLOOKUP(D84,Inputs!$I$49:$J$63,2,0))),0)","v":0},0,0,{"$f":"+IFERROR(+IF(Inputs!T52=FALSE,0,+(+VLOOKUP(D84,Inputs!$I$49:$J$63,2,0))),0)","v":0},0,0,{"$f":"+IFERROR(+IF(Inputs!U52=FALSE,0,+(+VLOOKUP(D84,Inputs!$I$49:$J$63,2,0))),0)","v":0},0,0,{"$f":"+IFERROR(+IF(Inputs!V52=FALSE,0,+(+VLOOKUP(D84,Inputs!$I$49:$J$63,2,0))),0)","v":0},0,0,{"$f":"+IFERROR(+IF(Inputs!W52=FALSE,0,+(+VLOOKUP(D84,Inputs!$I$49:$J$63,2,0))),0)","v":0},0,0]
[null,null,20,{"$f":"+IFERROR(+IF(Inputs!I53=\"\",\"\",Inputs!I53),0)","v":""},0,{"$f":"+IFERROR(+IF(Inputs!L53=FALSE,0,+(+VLOOKUP(D85,Inputs!$I$49:$J$63,2,0))),0)","v":0},0,0,{"$f":"+IFERROR(+IF(Inputs!M53=FALSE,0,+(+VLOOKUP(D85,Inputs!$I$49:$J$63,2,0))),0)","v":0},0,0,{"$f":"+IFERROR(+IF(Inputs!N53=FALSE,0,+(+VLOOKUP(D85,Inputs!$I$49:$J$63,2,0))),0)","v":0},0,0,{"$f":"+IFERROR(+IF(Inputs!O53=FALSE,0,+(+VLOOKUP(D85,Inputs!$I$49:$J$63,2,0))),0)","v":0},0,0,{"$f":"+IFERROR(+IF(Inputs!P53=FALSE,0,+(+VLOOKUP(D85,Inputs!$I$49:$J$63,2,0))),0)","v":0},0,0,{"$f":"+IFERROR(+IF(Inputs!Q53=FALSE,0,+(+VLOOKUP(D85,Inputs!$I$49:$J$63,2,0))),0)","v":0},0,0,{"$f":"+IFERROR(+IF(Inputs!R53=FALSE,0,+(+VLOOKUP(D85,Inputs!$I$49:$J$63,2,0))),0)","v":0},0,0,{"$f":"+IFERROR(+IF(Inputs!S53=FALSE,0,+(+VLOOKUP(D85,Inputs!$I$49:$J$63,2,0))),0)","v":0},0,0,{"$f":"+IFERROR(+IF(Inputs!T53=FALSE,0,+(+VLOOKUP(D85,Inputs!$I$49:$J$63,2,0))),0)","v":0},0,0,{"$f":"+IFERROR(+IF(Inputs!U53=FALSE,0,+(+VLOOKUP(D85,Inputs!$I$49:$J$63,2,0))),0)","v":0},0,0,{"$f":"+IFERROR(+IF(Inputs!V53=FALSE,0,+(+VLOOKUP(D85,Inputs!$I$49:$J$63,2,0))),0)","v":0},0,0,{"$f":"+IFERROR(+IF(Inputs!W53=FALSE,0,+(+VLOOKUP(D85,Inputs!$I$49:$J$63,2,0))),0)","v":0},0,0]
[null,null,21,{"$f":"+IFERROR(+IF(Inputs!I54=\"\",\"\",Inputs!I54),0)","v":""},0,{"$f":"+IFERROR(+IF(Inputs!L54=FALSE,0,+(+VLOOKUP(D86,Inputs!$I$49:$J$63,2,0))),0)","v":0},0,0,{"$f":"+IFERROR(+IF(Inputs!M54=FALSE,0,+(+VLOOKUP(D86,Inputs!$I$49:$J$63,2,0))),0)","v":0},0,0,{"$f":"+IFERROR(+IF(Inputs!N54=FALSE,0,+(+VLOOKUP(D86,Inputs!$I$49:$J$63,2,0))),0)","v":0},0,0,{"$f":"+IFERROR(+IF(Inputs!O54=FALSE,0,+(+VLOOKUP(D86,Inputs!$I$49:$J$63,2,0))),0)","v":0},0,0,{"$f":"+IFERROR(+IF(Inputs!P54=FALSE,0,+(+VLOOKUP(D86,Inputs!$I$49:$J$63,2,0))),0)","v":0},0,0,{"$f":"+IFERROR(+IF(Inputs!Q54=FALSE,0,+(+VLOOKUP(D86,Inputs!$I$49:$J$63,2,0))),0)","v":0},0,0,{"$f":"+IFERROR(+IF(Inputs!R54=FALSE,0,+(+VLOOKUP(D86,Inputs!$I$49:$J$63,2,0))),0)","v":0},0,0,{"$f":"+IFERROR(+IF(Inputs!S54=FALSE,0,+(+VLOOKUP(D86,Inputs!$I$49:$J$63,2,0))),0)","v":0},0,0,{"$f":"+IFERROR(+IF(Inputs!T54=FALSE,0,+(+VLOOKUP(D86,Inputs!$I$49:$J$63,2,0))),0)","v":0},0,0,{"$f":"+IFERROR(+IF(Inputs!U54=FALSE,0,+(+VLOOKUP(D86,Inputs!$I$49:$J$63,2,0))),0)","v":0},0,0,{"$f":"+IFERROR(+IF(Inputs!V54=FALSE,0,+(+VLOOKUP(D86,Inputs!$I$49:$J$63,2,0))),0)","v":0},0,0,{"$f":"+IFERROR(+IF(Inputs!W54=FALSE,0,+(+VLOOKUP(D86,Inputs!$I$49:$J$63,2,0))),0)","v":0},0,0]
[null,null,22,{"$f":"+IFERROR(+IF(Inputs!I55=\"\",\"\",Inputs!I55),0)","v":""},0,{"$f":"+IFERROR(+IF(Inputs!L55=FALSE,0,+(+VLOOKUP(D87,Inputs!$I$49:$J$63,2,0))),0)","v":0},0,0,{"$f":"+IFERROR(+IF(Inputs!M55=FALSE,0,+(+VLOOKUP(D87,Inputs!$I$49:$J$63,2,0))),0)","v":0},0,0,{"$f":"+IFERROR(+IF(Inputs!N55=FALSE,0,+(+VLOOKUP(D87,Inputs!$I$49:$J$63,2,0))),0)","v":0},0,0,{"$f":"+IFERROR(+IF(Inputs!O55=FALSE,0,+(+VLOOKUP(D87,Inputs!$I$49:$J$63,2,0))),0)","v":0},0,0,{"$f":"+IFERROR(+IF(Inputs!P55=FALSE,0,+(+VLOOKUP(D87,Inputs!$I$49:$J$63,2,0))),0)","v":0},0,0,{"$f":"+IFERROR(+IF(Inputs!Q55=FALSE,0,+(+VLOOKUP(D87,Inputs!$I$49:$J$63,2,0))),0)","v":0},0,0,{"$f":"+IFERROR(+IF(Inputs!R55=FALSE,0,+(+VLOOKUP(D87,Inputs!$I$49:$J$63,2,0))),0)","v":0},0,0,{"$f":"+IFERROR(+IF(Inputs!S55=FALSE,0,+(+VLOOKUP(D87,Inputs!$I$49:$J$63,2,0))),0)","v":0},0,0,{"$f":"+IFERROR(+IF(Inputs!T55=FALSE,0,+(+VLOOKUP(D87,Inputs!$I$49:$J$63,2,0))),0)","v":0},0,0,{"$f":"+IFERROR(+IF(Inputs!U55=FALSE,0,+(+VLOOKUP(D87,Inputs!$I$49:$J$63,2,0))),0)","v":0},0,0,{"$f":"+IFERROR(+IF(Inputs!V55=FALSE,0,+(+VLOOKUP(D87,Inputs!$I$49:$J$63,2,0))),0)","v":0},0,0,{"$f":"+IFERROR(+IF(Inputs!W55=FALSE,0,+(+VLOOKUP(D87,Inputs!$I$49:$J$63,2,0))),0)","v":0},0,0]
[null,null,23,{"$f":"+IFERROR(+IF(Inputs!I56=\"\",\"\",Inputs!I56),0)","v":""},0,{"$f":"+IFERROR(+IF(Inputs!L56=FALSE,0,+(+VLOOKUP(D88,Inputs!$I$49:$J$63,2,0))),0)","v":0},0,0,{"$f":"+IFERROR(+IF(Inputs!M56=FALSE,0,+(+VLOOKUP(D88,Inputs!$I$49:$J$63,2,0))),0)","v":0},0,0,{"$f":"+IFERROR(+IF(Inputs!N56=FALSE,0,+(+VLOOKUP(D88,Inputs!$I$49:$J$63,2,0))),0)","v":0},0,0,{"$f":"+IFERROR(+IF(Inputs!O56=FALSE,0,+(+VLOOKUP(D88,Inputs!$I$49:$J$63,2,0))),0)","v":0},0,0,{"$f":"+IFERROR(+IF(Inputs!P56=FALSE,0,+(+VLOOKUP(D88,Inputs!$I$49:$J$63,2,0))),0)","v":0},0,0,{"$f":"+IFERROR(+IF(Inputs!Q56=FALSE,0,+(+VLOOKUP(D88,Inputs!$I$49:$J$63,2,0))),0)","v":0},0,0,{"$f":"+IFERROR(+IF(Inputs!R56=FALSE,0,+(+VLOOKUP(D88,Inputs!$I$49:$J$63,2,0))),0)","v":0},0,0,{"$f":"+IFERROR(+IF(Inputs!S56=FALSE,0,+(+VLOOKUP(D88,Inputs!$I$49:$J$63,2,0))),0)","v":0},0,0,{"$f":"+IFERROR(+IF(Inputs!T56=FALSE,0,+(+VLOOKUP(D88,Inputs!$I$49:$J$63,2,0))),0)","v":0},0,0,{"$f":"+IFERROR(+IF(Inputs!U56=FALSE,0,+(+VLOOKUP(D88,Inputs!$I$49:$J$63,2,0))),0)","v":0},0,0,{"$f":"+IFERROR(+IF(Inputs!V56=FALSE,0,+(+VLOOKUP(D88,Inputs!$I$49:$J$63,2,0))),0)","v":0},0,0,{"$f":"+IFERROR(+IF(Inputs!W56=FALSE,0,+(+VLOOKUP(D88,Inputs!$I$49:$J$63,2,0))),0)","v":0},0,0]
[null,null,24,{"$f":"+IFERROR(+IF(Inputs!I57=\"\",\"\",Inputs!I57),0)","v":""},0,{"$f":"+IFERROR(+IF(Inputs!L57=FALSE,0,+(+VLOOKUP(D89,Inputs!$I$49:$J$63,2,0))),0)","v":0},0,0,{"$f":"+IFERROR(+IF(Inputs!M57=FALSE,0,+(+VLOOKUP(D89,Inputs!$I$49:$J$63,2,0))),0)","v":0},0,0,{"$f":"+IFERROR(+IF(Inputs!N57=FALSE,0,+(+VLOOKUP(D89,Inputs!$I$49:$J$63,2,0))),0)","v":0},0,0,{"$f":"+IFERROR(+IF(Inputs!O57=FALSE,0,+(+VLOOKUP(D89,Inputs!$I$49:$J$63,2,0))),0)","v":0},0,0,{"$f":"+IFERROR(+IF(Inputs!P57=FALSE,0,+(+VLOOKUP(D89,Inputs!$I$49:$J$63,2,0))),0)","v":0},0,0,{"$f":"+IFERROR(+IF(Inputs!Q57=FALSE,0,+(+VLOOKUP(D89,Inputs!$I$49:$J$63,2,0))),0)","v":0},0,0,{"$f":"+IFERROR(+IF(Inputs!R57=FALSE,0,+(+VLOOKUP(D89,Inputs!$I$49:$J$63,2,0))),0)","v":0},0,0,{"$f":"+IFERROR(+IF(Inputs!S57=FALSE,0,+(+VLOOKUP(D89,Inputs!$I$49:$J$63,2,0))),0)","v":0},0,0,{"$f":"+IFERROR(+IF(Inputs!T57=FALSE,0,+(+VLOOKUP(D89,Inputs!$I$49:$J$63,2,0))),0)","v":0},0,0,{"$f":"+IFERROR(+IF(Inputs!U57=FALSE,0,+(+VLOOKUP(D89,Inputs!$I$49:$J$63,2,0))),0)","v":0},0,0,{"$f":"+IFERROR(+IF(Inputs!V57=FALSE,0,+(+VLOOKUP(D89,Inputs!$I$49:$J$63,2,0))),0)","v":0},0,0,{"$f":"+IFERROR(+IF(Inputs!W57=FALSE,0,+(+VLOOKUP(D89,Inputs!$I$49:$J$63,2,0))),0)","v":0},0,0]
[null,null,25,{"$f":"+IFERROR(+IF(Inputs!I58=\"\",\"\",Inputs!I58),0)","v":""},0,{"$f":"+IFERROR(+IF(Inputs!L58=FALSE,0,+(+VLOOKUP(D90,Inputs!$I$49:$J$63,2,0))),0)","v":0},0,0,{"$f":"+IFERROR(+IF(Inputs!M58=FALSE,0,+(+VLOOKUP(D90,Inputs!$I$49:$J$63,2,0))),0)","v":0},0,0,{"$f":"+IFERROR(+IF(Inputs!N58=FALSE,0,+(+VLOOKUP(D90,Inputs!$I$49:$J$63,2,0))),0)","v":0},0,0,{"$f":"+IFERROR(+IF(Inputs!O58=FALSE,0,+(+VLOOKUP(D90,Inputs!$I$49:$J$63,2,0))),0)","v":0},0,0,{"$f":"+IFERROR(+IF(Inputs!P58=FALSE,0,+(+VLOOKUP(D90,Inputs!$I$49:$J$63,2,0))),0)","v":0},0,0,{"$f":"+IFERROR(+IF(Inputs!Q58=FALSE,0,+(+VLOOKUP(D90,Inputs!$I$49:$J$63,2,0))),0)","v":0},0,0,{"$f":"+IFERROR(+IF(Inputs!R58=FALSE,0,+(+VLOOKUP(D90,Inputs!$I$49:$J$63,2,0))),0)","v":0},0,0,{"$f":"+IFERROR(+IF(Inputs!S58=FALSE,0,+(+VLOOKUP(D90,Inputs!$I$49:$J$63,2,0))),0)","v":0},0,0,{"$f":"+IFERROR(+IF(Inputs!T58=FALSE,0,+(+VLOOKUP(D90,Inputs!$I$49:$J$63,2,0))),0)","v":0},0,0,{"$f":"+IFERROR(+IF(Inputs!U58=FALSE,0,+(+VLOOKUP(D90,Inputs!$I$49:$J$63,2,0))),0)","v":0},0,0,{"$f":"+IFERROR(+IF(Inputs!V58=FALSE,0,+(+VLOOKUP(D90,Inputs!$I$49:$J$63,2,0))),0)","v":0},0,0,{"$f":"+IFERROR(+IF(Inputs!W58=FALSE,0,+(+VLOOKUP(D90,Inputs!$I$49:$J$63,2,0))),0)","v":0},0,0]
[null,null,26,{"$f":"+IFERROR(+IF(Inputs!I59=\"\",\"\",Inputs!I59),0)","v":""},0,{"$f":"+IFERROR(+IF(Inputs!L59=FALSE,0,+(+VLOOKUP(D91,Inputs!$I$49:$J$63,2,0))),0)","v":0},0,0,{"$f":"+IFERROR(+IF(Inputs!M59=FALSE,0,+(+VLOOKUP(D91,Inputs!$I$49:$J$63,2,0))),0)","v":0},0,0,{"$f":"+IFERROR(+IF(Inputs!N59=FALSE,0,+(+VLOOKUP(D91,Inputs!$I$49:$J$63,2,0))),0)","v":0},0,0,{"$f":"+IFERROR(+IF(Inputs!O59=FALSE,0,+(+VLOOKUP(D91,Inputs!$I$49:$J$63,2,0))),0)","v":0},0,0,{"$f":"+IFERROR(+IF(Inputs!P59=FALSE,0,+(+VLOOKUP(D91,Inputs!$I$49:$J$63,2,0))),0)","v":0},0,0,{"$f":"+IFERROR(+IF(Inputs!Q59=FALSE,0,+(+VLOOKUP(D91,Inputs!$I$49:$J$63,2,0))),0)","v":0},0,0,{"$f":"+IFERROR(+IF(Inputs!R59=FALSE,0,+(+VLOOKUP(D91,Inputs!$I$49:$J$63,2,0))),0)","v":0},0,0,{"$f":"+IFERROR(+IF(Inputs!S59=FALSE,0,+(+VLOOKUP(D91,Inputs!$I$49:$J$63,2,0))),0)","v":0},0,0,{"$f":"+IFERROR(+IF(Inputs!T59=FALSE,0,+(+VLOOKUP(D91,Inputs!$I$49:$J$63,2,0))),0)","v":0},0,0,{"$f":"+IFERROR(+IF(Inputs!U59=FALSE,0,+(+VLOOKUP(D91,Inputs!$I$49:$J$63,2,0))),0)","v":0},0,0,{"$f":"+IFERROR(+IF(Inputs!V59=FALSE,0,+(+VLOOKUP(D91,Inputs!$I$49:$J$63,2,0))),0)","v":0},0,0,{"$f":"+IFERROR(+IF(Inputs!W59=FALSE,0,+(+VLOOKUP(D91,Inputs!$I$49:$J$63,2,0))),0)","v":0},0,0]
[null,null,27,{"$f":"+IFERROR(+IF(Inputs!I60=\"\",\"\",Inputs!I60),0)","v":""},0,{"$f":"+IFERROR(+IF(Inputs!L60=FALSE,0,+(+VLOOKUP(D92,Inputs!$I$49:$J$63,2,0))),0)","v":0},0,0,{"$f":"+IFERROR(+IF(Inputs!M60=FALSE,0,+(+VLOOKUP(D92,Inputs!$I$49:$J$63,2,0))),0)","v":0},0,0,{"$f":"+IFERROR(+IF(Inputs!N60=FALSE,0,+(+VLOOKUP(D92,Inputs!$I$49:$J$63,2,0))),0)","v":0},0,0,{"$f":"+IFERROR(+IF(Inputs!O60=FALSE,0,+(+VLOOKUP(D92,Inputs!$I$49:$J$63,2,0))),0)","v":0},0,0,{"$f":"+IFERROR(+IF(Inputs!P60=FALSE,0,+(+VLOOKUP(D92,Inputs!$I$49:$J$63,2,0))),0)","v":0},0,0,{"$f":"+IFERROR(+IF(Inputs!Q60=FALSE,0,+(+VLOOKUP(D92,Inputs!$I$49:$J$63,2,0))),0)","v":0},0,0,{"$f":"+IFERROR(+IF(Inputs!R60=FALSE,0,+(+VLOOKUP(D92,Inputs!$I$49:$J$63,2,0))),0)","v":0},0,0,{"$f":"+IFERROR(+IF(Inputs!S60=FALSE,0,+(+VLOOKUP(D92,Inputs!$I$49:$J$63,2,0))),0)","v":0},0,0,{"$f":"+IFERROR(+IF(Inputs!T60=FALSE,0,+(+VLOOKUP(D92,Inputs!$I$49:$J$63,2,0))),0)","v":0},0,0,{"$f":"+IFERROR(+IF(Inputs!U60=FALSE,0,+(+VLOOKUP(D92,Inputs!$I$49:$J$63,2,0))),0)","v":0},0,0,{"$f":"+IFERROR(+IF(Inputs!V60=FALSE,0,+(+VLOOKUP(D92,Inputs!$I$49:$J$63,2,0))),0)","v":0},0,0,{"$f":"+IFERROR(+IF(Inputs!W60=FALSE,0,+(+VLOOKUP(D92,Inputs!$I$49:$J$63,2,0))),0)","v":0},0,0]
[null,null,28,{"$f":"+IFERROR(+IF(Inputs!I61=\"\",\"\",Inputs!I61),0)","v":""},0,{"$f":"+IFERROR(+IF(Inputs!L61=FALSE,0,+(+VLOOKUP(D93,Inputs!$I$49:$J$63,2,0))),0)","v":0},0,0,{"$f":"+IFERROR(+IF(Inputs!M61=FALSE,0,+(+VLOOKUP(D93,Inputs!$I$49:$J$63,2,0))),0)","v":0},0,0,{"$f":"+IFERROR(+IF(Inputs!N61=FALSE,0,+(+VLOOKUP(D93,Inputs!$I$49:$J$63,2,0))),0)","v":0},0,0,{"$f":"+IFERROR(+IF(Inputs!O61=FALSE,0,+(+VLOOKUP(D93,Inputs!$I$49:$J$63,2,0))),0)","v":0},0,0,{"$f":"+IFERROR(+IF(Inputs!P61=FALSE,0,+(+VLOOKUP(D93,Inputs!$I$49:$J$63,2,0))),0)","v":0},0,0,{"$f":"+IFERROR(+IF(Inputs!Q61=FALSE,0,+(+VLOOKUP(D93,Inputs!$I$49:$J$63,2,0))),0)","v":0},0,0,{"$f":"+IFERROR(+IF(Inputs!R61=FALSE,0,+(+VLOOKUP(D93,Inputs!$I$49:$J$63,2,0))),0)","v":0},0,0,{"$f":"+IFERROR(+IF(Inputs!S61=FALSE,0,+(+VLOOKUP(D93,Inputs!$I$49:$J$63,2,0))),0)","v":0},0,0,{"$f":"+IFERROR(+IF(Inputs!T61=FALSE,0,+(+VLOOKUP(D93,Inputs!$I$49:$J$63,2,0))),0)","v":0},0,0,{"$f":"+IFERROR(+IF(Inputs!U61=FALSE,0,+(+VLOOKUP(D93,Inputs!$I$49:$J$63,2,0))),0)","v":0},0,0,{"$f":"+IFERROR(+IF(Inputs!V61=FALSE,0,+(+VLOOKUP(D93,Inputs!$I$49:$J$63,2,0))),0)","v":0},0,0,{"$f":"+IFERROR(+IF(Inputs!W61=FALSE,0,+(+VLOOKUP(D93,Inputs!$I$49:$J$63,2,0))),0)","v":0},0,0]
[null,null,29,{"$f":"+IFERROR(+IF(Inputs!I62=\"\",\"\",Inputs!I62),0)","v":""},0,{"$f":"+IFERROR(+IF(Inputs!L62=FALSE,0,+(+VLOOKUP(D94,Inputs!$I$49:$J$63,2,0))),0)","v":0},0,0,{"$f":"+IFERROR(+IF(Inputs!M62=FALSE,0,+(+VLOOKUP(D94,Inputs!$I$49:$J$63,2,0))),0)","v":0},0,0,{"$f":"+IFERROR(+IF(Inputs!N62=FALSE,0,+(+VLOOKUP(D94,Inputs!$I$49:$J$63,2,0))),0)","v":0},0,0,{"$f":"+IFERROR(+IF(Inputs!O62=FALSE,0,+(+VLOOKUP(D94,Inputs!$I$49:$J$63,2,0))),0)","v":0},0,0,{"$f":"+IFERROR(+IF(Inputs!P62=FALSE,0,+(+VLOOKUP(D94,Inputs!$I$49:$J$63,2,0))),0)","v":0},0,0,{"$f":"+IFERROR(+IF(Inputs!Q62=FALSE,0,+(+VLOOKUP(D94,Inputs!$I$49:$J$63,2,0))),0)","v":0},0,0,{"$f":"+IFERROR(+IF(Inputs!R62=FALSE,0,+(+VLOOKUP(D94,Inputs!$I$49:$J$63,2,0))),0)","v":0},0,0,{"$f":"+IFERROR(+IF(Inputs!S62=FALSE,0,+(+VLOOKUP(D94,Inputs!$I$49:$J$63,2,0))),0)","v":0},0,0,{"$f":"+IFERROR(+IF(Inputs!T62=FALSE,0,+(+VLOOKUP(D94,Inputs!$I$49:$J$63,2,0))),0)","v":0},0,0,{"$f":"+IFERROR(+IF(Inputs!U62=FALSE,0,+(+VLOOKUP(D94,Inputs!$I$49:$J$63,2,0))),0)","v":0},0,0,{"$f":"+IFERROR(+IF(Inputs!V62=FALSE,0,+(+VLOOKUP(D94,Inputs!$I$49:$J$63,2,0))),0)","v":0},0,0,{"$f":"+IFERROR(+IF(Inputs!W62=FALSE,0,+(+VLOOKUP(D94,Inputs!$I$49:$J$63,2,0))),0)","v":0},0,0]
[null,null,30,{"$f":"+IFERROR(+IF(Inputs!I63=\"\",\"\",Inputs!I63),0)","v":""},{"$f":"+IFERROR((G95+J95+M95+P95+S95+V95+Y95+AB95+AE95+AH95+AK95+AN95)/($G$24+$J$24+$M$24+$P$24+$S$24+$V$24+$Y$24+$AB$24+$AE$24+$AH$24+$AK$24+$AN$24),0)","v":0},{"$f":"+IFERROR(+IF(Inputs!L63=FALSE,0,+(+VLOOKUP(D95,Inputs!$I$49:$J$63,2,0))),0)","v":0},0,0,{"$f":"+IFERROR(+IF(Inputs!M63=FALSE,0,+(+VLOOKUP(D95,Inputs!$I$49:$J$63,2,0))),0)","v":0},0,0,{"$f":"+IFERROR(+IF(Inputs!N63=FALSE,0,+(+VLOOKUP(D95,Inputs!$I$49:$J$63,2,0))),0)","v":0},0,0,{"$f":"+IFERROR(+IF(Inputs!O63=FALSE,0,+(+VLOOKUP(D95,Inputs!$I$49:$J$63,2,0))),0)","v":0},0,0,{"$f":"+IFERROR(+IF(Inputs!P63=FALSE,0,+(+VLOOKUP(D95,Inputs!$I$49:$J$63,2,0))),0)","v":0},0,0,{"$f":"+IFERROR(+IF(Inputs!Q63=FALSE,0,+(+VLOOKUP(D95,Inputs!$I$49:$J$63,2,0))),0)","v":0},0,0,{"$f":"+IFERROR(+IF(Inputs!R63=FALSE,0,+(+VLOOKUP(D95,Inputs!$I$49:$J$63,2,0))),0)","v":0},0,0,{"$f":"+IFERROR(+IF(Inputs!S63=FALSE,0,+(+VLOOKUP(D95,Inputs!$I$49:$J$63,2,0))),0)","v":0},0,0,{"$f":"+IFERROR(+IF(Inputs!T63=FALSE,0,+(+VLOOKUP(D95,Inputs!$I$49:$J$63,2,0))),0)","v":0},0,0,{"$f":"+IFERROR(+IF(Inputs!U63=FALSE,0,+(+VLOOKUP(D95,Inputs!$I$49:$J$63,2,0))),0)","v":0},0,0,{"$f":"+IFERROR(+IF(Inputs!V63=FALSE,0,+(+VLOOKUP(D95,Inputs!$I$49:$J$63,2,0))),0)","v":0},0,0,{"$f":"+IFERROR(+IF(Inputs!W63=FALSE,0,+(+VLOOKUP(D95,Inputs!$I$49:$J$63,2,0))),0)","v":0},0,0]
[null,null,"Resumen","GASTOS OBLIGATORIOS",0,{"$f":"+SUM(F66:F95)","v":0},{"$f":"+SUM(G66:G95)","v":0},0,{"$f":"+SUM(I66:I95)","v":0},{"$f":"+SUM(J66:J95)","v":0},0,{"$f":"+SUM(L66:L95)","v":0},{"$f":"+SUM(M66:M95)","v":0},0,{"$f":"+SUM(O66:O95)","v":0},{"$f":"+SUM(P66:P95)","v":0},0,{"$f":"+SUM(R66:R95)","v":0},{"$f":"+SUM(S66:S95)","v":0},0,{"$f":"+SUM(U66:U95)","v":0},{"$f":"+SUM(V66:V95)","v":0},0,{"$f":"+SUM(X66:X95)","v":0},{"$f":"+SUM(Y66:Y95)","v":0},0,{"$f":"+SUM(AA66:AA95)","v":0},{"$f":"+SUM(AB66:AB95)","v":0},0,{"$f":"+SUM(AD66:AD95)","v":0},{"$f":"+SUM(AE66:AE95)","v":0},0,{"$f":"+SUM(AG66:AG95)","v":0},{"$f":"+SUM(AH66:AH95)","v":0},0,{"$f":"+SUM(AJ66:AJ95)","v":0},{"$f":"+SUM(AK66:AK95)","v":0},0,{"$f":"+SUM(AM66:AM95)","v":0},{"$f":"+SUM(AN66:AN95)","v":0},0]
[null,null,null,0]
[null,null,null,1]
[null,null,1,{"$f":"+IFERROR(+IF(Inputs!#REF!=\"\",\"\",Inputs!#REF!),0)","v":0},{"$f":"+IFERROR((G99+J99+M99+P99+S99+V99+Y99+AB99+AE99+AH99+AK99+AN99)/($G$24+$J$24+$M$24+$P$24+$S$24+$V$24+$Y$24+$AB$24+$AE$24+$AH$24+$AK$24+$AN$24),0)","v":0},{"$f":"+IFERROR((+VLOOKUP(D99,Inputs!$D$68:$E$82,2,0)),0)","v":0},0,{"$f":"+IFERROR(+(F99-G99),0)","v":0},{"$f":"+F99","v":0},0,{"$f":"+IFERROR(+(I99-J99),0)","v":0},{"$f":"+I99","v":0},0,{"$f":"+IFERROR(+(L99-M99),0)","v":0},{"$f":"+L99","v":0},0,{"$f":"+IFERROR(+(O99-P99),0)","v":0},{"$f":"+O99","v":0},0,{"$f":"+IFERROR(+(R99-S99),0)","v":0},{"$f":"+R99","v":0},0,{"$f":"+IFERROR(+(U99-V99),0)","v":0},{"$f":"+U99","v":0},0,{"$f":"+IFERROR(+(X99-Y99),0)","v":0},{"$f":"+X99","v":0},0,{"$f":"+IFERROR(+(AA99-AB99),0)","v":0},{"$f":"+AA99","v":0},0,{"$f":"+IFERROR(+(AD99-AE99),0)","v":0},{"$f":"+AD99","v":0},0,{"$f":"+IFERROR(+(AG99-AH99),0)","v":0},{"$f":"+AG99","v":0},0,{"$f":"+IFERROR(+(AJ99-AK99),0)","v":0},{"$f":"+AJ99","v":0},0,{"$f":"+IFERROR(+(AM99-AN99),0)","v":0}]
[null,null,2,{"$f":"+IFERROR(+IF(Inputs!#REF!=\"\",\"\",Inputs!#REF!),0)","v":0},0,{"$f":"+IFERROR((+VLOOKUP(D100,Inputs!$D$68:$E$82,2,0)),0)","v":0},0,{"$f":"+IFERROR(+(F100-G100),0)","v":0},0,0,{"$f":"+IFERROR(+(I100-J100),0)","v":0},0,0,{"$f":"+IFERROR(+(L100-M100),0)","v":0},0,0,{"$f":"+IFERROR(+(O100-P100),0)","v":0},0,0,{"$f":"+IFERROR(+(R100-S100),0)","v":0},0,0,{"$f":"+IFERROR(+(U100-V100),0)","v":0},0,0,{"$f":"+IFERROR(+(X100-Y100),0)","v":0},0,0,{"$f":"+IFERROR(+(AA100-AB100),0)","v":0},0,0,{"$f":"+IFERROR(+(AD100-AE100),0)","v":0},0,0,{"$f":"+IFERROR(+(AG100-AH100),0)","v":0},0,0,{"$f":"+IFERROR(+(AJ100-AK100),0)","v":0},0,0,0]
[null,null,3,{"$f":"+IFERROR(+IF(Inputs!#REF!=\"\",\"\",Inputs!#REF!),0)","v":0},0,{"$f":"+IFERROR((+VLOOKUP(D101,Inputs!$D$68:$E$82,2,0)),0)","v":0},0,0,0,0,0,0,0,0,0,0,0,0,0,0,0,0,0,0,0,0,0,0,0,0,0,0,0,0,0,0,0,0,0,0,0]
[null,null,4,{"$f":"+IFERROR(+IF(Inputs!#REF!=\"\",\"\",Inputs!#REF!),0)","v":0},0,{"$f":"+IFERROR((+VLOOKUP(D102,Inputs!$D$68:$E$82,2,0)),0)","v":0},0,0,0,0,0,0,0,0,0,0,0,0,0,0,0,0,0,0,0,0,0,0,0,0,0,0,0,0,0,0,0,0,0,0,0]
[null,null,5,{"$f":"+IFERROR(+IF(Inputs!#REF!=\"\",\"\",Inputs!#REF!),0)","v":0},0,{"$f":"+IFERROR((+VLOOKUP(D103,Inputs!$D$68:$E$82,2,0)),0)","v":0},0,0,0,0,0,0,0,0,0,0,0,0,0,0,0,0,0,0,0,0,0,0,0,0,0,0,0,0,0,0,0,0,0,0,0]
[null,null,6,{"$f":"+IFERROR(+IF(Inputs!#REF!=\"\",\"\",Inputs!#REF!),0)","v":0},0,{"$f":"+IFERROR((+VLOOKUP(D104,Inputs!$D$68:$E$82,2,0)),0)","v":0},0,0,0,0,0,0,0,0,0,0,0,0,0,0,0,0,0,0,0,0,0,0,0,0,0,0,0,0,0,0,0,0,0,0,0]
[null,null,7,{"$f":"+IFERROR(+IF(Inputs!D74=\"\",\"\",Inputs!D74),0)","v":""},0,{"$f":"+IFERROR((+VLOOKUP(D105,Inputs!$D$68:$E$82,2,0)),0)","v":0},0,0,0,0,0,0,0,0,0,0,0,0,0,0,0,0,0,0,0,0,0,0,0,0,0,0,0,0,0,0,0,0,0,0,0]
[null,null,8,{"$f":"+IFERROR(+IF(Inputs!D75=\"\",\"\",Inputs!D75),0)","v":""},0,{"$f":"+IFERROR((+VLOOKUP(D106,Inputs!$D$68:$E$82,2,0)),0)","v":0},0,0,0,0,0,0,0,0,0,0,0,0,0,0,0,0,0,0,0,0,0,0,0,0,0,0,0,0,0,0,0,0,0,0,0]
[null,null,9,{"$f":"+IFERROR(+IF(Inputs!D76=\"\",\"\",Inputs!D76),0)","v":""},0,{"$f":"+IFERROR((+VLOOKUP(D107,Inputs!$D$68:$E$82,2,0)),0)","v":0},0,0,0,0,0,0,0,0,0,0,0,0,0,0,0,0,0,0,0,0,0,0,0,0,0,0,0,0,0,0,0,0,0,0,0]
[null,null,10,{"$f":"+IFERROR(+IF(Inputs!D77=\"\",\"\",Inputs!D77),0)","v":""},0,{"$f":"+IFERROR((+VLOOKUP(D108,Inputs!$D$68:$E$82,2,0)),0)","v":0},0,0,0,0,0,0,0,0,0,0,0,0,0,0,0,0,0,0,0,0,0,0,0,0,0,0,0,0,0,0,0,0,0,0,0]
[null,null,11,{"$f":"+IFERROR(+IF(Inputs!D78=\"\",\"\",Inputs!D78),0)","v":""},0,{"$f":"+IFERROR((+VLOOKUP(D109,Inputs!$D$68:$E$82,2,0)),0)","v":0},0,0,0,0,0,0,0,0,0,0,0,0,0,0,0,0,0,0,0,0,0,0,0,0,0,0,0,0,0,0,0,0,0,0,0]
[null,null,12,{"$f":"+IFERROR(+IF(Inputs!D79=\"\",\"\",Inputs!D79),0)","v":""},0,{"$f":"+IFERROR((+VLOOKUP(D110,Inputs!$D$68:$E$82,2,0)),0)","v":0},0,0,0,0,0,0,0,0,0,0,0,0,0,0,0,0,0,0,0,0,0,0,0,0,0,0,0,0,0,0,0,0,0,0,0]
[null,null,13,{"$f":"+IFERROR(+IF(Inputs!D80=\"\",\"\",Inputs!D80),0)","v":""},0,{"$f":"+IFERROR((+VLOOKUP(D111,Inputs!$D$68:$E$82,2,0)),0)","v":0},0,0,0,0,0,0,0,0,0,0,0,0,0,0,0,0,0,0,0,0,0,0,0,0,0,0,0,0,0,0,0,0,0,0,0]
[null,null,14,{"$f":"+IFERROR(+IF(Inputs!D81=\"\",\"\",Inputs!D81),0)","v":""},0,{"$f":"+IFERROR((+VLOOKUP(D112,Inputs!$D$68:$E$82,2,0)),0)","v":0},0,0,0,0,0,0,0,0,0,0,0,0,0,0,0,0,0,0,0,0,0,0,0,0,0,0,0,0,0,0,0,0,0,0,0]
[null,null,15,{"$f":"+IFERROR(+IF(Inputs!D82=\"\",\"\",Inputs!D82),0)","v":""},0,{"$f":"+IFERROR((+VLOOKUP(D113,Inputs!$D$68:$E$82,2,0)),0)","v":0},0,0,0,0,0,0,0,0,0,0,0,0,0,0,0,0,0,0,0,0,0,0,0,0,0,0,0,0,0,0,0,0,0,0,0]
[null,null,16,{"$f":"+IFERROR(+IF(Inputs!I68=\"\",\"\",Inputs!I68),0)","v":"Abono extra Fondo de Emerg. (ejemplo)"},0,{"$f":"+IFERROR(+IF(Inputs!L68=FALSE,0,+(+VLOOKUP(D114,Inputs!$I$68:$J$82,2,0))),0)","v":0},0,0,{"$f":"+IFERROR(+IF(Inputs!M68=FALSE,0,+(+VLOOKUP(D114,Inputs!$I$68:$J$82,2,0))),0)","v":0},0,0,{"$f":"+IFERROR(+IF(Inputs!N68=FALSE,0,+(+VLOOKUP(D114,Inputs!$I$68:$J$82,2,0))),0)","v":0},0,0,{"$f":"+IFERROR(+IF(Inputs!O68=FALSE,0,+(+VLOOKUP(D114,Inputs!$I$68:$J$82,2,0))),0)","v":0},0,0,{"$f":"+IFERROR(+IF(Inputs!P68=FALSE,0,+(+VLOOKUP(D114,Inputs!$I$68:$J$82,2,0))),0)","v":0},0,0,{"$f":"+IFERROR(+IF(Inputs!Q68=FALSE,0,+(+VLOOKUP(D114,Inputs!$I$68:$J$82,2,0))),0)","v":0},0,0,{"$f":"+IFERROR(+IF(Inputs!R68=FALSE,0,+(+VLOOKUP(D114,Inputs!$I$68:$J$82,2,0))),0)","v":0},0,0,{"$f":"+IFERROR(+IF(Inputs!S68=FALSE,0,+(+VLOOKUP(D114,Inputs!$I$68:$J$82,2,0))),0)","v":0},0,0,{"$f":"+IFERROR(+IF(Inputs!T68=FALSE,0,+(+VLOOKUP(D114,Inputs!$I$68:$J$82,2,0))),0)","v":0},0,0,{"$f":"+IFERROR(+IF(Inputs!U68=FALSE,0,+(+VLOOKUP(D114,Inputs!$I$68:$J$82,2,0))),0)","v":0},0,0,{"$f":"+IFERROR(+IF(Inputs!V68=FALSE,0,+(+VLOOKUP(D114,Inputs!$I$68:$J$82,2,0))),0)","v":0},0,0,{"$f":"+IFERROR(+IF(Inputs!W68=FALSE,0,+(+VLOOKUP(D114,Inputs!$I$68:$J$82,2,0))),0)","v":0},0,0]
[null,null,17,{"$f":"+IFERROR(+IF(Inputs!I69=\"\",\"\",Inputs!I69),0)","v":"Seguro del vehículo (ejemplo)"},0,{"$f":"+IFERROR(+IF(Inputs!L69=FALSE,0,+(+VLOOKUP(D115,Inputs!$I$68:$J$82,2,0))),0)","v":0},0,0,{"$f":"+IFERROR(+IF(Inputs!M69=FALSE,0,+(+VLOOKUP(D115,Inputs!$I$68:$J$82,2,0))),0)","v":0},0,{"$f":"+IFERROR(+(I115-J115),0)","v":0},{"$f":"+IFERROR(+IF(Inputs!N69=FALSE,0,+(+VLOOKUP(D115,Inputs!$I$68:$J$82,2,0))),0)","v":0},0,{"$f":"+IFERROR(+(L115-M115),0)","v":0},{"$f":"+IFERROR(+IF(Inputs!O69=FALSE,0,+(+VLOOKUP(D115,Inputs!$I$68:$J$82,2,0))),0)","v":0},0,{"$f":"+IFERROR(+(O115-P115),0)","v":0},{"$f":"+IFERROR(+IF(Inputs!P69=FALSE,0,+(+VLOOKUP(D115,Inputs!$I$68:$J$82,2,0))),0)","v":0},0,{"$f":"+IFERROR(+(R115-S115),0)","v":0},{"$f":"+IFERROR(+IF(Inputs!Q69=FALSE,0,+(+VLOOKUP(D115,Inputs!$I$68:$J$82,2,0))),0)","v":0},0,{"$f":"+IFERROR(+(U115-V115),0)","v":0},{"$f":"+IFERROR(+IF(Inputs!R69=FALSE,0,+(+VLOOKUP(D115,Inputs!$I$68:$J$82,2,0))),0)","v":0},0,{"$f":"+IFERROR(+(X115-Y115),0)","v":0},{"$f":"+IFERROR(+IF(Inputs!S69=FALSE,0,+(+VLOOKUP(D115,Inputs!$I$68:$J$82,2,0))),0)","v":0},0,{"$f":"+IFERROR(+(AA115-AB115),0)","v":0},{"$f":"+IFERROR(+IF(Inputs!T69=FALSE,0,+(+VLOOKUP(D115,Inputs!$I$68:$J$82,2,0))),0)","v":0},0,{"$f":"+IFERROR(+(AD115-AE115),0)","v":0},{"$f":"+IFERROR(+IF(Inputs!U69=FALSE,0,+(+VLOOKUP(D115,Inputs!$I$68:$J$82,2,0))),0)","v":0},0,{"$f":"+IFERROR(+(AG115-AH115),0)","v":0},{"$f":"+IFERROR(+IF(Inputs!V69=FALSE,0,+(+VLOOKUP(D115,Inputs!$I$68:$J$82,2,0))),0)","v":0},0,{"$f":"+IFERROR(+(AJ115-AK115),0)","v":0},{"$f":"+IFERROR(+IF(Inputs!W69=FALSE,0,+(+VLOOKUP(D115,Inputs!$I$68:$J$82,2,0))),0)","v":0},0,0]
[null,null,18,{"$f":"+IFERROR(+IF(Inputs!I70=\"\",\"\",Inputs!I70),0)","v":""},0,{"$f":"+IFERROR(+IF(Inputs!L70=FALSE,0,+(+VLOOKUP(D116,Inputs!$I$68:$J$82,2,0))),0)","v":0},0,0,{"$f":"+IFERROR(+IF(Inputs!M70=FALSE,0,+(+VLOOKUP(D116,Inputs!$I$68:$J$82,2,0))),0)","v":0},0,0,{"$f":"+IFERROR(+IF(Inputs!N70=FALSE,0,+(+VLOOKUP(D116,Inputs!$I$68:$J$82,2,0))),0)","v":0},0,0,{"$f":"+IFERROR(+IF(Inputs!O70=FALSE,0,+(+VLOOKUP(D116,Inputs!$I$68:$J$82,2,0))),0)","v":0},0,0,{"$f":"+IFERROR(+IF(Inputs!P70=FALSE,0,+(+VLOOKUP(D116,Inputs!$I$68:$J$82,2,0))),0)","v":0},0,0,{"$f":"+IFERROR(+IF(Inputs!Q70=FALSE,0,+(+VLOOKUP(D116,Inputs!$I$68:$J$82,2,0))),0)","v":0},0,0,{"$f":"+IFERROR(+IF(Inputs!R70=FALSE,0,+(+VLOOKUP(D116,Inputs!$I$68:$J$82,2,0))),0)","v":0},0,0,{"$f":"+IFERROR(+IF(Inputs!S70=FALSE,0,+(+VLOOKUP(D116,Inputs!$I$68:$J$82,2,0))),0)","v":0},0,0,{"$f":"+IFERROR(+IF(Inputs!T70=FALSE,0,+(+VLOOKUP(D116,Inputs!$I$68:$J$82,2,0))),0)","v":0},0,0,{"$f":"+IFERROR(+IF(Inputs!U70=FALSE,0,+(+VLOOKUP(D116,Inputs!$I$68:$J$82,2,0))),0)","v":0},0,0,{"$f":"+IFERROR(+IF(Inputs!V70=FALSE,0,+(+VLOOKUP(D116,Inputs!$I$68:$J$82,2,0))),0)","v":0},0,0,{"$f":"+IFERROR(+IF(Inputs!W70=FALSE,0,+(+VLOOKUP(D116,Inputs!$I$68:$J$82,2,0))),0)","v":0},0,0]
[null,null,19,{"$f":"+IFERROR(+IF(Inputs!I71=\"\",\"\",Inputs!I71),0)","v":""},0,{"$f":"+IFERROR(+IF(Inputs!L71=FALSE,0,+(+VLOOKUP(D117,Inputs!$I$68:$J$82,2,0))),0)","v":0},0,0,{"$f":"+IFERROR(+IF(Inputs!M71=FALSE,0,+(+VLOOKUP(D117,Inputs!$I$68:$J$82,2,0))),0)","v":0},0,0,{"$f":"+IFERROR(+IF(Inputs!N71=FALSE,0,+(+VLOOKUP(D117,Inputs!$I$68:$J$82,2,0))),0)","v":0},0,0,{"$f":"+IFERROR(+IF(Inputs!O71=FALSE,0,+(+VLOOKUP(D117,Inputs!$I$68:$J$82,2,0))),0)","v":0},0,0,{"$f":"+IFERROR(+IF(Inputs!P71=FALSE,0,+(+VLOOKUP(D117,Inputs!$I$68:$J$82,2,0))),0)","v":0},0,0,{"$f":"+IFERROR(+IF(Inputs!Q71=FALSE,0,+(+VLOOKUP(D117,Inputs!$I$68:$J$82,2,0))),0)","v":0},0,0,{"$f":"+IFERROR(+IF(Inputs!R71=FALSE,0,+(+VLOOKUP(D117,Inputs!$I$68:$J$82,2,0))),0)","v":0},0,0,{"$f":"+IFERROR(+IF(Inputs!S71=FALSE,0,+(+VLOOKUP(D117,Inputs!$I$68:$J$82,2,0))),0)","v":0},0,0,{"$f":"+IFERROR(+IF(Inputs!T71=FALSE,0,+(+VLOOKUP(D117,Inputs!$I$68:$J$82,2,0))),0)","v":0},0,0,{"$f":"+IFERROR(+IF(Inputs!U71=FALSE,0,+(+VLOOKUP(D117,Inputs!$I$68:$J$82,2,0))),0)","v":0},0,0,{"$f":"+IFERROR(+IF(Inputs!V71=FALSE,0,+(+VLOOKUP(D117,Inputs!$I$68:$J$82,2,0))),0)","v":0},0,0,{"$f":"+IFERROR(+IF(Inputs!W71=FALSE,0,+(+VLOOKUP(D117,Inputs!$I$68:$J$82,2,0))),0)","v":0},0,0]
[null,null,20,{"$f":"+IFERROR(+IF(Inputs!I72=\"\",\"\",Inputs!I72),0)","v":""},0,{"$f":"+IFERROR(+IF(Inputs!L72=FALSE,0,+(+VLOOKUP(D118,Inputs!$I$68:$J$82,2,0))),0)","v":0},0,0,{"$f":"+IFERROR(+IF(Inputs!M72=FALSE,0,+(+VLOOKUP(D118,Inputs!$I$68:$J$82,2,0))),0)","v":0},0,0,{"$f":"+IFERROR(+IF(Inputs!N72=FALSE,0,+(+VLOOKUP(D118,Inputs!$I$68:$J$82,2,0))),0)","v":0},0,0,{"$f":"+IFERROR(+IF(Inputs!O72=FALSE,0,+(+VLOOKUP(D118,Inputs!$I$68:$J$82,2,0))),0)","v":0},0,0,{"$f":"+IFERROR(+IF(Inputs!P72=FALSE,0,+(+VLOOKUP(D118,Inputs!$I$68:$J$82,2,0))),0)","v":0},0,0,{"$f":"+IFERROR(+IF(Inputs!Q72=FALSE,0,+(+VLOOKUP(D118,Inputs!$I$68:$J$82,2,0))),0)","v":0},0,0,{"$f":"+IFERROR(+IF(Inputs!R72=FALSE,0,+(+VLOOKUP(D118,Inputs!$I$68:$J$82,2,0))),0)","v":0},0,0,{"$f":"+IFERROR(+IF(Inputs!S72=FALSE,0,+(+VLOOKUP(D118,Inputs!$I$68:$J$82,2,0))),0)","v":0},0,0,{"$f":"+IFERROR(+IF(Inputs!T72=FALSE,0,+(+VLOOKUP(D118,Inputs!$I$68:$J$82,2,0))),0)","v":0},0,0,{"$f":"+IFERROR(+IF(Inputs!U72=FALSE,0,+(+VLOOKUP(D118,Inputs!$I$68:$J$82,2,0))),0)","v":0},0,0,{"$f":"+IFERROR(+IF(Inputs!V72=FALSE,0,+(+VLOOKUP(D118,Inputs!$I$68:$J$82,2,0))),0)","v":0},0,0,{"$f":"+IFERROR(+IF(Inputs!W72=FALSE,0,+(+VLOOKUP(D118,Inputs!$I$68:$J$82,2,0))),0)","v":0},0,0]
[null,null,21,{"$f":"+IFERROR(+IF(Inputs!I73=\"\",\"\",Inputs!I73),0)","v":""},0,{"$f":"+IFERROR(+IF(Inputs!L73=FALSE,0,+(+VLOOKUP(D119,Inputs!$I$68:$J$82,2,0))),0)","v":0},0,0,{"$f":"+IFERROR(+IF(Inputs!M73=FALSE,0,+(+VLOOKUP(D119,Inputs!$I$68:$J$82,2,0))),0)","v":0},0,0,{"$f":"+IFERROR(+IF(Inputs!N73=FALSE,0,+(+VLOOKUP(D119,Inputs!$I$68:$J$82,2,0))),0)","v":0},0,0,{"$f":"+IFERROR(+IF(Inputs!O73=FALSE,0,+(+VLOOKUP(D119,Inputs!$I$68:$J$82,2,0))),0)","v":0},0,0,{"$f":"+IFERROR(+IF(Inputs!P73=FALSE,0,+(+VLOOKUP(D119,Inputs!$I$68:$J$82,2,0))),0)","v":0},0,0,{"$f":"+IFERROR(+IF(Inputs!Q73=FALSE,0,+(+VLOOKUP(D119,Inputs!$I$68:$J$82,2,0))),0)","v":0},0,0,{"$f":"+IFERROR(+IF(Inputs!R73=FALSE,0,+(+VLOOKUP(D119,Inputs!$I$68:$J$82,2,0))),0)","v":0},0,0,{"$f":"+IFERROR(+IF(Inputs!S73=FALSE,0,+(+VLOOKUP(D119,Inputs!$I$68:$J$82,2,0))),0)","v":0},0,0,{"$f":"+IFERROR(+IF(Inputs!T73=FALSE,0,+(+VLOOKUP(D119,Inputs!$I$68:$J$82,2,0))),0)","v":0},0,0,{"$f":"+IFERROR(+IF(Inputs!U73=FALSE,0,+(+VLOOKUP(D119,Inputs!$I$68:$J$82,2,0))),0)","v":0},0,0,{"$f":"+IFERROR(+IF(Inputs!V73=FALSE,0,+(+VLOOKUP(D119,Inputs!$I$68:$J$82,2,0))),0)","v":0},0,0,{"$f":"+IFERROR(+IF(Inputs!W73=FALSE,0,+(+VLOOKUP(D119,Inputs!$I$68:$J$82,2,0))),0)","v":0},0,0]
[null,null,22,{"$f":"+IFERROR(+IF(Inputs!I74=\"\",\"\",Inputs!I74),0)","v":""},0,{"$f":"+IFERROR(+IF(Inputs!L74=FALSE,0,+(+VLOOKUP(D120,Inputs!$I$68:$J$82,2,0))),0)","v":0},0,0,{"$f":"+IFERROR(+IF(Inputs!M74=FALSE,0,+(+VLOOKUP(D120,Inputs!$I$68:$J$82,2,0))),0)","v":0},0,0,{"$f":"+IFERROR(+IF(Inputs!N74=FALSE,0,+(+VLOOKUP(D120,Inputs!$I$68:$J$82,2,0))),0)","v":0},0,0,{"$f":"+IFERROR(+IF(Inputs!O74=FALSE,0,+(+VLOOKUP(D120,Inputs!$I$68:$J$82,2,0))),0)","v":0},0,0,{"$f":"+IFERROR(+IF(Inputs!P74=FALSE,0,+(+VLOOKUP(D120,Inputs!$I$68:$J$82,2,0))),0)","v":0},0,0,{"$f":"+IFERROR(+IF(Inputs!Q74=FALSE,0,+(+VLOOKUP(D120,Inputs!$I$68:$J$82,2,0))),0)","v":0},0,0,{"$f":"+IFERROR(+IF(Inputs!R74=FALSE,0,+(+VLOOKUP(D120,Inputs!$I$68:$J$82,2,0))),0)","v":0},0,0,{"$f":"+IFERROR(+IF(Inputs!S74=FALSE,0,+(+VLOOKUP(D120,Inputs!$I$68:$J$82,2,0))),0)","v":0},0,0,{"$f":"+IFERROR(+IF(Inputs!T74=FALSE,0,+(+VLOOKUP(D120,Inputs!$I$68:$J$82,2,0))),0)","v":0},0,0,{"$f":"+IFERROR(+IF(Inputs!U74=FALSE,0,+(+VLOOKUP(D120,Inputs!$I$68:$J$82,2,0))),0)","v":0},0,0,{"$f":"+IFERROR(+IF(Inputs!V74=FALSE,0,+(+VLOOKUP(D120,Inputs!$I$68:$J$82,2,0))),0)","v":0},0,0,{"$f":"+IFERROR(+IF(Inputs!W74=FALSE,0,+(+VLOOKUP(D120,Inputs!$I$68:$J$82,2,0))),0)","v":0},0,0]
[null,null,23,{"$f":"+IFERROR(+IF(Inputs!I75=\"\",\"\",Inputs!I75),0)","v":""},0,{"$f":"+IFERROR(+IF(Inputs!L75=FALSE,0,+(+VLOOKUP(D121,Inputs!$I$68:$J$82,2,0))),0)","v":0},0,0,{"$f":"+IFERROR(+IF(Inputs!M75=FALSE,0,+(+VLOOKUP(D121,Inputs!$I$68:$J$82,2,0))),0)","v":0},0,0,{"$f":"+IFERROR(+IF(Inputs!N75=FALSE,0,+(+VLOOKUP(D121,Inputs!$I$68:$J$82,2,0))),0)","v":0},0,0,{"$f":"+IFERROR(+IF(Inputs!O75=FALSE,0,+(+VLOOKUP(D121,Inputs!$I$68:$J$82,2,0))),0)","v":0},0,0,{"$f":"+IFERROR(+IF(Inputs!P75=FALSE,0,+(+VLOOKUP(D121,Inputs!$I$68:$J$82,2,0))),0)","v":0},0,0,{"$f":"+IFERROR(+IF(Inputs!Q75=FALSE,0,+(+VLOOKUP(D121,Inputs!$I$68:$J$82,2,0))),0)","v":0},0,0,{"$f":"+IFERROR(+IF(Inputs!R75=FALSE,0,+(+VLOOKUP(D121,Inputs!$I$68:$J$82,2,0))),0)","v":0},0,0,{"$f":"+IFERROR(+IF(Inputs!S75=FALSE,0,+(+VLOOKUP(D121,Inputs!$I$68:$J$82,2,0))),0)","v":0},0,0,{"$f":"+IFERROR(+IF(Inputs!T75=FALSE,0,+(+VLOOKUP(D121,Inputs!$I$68:$J$82,2,0))),0)","v":0},0,0,{"$f":"+IFERROR(+IF(Inputs!U75=FALSE,0,+(+VLOOKUP(D121,Inputs!$I$68:$J$82,2,0))),0)","v":0},0,0,{"$f":"+IFERROR(+IF(Inputs!V75=FALSE,0,+(+VLOOKUP(D121,Inputs!$I$68:$J$82,2,0))),0)","v":0},0,0,{"$f":"+IFERROR(+IF(Inputs!W75=FALSE,0,+(+VLOOKUP(D121,Inputs!$I$68:$J$82,2,0))),0)","v":0},0,0]
[null,null,24,{"$f":"+IFERROR(+IF(Inputs!I76=\"\",\"\",Inputs!I76),0)","v":""},0,{"$f":"+IFERROR(+IF(Inputs!L76=FALSE,0,+(+VLOOKUP(D122,Inputs!$I$68:$J$82,2,0))),0)","v":0},0,0,{"$f":"+IFERROR(+IF(Inputs!M76=FALSE,0,+(+VLOOKUP(D122,Inputs!$I$68:$J$82,2,0))),0)","v":0},0,0,{"$f":"+IFERROR(+IF(Inputs!N76=FALSE,0,+(+VLOOKUP(D122,Inputs!$I$68:$J$82,2,0))),0)","v":0},0,0,{"$f":"+IFERROR(+IF(Inputs!O76=FALSE,0,+(+VLOOKUP(D122,Inputs!$I$68:$J$82,2,0))),0)","v":0},0,0,{"$f":"+IFERROR(+IF(Inputs!P76=FALSE,0,+(+VLOOKUP(D122,Inputs!$I$68:$J$82,2,0))),0)","v":0},0,0,{"$f":"+IFERROR(+IF(Inputs!Q76=FALSE,0,+(+VLOOKUP(D122,Inputs!$I$68:$J$82,2,0))),0)","v":0},0,0,{"$f":"+IFERROR(+IF(Inputs!R76=FALSE,0,+(+VLOOKUP(D122,Inputs!$I$68:$J$82,2,0))),0)","v":0},0,0,{"$f":"+IFERROR(+IF(Inputs!S76=FALSE,0,+(+VLOOKUP(D122,Inputs!$I$68:$J$82,2,0))),0)","v":0},0,0,{"$f":"+IFERROR(+IF(Inputs!T76=FALSE,0,+(+VLOOKUP(D122,Inputs!$I$68:$J$82,2,0))),0)","v":0},0,0,{"$f":"+IFERROR(+IF(Inputs!U76=FALSE,0,+(+VLOOKUP(D122,Inputs!$I$68:$J$82,2,0))),0)","v":0},0,0,{"$f":"+IFERROR(+IF(Inputs!V76=FALSE,0,+(+VLOOKUP(D122,Inputs!$I$68:$J$82,2,0))),0)","v":0},0,0,{"$f":"+IFERROR(+IF(Inputs!W76=FALSE,0,+(+VLOOKUP(D122,Inputs!$I$68:$J$82,2,0))),0)","v":0},0,0]
[null,null,25,{"$f":"+IFERROR(+IF(Inputs!I77=\"\",\"\",Inputs!I77),0)","v":""},0,{"$f":"+IFERROR(+IF(Inputs!L77=FALSE,0,+(+VLOOKUP(D123,Inputs!$I$68:$J$82,2,0))),0)","v":0},0,0,{"$f":"+IFERROR(+IF(Inputs!M77=FALSE,0,+(+VLOOKUP(D123,Inputs!$I$68:$J$82,2,0))),0)","v":0},0,0,{"$f":"+IFERROR(+IF(Inputs!N77=FALSE,0,+(+VLOOKUP(D123,Inputs!$I$68:$J$82,2,0))),0)","v":0},0,0,{"$f":"+IFERROR(+IF(Inputs!O77=FALSE,0,+(+VLOOKUP(D123,Inputs!$I$68:$J$82,2,0))),0)","v":0},0,0,{"$f":"+IFERROR(+IF(Inputs!P77=FALSE,0,+(+VLOOKUP(D123,Inputs!$I$68:$J$82,2,0))),0)","v":0},0,0,{"$f":"+IFERROR(+IF(Inputs!Q77=FALSE,0,+(+VLOOKUP(D123,Inputs!$I$68:$J$82,2,0))),0)","v":0},0,0,{"$f":"+IFERROR(+IF(Inputs!R77=FALSE,0,+(+VLOOKUP(D123,Inputs!$I$68:$J$82,2,0))),0)","v":0},0,0,{"$f":"+IFERROR(+IF(Inputs!S77=FALSE,0,+(+VLOOKUP(D123,Inputs!$I$68:$J$82,2,0))),0)","v":0},0,0,{"$f":"+IFERROR(+IF(Inputs!T77=FALSE,0,+(+VLOOKUP(D123,Inputs!$I$68:$J$82,2,0))),0)","v":0},0,0,{"$f":"+IFERROR(+IF(Inputs!U77=FALSE,0,+(+VLOOKUP(D123,Inputs!$I$68:$J$82,2,0))),0)","v":0},0,0,{"$f":"+IFERROR(+IF(Inputs!V77=FALSE,0,+(+VLOOKUP(D123,Inputs!$I$68:$J$82,2,0))),0)","v":0},0,0,{"$f":"+IFERROR(+IF(Inputs!W77=FALSE,0,+(+VLOOKUP(D123,Inputs!$I$68:$J$82,2,0))),0)","v":0},0,0]
[null,null,26,{"$f":"+IFERROR(+IF(Inputs!I78=\"\",\"\",Inputs!I78),0)","v":""},0,{"$f":"+IFERROR(+IF(Inputs!L78=FALSE,0,+(+VLOOKUP(D124,Inputs!$I$68:$J$82,2,0))),0)","v":0},0,0,{"$f":"+IFERROR(+IF(Inputs!M78=FALSE,0,+(+VLOOKUP(D124,Inputs!$I$68:$J$82,2,0))),0)","v":0},0,0,{"$f":"+IFERROR(+IF(Inputs!N78=FALSE,0,+(+VLOOKUP(D124,Inputs!$I$68:$J$82,2,0))),0)","v":0},0,0,{"$f":"+IFERROR(+IF(Inputs!O78=FALSE,0,+(+VLOOKUP(D124,Inputs!$I$68:$J$82,2,0))),0)","v":0},0,0,{"$f":"+IFERROR(+IF(Inputs!P78=FALSE,0,+(+VLOOKUP(D124,Inputs!$I$68:$J$82,2,0))),0)","v":0},0,0,{"$f":"+IFERROR(+IF(Inputs!Q78=FALSE,0,+(+VLOOKUP(D124,Inputs!$I$68:$J$82,2,0))),0)","v":0},0,0,{"$f":"+IFERROR(+IF(Inputs!R78=FALSE,0,+(+VLOOKUP(D124,Inputs!$I$68:$J$82,2,0))),0)","v":0},0,0,{"$f":"+IFERROR(+IF(Inputs!S78=FALSE,0,+(+VLOOKUP(D124,Inputs!$I$68:$J$82,2,0))),0)","v":0},0,0,{"$f":"+IFERROR(+IF(Inputs!T78=FALSE,0,+(+VLOOKUP(D124,Inputs!$I$68:$J$82,2,0))),0)","v":0},0,0,{"$f":"+IFERROR(+IF(Inputs!U78=FALSE,0,+(+VLOOKUP(D124,Inputs!$I$68:$J$82,2,0))),0)","v":0},0,0,{"$f":"+IFERROR(+IF(Inputs!V78=FALSE,0,+(+VLOOKUP(D124,Inputs!$I$68:$J$82,2,0))),0)","v":0},0,0,{"$f":"+IFERROR(+IF(Inputs!W78=FALSE,0,+(+VLOOKUP(D124,Inputs!$I$68:$J$82,2,0))),0)","v":0},0,0]
[null,null,27,{"$f":"+IFERROR(+IF(Inputs!I79=\"\",\"\",Inputs!I79),0)","v":""},0,{"$f":"+IFERROR(+IF(Inputs!L79=FALSE,0,+(+VLOOKUP(D125,Inputs!$I$68:$J$82,2,0))),0)","v":0},0,0,{"$f":"+IFERROR(+IF(Inputs!M79=FALSE,0,+(+VLOOKUP(D125,Inputs!$I$68:$J$82,2,0))),0)","v":0},0,0,{"$f":"+IFERROR(+IF(Inputs!N79=FALSE,0,+(+VLOOKUP(D125,Inputs!$I$68:$J$82,2,0))),0)","v":0},0,0,{"$f":"+IFERROR(+IF(Inputs!O79=FALSE,0,+(+VLOOKUP(D125,Inputs!$I$68:$J$82,2,0))),0)","v":0},0,0,{"$f":"+IFERROR(+IF(Inputs!P79=FALSE,0,+(+VLOOKUP(D125,Inputs!$I$68:$J$82,2,0))),0)","v":0},0,0,{"$f":"+IFERROR(+IF(Inputs!Q79=FALSE,0,+(+VLOOKUP(D125,Inputs!$I$68:$J$82,2,0))),0)","v":0},0,0,{"$f":"+IFERROR(+IF(Inputs!R79=FALSE,0,+(+VLOOKUP(D125,Inputs!$I$68:$J$82,2,0))),0)","v":0},0,0,{"$f":"+IFERROR(+IF(Inputs!S79=FALSE,0,+(+VLOOKUP(D125,Inputs!$I$68:$J$82,2,0))),0)","v":0},0,0,{"$f":"+IFERROR(+IF(Inputs!T79=FALSE,0,+(+VLOOKUP(D125,Inputs!$I$68:$J$82,2,0))),0)","v":0},0,0,{"$f":"+IFERROR(+IF(Inputs!U79=FALSE,0,+(+VLOOKUP(D125,Inputs!$I$68:$J$82,2,0))),0)","v":0},0,0,{"$f":"+IFERROR(+IF(Inputs!V79=FALSE,0,+(+VLOOKUP(D125,Inputs!$I$68:$J$82,2,0))),0)","v":0},0,0,{"$f":"+IFERROR(+IF(Inputs!W79=FALSE,0,+(+VLOOKUP(D125,Inputs!$I$68:$J$82,2,0))),0)","v":0},0,0]
[null,null,28,{"$f":"+IFERROR(+IF(Inputs!I80=\"\",\"\",Inputs!I80),0)","v":""},0,{"$f":"+IFERROR(+IF(Inputs!L80=FALSE,0,+(+VLOOKUP(D126,Inputs!$I$68:$J$82,2,0))),0)","v":0},0,0,{"$f":"+IFERROR(+IF(Inputs!M80=FALSE,0,+(+VLOOKUP(D126,Inputs!$I$68:$J$82,2,0))),0)","v":0},0,0,{"$f":"+IFERROR(+IF(Inputs!N80=FALSE,0,+(+VLOOKUP(D126,Inputs!$I$68:$J$82,2,0))),0)","v":0},0,0,{"$f":"+IFERROR(+IF(Inputs!O80=FALSE,0,+(+VLOOKUP(D126,Inputs!$I$68:$J$82,2,0))),0)","v":0},0,0,{"$f":"+IFERROR(+IF(Inputs!P80=FALSE,0,+(+VLOOKUP(D126,Inputs!$I$68:$J$82,2,0))),0)","v":0},0,0,{"$f":"+IFERROR(+IF(Inputs!Q80=FALSE,0,+(+VLOOKUP(D126,Inputs!$I$68:$J$82,2,0))),0)","v":0},0,0,{"$f":"+IFERROR(+IF(Inputs!R80=FALSE,0,+(+VLOOKUP(D126,Inputs!$I$68:$J$82,2,0))),0)","v":0},0,0,{"$f":"+IFERROR(+IF(Inputs!S80=FALSE,0,+(+VLOOKUP(D126,Inputs!$I$68:$J$82,2,0))),0)","v":0},0,0,{"$f":"+IFERROR(+IF(Inputs!T80=FALSE,0,+(+VLOOKUP(D126,Inputs!$I$68:$J$82,2,0))),0)","v":0},0,0,{"$f":"+IFERROR(+IF(Inputs!U80=FALSE,0,+(+VLOOKUP(D126,Inputs!$I$68:$J$82,2,0))),0)","v":0},0,0,{"$f":"+IFERROR(+IF(Inputs!V80=FALSE,0,+(+VLOOKUP(D126,Inputs!$I$68:$J$82,2,0))),0)","v":0},0,0,{"$f":"+IFERROR(+IF(Inputs!W80=FALSE,0,+(+VLOOKUP(D126,Inputs!$I$68:$J$82,2,0))),0)","v":0},0,0]
[null,null,29,{"$f":"+IFERROR(+IF(Inputs!I81=\"\",\"\",Inputs!I81),0)","v":""},0,{"$f":"+IFERROR(+IF(Inputs!L81=FALSE,0,+(+VLOOKUP(D127,Inputs!$I$68:$J$82,2,0))),0)","v":0},0,0,{"$f":"+IFERROR(+IF(Inputs!M81=FALSE,0,+(+VLOOKUP(D127,Inputs!$I$68:$J$82,2,0))),0)","v":0},0,0,{"$f":"+IFERROR(+IF(Inputs!N81=FALSE,0,+(+VLOOKUP(D127,Inputs!$I$68:$J$82,2,0))),0)","v":0},0,0,{"$f":"+IFERROR(+IF(Inputs!O81=FALSE,0,+(+VLOOKUP(D127,Inputs!$I$68:$J$82,2,0))),0)","v":0},0,0,{"$f":"+IFERROR(+IF(Inputs!P81=FALSE,0,+(+VLOOKUP(D127,Inputs!$I$68:$J$82,2,0))),0)","v":0},0,0,{"$f":"+IFERROR(+IF(Inputs!Q81=FALSE,0,+(+VLOOKUP(D127,Inputs!$I$68:$J$82,2,0))),0)","v":0},0,0,{"$f":"+IFERROR(+IF(Inputs!R81=FALSE,0,+(+VLOOKUP(D127,Inputs!$I$68:$J$82,2,0))),0)","v":0},0,0,{"$f":"+IFERROR(+IF(Inputs!S81=FALSE,0,+(+VLOOKUP(D127,Inputs!$I$68:$J$82,2,0))),0)","v":0},0,0,{"$f":"+IFERROR(+IF(Inputs!T81=FALSE,0,+(+VLOOKUP(D127,Inputs!$I$68:$J$82,2,0))),0)","v":0},0,0,{"$f":"+IFERROR(+IF(Inputs!U81=FALSE,0,+(+VLOOKUP(D127,Inputs!$I$68:$J$82,2,0))),0)","v":0},0,0,{"$f":"+IFERROR(+IF(Inputs!V81=FALSE,0,+(+VLOOKUP(D127,Inputs!$I$68:$J$82,2,0))),0)","v":0},0,0,{"$f":"+IFERROR(+IF(Inputs!W81=FALSE,0,+(+VLOOKUP(D127,Inputs!$I$68:$J$82,2,0))),0)","v":0},0,0]
[null,null,30,{"$f":"+IFERROR(+IF(Inputs!I82=\"\",\"\",Inputs!I82),0)","v":""},0,{"$f":"+IFERROR(+IF(Inputs!L82=FALSE,0,+(+VLOOKUP(D128,Inputs!$I$68:$J$82,2,0))),0)","v":0},0,{"$f":"+IFERROR(+(F128-G128),0)","v":0},{"$f":"+IFERROR(+IF(Inputs!M82=FALSE,0,+(+VLOOKUP(D128,Inputs!$I$68:$J$82,2,0))),0)","v":0},0,0,{"$f":"+IFERROR(+IF(Inputs!N82=FALSE,0,+(+VLOOKUP(D128,Inputs!$I$68:$J$82,2,0))),0)","v":0},0,0,{"$f":"+IFERROR(+IF(Inputs!O82=FALSE,0,+(+VLOOKUP(D128,Inputs!$I$68:$J$82,2,0))),0)","v":0},0,0,{"$f":"+IFERROR(+IF(Inputs!P82=FALSE,0,+(+VLOOKUP(D128,Inputs!$I$68:$J$82,2,0))),0)","v":0},0,0,{"$f":"+IFERROR(+IF(Inputs!Q82=FALSE,0,+(+VLOOKUP(D128,Inputs!$I$68:$J$82,2,0))),0)","v":0},0,0,{"$f":"+IFERROR(+IF(Inputs!R82=FALSE,0,+(+VLOOKUP(D128,Inputs!$I$68:$J$82,2,0))),0)","v":0},0,0,{"$f":"+IFERROR(+IF(Inputs!S82=FALSE,0,+(+VLOOKUP(D128,Inputs!$I$68:$J$82,2,0))),0)","v":0},0,0,{"$f":"+IFERROR(+IF(Inputs!T82=FALSE,0,+(+VLOOKUP(D128,Inputs!$I$68:$J$82,2,0))),0)","v":0},0,0,{"$f":"+IFERROR(+IF(Inputs!U82=FALSE,0,+(+VLOOKUP(D128,Inputs!$I$68:$J$82,2,0))),0)","v":0},0,0,{"$f":"+IFERROR(+IF(Inputs!V82=FALSE,0,+(+VLOOKUP(D128,Inputs!$I$68:$J$82,2,0))),0)","v":0},0,0,{"$f":"+IFERROR(+IF(Inputs!W82=FALSE,0,+(+VLOOKUP(D128,Inputs!$I$68:$J$82,2,0))),0)","v":0},0,0]
[null,null,"Resumen","GASTOS NECESARIOS",{"$f":"+IFERROR((G129+J129+M129+P129+S129+V129+Y129+AB129+AE129+AH129+AK129+AN129)/($G$24+$J$24+$M$24+$P$24+$S$24+$V$24+$Y$24+$AB$24+$AE$24+$AH$24+$AK$24+$AN$24),0)","v":0},{"$f":"+SUM(F99:F128)","v":0},{"$f":"+SUM(G99:G128)","v":0},{"$f":"+IFERROR(+(F129-G129),0)","v":0},{"$f":"+SUM(I99:I128)","v":0},{"$f":"+SUM(J99:J128)","v":0},0,{"$f":"+SUM(L99:L128)","v":0},{"$f":"+SUM(M99:M128)","v":0},0,{"$f":"+SUM(O99:O128)","v":0},{"$f":"+SUM(P99:P128)","v":0},0,{"$f":"+SUM(R99:R128)","v":0},{"$f":"+SUM(S99:S128)","v":0},0,{"$f":"+SUM(U99:U128)","v":0},{"$f":"+SUM(V99:V128)","v":0},0,{"$f":"+SUM(X99:X128)","v":0},{"$f":"+SUM(Y99:Y128)","v":0},0,{"$f":"+SUM(AA99:AA128)","v":0},{"$f":"+SUM(AB99:AB128)","v":0},0,{"$f":"+SUM(AD99:AD128)","v":0},{"$f":"+SUM(AE99:AE128)","v":0},0,{"$f":"+SUM(AG99:AG128)","v":0},{"$f":"+SUM(AH99:AH128)","v":0},0,{"$f":"+SUM(AJ99:AJ128)","v":0},{"$f":"+SUM(AK99:AK128)","v":0},0,{"$f":"+SUM(AM99:AM128)","v":0},{"$f":"+SUM(AN99:AN128)","v":0},0]
[null,null,null,1]
[null,null,1,{"$f":"+IFERROR(+IF(Inputs!#REF!=\"\",\"\",Inputs!#REF!),0)","v":0},{"$f":"+IFERROR((G131+J131+M131+P131+S131+V131+Y131+AB131+AE131+AH131+AK131+AN131)/($G$24+$J$24+$M$24+$P$24+$S$24+$V$24+$Y$24+$AB$24+$AE$24+$AH$24+$AK$24+$AN$24),0)","v":0},{"$f":"+IFERROR((+VLOOKUP(D131,Inputs!$D$87:$E$101,2,0)),0)","v":0},0,{"$f":"+IFERROR(+(F131-G131),0)","v":0},{"$f":"+F131","v":0},0,{"$f":"+IFERROR(+(I131-J131),0)","v":0},{"$f":"+I131","v":0},0,{"$f":"+IFERROR(+(L131-M131),0)","v":0},{"$f":"+L131","v":0},0,{"$f":"+IFERROR(+(O131-P131),0)","v":0},{"$f":"+O131","v":0},0,{"$f":"+IFERROR(+(R131-S131),0)","v":0},{"$f":"+R131","v":0},0,{"$f":"+IFERROR(+(U131-V131),0)","v":0},{"$f":"+U131","v":0},0,{"$f":"+IFERROR(+(X131-Y131),0)","v":0},{"$f":"+X131","v":0},0,{"$f":"+IFERROR(+(AA131-AB131),0)","v":0},{"$f":"+AA131","v":0},0,{"$f":"+IFERROR(+(AD131-AE131),0)","v":0},{"$f":"+AD131","v":0},0,{"$f":"+IFERROR(+(AG131-AH131),0)","v":0},{"$f":"+AG131","v":0},0,{"$f":"+IFERROR(+(AJ131-AK131),0)","v":0},{"$f":"+AJ131","v":0},0,{"$f":"+IFERROR(+(AM131-AN131),0)","v":0}]
[null,null,2,{"$f":"+IFERROR(+IF(Inputs!D88=\"\",\"\",Inputs!D88),0)","v":"Diversión  (ejemplo)"},0,{"$f":"+IFERROR((+VLOOKUP(D132,Inputs!$D$87:$E$101,2,0)),0)","v":0},0,{"$f":"+IFERROR(+(F132-G132),0)","v":0},{"$f":"+F132","v":0},0,{"$f":"+IFERROR(+(I132-J132),0)","v":0},{"$f":"+I132","v":0},0,{"$f":"+IFERROR(+(L132-M132),0)","v":0},{"$f":"+L132","v":0},0,{"$f":"+IFERROR(+(O132-P132),0)","v":0},{"$f":"+O132","v":0},0,{"$f":"+IFERROR(+(R132-S132),0)","v":0},{"$f":"+R132","v":0},0,{"$f":"+IFERROR(+(U132-V132),0)","v":0},{"$f":"+U132","v":0},0,{"$f":"+IFERROR(+(X132-Y132),0)","v":0},{"$f":"+X132","v":0},0,{"$f":"+IFERROR(+(AA132-AB132),0)","v":0},{"$f":"+AA132","v":0},0,{"$f":"+IFERROR(+(AD132-AE132),0)","v":0},{"$f":"+AD132","v":0},0,{"$f":"+IFERROR(+(AG132-AH132),0)","v":0},{"$f":"+AG132","v":0},0,{"$f":"+IFERROR(+(AJ132-AK132),0)","v":0},{"$f":"+AJ132","v":0},0,0]
[null,null,3,{"$f":"+IFERROR(+IF(Inputs!D89=\"\",\"\",Inputs!D89),0)","v":"Domicilios  (ejemplo)"},0,{"$f":"+IFERROR((+VLOOKUP(D133,Inputs!$D$87:$E$101,2,0)),0)","v":0},0,0,0,0,0,0,0,0,0,0,0,0,0,0,0,0,0,0,0,0,0,0,0,0,0,0,0,0,0,0,0,0,0,0,0]
[null,null,4,{"$f":"+IFERROR(+IF(Inputs!D90=\"\",\"\",Inputs!D90),0)","v":""},0,{"$f":"+IFERROR((+VLOOKUP(D134,Inputs!$D$87:$E$101,2,0)),0)","v":0},0,0,0,0,0,0,0,0,0,0,0,0,0,0,0,0,0,0,0,0,0,0,0,0,0,0,0,0,0,0,0,0,0,0,0]
[null,null,5,{"$f":"+IFERROR(+IF(Inputs!D91=\"\",\"\",Inputs!D91),0)","v":""},0,{"$f":"+IFERROR((+VLOOKUP(D135,Inputs!$D$87:$E$101,2,0)),0)","v":0},0,0,0,0,0,0,0,0,0,0,0,0,0,0,0,0,0,0,0,0,0,0,0,0,0,0,0,0,0,0,0,0,0,0,0]
[null,null,6,{"$f":"+IFERROR(+IF(Inputs!D92=\"\",\"\",Inputs!D92),0)","v":""},0,{"$f":"+IFERROR((+VLOOKUP(D136,Inputs!$D$87:$E$101,2,0)),0)","v":0},0,0,0,0,0,0,0,0,0,0,0,0,0,0,0,0,0,0,0,0,0,0,0,0,0,0,0,0,0,0,0,0,0,0,0]
[null,null,7,{"$f":"+IFERROR(+IF(Inputs!D93=\"\",\"\",Inputs!D93),0)","v":""},0,{"$f":"+IFERROR((+VLOOKUP(D137,Inputs!$D$87:$E$101,2,0)),0)","v":0},0,0,0,0,0,0,0,0,0,0,0,0,0,0,0,0,0,0,0,0,0,0,0,0,0,0,0,0,0,0,0,0,0,0,0]
[null,null,8,{"$f":"+IFERROR(+IF(Inputs!D94=\"\",\"\",Inputs!D94),0)","v":""},0,{"$f":"+IFERROR((+VLOOKUP(D138,Inputs!$D$87:$E$101,2,0)),0)","v":0},0,0,0,0,0,0,0,0,0,0,0,0,0,0,0,0,0,0,0,0,0,0,0,0,0,0,0,0,0,0,0,0,0,0,0]
[null,null,9,{"$f":"+IFERROR(+IF(Inputs!D95=\"\",\"\",Inputs!D95),0)","v":""},0,{"$f":"+IFERROR((+VLOOKUP(D139,Inputs!$D$87:$E$101,2,0)),0)","v":0},0,0,0,0,0,0,0,0,0,0,0,0,0,0,0,0,0,0,0,0,0,0,0,0,0,0,0,0,0,0,0,0,0,0,0]
[null,null,10,{"$f":"+IFERROR(+IF(Inputs!D96=\"\",\"\",Inputs!D96),0)","v":""},0,{"$f":"+IFERROR((+VLOOKUP(D140,Inputs!$D$87:$E$101,2,0)),0)","v":0},0,0,0,0,0,0,0,0,0,0,0,0,0,0,0,0,0,0,0,0,0,0,0,0,0,0,0,0,0,0,0,0,0,0,0]
[null,null,11,{"$f":"+IFERROR(+IF(Inputs!D97=\"\",\"\",Inputs!D97),0)","v":""},0,{"$f":"+IFERROR((+VLOOKUP(D141,Inputs!$D$87:$E$101,2,0)),0)","v":0},0,0,0,0,0,0,0,0,0,0,0,0,0,0,0,0,0,0,0,0,0,0,0,0,0,0,0,0,0,0,0,0,0,0,0]
[null,null,12,{"$f":"+IFERROR(+IF(Inputs!D98=\"\",\"\",Inputs!D98),0)","v":""},0,{"$f":"+IFERROR((+VLOOKUP(D142,Inputs!$D$87:$E$101,2,0)),0)","v":0},0,0,0,0,0,0,0,0,0,0,0,0,0,0,0,0,0,0,0,0,0,0,0,0,0,0,0,0,0,0,0,0,0,0,0]
[null,null,13,{"$f":"+IFERROR(+IF(Inputs!D99=\"\",\"\",Inputs!D99),0)","v":""},0,{"$f":"+IFERROR((+VLOOKUP(D143,Inputs!$D$87:$E$101,2,0)),0)","v":0},0,0,0,0,0,0,0,0,0,0,0,0,0,0,0,0,0,0,0,0,0,0,0,0,0,0,0,0,0,0,0,0,0,0,0]
[null,null,14,{"$f":"+IFERROR(+IF(Inputs!D100=\"\",\"\",Inputs!D100),0)","v":""},0,{"$f":"+IFERROR((+VLOOKUP(D144,Inputs!$D$87:$E$101,2,0)),0)","v":0},0,0,0,0,0,0,0,0,0,0,0,0,0,0,0,0,0,0,0,0,0,0,0,0,0,0,0,0,0,0,0,0,0,0,0]
[null,null,15,{"$f":"+IFERROR(+IF(Inputs!D101=\"\",\"\",Inputs!D101),0)","v":""},0,{"$f":"+IFERROR((+VLOOKUP(D145,Inputs!$D$87:$E$101,2,0)),0)","v":0},0,0,0,0,0,0,0,0,0,0,0,0,0,0,0,0,0,0,0,0,0,0,0,0,0,0,0,0,0,0,0,0,0,0,0]
[null,null,16,{"$f":"+IFERROR(+IF(Inputs!I87=\"\",\"\",Inputs!I87),0)","v":"Vacaciones  (ejemplo)"},0,{"$f":"+IFERROR(+IF(Inputs!L87=FALSE,0,+(+VLOOKUP(D146,Inputs!$I$87:$J$101,2,0))),0)","v":0},0,0,{"$f":"+IFERROR(+IF(Inputs!M87=FALSE,0,+(+VLOOKUP(D146,Inputs!$I$87:$J$101,2,0))),0)","v":0},0,0,{"$f":"+IFERROR(+IF(Inputs!N87=FALSE,0,+(+VLOOKUP(D146,Inputs!$I$87:$J$101,2,0))),0)","v":0},0,0,{"$f":"+IFERROR(+IF(Inputs!O87=FALSE,0,+(+VLOOKUP(D146,Inputs!$I$87:$J$101,2,0))),0)","v":0},0,0,{"$f":"+IFERROR(+IF(Inputs!P87=FALSE,0,+(+VLOOKUP(D146,Inputs!$I$87:$J$101,2,0))),0)","v":0},0,0,{"$f":"+IFERROR(+IF(Inputs!Q87=FALSE,0,+(+VLOOKUP(D146,Inputs!$I$87:$J$101,2,0))),0)","v":0},0,0,{"$f":"+IFERROR(+IF(Inputs!R87=FALSE,0,+(+VLOOKUP(D146,Inputs!$I$87:$J$101,2,0))),0)","v":0},0,0,{"$f":"+IFERROR(+IF(Inputs!S87=FALSE,0,+(+VLOOKUP(D146,Inputs!$I$87:$J$101,2,0))),0)","v":0},0,0,{"$f":"+IFERROR(+IF(Inputs!T87=FALSE,0,+(+VLOOKUP(D146,Inputs!$I$87:$J$101,2,0))),0)","v":0},0,0,{"$f":"+IFERROR(+IF(Inputs!U87=FALSE,0,+(+VLOOKUP(D146,Inputs!$I$87:$J$101,2,0))),0)","v":0},0,0,{"$f":"+IFERROR(+IF(Inputs!V87=FALSE,0,+(+VLOOKUP(D146,Inputs!$I$87:$J$101,2,0))),0)","v":0},0,0,{"$f":"+IFERROR(+IF(Inputs!W87=FALSE,0,+(+VLOOKUP(D146,Inputs!$I$87:$J$101,2,0))),0)","v":0},0,0]
[null,null,17,{"$f":"+IFERROR(+IF(Inputs!I88=\"\",\"\",Inputs!I88),0)","v":"Regalos de navidad  (ejemplo)"},0,{"$f":"+IFERROR(+IF(Inputs!L88=FALSE,0,+(+VLOOKUP(D147,Inputs!$I$87:$J$101,2,0))),0)","v":0},0,0,{"$f":"+IFERROR(+IF(Inputs!M88=FALSE,0,+(+VLOOKUP(D147,Inputs!$I$87:$J$101,2,0))),0)","v":0},0,{"$f":"+IFERROR(+(I147-J147),0)","v":0},{"$f":"+IFERROR(+IF(Inputs!N88=FALSE,0,+(+VLOOKUP(D147,Inputs!$I$87:$J$101,2,0))),0)","v":0},0,{"$f":"+IFERROR(+(L147-M147),0)","v":0},{"$f":"+IFERROR(+IF(Inputs!O88=FALSE,0,+(+VLOOKUP(D147,Inputs!$I$87:$J$101,2,0))),0)","v":0},0,{"$f":"+IFERROR(+(O147-P147),0)","v":0},{"$f":"+IFERROR(+IF(Inputs!P88=FALSE,0,+(+VLOOKUP(D147,Inputs!$I$87:$J$101,2,0))),0)","v":0},0,{"$f":"+IFERROR(+(R147-S147),0)","v":0},{"$f":"+IFERROR(+IF(Inputs!Q88=FALSE,0,+(+VLOOKUP(D147,Inputs!$I$87:$J$101,2,0))),0)","v":0},0,{"$f":"+IFERROR(+(U147-V147),0)","v":0},{"$f":"+IFERROR(+IF(Inputs!R88=FALSE,0,+(+VLOOKUP(D147,Inputs!$I$87:$J$101,2,0))),0)","v":0},0,{"$f":"+IFERROR(+(X147-Y147),0)","v":0},{"$f":"+IFERROR(+IF(Inputs!S88=FALSE,0,+(+VLOOKUP(D147,Inputs!$I$87:$J$101,2,0))),0)","v":0},0,{"$f":"+IFERROR(+(AA147-AB147),0)","v":0},{"$f":"+IFERROR(+IF(Inputs!T88=FALSE,0,+(+VLOOKUP(D147,Inputs!$I$87:$J$101,2,0))),0)","v":0},0,{"$f":"+IFERROR(+(AD147-AE147),0)","v":0},{"$f":"+IFERROR(+IF(Inputs!U88=FALSE,0,+(+VLOOKUP(D147,Inputs!$I$87:$J$101,2,0))),0)","v":0},0,{"$f":"+IFERROR(+(AG147-AH147),0)","v":0},{"$f":"+IFERROR(+IF(Inputs!V88=FALSE,0,+(+VLOOKUP(D147,Inputs!$I$87:$J$101,2,0))),0)","v":0},0,{"$f":"+IFERROR(+(AJ147-AK147),0)","v":0},{"$f":"+IFERROR(+IF(Inputs!W88=FALSE,0,+(+VLOOKUP(D147,Inputs!$I$87:$J$101,2,0))),0)","v":0},0,0]
[null,null,18,{"$f":"+IFERROR(+IF(Inputs!I89=\"\",\"\",Inputs!I89),0)","v":""},0,{"$f":"+IFERROR(+IF(Inputs!L89=FALSE,0,+(+VLOOKUP(D148,Inputs!$I$87:$J$101,2,0))),0)","v":0},0,0,{"$f":"+IFERROR(+IF(Inputs!M89=FALSE,0,+(+VLOOKUP(D148,Inputs!$I$87:$J$101,2,0))),0)","v":0},0,0,{"$f":"+IFERROR(+IF(Inputs!N89=FALSE,0,+(+VLOOKUP(D148,Inputs!$I$87:$J$101,2,0))),0)","v":0},0,0,{"$f":"+IFERROR(+IF(Inputs!O89=FALSE,0,+(+VLOOKUP(D148,Inputs!$I$87:$J$101,2,0))),0)","v":0},0,0,{"$f":"+IFERROR(+IF(Inputs!P89=FALSE,0,+(+VLOOKUP(D148,Inputs!$I$87:$J$101,2,0))),0)","v":0},0,0,{"$f":"+IFERROR(+IF(Inputs!Q89=FALSE,0,+(+VLOOKUP(D148,Inputs!$I$87:$J$101,2,0))),0)","v":0},0,0,{"$f":"+IFERROR(+IF(Inputs!R89=FALSE,0,+(+VLOOKUP(D148,Inputs!$I$87:$J$101,2,0))),0)","v":0},0,0,{"$f":"+IFERROR(+IF(Inputs!S89=FALSE,0,+(+VLOOKUP(D148,Inputs!$I$87:$J$101,2,0))),0)","v":0},0,0,{"$f":"+IFERROR(+IF(Inputs!T89=FALSE,0,+(+VLOOKUP(D148,Inputs!$I$87:$J$101,2,0))),0)","v":0},0,0,{"$f":"+IFERROR(+IF(Inputs!U89=FALSE,0,+(+VLOOKUP(D148,Inputs!$I$87:$J$101,2,0))),0)","v":0},0,0,{"$f":"+IFERROR(+IF(Inputs!V89=FALSE,0,+(+VLOOKUP(D148,Inputs!$I$87:$J$101,2,0))),0)","v":0},0,0,{"$f":"+IFERROR(+IF(Inputs!W89=FALSE,0,+(+VLOOKUP(D148,Inputs!$I$87:$J$101,2,0))),0)","v":0},0,0]
[null,null,19,{"$f":"+IFERROR(+IF(Inputs!I90=\"\",\"\",Inputs!I90),0)","v":""},0,{"$f":"+IFERROR(+IF(Inputs!L90=FALSE,0,+(+VLOOKUP(D149,Inputs!$I$87:$J$101,2,0))),0)","v":0},0,0,{"$f":"+IFERROR(+IF(Inputs!M90=FALSE,0,+(+VLOOKUP(D149,Inputs!$I$87:$J$101,2,0))),0)","v":0},0,0,{"$f":"+IFERROR(+IF(Inputs!N90=FALSE,0,+(+VLOOKUP(D149,Inputs!$I$87:$J$101,2,0))),0)","v":0},0,0,{"$f":"+IFERROR(+IF(Inputs!O90=FALSE,0,+(+VLOOKUP(D149,Inputs!$I$87:$J$101,2,0))),0)","v":0},0,0,{"$f":"+IFERROR(+IF(Inputs!P90=FALSE,0,+(+VLOOKUP(D149,Inputs!$I$87:$J$101,2,0))),0)","v":0},0,0,{"$f":"+IFERROR(+IF(Inputs!Q90=FALSE,0,+(+VLOOKUP(D149,Inputs!$I$87:$J$101,2,0))),0)","v":0},0,0,{"$f":"+IFERROR(+IF(Inputs!R90=FALSE,0,+(+VLOOKUP(D149,Inputs!$I$87:$J$101,2,0))),0)","v":0},0,0,{"$f":"+IFERROR(+IF(Inputs!S90=FALSE,0,+(+VLOOKUP(D149,Inputs!$I$87:$J$101,2,0))),0)","v":0},0,0,{"$f":"+IFERROR(+IF(Inputs!T90=FALSE,0,+(+VLOOKUP(D149,Inputs!$I$87:$J$101,2,0))),0)","v":0},0,0,{"$f":"+IFERROR(+IF(Inputs!U90=FALSE,0,+(+VLOOKUP(D149,Inputs!$I$87:$J$101,2,0))),0)","v":0},0,0,{"$f":"+IFERROR(+IF(Inputs!V90=FALSE,0,+(+VLOOKUP(D149,Inputs!$I$87:$J$101,2,0))),0)","v":0},0,0,{"$f":"+IFERROR(+IF(Inputs!W90=FALSE,0,+(+VLOOKUP(D149,Inputs!$I$87:$J$101,2,0))),0)","v":0},0,0]
[null,null,20,{"$f":"+IFERROR(+IF(Inputs!I91=\"\",\"\",Inputs!I91),0)","v":""},0,{"$f":"+IFERROR(+IF(Inputs!L91=FALSE,0,+(+VLOOKUP(D150,Inputs!$I$87:$J$101,2,0))),0)","v":0},0,0,{"$f":"+IFERROR(+IF(Inputs!M91=FALSE,0,+(+VLOOKUP(D150,Inputs!$I$87:$J$101,2,0))),0)","v":0},0,0,{"$f":"+IFERROR(+IF(Inputs!N91=FALSE,0,+(+VLOOKUP(D150,Inputs!$I$87:$J$101,2,0))),0)","v":0},0,0,{"$f":"+IFERROR(+IF(Inputs!O91=FALSE,0,+(+VLOOKUP(D150,Inputs!$I$87:$J$101,2,0))),0)","v":0},0,0,{"$f":"+IFERROR(+IF(Inputs!P91=FALSE,0,+(+VLOOKUP(D150,Inputs!$I$87:$J$101,2,0))),0)","v":0},0,0,{"$f":"+IFERROR(+IF(Inputs!Q91=FALSE,0,+(+VLOOKUP(D150,Inputs!$I$87:$J$101,2,0))),0)","v":0},0,0,{"$f":"+IFERROR(+IF(Inputs!R91=FALSE,0,+(+VLOOKUP(D150,Inputs!$I$87:$J$101,2,0))),0)","v":0},0,0,{"$f":"+IFERROR(+IF(Inputs!S91=FALSE,0,+(+VLOOKUP(D150,Inputs!$I$87:$J$101,2,0))),0)","v":0},0,0,{"$f":"+IFERROR(+IF(Inputs!T91=FALSE,0,+(+VLOOKUP(D150,Inputs!$I$87:$J$101,2,0))),0)","v":0},0,0,{"$f":"+IFERROR(+IF(Inputs!U91=FALSE,0,+(+VLOOKUP(D150,Inputs!$I$87:$J$101,2,0))),0)","v":0},0,0,{"$f":"+IFERROR(+IF(Inputs!V91=FALSE,0,+(+VLOOKUP(D150,Inputs!$I$87:$J$101,2,0))),0)","v":0},0,0,{"$f":"+IFERROR(+IF(Inputs!W91=FALSE,0,+(+VLOOKUP(D150,Inputs!$I$87:$J$101,2,0))),0)","v":0},0,0]
[null,null,21,{"$f":"+IFERROR(+IF(Inputs!I92=\"\",\"\",Inputs!I92),0)","v":""},0,{"$f":"+IFERROR(+IF(Inputs!L92=FALSE,0,+(+VLOOKUP(D151,Inputs!$I$87:$J$101,2,0))),0)","v":0},0,0,{"$f":"+IFERROR(+IF(Inputs!M92=FALSE,0,+(+VLOOKUP(D151,Inputs!$I$87:$J$101,2,0))),0)","v":0},0,0,{"$f":"+IFERROR(+IF(Inputs!N92=FALSE,0,+(+VLOOKUP(D151,Inputs!$I$87:$J$101,2,0))),0)","v":0},0,0,{"$f":"+IFERROR(+IF(Inputs!O92=FALSE,0,+(+VLOOKUP(D151,Inputs!$I$87:$J$101,2,0))),0)","v":0},0,0,{"$f":"+IFERROR(+IF(Inputs!P92=FALSE,0,+(+VLOOKUP(D151,Inputs!$I$87:$J$101,2,0))),0)","v":0},0,0,{"$f":"+IFERROR(+IF(Inputs!Q92=FALSE,0,+(+VLOOKUP(D151,Inputs!$I$87:$J$101,2,0))),0)","v":0},0,0,{"$f":"+IFERROR(+IF(Inputs!R92=FALSE,0,+(+VLOOKUP(D151,Inputs!$I$87:$J$101,2,0))),0)","v":0},0,0,{"$f":"+IFERROR(+IF(Inputs!S92=FALSE,0,+(+VLOOKUP(D151,Inputs!$I$87:$J$101,2,0))),0)","v":0},0,0,{"$f":"+IFERROR(+IF(Inputs!T92=FALSE,0,+(+VLOOKUP(D151,Inputs!$I$87:$J$101,2,0))),0)","v":0},0,0,{"$f":"+IFERROR(+IF(Inputs!U92=FALSE,0,+(+VLOOKUP(D151,Inputs!$I$87:$J$101,2,0))),0)","v":0},0,0,{"$f":"+IFERROR(+IF(Inputs!V92=FALSE,0,+(+VLOOKUP(D151,Inputs!$I$87:$J$101,2,0))),0)","v":0},0,0,{"$f":"+IFERROR(+IF(Inputs!W92=FALSE,0,+(+VLOOKUP(D151,Inputs!$I$87:$J$101,2,0))),0)","v":0},0,0]
[null,null,22,{"$f":"+IFERROR(+IF(Inputs!I93=\"\",\"\",Inputs!I93),0)","v":""},0,{"$f":"+IFERROR(+IF(Inputs!L93=FALSE,0,+(+VLOOKUP(D152,Inputs!$I$87:$J$101,2,0))),0)","v":0},0,0,{"$f":"+IFERROR(+IF(Inputs!M93=FALSE,0,+(+VLOOKUP(D152,Inputs!$I$87:$J$101,2,0))),0)","v":0},0,0,{"$f":"+IFERROR(+IF(Inputs!N93=FALSE,0,+(+VLOOKUP(D152,Inputs!$I$87:$J$101,2,0))),0)","v":0},0,0,{"$f":"+IFERROR(+IF(Inputs!O93=FALSE,0,+(+VLOOKUP(D152,Inputs!$I$87:$J$101,2,0))),0)","v":0},0,0,{"$f":"+IFERROR(+IF(Inputs!P93=FALSE,0,+(+VLOOKUP(D152,Inputs!$I$87:$J$101,2,0))),0)","v":0},0,0,{"$f":"+IFERROR(+IF(Inputs!Q93=FALSE,0,+(+VLOOKUP(D152,Inputs!$I$87:$J$101,2,0))),0)","v":0},0,0,{"$f":"+IFERROR(+IF(Inputs!R93=FALSE,0,+(+VLOOKUP(D152,Inputs!$I$87:$J$101,2,0))),0)","v":0},0,0,{"$f":"+IFERROR(+IF(Inputs!S93=FALSE,0,+(+VLOOKUP(D152,Inputs!$I$87:$J$101,2,0))),0)","v":0},0,0,{"$f":"+IFERROR(+IF(Inputs!T93=FALSE,0,+(+VLOOKUP(D152,Inputs!$I$87:$J$101,2,0))),0)","v":0},0,0,{"$f":"+IFERROR(+IF(Inputs!U93=FALSE,0,+(+VLOOKUP(D152,Inputs!$I$87:$J$101,2,0))),0)","v":0},0,0,{"$f":"+IFERROR(+IF(Inputs!V93=FALSE,0,+(+VLOOKUP(D152,Inputs!$I$87:$J$101,2,0))),0)","v":0},0,0,{"$f":"+IFERROR(+IF(Inputs!W93=FALSE,0,+(+VLOOKUP(D152,Inputs!$I$87:$J$101,2,0))),0)","v":0},0,0]
[null,null,23,{"$f":"+IFERROR(+IF(Inputs!I94=\"\",\"\",Inputs!I94),0)","v":""},0,{"$f":"+IFERROR(+IF(Inputs!L94=FALSE,0,+(+VLOOKUP(D153,Inputs!$I$87:$J$101,2,0))),0)","v":0},0,0,{"$f":"+IFERROR(+IF(Inputs!M94=FALSE,0,+(+VLOOKUP(D153,Inputs!$I$87:$J$101,2,0))),0)","v":0},0,0,{"$f":"+IFERROR(+IF(Inputs!N94=FALSE,0,+(+VLOOKUP(D153,Inputs!$I$87:$J$101,2,0))),0)","v":0},0,0,{"$f":"+IFERROR(+IF(Inputs!O94=FALSE,0,+(+VLOOKUP(D153,Inputs!$I$87:$J$101,2,0))),0)","v":0},0,0,{"$f":"+IFERROR(+IF(Inputs!P94=FALSE,0,+(+VLOOKUP(D153,Inputs!$I$87:$J$101,2,0))),0)","v":0},0,0,{"$f":"+IFERROR(+IF(Inputs!Q94=FALSE,0,+(+VLOOKUP(D153,Inputs!$I$87:$J$101,2,0))),0)","v":0},0,0,{"$f":"+IFERROR(+IF(Inputs!R94=FALSE,0,+(+VLOOKUP(D153,Inputs!$I$87:$J$101,2,0))),0)","v":0},0,0,{"$f":"+IFERROR(+IF(Inputs!S94=FALSE,0,+(+VLOOKUP(D153,Inputs!$I$87:$J$101,2,0))),0)","v":0},0,0,{"$f":"+IFERROR(+IF(Inputs!T94=FALSE,0,+(+VLOOKUP(D153,Inputs!$I$87:$J$101,2,0))),0)","v":0},0,0,{"$f":"+IFERROR(+IF(Inputs!U94=FALSE,0,+(+VLOOKUP(D153,Inputs!$I$87:$J$101,2,0))),0)","v":0},0,0,{"$f":"+IFERROR(+IF(Inputs!V94=FALSE,0,+(+VLOOKUP(D153,Inputs!$I$87:$J$101,2,0))),0)","v":0},0,0,{"$f":"+IFERROR(+IF(Inputs!W94=FALSE,0,+(+VLOOKUP(D153,Inputs!$I$87:$J$101,2,0))),0)","v":0},0,0]
[null,null,24,{"$f":"+IFERROR(+IF(Inputs!I95=\"\",\"\",Inputs!I95),0)","v":""},0,{"$f":"+IFERROR(+IF(Inputs!L95=FALSE,0,+(+VLOOKUP(D154,Inputs!$I$87:$J$101,2,0))),0)","v":0},0,0,{"$f":"+IFERROR(+IF(Inputs!M95=FALSE,0,+(+VLOOKUP(D154,Inputs!$I$87:$J$101,2,0))),0)","v":0},0,0,{"$f":"+IFERROR(+IF(Inputs!N95=FALSE,0,+(+VLOOKUP(D154,Inputs!$I$87:$J$101,2,0))),0)","v":0},0,0,{"$f":"+IFERROR(+IF(Inputs!O95=FALSE,0,+(+VLOOKUP(D154,Inputs!$I$87:$J$101,2,0))),0)","v":0},0,0,{"$f":"+IFERROR(+IF(Inputs!P95=FALSE,0,+(+VLOOKUP(D154,Inputs!$I$87:$J$101,2,0))),0)","v":0},0,0,{"$f":"+IFERROR(+IF(Inputs!Q95=FALSE,0,+(+VLOOKUP(D154,Inputs!$I$87:$J$101,2,0))),0)","v":0},0,0,{"$f":"+IFERROR(+IF(Inputs!R95=FALSE,0,+(+VLOOKUP(D154,Inputs!$I$87:$J$101,2,0))),0)","v":0},0,0,{"$f":"+IFERROR(+IF(Inputs!S95=FALSE,0,+(+VLOOKUP(D154,Inputs!$I$87:$J$101,2,0))),0)","v":0},0,0,{"$f":"+IFERROR(+IF(Inputs!T95=FALSE,0,+(+VLOOKUP(D154,Inputs!$I$87:$J$101,2,0))),0)","v":0},0,0,{"$f":"+IFERROR(+IF(Inputs!U95=FALSE,0,+(+VLOOKUP(D154,Inputs!$I$87:$J$101,2,0))),0)","v":0},0,0,{"$f":"+IFERROR(+IF(Inputs!V95=FALSE,0,+(+VLOOKUP(D154,Inputs!$I$87:$J$101,2,0))),0)","v":0},0,0,{"$f":"+IFERROR(+IF(Inputs!W95=FALSE,0,+(+VLOOKUP(D154,Inputs!$I$87:$J$101,2,0))),0)","v":0},0,0]
[null,null,25,{"$f":"+IFERROR(+IF(Inputs!I96=\"\",\"\",Inputs!I96),0)","v":""},0,{"$f":"+IFERROR(+IF(Inputs!L96=FALSE,0,+(+VLOOKUP(D155,Inputs!$I$87:$J$101,2,0))),0)","v":0},0,0,{"$f":"+IFERROR(+IF(Inputs!M96=FALSE,0,+(+VLOOKUP(D155,Inputs!$I$87:$J$101,2,0))),0)","v":0},0,0,{"$f":"+IFERROR(+IF(Inputs!N96=FALSE,0,+(+VLOOKUP(D155,Inputs!$I$87:$J$101,2,0))),0)","v":0},0,0,{"$f":"+IFERROR(+IF(Inputs!O96=FALSE,0,+(+VLOOKUP(D155,Inputs!$I$87:$J$101,2,0))),0)","v":0},0,0,{"$f":"+IFERROR(+IF(Inputs!P96=FALSE,0,+(+VLOOKUP(D155,Inputs!$I$87:$J$101,2,0))),0)","v":0},0,0,{"$f":"+IFERROR(+IF(Inputs!Q96=FALSE,0,+(+VLOOKUP(D155,Inputs!$I$87:$J$101,2,0))),0)","v":0},0,0,{"$f":"+IFERROR(+IF(Inputs!R96=FALSE,0,+(+VLOOKUP(D155,Inputs!$I$87:$J$101,2,0))),0)","v":0},0,0,{"$f":"+IFERROR(+IF(Inputs!S96=FALSE,0,+(+VLOOKUP(D155,Inputs!$I$87:$J$101,2,0))),0)","v":0},0,0,{"$f":"+IFERROR(+IF(Inputs!T96=FALSE,0,+(+VLOOKUP(D155,Inputs!$I$87:$J$101,2,0))),0)","v":0},0,0,{"$f":"+IFERROR(+IF(Inputs!U96=FALSE,0,+(+VLOOKUP(D155,Inputs!$I$87:$J$101,2,0))),0)","v":0},0,0,{"$f":"+IFERROR(+IF(Inputs!V96=FALSE,0,+(+VLOOKUP(D155,Inputs!$I$87:$J$101,2,0))),0)","v":0},0,0,{"$f":"+IFERROR(+IF(Inputs!W96=FALSE,0,+(+VLOOKUP(D155,Inputs!$I$87:$J$101,2,0))),0)","v":0},0,0]
[null,null,26,{"$f":"+IFERROR(+IF(Inputs!I97=\"\",\"\",Inputs!I97),0)","v":""},0,{"$f":"+IFERROR(+IF(Inputs!L97=FALSE,0,+(+VLOOKUP(D156,Inputs!$I$87:$J$101,2,0))),0)","v":0},0,0,{"$f":"+IFERROR(+IF(Inputs!M97=FALSE,0,+(+VLOOKUP(D156,Inputs!$I$87:$J$101,2,0))),0)","v":0},0,0,{"$f":"+IFERROR(+IF(Inputs!N97=FALSE,0,+(+VLOOKUP(D156,Inputs!$I$87:$J$101,2,0))),0)","v":0},0,0,{"$f":"+IFERROR(+IF(Inputs!O97=FALSE,0,+(+VLOOKUP(D156,Inputs!$I$87:$J$101,2,0))),0)","v":0},0,0,{"$f":"+IFERROR(+IF(Inputs!P97=FALSE,0,+(+VLOOKUP(D156,Inputs!$I$87:$J$101,2,0))),0)","v":0},0,0,{"$f":"+IFERROR(+IF(Inputs!Q97=FALSE,0,+(+VLOOKUP(D156,Inputs!$I$87:$J$101,2,0))),0)","v":0},0,0,{"$f":"+IFERROR(+IF(Inputs!R97=FALSE,0,+(+VLOOKUP(D156,Inputs!$I$87:$J$101,2,0))),0)","v":0},0,0,{"$f":"+IFERROR(+IF(Inputs!S97=FALSE,0,+(+VLOOKUP(D156,Inputs!$I$87:$J$101,2,0))),0)","v":0},0,0,{"$f":"+IFERROR(+IF(Inputs!T97=FALSE,0,+(+VLOOKUP(D156,Inputs!$I$87:$J$101,2,0))),0)","v":0},0,0,{"$f":"+IFERROR(+IF(Inputs!U97=FALSE,0,+(+VLOOKUP(D156,Inputs!$I$87:$J$101,2,0))),0)","v":0},0,0,{"$f":"+IFERROR(+IF(Inputs!V97=FALSE,0,+(+VLOOKUP(D156,Inputs!$I$87:$J$101,2,0))),0)","v":0},0,0,{"$f":"+IFERROR(+IF(Inputs!W97=FALSE,0,+(+VLOOKUP(D156,Inputs!$I$87:$J$101,2,0))),0)","v":0},0,0]
[null,null,27,{"$f":"+IFERROR(+IF(Inputs!I98=\"\",\"\",Inputs!I98),0)","v":""},0,{"$f":"+IFERROR(+IF(Inputs!L98=FALSE,0,+(+VLOOKUP(D157,Inputs!$I$87:$J$101,2,0))),0)","v":0},0,{"$f":"+IFERROR(+(F157-G157),0)","v":0},{"$f":"+IFERROR(+IF(Inputs!M98=FALSE,0,+(+VLOOKUP(D157,Inputs!$I$87:$J$101,2,0))),0)","v":0},0,0,{"$f":"+IFERROR(+IF(Inputs!N98=FALSE,0,+(+VLOOKUP(D157,Inputs!$I$87:$J$101,2,0))),0)","v":0},0,0,{"$f":"+IFERROR(+IF(Inputs!O98=FALSE,0,+(+VLOOKUP(D157,Inputs!$I$87:$J$101,2,0))),0)","v":0},0,0,{"$f":"+IFERROR(+IF(Inputs!P98=FALSE,0,+(+VLOOKUP(D157,Inputs!$I$87:$J$101,2,0))),0)","v":0},0,0,{"$f":"+IFERROR(+IF(Inputs!Q98=FALSE,0,+(+VLOOKUP(D157,Inputs!$I$87:$J$101,2,0))),0)","v":0},0,0,{"$f":"+IFERROR(+IF(Inputs!R98=FALSE,0,+(+VLOOKUP(D157,Inputs!$I$87:$J$101,2,0))),0)","v":0},0,0,{"$f":"+IFERROR(+IF(Inputs!S98=FALSE,0,+(+VLOOKUP(D157,Inputs!$I$87:$J$101,2,0))),0)","v":0},0,0,{"$f":"+IFERROR(+IF(Inputs!T98=FALSE,0,+(+VLOOKUP(D157,Inputs!$I$87:$J$101,2,0))),0)","v":0},0,0,{"$f":"+IFERROR(+IF(Inputs!U98=FALSE,0,+(+VLOOKUP(D157,Inputs!$I$87:$J$101,2,0))),0)","v":0},0,0,{"$f":"+IFERROR(+IF(Inputs!V98=FALSE,0,+(+VLOOKUP(D157,Inputs!$I$87:$J$101,2,0))),0)","v":0},0,0,{"$f":"+IFERROR(+IF(Inputs!W98=FALSE,0,+(+VLOOKUP(D157,Inputs!$I$87:$J$101,2,0))),0)","v":0},0,0]
[null,null,28,{"$f":"+IFERROR(+IF(Inputs!I99=\"\",\"\",Inputs!I99),0)","v":""},0,{"$f":"+IFERROR(+IF(Inputs!L99=FALSE,0,+(+VLOOKUP(D158,Inputs!$I$87:$J$101,2,0))),0)","v":0},0,0,{"$f":"+IFERROR(+IF(Inputs!M99=FALSE,0,+(+VLOOKUP(D158,Inputs!$I$87:$J$101,2,0))),0)","v":0},0,0,{"$f":"+IFERROR(+IF(Inputs!N99=FALSE,0,+(+VLOOKUP(D158,Inputs!$I$87:$J$101,2,0))),0)","v":0},0,0,{"$f":"+IFERROR(+IF(Inputs!O99=FALSE,0,+(+VLOOKUP(D158,Inputs!$I$87:$J$101,2,0))),0)","v":0},0,0,{"$f":"+IFERROR(+IF(Inputs!P99=FALSE,0,+(+VLOOKUP(D158,Inputs!$I$87:$J$101,2,0))),0)","v":0},0,0,{"$f":"+IFERROR(+IF(Inputs!Q99=FALSE,0,+(+VLOOKUP(D158,Inputs!$I$87:$J$101,2,0))),0)","v":0},0,0,{"$f":"+IFERROR(+IF(Inputs!R99=FALSE,0,+(+VLOOKUP(D158,Inputs!$I$87:$J$101,2,0))),0)","v":0},0,0,{"$f":"+IFERROR(+IF(Inputs!S99=FALSE,0,+(+VLOOKUP(D158,Inputs!$I$87:$J$101,2,0))),0)","v":0},0,0,{"$f":"+IFERROR(+IF(Inputs!T99=FALSE,0,+(+VLOOKUP(D158,Inputs!$I$87:$J$101,2,0))),0)","v":0},0,0,{"$f":"+IFERROR(+IF(Inputs!U99=FALSE,0,+(+VLOOKUP(D158,Inputs!$I$87:$J$101,2,0))),0)","v":0},0,0,{"$f":"+IFERROR(+IF(Inputs!V99=FALSE,0,+(+VLOOKUP(D158,Inputs!$I$87:$J$101,2,0))),0)","v":0},0,0,{"$f":"+IFERROR(+IF(Inputs!W99=FALSE,0,+(+VLOOKUP(D158,Inputs!$I$87:$J$101,2,0))),0)","v":0},0,0]
[null,null,29,{"$f":"+IFERROR(+IF(Inputs!I100=\"\",\"\",Inputs!I100),0)","v":""},0,{"$f":"+IFERROR(+IF(Inputs!L100=FALSE,0,+(+VLOOKUP(D159,Inputs!$I$87:$J$101,2,0))),0)","v":0},0,0,{"$f":"+IFERROR(+IF(Inputs!M100=FALSE,0,+(+VLOOKUP(D159,Inputs!$I$87:$J$101,2,0))),0)","v":0},0,0,{"$f":"+IFERROR(+IF(Inputs!N100=FALSE,0,+(+VLOOKUP(D159,Inputs!$I$87:$J$101,2,0))),0)","v":0},0,0,{"$f":"+IFERROR(+IF(Inputs!O100=FALSE,0,+(+VLOOKUP(D159,Inputs!$I$87:$J$101,2,0))),0)","v":0},0,0,{"$f":"+IFERROR(+IF(Inputs!P100=FALSE,0,+(+VLOOKUP(D159,Inputs!$I$87:$J$101,2,0))),0)","v":0},0,0,{"$f":"+IFERROR(+IF(Inputs!Q100=FALSE,0,+(+VLOOKUP(D159,Inputs!$I$87:$J$101,2,0))),0)","v":0},0,0,{"$f":"+IFERROR(+IF(Inputs!R100=FALSE,0,+(+VLOOKUP(D159,Inputs!$I$87:$J$101,2,0))),0)","v":0},0,0,{"$f":"+IFERROR(+IF(Inputs!S100=FALSE,0,+(+VLOOKUP(D159,Inputs!$I$87:$J$101,2,0))),0)","v":0},0,0,{"$f":"+IFERROR(+IF(Inputs!T100=FALSE,0,+(+VLOOKUP(D159,Inputs!$I$87:$J$101,2,0))),0)","v":0},0,0,{"$f":"+IFERROR(+IF(Inputs!U100=FALSE,0,+(+VLOOKUP(D159,Inputs!$I$87:$J$101,2,0))),0)","v":0},0,0,{"$f":"+IFERROR(+IF(Inputs!V100=FALSE,0,+(+VLOOKUP(D159,Inputs!$I$87:$J$101,2,0))),0)","v":0},0,0,{"$f":"+IFERROR(+IF(Inputs!W100=FALSE,0,+(+VLOOKUP(D159,Inputs!$I$87:$J$101,2,0))),0)","v":0},0,0]
[null,null,30,{"$f":"+IFERROR(+IF(Inputs!I101=\"\",\"\",Inputs!I101),0)","v":""},0,{"$f":"+IFERROR(+IF(Inputs!L101=FALSE,0,+(+VLOOKUP(D160,Inputs!$I$87:$J$101,2,0))),0)","v":0},0,{"$f":"+IFERROR(+(F160-G160),0)","v":0},{"$f":"+IFERROR(+IF(Inputs!M101=FALSE,0,+(+VLOOKUP(D160,Inputs!$I$87:$J$101,2,0))),0)","v":0},0,0,{"$f":"+IFERROR(+IF(Inputs!N101=FALSE,0,+(+VLOOKUP(D160,Inputs!$I$87:$J$101,2,0))),0)","v":0},0,0,{"$f":"+IFERROR(+IF(Inputs!O101=FALSE,0,+(+VLOOKUP(D160,Inputs!$I$87:$J$101,2,0))),0)","v":0},0,0,{"$f":"+IFERROR(+IF(Inputs!P101=FALSE,0,+(+VLOOKUP(D160,Inputs!$I$87:$J$101,2,0))),0)","v":0},0,0,{"$f":"+IFERROR(+IF(Inputs!Q101=FALSE,0,+(+VLOOKUP(D160,Inputs!$I$87:$J$101,2,0))),0)","v":0},0,0,{"$f":"+IFERROR(+IF(Inputs!R101=FALSE,0,+(+VLOOKUP(D160,Inputs!$I$87:$J$101,2,0))),0)","v":0},0,0,{"$f":"+IFERROR(+IF(Inputs!S101=FALSE,0,+(+VLOOKUP(D160,Inputs!$I$87:$J$101,2,0))),0)","v":0},0,0,{"$f":"+IFERROR(+IF(Inputs!T101=FALSE,0,+(+VLOOKUP(D160,Inputs!$I$87:$J$101,2,0))),0)","v":0},0,0,{"$f":"+IFERROR(+IF(Inputs!U101=FALSE,0,+(+VLOOKUP(D160,Inputs!$I$87:$J$101,2,0))),0)","v":0},0,0,{"$f":"+IFERROR(+IF(Inputs!V101=FALSE,0,+(+VLOOKUP(D160,Inputs!$I$87:$J$101,2,0))),0)","v":0},0,0,{"$f":"+IFERROR(+IF(Inputs!W101=FALSE,0,+(+VLOOKUP(D160,Inputs!$I$87:$J$101,2,0))),0)","v":0},0,0]
[null,null,"Resumen","GASTOS PRESCINDIBLES/DISFRUTE",{"$f":"+IFERROR((G161+J161+M161+P161+S161+V161+Y161+AB161+AE161+AH161+AK161+AN161)/($G$24+$J$24+$M$24+$P$24+$S$24+$V$24+$Y$24+$AB$24+$AE$24+$AH$24+$AK$24+$AN$24),0)","v":0},{"$f":"+SUM(F131:F160)","v":0},{"$f":"+SUM(G131:G160)","v":0},{"$f":"+IFERROR(+(F161-G161),0)","v":0},{"$f":"+SUM(I131:I160)","v":0},{"$f":"+SUM(J131:J160)","v":0},{"$f":"+IFERROR(+(I161-J161),0)","v":0},{"$f":"+SUM(L131:L160)","v":0},{"$f":"+SUM(M131:M160)","v":0},{"$f":"+IFERROR(+(L161-M161),0)","v":0},{"$f":"+SUM(O131:O160)","v":0},{"$f":"+SUM(P131:P160)","v":0},{"$f":"+IFERROR(+(O161-P161),0)","v":0},0,{"$f":"+SUM(S131:S160)","v":0},{"$f":"+IFERROR(+(R161-S161),0)","v":0},0,{"$f":"+SUM(V131:V160)","v":0},{"$f":"+IFERROR(+(U161-V161),0)","v":0},0,{"$f":"+SUM(Y131:Y160)","v":0},{"$f":"+IFERROR(+(X161-Y161),0)","v":0},0,{"$f":"+SUM(AB131:AB160)","v":0},{"$f":"+IFERROR(+(AA161-AB161),0)","v":0},0,{"$f":"+SUM(AE131:AE160)","v":0},{"$f":"+IFERROR(+(AD161-AE161),0)","v":0},0,{"$f":"+SUM(AH131:AH160)","v":0},{"$f":"+IFERROR(+(AG161-AH161),0)","v":0},0,{"$f":"+SUM(AK131:AK160)","v":0},{"$f":"+IFERROR(+(AJ161-AK161),0)","v":0},0,{"$f":"+SUM(AN131:AN160)","v":0},{"$f":"+IFERROR(+(AM161-AN161),0)","v":0}]
[null,null,"Resumen",1]
[null,null,"Resumen","TOTAL SALIDAS (AHORRO + GASTOS)",null,{"$f":"+F37+F52+F63+F96+F129+F161","v":0},{"$f":"+G37+G52+G63+G96+G129+G161","v":0},{"$f":"+IFERROR(+(F163-G163),0)","v":0},{"$f":"+I37+I52+I63+I96+I129+I161","v":0},{"$f":"+J37+J52+J63+J96+J129+J161","v":0},{"$f":"+IFERROR(+(I163-J163),0)","v":0},{"$f":"+L37+L52+L63+L96+L129+L161","v":0},{"$f":"+M37+M52+M63+M96+M129+M161","v":0},{"$f":"+IFERROR(+(L163-M163),0)","v":0},{"$f":"+O37+O52+O63+O96+O129+O161","v":0},{"$f":"+P37+P52+P63+P96+P129+P161","v":0},{"$f":"+IFERROR(+(O163-P163),0)","v":0},{"$f":"+R37+R52+R63+R96+R129+R161","v":0},{"$f":"+S37+S52+S63+S96+S129+S161","v":0},{"$f":"+IFERROR(+(R163-S163),0)","v":0},{"$f":"+U37+U52+U63+U96+U129+U161","v":0},{"$f":"+V37+V52+V63+V96+V129+V161","v":0},{"$f":"+IFERROR(+(U163-V163),0)","v":0},{"$f":"+X37+X52+X63+X96+X129+X161","v":0},{"$f":"+Y37+Y52+Y63+Y96+Y129+Y161","v":0},{"$f":"+IFERROR(+(X163-Y163),0)","v":0},{"$f":"+AA37+AA52+AA63+AA96+AA129+AA161","v":0},{"$f":"+AB37+AB52+AB63+AB96+AB129+AB161","v":0},{"$f":"+IFERROR(+(AA163-AB163),0)","v":0},{"$f":"+AD37+AD52+AD63+AD96+AD129+AD161","v":0},{"$f":"+AE37+AE52+AE63+AE96+AE129+AE161","v":0},{"$f":"+IFERROR(+(AD163-AE163),0)","v":0},{"$f":"+AG37+AG52+AG63+AG96+AG129+AG161","v":0},{"$f":"+AH37+AH52+AH63+AH96+AH129+AH161","v":0},{"$f":"+IFERROR(+(AG163-AH163),0)","v":0},{"$f":"+AJ37+AJ52+AJ63+AJ96+AJ129+AJ161","v":0},{"$f":"+AK37+AK52+AK63+AK96+AK129+AK161","v":0},{"$f":"+IFERROR(+(AJ163-AK163),0)","v":0},{"$f":"+AM37+AM52+AM63+AM96+AM129+AM161","v":0},{"$f":"+AN37+AN52+AN63+AN96+AN129+AN161","v":0},{"$f":"+IFERROR(+(AM163-AN163),0)","v":0}]
[null,null,"Resumen",1]
[null,null,"Resumen",1]
[null,null,"Resumen","     SALDO FINAL / FLUJO DE CAJA",null,{"$f":"+F9+F24-F163","v":0},{"$f":"+G9+G24-G163","v":0},{"$f":"IFERROR((IF(AND(G166>=0,F166>=0),-(F166-G166),+IF(AND(G166<0,F166<0),-(F166-G166),+IF(AND(G166<0,F166>=0),-(F166-G166),+IF(AND(G166>=0,F166<0),(G166-F166),0))))),0)","v":0},{"$f":"+I9+I24-I163","v":0},{"$f":"+J9+J24-J163","v":0},{"$f":"IFERROR((IF(AND(J166>=0,I166>=0),-(I166-J166),+IF(AND(J166<0,I166<0),-(I166-J166),+IF(AND(J166<0,I166>=0),-(I166-J166),+IF(AND(J166>=0,I166<0),(J166-I166),0))))),0)","v":0},{"$f":"+L9+L24-L163","v":0},{"$f":"+M9+M24-M163","v":0},{"$f":"IFERROR((IF(AND(M166>=0,L166>=0),-(L166-M166),+IF(AND(M166<0,L166<0),-(L166-M166),+IF(AND(M166<0,L166>=0),-(L166-M166),+IF(AND(M166>=0,L166<0),(M166-L166),0))))),0)","v":0},{"$f":"+O9+O24-O163","v":0},{"$f":"+P9+P24-P163","v":0},{"$f":"IFERROR((IF(AND(P166>=0,O166>=0),-(O166-P166),+IF(AND(P166<0,O166<0),-(O166-P166),+IF(AND(P166<0,O166>=0),-(O166-P166),+IF(AND(P166>=0,O166<0),(P166-O166),0))))),0)","v":0},{"$f":"+R9+R24-R163","v":0},{"$f":"+S9+S24-S163","v":0},{"$f":"IFERROR((IF(AND(S166>=0,R166>=0),-(R166-S166),+IF(AND(S166<0,R166<0),-(R166-S166),+IF(AND(S166<0,R166>=0),-(R166-S166),+IF(AND(S166>=0,R166<0),(S166-R166),0))))),0)","v":0},{"$f":"+U9+U24-U163","v":0},{"$f":"+V9+V24-V163","v":0},{"$f":"IFERROR((IF(AND(V166>=0,U166>=0),-(U166-V166),+IF(AND(V166<0,U166<0),-(U166-V166),+IF(AND(V166<0,U166>=0),-(U166-V166),+IF(AND(V166>=0,U166<0),(V166-U166),0))))),0)","v":0},{"$f":"+X9+X24-X163","v":0},{"$f":"+Y9+Y24-Y163","v":0},{"$f":"IFERROR((IF(AND(Y166>=0,X166>=0),-(X166-Y166),+IF(AND(Y166<0,X166<0),-(X166-Y166),+IF(AND(Y166<0,X166>=0),-(X166-Y166),+IF(AND(Y166>=0,X166<0),(Y166-X166),0))))),0)","v":0},{"$f":"+AA9+AA24-AA163","v":0},{"$f":"+AB9+AB24-AB163","v":0},{"$f":"IFERROR((IF(AND(AB166>=0,AA166>=0),-(AA166-AB166),+IF(AND(AB166<0,AA166<0),-(AA166-AB166),+IF(AND(AB166<0,AA166>=0),-(AA166-AB166),+IF(AND(AB166>=0,AA166<0),(AB166-AA166),0))))),0)","v":0},{"$f":"+AD9+AD24-AD163","v":0},{"$f":"+AE9+AE24-AE163","v":0},{"$f":"IFERROR((IF(AND(AE166>=0,AD166>=0),-(AD166-AE166),+IF(AND(AE166<0,AD166<0),-(AD166-AE166),+IF(AND(AE166<0,AD166>=0),-(AD166-AE166),+IF(AND(AE166>=0,AD166<0),(AE166-AD166),0))))),0)","v":0},{"$f":"+AG9+AG24-AG163","v":0},{"$f":"+AH9+AH24-AH163","v":0},{"$f":"IFERROR((IF(AND(AH166>=0,AG166>=0),-(AG166-AH166),+IF(AND(AH166<0,AG166<0),-(AG166-AH166),+IF(AND(AH166<0,AG166>=0),-(AG166-AH166),+IF(AND(AH166>=0,AG166<0),(AH166-AG166),0))))),0)","v":0},{"$f":"+AJ9+AJ24-AJ163","v":0},{"$f":"+AK9+AK24-AK163","v":0},{"$f":"IFERROR((IF(AND(AK166>=0,AJ166>=0),-(AJ166-AK166),+IF(AND(AK166<0,AJ166<0),-(AJ166-AK166),+IF(AND(AK166<0,AJ166>=0),-(AJ166-AK166),+IF(AND(AK166>=0,AJ166<0),(AK166-AJ166),0))))),0)","v":0},{"$f":"+AM9+AM24-AM163","v":0},{"$f":"+AN9+AN24-AN163","v":0},{"$f":"IFERROR((IF(AND(AN166>=0,AM166>=0),-(AM166-AN166),+IF(AND(AN166<0,AM166<0),-(AM166-AN166),+IF(AND(AN166<0,AM166>=0),-(AM166-AN166),+IF(AND(AN166>=0,AM166<0),(AN166-AM166),0))))),0)","v":0}]
[null,null,"Resumen",1]
[null,null,"Resumen",1]
[null,null,"Resumen",1,"Saldo año anterior",null,null,null,null,null,null,null,null,null,null,null,null,null,null,null,null,null,null,null,null,null,null,null,null,null,null,null,null,null,null,null,null,null,"Saldo a final de año esperado","Saldo a final de año real "]
[null,null,"Resumen","RESERVAS"]
[null,null,"Resumen","Ahorro",0,{"$f":"+E171+F37","v":0},{"$f":"+E171+G37","v":0},{"$f":"+IFERROR(+(F171-G171),0)","v":0},{"$f":"+F171+I37","v":0},{"$f":"+G171+J37","v":0},{"$f":"+IFERROR(+(I171-J171),0)","v":0},{"$f":"+I171+L37","v":0},{"$f":"+J171+M37","v":0},{"$f":"+IFERROR(+(L171-M171),0)","v":0},{"$f":"+L171+O37","v":0},{"$f":"+M171+P37","v":0},{"$f":"+IFERROR(+(O171-P171),0)","v":0},{"$f":"+O171+R37","v":0},{"$f":"+P171+S37","v":0},{"$f":"+IFERROR(+(R171-S171),0)","v":0},{"$f":"+R171+U37","v":0},{"$f":"+S171+V37","v":0},{"$f":"+IFERROR(+(U171-V171),0)","v":0},{"$f":"+U171+X37","v":0},{"$f":"+V171+Y37","v":0},{"$f":"+IFERROR(+(X171-Y171),0)","v":0},{"$f":"+X171+AA37","v":0},{"$f":"+Y171+AB37","v":0},{"$f":"+IFERROR(+(AA171-AB171),0)","v":0},{"$f":"+AA171+AD37","v":0},{"$f":"+AB171+AE37","v":0},{"$f":"+IFERROR(+(AD171-AE171),0)","v":0},{"$f":"+AD171+AG37","v":0},{"$f":"+AE171+AH37","v":0},{"$f":"+IFERROR(+(AG171-AH171),0)","v":0},{"$f":"+AG171+AJ37","v":0},{"$f":"+AH171+AK37","v":0},{"$f":"+IFERROR(+(AJ171-AK171),0)","v":0},{"$f":"+AJ171+AM37","v":0},{"$f":"+AK171+AN37","v":0},{"$f":"+IFERROR(+(AM171-AN171),0)","v":0}]
[null,null,null,"Fondo de Emergencia",0,{"$f":"+E172+VLOOKUP($D$172,$D$12:$F$160,3,0)","v":{"$error":"#N/A"}},{"$f":"+E172+G98","v":0},{"$f":"+IFERROR(+(F172-G172),0)","v":0},{"$f":"+H172+VLOOKUP($D$172,$D$12:$AO$160,6,0)","v":{"$error":"#N/A"}},{"$f":"+G172+J99","v":0},{"$f":"+IFERROR(+(I172-J172),0)","v":0},{"$f":"+K172+VLOOKUP($D$172,$D$12:$AO$160,9,0)","v":{"$error":"#N/A"}},{"$f":"+J172+M99","v":0},{"$f":"+IFERROR(+(L172-M172),0)","v":0},{"$f":"+N172+VLOOKUP($D$172,$D$12:$AO$160,12,0)","v":{"$error":"#N/A"}},{"$f":"+M172+P99","v":0},{"$f":"+IFERROR(+(O172-P172),0)","v":0},{"$f":"+Q172+VLOOKUP($D$172,$D$12:$AO$160,15,0)","v":{"$error":"#N/A"}},{"$f":"+P172+S99","v":0},{"$f":"+IFERROR(+(R172-S172),0)","v":0},{"$f":"+T172+VLOOKUP($D$172,$D$12:$AO$160,18,0)","v":{"$error":"#N/A"}},{"$f":"+S172+V99","v":0},{"$f":"+IFERROR(+(U172-V172),0)","v":0},{"$f":"+W172+VLOOKUP($D$172,$D$12:$AO$160,21,0)","v":{"$error":"#N/A"}},{"$f":"+V172+Y99","v":0},{"$f":"+IFERROR(+(X172-Y172),0)","v":0},{"$f":"+Z172+VLOOKUP($D$172,$D$12:$AO$160,24,0)","v":{"$error":"#N/A"}},{"$f":"+Y172+AB99","v":0},{"$f":"+IFERROR(+(AA172-AB172),0)","v":0},{"$f":"+AC172+VLOOKUP($D$172,$D$12:$AO$160,27,0)","v":{"$error":"#N/A"}},{"$f":"+AB172+AE99","v":0},{"$f":"+IFERROR(+(AD172-AE172),0)","v":0},{"$f":"+AF172+VLOOKUP($D$172,$D$12:$AO$160,30,0)","v":{"$error":"#N/A"}},{"$f":"+AE172+AH99","v":0},{"$f":"+IFERROR(+(AG172-AH172),0)","v":0},{"$f":"+AI172+VLOOKUP($D$172,$D$12:$AO$160,33,0)","v":{"$error":"#N/A"}},{"$f":"+AH172+AK99","v":0},{"$f":"+IFERROR(+(AJ172-AK172),0)","v":0},{"$f":"+AL172+VLOOKUP($D$172,$D$12:$AO$160,36,0)","v":{"$error":"#N/A"}},{"$f":"+AK172+AN99","v":0},{"$f":"+IFERROR(+(AM172-AN172),0)","v":0}]
[null,null,"Resumen",1]
[null,null,"Resumen","INDICADORES"]
[null,null,"Resumen","Nivel de endeudamiento","-",{"$f":"+IFERROR(F52/F24,0)","v":0},{"$f":"+IFERROR(G52/G24,0)","v":0},"-",{"$f":"+IFERROR(I52/I24,0)","v":0},{"$f":"+IFERROR(J52/J24,0)","v":0},"-",{"$f":"+IFERROR(L52/L24,0)","v":0},{"$f":"+IFERROR(M52/M24,0)","v":0},"-",{"$f":"+IFERROR(O52/O24,0)","v":0},{"$f":"+IFERROR(P52/P24,0)","v":0},"-",{"$f":"+IFERROR(R52/R24,0)","v":0},{"$f":"+IFERROR(S52/S24,0)","v":0},"-",{"$f":"+IFERROR(U52/U24,0)","v":0},{"$f":"+IFERROR(V52/V24,0)","v":0},"-",{"$f":"+IFERROR(X52/X24,0)","v":0},{"$f":"+IFERROR(Y52/Y24,0)","v":0},"-",{"$f":"+IFERROR(AA52/AA24,0)","v":0},{"$f":"+IFERROR(AB52/AB24,0)","v":0},"-",{"$f":"+IFERROR(AD52/AD24,0)","v":0},{"$f":"+IFERROR(AE52/AE24,0)","v":0},"-",{"$f":"+IFERROR(AG52/AG24,0)","v":0},{"$f":"+IFERROR(AH52/AH24,0)","v":0},"-",{"$f":"+IFERROR(AJ52/AJ24,0)","v":0},{"$f":"+IFERROR(AK52/AK24,0)","v":0},"-",{"$f":"+IFERROR(AM52/AM24,0)","v":0},{"$f":"+IFERROR(AN52/AN24,0)","v":0},"-"]
[null,null,"Resumen","Capacidad de endeudamiento","-",{"$f":"+IFERROR(IF(F166<=0,0,(F166*35%)),0)","v":0},{"$f":"+IFERROR(IF(G166<=0,0,(G166*35%)),0)","v":0},"-",{"$f":"+IFERROR(IF(I166<=0,0,(I166*35%)),0)","v":0},{"$f":"+IFERROR(IF(J166<=0,0,(J166*35%)),0)","v":0},"-",{"$f":"+IFERROR(IF(L166<=0,0,(L166*35%)),0)","v":0},{"$f":"+IFERROR(IF(M166<=0,0,(M166*35%)),0)","v":0},"-",{"$f":"+IFERROR(IF(O166<=0,0,(O166*35%)),0)","v":0},{"$f":"+IFERROR(IF(P166<=0,0,(P166*35%)),0)","v":0},"-",{"$f":"+IFERROR(IF(R166<=0,0,(R166*35%)),0)","v":0},{"$f":"+IFERROR(IF(S166<=0,0,(S166*35%)),0)","v":0},"-",{"$f":"+IFERROR(IF(U166<=0,0,(U166*35%)),0)","v":0},{"$f":"+IFERROR(IF(V166<=0,0,(V166*35%)),0)","v":0},"-",{"$f":"+IFERROR(IF(X166<=0,0,(X166*35%)),0)","v":0},{"$f":"+IFERROR(IF(Y166<=0,0,(Y166*35%)),0)","v":0},"-",{"$f":"+IFERROR(IF(AA166<=0,0,(AA166*35%)),0)","v":0},{"$f":"+IFERROR(IF(AB166<=0,0,(AB166*35%)),0)","v":0},"-",{"$f":"+IFERROR(IF(AD166<=0,0,(AD166*35%)),0)","v":0},{"$f":"+IFERROR(IF(AE166<=0,0,(AE166*35%)),0)","v":0},"-",{"$f":"+IFERROR(IF(AG166<=0,0,(AG166*35%)),0)","v":0},{"$f":"+IFERROR(IF(AH166<=0,0,(AH166*35%)),0)","v":0},"-",{"$f":"+IFERROR(IF(AJ166<=0,0,(AJ166*35%)),0)","v":0},{"$f":"+IFERROR(IF(AK166<=0,0,(AK166*35%)),0)","v":0},"-",{"$f":"+IFERROR(IF(AM166<=0,0,(AM166*35%)),0)","v":0},{"$f":"+IFERROR(IF(AN166<=0,0,(AN166*35%)),0)","v":0},"-"]
[null,null,"Resumen","Variación  real vs presupuestado","-","-","-",{"$f":"+IFERROR((H166-F166)/F166,0)","v":0},"-","-",{"$f":"+IFERROR((K166-I166)/I166,0)","v":0},"-","-",{"$f":"+IFERROR((N166-L166)/L166,0)","v":0},"-","-",{"$f":"+IFERROR((Q166-O166)/O166,0)","v":0},"-","-",{"$f":"+IFERROR((T166-R166)/R166,0)","v":0},"-","-",{"$f":"+IFERROR((W166-U166)/U166,0)","v":0},"-","-",{"$f":"+IFERROR((Z166-X166)/X166,0)","v":0},"-","-",{"$f":"+IFERROR((AC166-AA166)/AA166,0)","v":0},"-","-",{"$f":"+IFERROR((AF166-AD166)/AD166,0)","v":0},"-","-",{"$f":"+IFERROR((AI166-AG166)/AG166,0)","v":0},"-","-",{"$f":"+IFERROR((AL166-AJ166)/AJ166,0)","v":0},"-","-",{"$f":"+IFERROR((AO166-AM166)/AM166,0)","v":0}]
[null,null,"Resumen",1]
[null,null,"Resumen",1]
[null,null,"Resumen",1]

{"sheet":"Ejemplo PFC _ Mensual","index":14,"n_rows":75,"n_cols":19,"rows_kept":75,"cut":false,"hidden":false,"merged":[[59,3,59,4]]}
[]
[]
[]
[]
[]
[null,null,"Resumen","Concepto","% del ingreso","Enero\nPresupuesto","Enero \nReal","Diferencia\nEnero","Febrero","Marzo","Abril","Mayo","Junio","Julio","Agosto","Septiembre","Octubre","Noviembre","Diciembre"]
[null,null,1]
[null,null,"Resumen"]
[null,null,"Resumen","SALDO INICIAL",null,0,20000,{"$f":"IFERROR((IF(G9>0,(F9+G9),(G9-F9))),0)","v":20000},{"$f":"+F60","v":5833.3333333332557},{"$f":"+I60","v":-6333.3333333334886},-66500.000000000233,-74666.666666666977,-80833.333333333721,285499.9999999993,34833.333333332557,-119833.33333333419,-122500.00000000093,-73166.666666667676,-21833.33333333442]
[null,null,"Resumen"]
[null,null,1]
[null,null,1,"Salario",{"$f":"+SUM(F12:S12)/$E$15","v":0.94866529774127306},1650000,1650000,{"$f":"+IFERROR(+(F12-G12),0)","v":0},1650000,1650000,1650000,1650000,{"$f":"1650000+(1650000/2)","v":2475000},1650000,1650000,1650000,1650000,1650000,{"$f":"1650000+(1650000/2)","v":2475000}]
[null,null,1,"Asesorías",{"$f":"+SUM(F13:S13)/$E$15","v":2.4640657084188913E-2},0,0,{"$f":"+IFERROR(+(F13-G13),0)","v":0},0,150000,0,0,150000,0,0,150000,0,0,150000]
[null,null,1,"Intereses",{"$f":"+SUM(F14:S14)/$E$15","v":2.6694045174537988E-2},50000,50000,0,50000,50000,50000,50000,50000,50000,50000,50000,50000,50000,50000]
[null,null,"Resumen","TOTAL INGRESO",{"$f":"+SUM(F15:S15)","v":24350000},{"$f":"+SUM(F12:F14)","v":1700000},{"$f":"+SUM(G12:G14)","v":1700000},0,{"$f":"+SUM(I12:I14)","v":1700000},{"$f":"+SUM(J12:J14)","v":1850000},1700000,1700000,2675000,1700000,1700000,1850000,1700000,1700000,2675000]
[null,null,"Resumen"]
[null,null,1]
[null,null,1,"Casa propia (Cuenta AFC - $20.000.000)",{"$f":"+(+SUM(F18:S18)/+SUM($F$15:$S$15))","v":3.7371663244353183E-2},70000,70000,{"$f":"+IFERROR(+(F18-G18),0)","v":0},70000,70000,70000,70000,70000,70000,70000,70000,70000,70000,70000]
[null,null,1,"Postgrado (Fondo de Inversión - $8.000.000)",{"$f":"+(+SUM(F19:S19)/+SUM($F$15:$S$15))","v":2.135523613963039E-2},40000,40000,0,40000,40000,40000,40000,40000,40000,40000,40000,40000,40000,40000]
[null,null,"Resumen","TOTAL AHORRO",5.8726899383983573E-2,{"$f":"+SUM(F18:F19)","v":110000},{"$f":"+SUM(G18:G19)","v":110000},0,110000,110000,110000,110000,110000,110000,110000,110000,110000,110000,110000]
[null,null,1]
[null,null,1]
[null,null,1,"Cuota de manejo - tarjeta débito",{"$f":"+(+SUM(F23:S23)/+SUM($F$15:$S$15))","v":5.2854209445585216E-3},9900,9900,{"$f":"+IFERROR(+(F23-G23),0)","v":0},9900,9900,9900,9900,9900,9900,9900,9900,9900,9900,9900]
[null,null,1,"Cuota tarjeta de crédito",1.860369609856263E-2,45000,43500,1500,43000,41000,39000,37000,35000,33000,31000,29000,27000,25000,23000]
[null,null,1,"Cuota crédito vehículo",5.563039014373717E-2,104200,108400,-4200,104200,104200,104200,104200,104200,104200,104200,104200,104200,104200,104200]
[null,null,"Resumen","TOTAL OBLIGACIONES FINANCIERAS",7.951950718685831E-2,{"$f":"+SUM(F23:F25)","v":159100},{"$f":"+SUM(G23:G25)","v":161800},-2700,{"$f":"+SUM(I23:I25)","v":157100},{"$f":"+SUM(J23:J25)","v":155100},{"$f":"+SUM(K23:K25)","v":153100},{"$f":"+SUM(L23:L25)","v":151100},{"$f":"+SUM(M23:M25)","v":149100},{"$f":"+SUM(N23:N25)","v":147100},{"$f":"+SUM(O23:O25)","v":145100},{"$f":"+SUM(P23:P25)","v":143100},{"$f":"+SUM(Q23:Q25)","v":141100},{"$f":"+SUM(R23:R25)","v":139100},{"$f":"+SUM(S23:S25)","v":137100}]
[null,null,1]
[null,null,1]
[null,null,1,"Impuesto de renta",{"$f":"+(+SUM(F29:S29)/+SUM($F$15:$S$15))","v":8.2135523613963042E-3},0,0,0,0,0,0,0,0,0,200000,0,0,0,0]
[null,null,1,"Impuesto vehicular",6.1601642710472282E-3,0,0,0,0,0,0,0,0,150000,0,0,0,0,0]
[null,null,"Resumen","TOTAL IMPUESTOS Y CONTRIBUCIONES",1.4373716632443531E-2,{"$f":"+SUM(F29:F30)","v":0},{"$f":"+SUM(G29:G30)","v":0},{"$f":"+IFERROR(+(F31-G31),0)","v":0},{"$f":"+SUM(I29:I30)","v":0},0,0,0,0,150000,200000,0,0,0,0]
[null,null,1]
[null,null,1]
[null,null,1,"Arriendo",{"$f":"+(+SUM(F34:S34)/+SUM($F$15:$S$15))","v":0.35605749486652977},650000,650000,{"$f":"+IFERROR(+(F34-G34),0)","v":0},670000,670000,670000,670000,670000,670000,670000,670000,670000,670000,670000]
[null,null,1,"Administración",2.6694045174537988E-2,50000,50000,0,50000,50000,50000,50000,50000,50000,50000,50000,50000,50000,50000]
[null,null,1,"Matrícula universidad",3.6960985626283367E-2,0,0,0,0,0,0,0,450000,0,0,0,0,0,450000]
[null,null,"Resumen","GASTOS OBLIGATORIOS",0.41971252566735112,{"$f":"+SUM(F34:F36)","v":700000},{"$f":"+SUM(G34:G36)","v":700000},{"$f":"+IFERROR(+(F37-G37),0)","v":0},{"$f":"+SUM(I34:I36)","v":720000},720000,720000,720000,1170000,720000,720000,720000,720000,720000,1170000]
[null,null,1]
[null,null,1]
[null,null,1,"Fondo de Emergencia",{"$f":"+(+SUM(F40:S40)/+SUM($F$15:$S$15))","v":3.2032854209445585E-2},60000,60000,{"$f":"+IFERROR(+(F40-G40),0)","v":0},60000,60000,60000,60000,60000,60000,60000,60000,60000,60000,60000]
[null,null,1,"Alimentación",0.12279260780287474,230000,270000,-40000,230000,230000,230000,230000,230000,230000,230000,230000,230000,230000,230000]
[null,null,1,"Agua y energía",4.5379876796714576E-2,85000,95000,-10000,85000,85000,85000,85000,85000,85000,85000,85000,85000,85000,85000]
[null,null,1,"Internet, TV y telefonía",4.6981519507186861E-2,88000,88000,0,88000,88000,88000,88000,88000,88000,88000,88000,88000,88000,88000]
[null,null,1,"Transporte",2.3490759753593431E-2,{"$f":"((2200*20)*-1)*-1","v":44000},35000,9000,44000,44000,44000,44000,44000,44000,44000,44000,44000,44000,44000]
[null,null,1,"Provisión seguro vehículo",8.8980150581793281E-3,{"$f":"(-200000/12)*-1","v":16666.666666666668},16666.666666666668,0,16666.666666666668,16666.666666666668,16666.666666666668,16666.666666666668,16666.666666666668,16666.666666666668,16666.666666666668,16666.666666666668,16666.666666666668,16666.666666666668,16666.666666666668]
[null,null,1,"Plan celular",8.5420944558521564E-3,16000,16000,0,16000,16000,16000,16000,16000,16000,16000,16000,16000,16000,16000]
[null,null,1,"Mantenimiento vehículo",5.9137577002053385E-3,0,0,0,0,0,0,0,0,144000,0,0,0,0,0]
[null,null,"Resumen","GASTOS NECESARIOS",0.29403148528405215,{"$f":"+SUM(F40:F47)","v":539666.66666666674},{"$f":"+SUM(G40:G47)","v":580666.66666666663},-40999.999999999884,539666.66666666674,539666.66666666674,{"$f":"+SUM(K40:K47)","v":539666.66666666674},{"$f":"+SUM(L40:L47)","v":539666.66666666674},539666.66666666674,683666.66666666674,539666.66666666674,539666.66666666674,539666.66666666674,539666.66666666674,539666.66666666674]
[null,null,1]
[null,null,1]
[null,null,1,"Suscripción Netflix",{"$f":"+(+SUM(F51:S51)/+SUM($F$15:$S$15))","v":9.0225872689938397E-3},16900,16900,{"$f":"+IFERROR(+(F51-G51),0)","v":0},16900,16900,16900,16900,16900,16900,16900,16900,16900,16900,16900]
[null,null,1,"Diversión",5.3388090349075976E-2,100000,250000,{"$f":"+IFERROR(+(F52-G52),0)","v":-150000},100000,100000,100000,100000,100000,100000,100000,100000,100000,100000,100000]
[null,null,1,"Curso de cocina",1.1211498973305955E-2,45500,0,45500,45500,45500,45500,45500,0,0,0,0,0,0,0]
[null,null,1,"Otros",5.3347022587268991E-2,23000,15000,8000,23000,223000,23000,23000,223000,23000,23000,223000,23000,23000,423000]
[null,null,"Resumen","GASTOS PRESCINDIBLES/DISFRUTE",0.12696919917864477,{"$f":"+SUM(F51:F54)","v":185400},{"$f":"+SUM(G51:G54)","v":281900},-96500,{"$f":"+SUM(I51:I54)","v":185400},{"$f":"+SUM(J51:J54)","v":385400},{"$f":"+SUM(K51:K54)","v":185400},185400,339900,139900,139900,339900,139900,139900,539900]
[null,null,"Resumen"]
[null,null,"Resumen","TOTAL SALIDAS (AHORRO + GASTOS)",null,{"$f":"+F20+F26+F37+F31+F48+F55","v":1694166.6666666667},{"$f":"+G20+G26+G37+G31+G48+G55","v":1834366.6666666665},-140199.99999999977,{"$f":"+I20+I26+I37+I31+I48+I55","v":1712166.6666666667},1910166.6666666667,1708166.6666666667,1706166.6666666667,2308666.666666667,1950666.6666666667,1854666.6666666667,1852666.6666666667,1650666.6666666667,1648666.6666666667,2496666.666666667]
[null,null,"Resumen"]
[null,null,"Resumen"]
[null,null,"Resumen","SALDO FINAL / FLUJO DE CAJA",null,{"$f":"+F9+F15-F57","v":5833.3333333332557},{"$f":"+G9+G15-G20-G26-G31-G37-G48-G55","v":-114366.66666666663},{"$f":"IFERROR((IF(G60>0,(F60+G60),(G60-F60))),0)","v":-120199.99999999988},{"$f":"+I9+I15-I20-I26-I31-I37-I48-I55","v":-6333.3333333334886},-66500.000000000233,-74666.666666666977,-80833.333333333721,285499.9999999993,34833.333333332557,-119833.33333333419,-122500.00000000093,-73166.666666667676,-21833.33333333442,156499.99999999884]
[null,null,"Resumen"]
[null,null,"Resumen"]
[null,null,"Resumen"]
[null,null,"Resumen",null,"Saldo año anterior",null,null,null,null,null,null,null,null,null,null,null,null,null,"Saldo a final de año"]
[null,null,"Resumen","RESERVAS"]
[null,null,"Resumen","Ahorro",1200000,{"$f":"+E66+F20","v":1310000},{"$f":"+E66+G20","v":1310000},{"$f":"+IFERROR(+(F66-G66),0)","v":0},{"$f":"+F66+I20","v":1420000},{"$f":"+I66+J20","v":1530000},{"$f":"+J66+K20","v":1640000},{"$f":"+K66+L20","v":1750000},{"$f":"+L66+M20","v":1860000},{"$f":"+M66+N20","v":1970000},2080000,2190000,2300000,{"$f":"+Q66+R20","v":2410000},{"$f":"+R66+S20","v":2520000}]
[null,null,null,"Fondo de Emergencia",14000000,{"$f":"+E67+F40","v":14060000},{"$f":"+E67+G40","v":14060000},{"$f":"+IFERROR(+(F67-G67),0)","v":0},{"$f":"+F67+I40","v":14120000},{"$f":"+I67+J40","v":14180000},{"$f":"+J67+K40","v":14240000},14300000,14360000,14420000,14480000,14540000,14600000,{"$f":"+Q67+R40","v":14660000},{"$f":"+R67+S40","v":14720000}]
[null,null,null,"Provisiones",0,{"$f":"+E68+F45","v":16666.666666666668},{"$f":"+E68+G45","v":16666.666666666668},0,{"$f":"+F68+I45","v":33333.333333333336},{"$f":"+I68+J45","v":50000},{"$f":"+J68+K45","v":66666.666666666672},83333.333333333343,100000.00000000001,116666.66666666669,133333.33333333334,150000,166666.66666666666,183333.33333333331,199999.99999999997]
[null,null,"Resumen"]
[null,null,"Resumen","INDICADORES"]
[null,null,"Resumen","Nivel de endeudamiento","-",{"$f":"+IFERROR(F26/F15,0)","v":9.3588235294117653E-2},{"$f":"+IFERROR(G26/G15,0)","v":9.5176470588235293E-2},"-",{"$f":"+IFERROR(I26/I15,0)","v":9.2411764705882346E-2},{"$f":"+IFERROR(J26/J15,0)","v":8.3837837837837839E-2},{"$f":"+IFERROR(K26/K15,0)","v":9.0058823529411761E-2},{"$f":"+IFERROR(L26/L15,0)","v":8.8882352941176468E-2},{"$f":"+IFERROR(M26/M15,0)","v":5.5738317757009347E-2},8.6529411764705882E-2,8.535294117647059E-2,7.735135135135135E-2,8.3000000000000004E-2,8.1823529411764712E-2,5.1252336448598133E-2]
[null,null,"Resumen","Capacidad de endeudamiento","-",{"$f":"+IFERROR(IF(F60<=0,0,(F60*35%)),0)","v":2041.6666666666395},{"$f":"+IFERROR(IF(G60<=0,0,(G60*35%)),0)","v":0},"-",{"$f":"+IFERROR(IF(I60<=0,0,(I60*35%)),0)","v":0},{"$f":"+IFERROR(IF(J60<=0,0,(J60*35%)),0)","v":0},{"$f":"+IFERROR(IF(K60<=0,0,(K60*35%)),0)","v":0},{"$f":"+IFERROR(IF(L60<=0,0,(L60*35%)),0)","v":0},{"$f":"+IFERROR(IF(M60<=0,0,(M60*35%)),0)","v":99924.999999999753},12191.666666666395,0,0,0,0,54774.999999999593]
[null,null,"Resumen","Variación  real vs presupuestado","-","-","-",{"$f":"+IFERROR((H60-F60)/F60,0)","v":-21.605714285714541},"-","-","-","-","-","-","-","-","-","-","-"]
[null,null,"Resumen"]
[null,null,"Resumen"]

{"sheet":"Ayuda gasto","index":15,"n_rows":74,"n_cols":6,"rows_kept":74,"cut":false,"hidden":false,"merged":[]}
[]
[]
[]
[]
[]
[]
[]
[]
[]
[]
[]
[null,null,null,"Transporte oficina (bus,taxi,bici y patineta)",null,"Mercado (alimentos, aseo hogar)"]
[null,null,null,"Crédito de vehículo",null,"Servicios públicos (energía, acueducto, gas, otros servicios)"]
[null,null,null,"Gasolina",null,"Servicios hogar (telefonía, internet, televisión)"]
[null,null,null,"Lavada del vehículo",null,"Arriendo /crédito hipotecario"]
[null,null,null,"Alquiler parqueadero (casa y/o oficina)",null,"Administración (cuota ordinaria y extra)"]
[null,null,null,"Parqueadero público recurrente",null,"Empleada doméstica (incluyendo prestaciones sociales)"]
[null,null,null,"Mantenimiento del vehículo",null,"Jardinero"]
[null,null,null,"Revisión técnico mecánica",null,"Mantenimiento (pintura, lavada de alfombras/muebles, fumigación)"]
[null,null,null,"SOAT"]
[]
[]
[]
[]
[]
[]
[null,null,null,"Colegio, guardería o Universidad",null,"Comida mascota"]
[null,null,null,"Mesada hij@s, padres, otros",null,"Seguro mascota"]
[null,null,null,"Transporte hijos",null,"Guardería mascota"]
[null,null,null,"Niñera",null,"Peluquería mascota"]
[null,null,null,"Clases extracurriculares",null,"Diversión mascota (paseador o juguetes)"]
[null,null,null,"EPS",null,"Medicamentos mascota"]
[null,null,null,"Prepagada",null,"Guardería"]
[]
[]
[]
[]
[]
[]
[null,null,null,"Deporte (suscripción gimnasio, entrenador, partidos de fúbol)",null,"Cursos/postgrados"]
[null,null,null,"Domicilios/restaurantes",null,"Clases partículares"]
[null,null,null,"Fruta/snacks/Café"]
[null,null,null,"Suscripciones (revistas, Spotify /Netflix/Amazon Prime)"]
[null,null,null,"Regalos (navidad, cumpleaños, aniversiario, matrimonios o showeres)"]
[null,null,null,"Hobbies (materiales para manualidades, libros, abono fútbol)"]
[null,null,null,"Videojuegos",null,"Plan/recarga de celular"]
[null,null,null,"Apuestas (lotería/chance/Baloto)",null,"Maquillaje"]
[null,null,null,"Vacaciones",null,"Aseo personal"]
[null,null,null,"Vestuario (ropa, zapatos, accesorios)",null,"Peluquería/barbería (uñas, corte, cepillado, tintura o depilación)"]
[null,null,null,"Conciertos y festivales",null,"Tratamientos de belleza (depilación láser, keratina o Botox)"]
[null,null,null,null,null,"Cuidado personal (tratamientos capilares, bloqueador solar) "]
[]
[]
[]
[]
[]
[]
[null,null,null,"Impuesto de renta",null,"Atención médica domiciliaria"]
[null,null,null,"Impuesto predial",null,"Medicamentos (vitaminas, proteínas, planificación)"]
[null,null,null,"Impuesto vehicular",null,"Seguro médico/póliza/prepagada"]
[null,null,null,"Aportes a pensión 4%",null,"Lentes de contacto/gafas"]
[null,null,null,"Aportes de salud 4% ",null,"Consultas médicas"]
[null,null,null,"Aporte fondo de solidaridad"]
[null,null,null,"Retención en la fuente"]
[]
[]
[]
[]
[]
[]
[null,null,null,"Seguro funerario"]
[null,null,null,"Seguro de vida"]
[null,null,null,"Seguro de contenidos (hogar)"]
[null,null,null,"Seguro del vehículo"]